{"text_format":"1","workbook":"xlsx","n_sheets":2,"sheets":["Beneificiarios Finales","Hoja2"],"not_rendered":{"charts":0,"images":5,"macros":1,"external_links":0,"defined_names":6,"comments":0,"pivot_tables":0},"unopened":[],"bounds":{"document_bytes":16777216,"sheet_cells":100000,"rows_first":2000,"rows_last":500,"rows_between":2000,"halvings":0,"cell_chars":16384,"cell_head_chars":4096},"cells_cut":0,"cells_raw":0,"read":"whole","date_system":"1900"}

{"sheet":"Beneificiarios Finales","index":0,"n_rows":7551,"n_cols":34,"rows_kept":2250,"cut":true,"hidden":false,"merged":[[6327,11,6327,19],[6361,11,6361,19],[6395,11,6395,19],[6429,11,6429,19],[6463,11,6463,19],[6497,11,6497,19],[6531,11,6531,19],[6565,11,6565,19],[6599,11,6599,19],[6633,11,6633,19],[6667,11,6667,19],[6701,11,6701,19],[6735,11,6735,19],[6769,11,6769,19],[6803,11,6803,19],[6837,11,6837,19],[6871,11,6871,19],[6905,11,6905,19],[6939,11,6939,19],[5137,11,5137,19],[5171,11,5171,19],[5205,11,5205,19],[5239,11,5239,19],[5273,11,5273,19],[5307,11,5307,19],[5341,11,5341,19],[5375,11,5375,19],[5409,11,5409,19],[5443,11,5443,19],[5613,11,5613,19],[5647,11,5647,19],[5681,11,5681,19],[5715,11,5715,19],[5749,11,5749,19],[5783,11,5783,19],[5817,11,5817,19],[5851,11,5851,19],[5885,11,5885,19],[5919,11,5919,19],[5953,11,5953,19],[5987,11,5987,19],[6021,11,6021,19],[6055,11,6055,19],[6089,11,6089,19],[6123,11,6123,19],[6157,11,6157,19],[6191,11,6191,19],[6225,11,6225,19],[6259,11,6259,19],[6610,16,6610,29],[6017,7,6017,19],[6019,7,6019,19],[6051,7,6051,19],[6053,7,6053,19],[6085,7,6085,19],[6087,7,6087,19],[6119,7,6119,19],[6121,7,6121,19],[6153,7,6153,19],[6155,7,6155,19],[6187,7,6187,19],[6189,7,6189,19],[6221,7,6221,19],[6223,7,6223,19],[19,0,19,2],[7139,7,7139,19],[7141,7,7141,19],[7173,7,7173,19],[7175,7,7175,19],[7207,7,7207,19],[7209,7,7209,19],[7241,7,7241,19],[7243,7,7243,19],[7275,7,7275,19],[7277,7,7277,19],[7309,7,7309,19],[7311,7,7311,19],[7343,7,7343,19],[7345,7,7345,19],[7377,7,7377,19],[7379,7,7379,19],[7411,7,7411,19],[7413,7,7413,19],[7445,7,7445,19],[7447,7,7447,19],[7479,7,7479,19],[7481,7,7481,19],[7513,7,7513,19],[7515,7,7515,19],[6563,7,6563,19],[6595,7,6595,19],[6597,7,6597,19],[6629,7,6629,19],[6631,7,6631,19],[6663,7,6663,19],[6665,7,6665,19],[6697,7,6697,19],[6699,7,6699,19],[6731,7,6731,19],[6733,7,6733,19],[6765,7,6765,19],[6767,7,6767,19],[6799,7,6799,19],[6801,7,6801,19],[6833,7,6833,19],[6835,7,6835,19],[6867,7,6867,19],[6869,7,6869,19],[6901,7,6901,19],[6903,7,6903,19],[6935,7,6935,19],[6937,7,6937,19],[6969,7,6969,19],[6971,7,6971,19],[7003,7,7003,19],[7005,7,7005,19],[7037,7,7037,19],[7039,7,7039,19],[7071,7,7071,19],[7073,7,7073,19],[7105,7,7105,19],[7107,7,7107,19],[6582,1,6582,7],[6582,9,6582,14],[6582,16,6582,21],[6609,21,6609,29],[6610,1,6610,14],[6293,11,6293,19],[6255,7,6255,19],[6257,7,6257,19],[6289,7,6289,19],[6291,7,6291,19],[6323,7,6323,19],[6325,7,6325,19],[6357,7,6357,19],[6359,7,6359,19],[6391,7,6391,19],[6393,7,6393,19],[6425,7,6425,19],[6427,7,6427,19],[6459,7,6459,19],[6461,7,6461,19],[6493,7,6493,19],[6495,7,6495,19],[6527,7,6527,19],[6529,7,6529,19],[6561,7,6561,19],[6044,1,6044,14],[6044,16,6044,29],[6045,2,6045,14],[6045,17,6045,29],[6046,2,6046,14],[6046,17,6046,29],[6073,16,6073,21],[6073,23,6073,29],[6075,1,6075,7],[6075,9,6075,14],[6075,16,6075,21],[6075,23,6075,29],[6076,1,6076,7],[6076,9,6076,14],[6076,16,6076,21],[6076,23,6076,29],[6078,1,6078,14],[6078,16,6078,29],[6079,2,6079,14],[6079,17,6079,29],[6080,2,6080,14],[6080,17,6080,29],[6107,16,6107,21],[6107,23,6107,29],[6109,1,6109,7],[6109,9,6109,14],[6109,16,6109,21],[6109,23,6109,29],[6110,1,6110,7],[6110,9,6110,14],[6110,16,6110,21],[6070,16,6070,21],[6070,23,6070,29],[6072,1,6072,7],[6072,9,6072,14],[6072,16,6072,21],[6072,23,6072,29],[6073,1,6073,7],[6073,9,6073,14],[6112,1,6112,14],[6112,16,6112,29],[6113,2,6113,14],[6113,17,6113,29],[6114,2,6114,14],[6114,17,6114,29],[5441,7,5441,19],[5473,7,5473,19],[5475,7,5475,19],[5507,7,5507,19],[5509,7,5509,19],[5541,7,5541,19],[5543,7,5543,19],[5575,7,5575,19],[5577,7,5577,19],[5609,7,5609,19],[5611,7,5611,19],[5643,7,5643,19],[5645,7,5645,19],[5677,7,5677,19],[5679,7,5679,19],[5711,7,5711,19],[5713,7,5713,19],[5745,7,5745,19],[5747,7,5747,19],[5779,7,5779,19],[5781,7,5781,19],[5813,7,5813,19],[5815,7,5815,19],[5847,7,5847,19],[5849,7,5849,19],[5881,7,5881,19],[5883,7,5883,19],[5915,7,5915,19],[5917,7,5917,19],[5949,7,5949,19],[5951,7,5951,19],[5983,7,5983,19],[5985,7,5985,19],[5464,9,5464,14],[5464,16,5464,21],[5520,11,5520,19],[5520,21,5520,29],[5521,1,5521,9],[5521,11,5521,19],[5521,21,5521,29],[5522,1,5522,14],[5522,16,5522,29],[5523,1,5523,14],[5523,16,5523,29],[5525,1,5525,7],[5525,9,5525,14],[5525,16,5525,21],[5525,23,5525,29],[5526,1,5526,7],[5526,9,5526,14],[5526,16,5526,21],[5526,23,5526,29],[5528,1,5528,7],[5528,9,5528,14],[5528,16,5528,21],[5528,23,5528,29],[5529,1,5529,7],[5529,9,5529,14],[5529,16,5529,21],[5529,23,5529,29],[5531,1,5531,7],[5531,9,5531,14],[5531,16,5531,21],[5531,23,5531,29],[4895,7,4895,19],[4897,7,4897,19],[4929,7,4929,19],[4931,7,4931,19],[4963,7,4963,19],[4965,7,4965,19],[4997,7,4997,19],[4999,7,4999,19],[5031,7,5031,19],[5033,7,5033,19],[5065,7,5065,19],[5067,7,5067,19],[5099,7,5099,19],[5101,7,5101,19],[5133,7,5133,19],[5135,7,5135,19],[5167,7,5167,19],[5169,7,5169,19],[5201,7,5201,19],[5203,7,5203,19],[5235,7,5235,19],[5237,7,5237,19],[5269,7,5269,19],[5271,7,5271,19],[5303,7,5303,19],[5305,7,5305,19],[5337,7,5337,19],[5339,7,5339,19],[5371,7,5371,19],[5373,7,5373,19],[5405,7,5405,19],[5407,7,5407,19],[5439,7,5439,19],[4905,8,4905,14],[4905,18,4905,22],[4954,9,4954,14],[4954,16,4954,21],[5010,11,5010,19],[5010,21,5010,29],[5011,1,5011,9],[5011,11,5011,19],[5011,21,5011,29],[5012,1,5012,14],[5012,16,5012,29],[5013,1,5013,14],[5013,16,5013,29],[5015,1,5015,7],[5015,9,5015,14],[5015,16,5015,21],[5015,23,5015,29],[5016,1,5016,7],[5016,9,5016,14],[5016,16,5016,21],[5016,23,5016,29],[5018,1,5018,7],[5018,9,5018,14],[5018,16,5018,21],[5018,23,5018,29],[5019,1,5019,7],[5019,9,5019,14],[5019,16,5019,21],[5019,23,5019,29],[5021,1,5021,7],[5021,9,5021,14],[4283,7,4283,19],[4285,7,4285,19],[4317,7,4317,19],[4319,7,4319,19],[4351,7,4351,19],[4353,7,4353,19],[4385,7,4385,19],[4387,7,4387,19],[4419,7,4419,19],[4421,7,4421,19],[4453,7,4453,19],[4455,7,4455,19],[4487,7,4487,19],[4489,7,4489,19],[4521,7,4521,19],[4523,7,4523,19],[4555,7,4555,19],[4557,7,4557,19],[4589,7,4589,19],[4591,7,4591,19],[4623,7,4623,19],[4625,7,4625,19],[4657,7,4657,19],[4659,7,4659,19],[4691,7,4691,19],[4693,7,4693,19],[4725,7,4725,19],[4727,7,4727,19],[4759,7,4759,19],[4761,7,4761,19],[4793,7,4793,19],[4795,7,4795,19],[4827,7,4827,19],[4608,16,4608,21],[4552,5,4552,9],[4552,10,4552,16],[4506,9,4506,14],[4506,16,4506,21],[4459,1,4459,29],[4472,1,4472,7],[4472,9,4472,14],[4472,16,4472,21],[4472,23,4472,29],[4474,1,4474,7],[4474,9,4474,14],[4474,16,4474,21],[4474,23,4474,29],[4475,1,4475,7],[4475,9,4475,14],[4475,16,4475,21],[4475,23,4475,29],[4477,1,4477,7],[4477,9,4477,14],[4477,16,4477,21],[4477,23,4477,29],[4478,1,4478,7],[4478,9,4478,14],[4478,16,4478,21],[4478,23,4478,29],[4465,1,4465,9],[4465,11,4465,19],[4465,21,4465,29],[4466,1,4466,9],[4505,16,4505,21],[3671,7,3671,19],[3673,7,3673,19],[3705,7,3705,19],[3707,7,3707,19],[3739,7,3739,19],[3741,7,3741,19],[3773,7,3773,19],[3775,7,3775,19],[3807,7,3807,19],[3809,7,3809,19],[3841,7,3841,19],[3843,7,3843,19],[3875,7,3875,19],[3877,7,3877,19],[3909,7,3909,19],[3911,7,3911,19],[3943,7,3943,19],[3945,7,3945,19],[3977,7,3977,19],[3979,7,3979,19],[4011,7,4011,19],[4013,7,4013,19],[4045,7,4045,19],[4047,7,4047,19],[4079,7,4079,19],[4081,7,4081,19],[4113,7,4113,19],[4115,7,4115,19],[4147,7,4147,19],[4149,7,4149,19],[4181,7,4181,19],[4183,7,4183,19],[4215,7,4215,19],[4208,1,4208,14],[4208,16,4208,29],[4209,2,4209,14],[4209,17,4209,29],[4210,2,4210,14],[4210,17,4210,29],[4162,1,4162,14],[4162,16,4162,29],[4163,1,4163,14],[4163,16,4163,29],[4165,1,4165,7],[4165,9,4165,14],[4165,16,4165,21],[4165,23,4165,29],[4149,1,4149,6],[4150,1,4150,9],[4150,11,4150,19],[4150,21,4150,29],[4151,1,4151,9],[4151,11,4151,19],[4151,21,4151,29],[4152,1,4152,29],[4153,1,4153,29],[4156,1,4156,5],[4156,7,4156,15],[4156,17,4156,23],[4156,25,4156,28],[4157,1,4157,5],[4157,8,4157,14],[4157,18,4157,22],[4158,11,4158,19],[3161,7,3161,19],[3163,7,3163,19],[3195,7,3195,19],[3197,7,3197,19],[3229,7,3229,19],[3231,7,3231,19],[3263,7,3263,19],[3265,7,3265,19],[3297,7,3297,19],[3299,7,3299,19],[3331,7,3331,19],[3333,7,3333,19],[3365,7,3365,19],[3367,7,3367,19],[3399,7,3399,19],[3401,7,3401,19],[3433,7,3433,19],[3435,7,3435,19],[3467,7,3467,19],[3469,7,3469,19],[3501,7,3501,19],[3503,7,3503,19],[3535,7,3535,19],[3537,7,3537,19],[3569,7,3569,19],[3571,7,3571,19],[3603,7,3603,19],[3605,7,3605,19],[3637,7,3637,19],[3639,7,3639,19],[3596,1,3596,14],[3596,16,3596,29],[3597,2,3597,14],[3597,17,3597,29],[3598,2,3598,14],[3598,17,3598,29],[3590,23,3590,29],[3577,16,3577,21],[3577,23,3577,29],[3578,1,3578,5],[3578,7,3578,15],[3578,17,3578,23],[3578,25,3578,28],[3579,1,3579,5],[3579,8,3579,14],[3579,18,3579,22],[3579,25,3579,28],[3580,1,3580,9],[3580,11,3580,19],[3580,21,3580,29],[3581,1,3581,9],[3581,11,3581,19],[3581,21,3581,29],[3582,1,3582,9],[3582,11,3582,19],[3582,21,3582,29],[3550,1,3550,14],[3550,16,3550,29],[3551,1,3551,14],[3551,16,3551,29],[3553,1,3553,7],[3553,9,3553,14],[3553,16,3553,21],[3553,23,3553,29],[2549,7,2549,19],[2551,7,2551,19],[2583,7,2583,19],[2585,7,2585,19],[2617,7,2617,19],[2619,7,2619,19],[2651,7,2651,19],[2653,7,2653,19],[2685,7,2685,19],[2687,7,2687,19],[2719,7,2719,19],[2721,7,2721,19],[2753,7,2753,19],[2755,7,2755,19],[2787,7,2787,19],[2789,7,2789,19],[2821,7,2821,19],[2823,7,2823,19],[2855,7,2855,19],[2857,7,2857,19],[2889,7,2889,19],[2891,7,2891,19],[2923,7,2923,19],[2925,7,2925,19],[2957,7,2957,19],[2959,7,2959,19],[2991,7,2991,19],[2993,7,2993,19],[3025,7,3025,19],[3027,7,3027,19],[3059,7,3059,19],[3061,7,3061,19],[3093,7,3093,19],[3081,1,3081,7],[3081,9,3081,14],[3081,16,3081,21],[3067,16,3067,21],[3046,9,3046,14],[3046,16,3046,21],[3015,1,3015,7],[3015,9,3015,14],[3015,16,3015,21],[2938,1,2938,14],[2938,16,2938,29],[2939,1,2939,14],[2939,16,2939,29],[2941,1,2941,7],[2941,9,2941,14],[2941,16,2941,21],[2941,23,2941,29],[2925,1,2925,6],[2926,1,2926,9],[2926,11,2926,19],[2926,21,2926,29],[2927,1,2927,9],[2927,11,2927,19],[2927,21,2927,29],[3081,23,3081,29],[3083,1,3083,7],[3083,9,3083,14],[3083,16,3083,21],[3083,23,3083,29],[3084,1,3084,7],[3084,23,3084,29],[1939,7,1939,19],[1971,7,1971,19],[1973,7,1973,19],[2005,7,2005,19],[2007,7,2007,19],[2039,7,2039,19],[2041,7,2041,19],[2073,7,2073,19],[2075,7,2075,19],[2107,7,2107,19],[2109,7,2109,19],[2141,7,2141,19],[2143,7,2143,19],[2175,7,2175,19],[2177,7,2177,19],[2209,7,2209,19],[2211,7,2211,19],[2243,7,2243,19],[2245,7,2245,19],[2277,7,2277,19],[2279,7,2279,19],[2311,7,2311,19],[2313,7,2313,19],[2345,7,2345,19],[2347,7,2347,19],[2379,7,2379,19],[2381,7,2381,19],[2413,7,2413,19],[2415,7,2415,19],[2447,7,2447,19],[2449,7,2449,19],[2481,7,2481,19],[2483,7,2483,19],[2469,1,2469,7],[2469,9,2469,14],[2469,16,2469,21],[2455,16,2455,21],[2434,9,2434,14],[2434,16,2434,21],[2403,1,2403,7],[2403,9,2403,14],[2403,16,2403,21],[2326,1,2326,14],[2326,16,2326,29],[2327,1,2327,14],[2327,16,2327,29],[2329,1,2329,7],[2329,9,2329,14],[2329,16,2329,21],[2329,23,2329,29],[2313,1,2313,6],[2314,1,2314,9],[2314,11,2314,19],[2314,21,2314,29],[2315,1,2315,9],[2315,11,2315,19],[2315,21,2315,29],[2316,1,2316,29],[2469,23,2469,29],[2471,1,2471,7],[2471,9,2471,14],[2471,16,2471,21],[2471,23,2471,29],[2472,16,2472,21],[1514,7,1514,19],[1516,7,1516,19],[1545,7,1545,19],[1547,7,1547,19],[1576,7,1576,19],[1578,7,1578,19],[1617,7,1617,19],[1619,7,1619,19],[1665,7,1665,19],[1667,7,1667,19],[1699,7,1699,19],[1701,7,1701,19],[1733,7,1733,19],[1735,7,1735,19],[1767,7,1767,19],[1769,7,1769,19],[1801,7,1801,19],[1803,7,1803,19],[1835,7,1835,19],[1837,7,1837,19],[1869,7,1869,19],[1871,7,1871,19],[1903,7,1903,19],[1905,7,1905,19],[1937,7,1937,19],[1918,1,1918,14],[1918,16,1918,29],[1919,1,1919,14],[1919,16,1919,29],[1921,1,1921,7],[1921,9,1921,14],[1921,16,1921,21],[1921,23,1921,29],[1905,1,1905,6],[1906,1,1906,9],[1906,11,1906,19],[1906,21,1906,29],[1907,1,1907,9],[1907,11,1907,19],[1907,21,1907,29],[1908,1,1908,29],[1909,1,1909,29],[1910,1,1910,7],[1910,9,1910,14],[1910,16,1910,21],[1910,23,1910,29],[1911,1,1911,7],[1911,9,1911,14],[1911,16,1911,21],[1911,23,1911,29],[1912,1,1912,5],[1653,0,1654,29],[1655,16,1655,20],[1655,21,1655,29],[1656,16,1656,20],[1656,21,1656,29],[1657,2,1657,13],[1657,16,1657,20],[1657,21,1657,29],[1655,1,1656,14],[1607,0,1607,4],[1912,7,1912,15],[1912,17,1912,23],[1648,2,1650,29],[927,7,927,19],[956,7,956,19],[958,7,958,19],[987,7,987,19],[989,7,989,19],[1018,7,1018,19],[1020,7,1020,19],[1049,7,1049,19],[1051,7,1051,19],[1080,7,1080,19],[1082,7,1082,19],[1111,7,1111,19],[1113,7,1113,19],[1142,7,1142,19],[1144,7,1144,19],[1173,7,1173,19],[1175,7,1175,19],[1204,7,1204,19],[1206,7,1206,19],[1235,7,1235,19],[1237,7,1237,19],[1266,7,1266,19],[1268,7,1268,19],[1297,7,1297,19],[1299,7,1299,19],[1328,7,1328,19],[1330,7,1330,19],[1254,1,1254,7],[1254,9,1254,14],[1254,16,1254,21],[1248,1,1248,9],[1248,11,1248,19],[1248,21,1248,29],[1229,1,1229,7],[1229,9,1229,14],[1229,16,1229,21],[1229,23,1229,29],[1231,1,1231,14],[1231,16,1231,29],[1232,2,1232,14],[1232,17,1232,29],[1233,2,1233,14],[1233,17,1233,29],[1228,16,1228,21],[1228,23,1228,29],[1214,18,1214,22],[1214,25,1214,28],[1215,1,1215,9],[1215,11,1215,19],[1215,21,1215,29],[1216,1,1216,9],[1216,11,1216,19],[1216,21,1216,29],[1217,1,1217,9],[1217,11,1217,19],[1217,21,1217,29],[1249,11,1249,19],[1249,21,1249,29],[1250,1,1250,14],[1250,16,1250,29],[1251,1,1251,14],[1307,1,1307,5],[1290,16,1290,21],[1290,23,1290,29],[1392,7,1392,19],[1421,7,1421,19],[1423,7,1423,19],[5652,1,5652,5],[7547,16,7547,20],[7547,21,7547,29],[7548,16,7548,20],[7548,21,7548,29],[21,7,21,19],[23,7,23,19],[57,7,57,19],[59,7,59,19],[88,7,88,19],[90,7,90,19],[119,7,119,19],[121,7,121,19],[150,7,150,19],[152,7,152,19],[181,7,181,19],[183,7,183,19],[243,7,243,19],[245,7,245,19],[212,7,212,19],[214,7,214,19],[274,7,274,19],[276,7,276,19],[305,7,305,19],[307,7,307,19],[336,7,336,19],[338,7,338,19],[367,7,367,19],[369,7,369,19],[398,7,398,19],[400,7,400,19],[429,7,429,19],[431,7,431,19],[460,7,460,19],[462,7,462,19],[491,7,491,19],[493,7,493,19],[522,7,522,19],[524,7,524,19],[553,7,553,19],[555,7,555,19],[584,7,584,19],[586,7,586,19],[615,7,615,19],[617,7,617,19],[646,7,646,19],[648,7,648,19],[677,7,677,19],[679,7,679,19],[708,7,708,19],[710,7,710,19],[739,7,739,19],[741,7,741,19],[770,7,770,19],[772,7,772,19],[801,7,801,19],[803,7,803,19],[832,7,832,19],[894,7,894,19],[896,7,896,19],[925,7,925,19],[834,7,834,19],[1913,8,1913,14],[53,2,55,29],[4576,9,4576,14],[4576,16,4576,21],[4576,23,4576,29],[4577,1,4577,7],[4577,9,4577,14],[4577,16,4577,21],[4577,23,4577,29],[4579,1,4579,7],[4579,9,4579,14],[4579,16,4579,21],[4579,23,4579,29],[4580,1,4580,7],[4580,9,4580,14],[4580,16,4580,21],[4580,23,4580,29],[4567,1,4567,9],[4567,11,4567,19],[4567,21,4567,29],[4568,1,4568,9],[4568,11,4568,19],[4568,21,4568,29],[4569,1,4569,9],[4569,11,4569,19],[4569,21,4569,29],[4570,1,4570,14],[4570,16,4570,29],[4571,1,4571,14],[4571,16,4571,29],[4573,1,4573,7],[4573,9,4573,14],[4573,16,4573,21],[4573,23,4573,29],[4509,1,4509,7],[4509,9,4509,14],[4509,16,4509,21],[4509,23,4509,29],[4511,1,4511,7],[4511,9,4511,14],[4511,16,4511,21],[4511,23,4511,29],[4512,1,4512,7],[4512,9,4512,14],[4512,16,4512,21],[4512,23,4512,29],[4514,1,4514,14],[4514,16,4514,29],[4515,2,4515,14],[4515,17,4515,29],[4516,2,4516,14],[4516,17,4516,29],[4501,1,4501,9],[4501,11,4501,19],[4501,21,4501,29],[4502,1,4502,14],[4502,16,4502,29],[4503,1,4503,14],[4503,16,4503,29],[4505,1,4505,7],[4505,9,4505,14],[1390,7,1390,19],[4505,23,4505,29],[4613,1,4613,7],[4613,9,4613,14],[4613,16,4613,21],[4613,23,4613,29],[4616,1,4616,14],[4616,16,4616,29],[4617,2,4617,14],[4617,17,4617,29],[4545,1,4545,7],[4545,9,4545,14],[4545,16,4545,21],[4545,23,4545,29],[4546,1,4546,7],[4546,9,4546,14],[4546,16,4546,21],[4546,23,4546,29],[4548,1,4548,14],[4548,16,4548,29],[4549,2,4549,14],[4549,17,4549,29],[4550,2,4550,14],[4620,0,4622,0],[4620,1,4622,4],[4620,5,4620,9],[4620,10,4620,16],[4620,23,4620,29],[4622,5,4622,9],[4622,10,4622,29],[4611,16,4611,21],[4611,23,4611,29],[4614,1,4614,7],[4614,9,4614,14],[4614,16,4614,21],[4614,23,4614,29],[4618,2,4618,14],[4561,1,4561,29],[4562,1,4562,7],[4562,9,4562,14],[4562,16,4562,21],[4562,23,4562,29],[4563,1,4563,7],[4563,9,4563,14],[4563,16,4563,21],[4563,23,4563,29],[4564,1,4564,5],[4564,7,4564,15],[4564,17,4564,23],[4564,25,4564,28],[4565,1,4565,5],[4565,8,4565,14],[4565,18,4565,22],[4565,25,4565,28],[4566,1,4566,9],[4566,11,4566,19],[4566,21,4566,29],[4618,17,4618,29],[4552,0,4554,0],[4555,0,4584,0],[4608,23,4608,29],[4610,1,4610,7],[4610,9,4610,14],[4610,16,4610,21],[4610,23,4610,29],[4611,1,4611,7],[4611,9,4611,14],[4555,1,4555,6],[4557,1,4557,6],[4558,1,4558,9],[4558,11,4558,19],[4558,21,4558,29],[4559,1,4559,9],[4559,11,4559,19],[4559,21,4559,29],[4560,1,4560,29],[4552,23,4552,29],[4554,5,4554,9],[4554,10,4554,29],[4582,1,4582,14],[4582,16,4582,29],[4583,2,4583,14],[4583,17,4583,29],[4584,2,4584,14],[4584,17,4584,29],[4574,1,4574,7],[4574,9,4574,14],[4574,16,4574,21],[4574,23,4574,29],[4576,1,4576,7],[4552,1,4554,4],[4518,0,4520,0],[4518,1,4520,4],[4518,5,4518,9],[4518,10,4518,16],[4518,23,4518,29],[4520,5,4520,9],[4520,10,4520,29],[4521,0,4550,0],[4521,1,4521,6],[4523,1,4523,6],[4524,1,4524,9],[4524,11,4524,19],[4524,21,4524,29],[4525,1,4525,9],[4525,11,4525,19]],"bounds":{"rows_first":1000,"rows_last":250,"rows_between":1000,"halvings":1},"merged_total":18189,"flags":["merged_cut"]}
[null,null,null,null,null,null,"Formato de conocimiento de socios, accionistas y otros relacionados de Persona Jurídica y/u otras estructuras sin personería jurídica",null,null,null,null,null,null,null,null,null,null,null,null,null,null,null,"Fecha de Diligenciamiento",null,null,null,null,null,null,null,null,null,null,1]
[null,null,null,null,null,null,null,null,null,null,null,null,null,null,null,null,null,null,null,null,null,null,null,null,null,null,null,null,null,null,null,null,null,1]
[null,null,null,null,null,null,null,null,null,null,null,null,null,null,null,null,null,null,null,null,null,null,{"$f":"TODAY()","v":"2023-02-16"},null,null,null,null,null,null,null,null,null,null,1]
[null,null,null,null,null,null,null,null,null,null,null,null,null,null,null,null,null,null,null,null,null,null,null,null,null,null,null,null,null,null,null,null,null,1]
["¡Hola!",null,null,null,null,null,null,"La información suministrada ayuda a dar cumplimiento a las normas exigidas por la Superintendencia Financiera de Colombia y la DIAN.",null,null,null,null,null,null,null,null,null,null,null,null,null,null,null,null,null,null,null,null,null,null,null,null,null,1]
[null,null,null,null,null,null,null,null,null,null,null,null,null,null,null,null,null,null,null,null,null,null,null,null,null,null,null,null,null,null,null,null,null,1]
[null,null,null,null,null,null,null,"Para diligenciar exitosamente la información tener en cuenta:\n1. Tendrá un instructivo disponible si requiere tener mayor detalle de la información que debe diligenciar.\n2. Descargue el formato en una carpeta de su PC que pueda ubicar fácilmente.\n3. Al abrir el formato, de clic en \"habilitar macros\" y \"habilitar contenido\".\n4. Los campos obligatorios, serán resaltados con color rosado, esto significa que el campo no debe estar vacio, los campos resaltados en amarillo solo se diligencian si se cuenta con esta información.\n5. Encontrará en los campos mensajes con el detalle de la información esperada en el campo, estos mensajes le servirán como guía en el diligencimiento.\n6. Si no se habilita alguna función, de clic en guardar. Si persiste la falla, dirijase al menú superior, seleccione la opción vista y de clic en \"Desproteger hoja\".",null,null,null,null,null,null,null,null,null,null,null,null,null,null,null,null,null,null,null,null,null,null,null,null,null,1]
[null,null,null,null,null,null,null,null,null,null,null,null,null,null,null,null,null,null,null,null,null,null,null,null,null,null,null,null,null,null,null,null,null,1]
[null,null,null,null,null,null,null,null,null,null,null,null,null,null,null,null,null,null,null,null,null,null,null,null,null,null,null,null,null,null,null,null,null,1]
[null,null,null,null,null,null,null,null,null,null,null,null,null,null,null,null,null,null,null,null,null,null,null,null,null,null,null,null,null,null,null,null,null,1]
[null,null,null,null,null,null,null,null,null,null,null,null,null,null,null,null,null,null,null,null,null,null,null,null,null,null,null,null,null,null,null,null,null,1]
[null,null,null,null,null,null,null,null,null,null,null,null,null,null,null,null,null,null,null,null,null,null,null,null,null,null,null,null,null,null,null,null,null,1]
[null,null,null,null,null,null,null,null,null,null,null,null,null,null,null,null,null,null,null,null,null,null,null,null,null,null,null,null,null,null,null,null,null,1]
["Información del Cliente a vincular o actualizar",null,null,null,null,null,null,null,null,null,null,null,null,null,null,null,null,null,null,null,null,null,null,null,null,null,null,null,null,null,null,null,null,1]
[null,null,null,null,null,null,null,null,null,null,null,null,null,null,null,null,null,null,null,null,null,null,null,null,null,null,null,null,null,null,null,null,null,1]
[null,null,"Tipo de Documento",null,null,null,null,"NIT",null,null,null,null,null,null,null,null,"N° de Documento",null,null,null,null,null,null,null,null,null,null,null,null,null,null,null,null,1]
[null,null,null,null,null,null,null,null,null,null,null,null,null,null,null,null,null,null,null,null,null,null,null,null,null,null,null,null,null,null,null,null,null,1]
[null,null,"Razón Social",null,null,null,null,null,null,null,null,null,null,null,null,null,null,null,null,null,null,null,null,null,null,null,null,null,null,null,null,null,null,1]
[null,null,null,null,null,null,null,null,null,null,null,null,null,null,null,null,null,null,null,null,null,null,null,null,null,null,null,null,null,null,null,null,null,1]
["Bloque A",null,null,null,null,null,null,null,null,null,null,null,null,null,null,null,null,null,null,null,null,null,null,null,null,null,null,null,null,null,null,null,null,1]
["Información de relacionados directos de la persona juridica a vincular o actualizar",null,null,null,null,null,null,null,null,null,null,null,null,null,null,null,null,null,null,null,{"$f":"H18","v":0},null,null,null,null,null,null,null,null,null,null,null,null,1]
["N1","Tipo de Relación",null,null,null,null,null,"Socio o Accionista",null,null,null,null,null,null,null,null,null,null,null,null,null,null,null,null,null,null,null,null,null,null,null,null,null,1]
[null,null,null,null,null,null,null,null,null,null,null,null,null,null,null,null,null,null,null,null,null,null,null,null,null,null,null,null,null,null,null,null,null,1]
[null,"Tipo de Documento",null,null,null,null,null,"Cédula de ciudadanía",null,null,null,null,null,null,null,null,null,null,null,null,null,null,null,null,null,null,null,null,null,null,null,null,null,1]
[1,{"$f":"IF(H24<>\"\",\"N° de Documento\",\"\")","v":"N° de Documento"},null,null,null,null,null,null,null,null,null,{"$f":"IF(H24<>\"\",\"Fecha de Expedición\",\"\")","v":"Fecha de Expedición"},null,null,null,null,null,null,null,null,null,{"$f":"IF(H24<>\"\",\"País de Expedición\",\"\")","v":"País de Expedición"},null,null,null,null,null,null,null,null,null,null,null,1]
[null,null,null,null,null,null,null,null,null,null,null,null,null,null,null,null,null,null,null,null,null,null,null,null,null,null,null,null,null,null,null,null,null,1]
[null,{"$f":"IF(OR(H24=\"NIT\",H24=\"Fideicomiso/Fondo\",H24=\"PJ No Residente\"),\"Razón Social\",\"\")","v":""},null,null,null,null,null,null,null,null,null,null,null,null,null,null,null,null,null,null,null,null,null,null,null,null,null,null,null,null,null,null,null,1]
[null,null,null,null,null,null,null,null,null,null,null,null,null,null,null,null,null,null,null,null,null,null,null,null,null,null,null,null,null,null,null,null,null,1]
[null,{"$f":"IF(OR(H24=\"NIT\",H24=\"Fideicomiso/Fondo\",H24=\"PJ No Residente\",H24=\"\"),\"\",\"Primer Nombre\")","v":"Primer Nombre"},null,null,null,null,null,null,null,{"$f":"IF(OR(H24=\"NIT\",H24=\"Fideicomiso/Fondo\",H24=\"PJ No Residente\",H24=\"\"),\"\",\"Segundo Nombre\")","v":"Segundo Nombre"},null,null,null,null,null,null,{"$f":"IF(OR(H24=\"NIT\",H24=\"Fideicomiso/Fondo\",H24=\"PJ No Residente\",H24=\"\"),\"\",\"Primer Apellido\")","v":"Primer Apellido"},null,null,null,null,null,null,{"$f":"IF(OR(H24=\"NIT\",H24=\"Fideicomiso/Fondo\",H24=\"PJ No Residente\",H24=\"\"),\"\",\"Segundo Apellido\")","v":"Segundo Apellido"},null,null,null,null,null,null,null,null,null,1]
[null,null,null,null,null,null,null,null,null,null,null,null,null,null,null,null,null,null,null,null,null,null,null,null,null,null,null,null,null,null,null,null,null,1]
[null,{"$f":"IF(OR(H22=\"Socio o Accionista\",H22=\"Fideicomitente\",H22=\"Inversionista\",H22=\"Beneficiario de Activos/Rendimientos/Utilidades\"),\"Participación en %\",IF(H22=\"\",\"\",\"\"))","v":"Participación en %"},null,null,null,null,null,{"$f":"IF(H24<>\"\",\"¿Es Persona Expuesta Politicamente?\",\"\")","v":"¿Es Persona Expuesta Politicamente?"},null,null,null,null,null,null,null,null,null,{"$f":"IF(OR(H24=\"NIT\",H24=\"Fideicomiso/Fondo\",H24=\"PJ No Residente\"),\"¿Emite acciones al portador?\",IF(H24=\"\",\"\",\"\"))","v":""},null,null,null,null,null,null,null,{"$f":"IF(OR(H24=\"NIT\",H24=\"Fideicomiso/Fondo\",H24=\"PJ No Residente\"),\"\",IF(H24=\"\",\"\",\"Género\"))","v":"Género"},null,null,null,null,null,null,null,1]
[null,null,null,null,null,null,null,null,null,null,null,null,null,null,null,null,null,null,null,null,null,null,null,null,null,null,null,null,null,null,null,null,null,1]
[null,{"$f":"IF(OR(H24=\"NIT\",H24=\"Fideicomiso/Fondo\",H24=\"PJ No Residente\"),\"\",IF(H24=\"\",\"\",\"Fecha de Nacimiento\"))","v":"Fecha de Nacimiento"},null,null,null,null,null,null,null,null,null,{"$f":"IF(OR(H24=\"NIT\",H24=\"Fideicomiso/Fondo\",H24=\"PJ No Residente\"),\"\",IF(H24=\"\",\"\",\"País de nacimiento\"))","v":"País de nacimiento"},null,null,null,null,null,null,null,null,null,{"$f":"IF(OR(H24=\"NIT\",H24=\"Fideicomiso/Fondo\",H24=\"PJ No Residente\"),\"\",IF(H24=\"\",\"\",\"Nacionalidad\"))","v":"Nacionalidad"},null,null,null,null,null,null,null,null,null,null,null,1]
[null,null,null,null,null,null,null,null,null,null,null,null,null,null,null,null,null,null,null,null,null,null,null,null,null,null,null,null,null,null,null,null,null,1]
[null,{"$f":"IF(H24<>\"\",\"Pais de Residencia\",\"\")","v":"Pais de Residencia"},null,null,null,null,null,null,null,null,null,{"$f":"IF(H24<>\"\",\"Departamento de Residencia\",\"\")","v":"Departamento de Residencia"},null,null,null,null,null,null,null,null,null,{"$f":"IF(H24<>\"\",\"Ciudad de Residencia\",\"\")","v":"Ciudad de Residencia"},null,null,null,null,null,null,null,null,null,null,null,1]
[null,null,null,null,null,null,null,null,null,null,null,null,null,null,null,null,null,null,null,null,null,null,null,null,null,null,null,null,null,null,null,null,null,1]
[null,{"$f":"IF(H24<>\"\",\"Dirección de residencia\",\"\")","v":"Dirección de residencia"},null,null,null,null,null,null,null,null,null,null,null,null,null,null,{"$f":"IF(H24<>\"\",\"Correo electrónico\",\"\")","v":"Correo electrónico"},null,null,null,null,null,null,null,null,null,null,null,null,null,null,null,null,1]
[null,null,null,null,null,null,null,null,null,null,null,null,null,null,null,null,null,null,null,null,null,null,null,null,null,null,null,null,null,null,null,null,null,1]
[null,null,null,null,null,null,null,null,null,null,null,null,null,null,null,null,null,null,null,null,null,null,null,null,null,null,null,null,null,null,null,null,null,1]
[null,{"$f":"IF(OR(H22=\"Socio o Accionista\"),\"Tipo de Participación\",IF(H22=\"\",\"\",\"\"))","v":"Tipo de Participación"},null,null,null,null,null,null,null,{"$f":"IF(B41=\"Conjunta\",\"Tipo de Documento\",IF(B41=\"\",\"\",\"\"))","v":""},null,null,null,null,null,null,{"$f":"IF(B41=\"Conjunta\",\"N° de Documento\",IF(B41=\"\",\"\",\"\"))","v":""},null,null,null,null,null,null,{"$f":"IF(B41=\"Conjunta\",\"Parentesco\",IF(B41=\"\",\"\",\"\"))","v":""},null,null,null,null,null,null,null,null,null,1]
[null,null,null,null,null,null,null,null,null,null,null,null,null,null,null,null,null,null,null,null,null,null,null,null,null,null,null,null,null,null,null,null,null,1]
[null,null,null,null,null,null,null,null,null,null,null,null,null,null,null,null,null,null,null,null,null,null,null,null,null,null,null,null,null,null,null,null,null,1]
[null,{"$f":"IF(OR(H22=\"Socio o Accionista\"),\"Tipo de Participación\",IF(H22=\"\",\"\",\"\"))","v":"Tipo de Participación"},null,null,null,null,null,null,null,{"$f":"IF(B44=\"Conjunta\",\"Tipo de Documento\",IF(B44=\"\",\"\",\"\"))","v":""},null,null,null,null,null,null,{"$f":"IF(B44=\"Conjunta\",\"N° de Documento\",IF(B44=\"\",\"\",\"\"))","v":""},null,null,null,null,null,null,{"$f":"IF(B44=\"Conjunta\",\"Parentesco\",IF(B44=\"\",\"\",\"\"))","v":""},null,null,null,null,null,null,null,null,null,1]
[null,null,null,null,null,null,null,null,null,null,null,null,null,null,null,null,null,null,null,null,null,null,null,null,null,null,null,null,null,null,null,null,null,1]
[null,null,null,null,null,null,null,null,null,null,null,null,null,null,null,null,null,null,null,null,null,null,null,null,null,null,null,null,null,null,null,null,null,1]
[null,{"$f":"IF(OR(H22=\"Socio o Accionista\"),\"Tipo de Participación\",IF(H22=\"\",\"\",\"\"))","v":"Tipo de Participación"},null,null,null,null,null,null,null,{"$f":"IF(B47=\"Conjunta\",\"Tipo de Documento\",IF(B47=\"\",\"\",\"\"))","v":""},null,null,null,null,null,null,{"$f":"IF(B47=\"Conjunta\",\"N° de Documento\",IF(B47=\"\",\"\",\"\"))","v":""},null,null,null,null,null,null,{"$f":"IF(B47=\"Conjunta\",\"Parentesco\",IF(B47=\"\",\"\",\"\"))","v":""},null,null,null,null,null,null,null,null,null,1]
[null,null,null,null,null,null,null,null,null,null,null,null,null,null,null,null,null,null,null,null,null,null,null,null,null,null,null,null,null,null,null,null,null,1]
[null,null,null,null,null,null,null,null,null,null,null,null,null,null,null,null,null,null,null,null,null,null,null,null,null,null,null,null,null,null,null,null,null,1]
[null,{"$f":"IF(H24<>\"\",\"País de Expedición del NIT\",\"\")","v":"País de Expedición del NIT"},null,null,null,null,null,null,null,null,null,null,null,null,null,null,{"$f":"IF(H24<>\"\",\"N° de Identificación Tributario\",\"\")","v":"N° de Identificación Tributario"},null,null,null,null,null,null,null,null,null,null,null,null,null,null,null,null,1]
[null,{"$f":"IF(H24<>\"\",\"1 -\",\"\")","v":"1 -"},null,null,null,null,null,null,null,null,null,null,null,null,null,null,{"$f":"IF(H24<>\"\",\"1 -\",\"\")","v":"1 -"},null,null,null,null,null,null,null,null,null,null,null,null,null,null,null,null,1]
[null,null,null,null,null,null,null,null,null,null,null,null,null,null,null,null,null,null,null,null,null,null,null,null,null,null,null,null,null,null,null,null,null,1]
[null,{"$f":"IF(H24<>\"\",\"2 -\",\"\")","v":"2 -"},null,null,null,null,null,null,null,null,null,null,null,null,null,null,{"$f":"IF(H24<>\"\",\"2 -\",\"\")","v":"2 -"},null,null,null,null,null,null,null,null,null,null,null,null,null,null,null,null,1]
[null,null,null,null,null,null,null,null,null,null,null,null,null,null,null,null,null,null,null,null,null,null,null,null,null,null,null,null,null,null,null,null,null,1]
[null,null,"Si requiere mas bloques para el diligenciamiento de relacionados, de clic sobre el icono (+) ubicado en la parte izquierda, en la celda 119. Si ya indicó los relacionados directos, diríjase al Bloque B para el registro de los relacionados de las personas juridicas directas. Si no tiene Personas Juridicas como relacionados directos, puede convertir el documento en PDF, proceder con su firma y envio para continuar con el proceso de vinculación o actualización.",null,null,null,null,null,null,null,null,null,null,null,null,null,null,null,null,null,null,null,null,null,null,null,null,null,null,null,null,null,null,1]
[null,null,null,null,null,null,null,null,null,null,null,null,null,null,null,null,null,null,null,null,null,null,null,null,null,null,null,null,null,null,null,null,null,1]
[null,null,null,null,null,null,null,null,null,null,null,null,null,null,null,null,null,null,null,null,null,null,null,null,null,null,null,null,null,null,null,null,null,1]
[null,null,null,null,null,null,null,null,null,null,null,null,null,null,null,null,null,null,null,null,null,null,null,null,null,null,null,null,null,null,null,null,null,1]
["N1","Tipo de Relación",null,null,null,null,null,null,null,null,null,null,null,null,null,null,null,null,null,null,null,null,null,null,null,null,null,null,null,null,null,null,null,{"$f":"IF($H$58=\"\",\"\",1)","v":""}]
[null,null,null,null,null,null,null,null,null,null,null,null,null,null,null,null,null,null,null,null,null,null,null,null,null,null,null,null,null,null,null,null,null,{"$f":"IF($H$58=\"\",\"\",1)","v":""}]
[null,"Tipo de Documento",null,null,null,null,null,null,null,null,null,null,null,null,null,null,null,null,null,null,null,null,null,null,null,null,null,null,null,null,null,null,null,""]
[2,{"$f":"IF(H60<>\"\",\"N° de Documento\",\"\")","v":""},null,null,null,null,null,null,null,null,null,{"$f":"IF(H60<>\"\",\"Fecha de Expedición\",\"\")","v":""},null,null,null,null,null,null,null,null,null,{"$f":"IF(H60<>\"\",\"País de Expedición\",\"\")","v":""},null,null,null,null,null,null,null,null,null,null,null,""]
[null,null,null,null,null,null,null,null,null,null,null,null,null,null,null,null,null,null,null,null,null,null,null,null,null,null,null,null,null,null,null,null,null,""]
[null,{"$f":"IF(OR(H60=\"NIT\",H60=\"Fideicomiso/Fondo\",H60=\"PJ No Residente\"),\"Razón Social\",\"\")","v":""},null,null,null,null,null,null,null,null,null,null,null,null,null,null,null,null,null,null,null,null,null,null,null,null,null,null,null,null,null,null,null,""]
[null,null,null,null,null,null,null,null,null,null,null,null,null,null,null,null,null,null,null,null,null,null,null,null,null,null,null,null,null,null,null,null,null,""]
[null,{"$f":"IF(OR(H60=\"NIT\",H60=\"Fideicomiso/Fondo\",H60=\"PJ No Residente\",H60=\"\"),\"\",\"Primer Nombre\")","v":""},null,null,null,null,null,null,null,{"$f":"IF(OR(H60=\"NIT\",H60=\"Fideicomiso/Fondo\",H60=\"PJ No Residente\",H60=\"\"),\"\",\"Segundo Nombre\")","v":""},null,null,null,null,null,null,{"$f":"IF(OR(H60=\"NIT\",H60=\"Fideicomiso/Fondo\",H60=\"PJ No Residente\",H60=\"\"),\"\",\"Primer Apellido\")","v":""},null,null,null,null,null,null,{"$f":"IF(OR(H60=\"NIT\",H60=\"Fideicomiso/Fondo\",H60=\"PJ No Residente\",H60=\"\"),\"\",\"Segundo Apellido\")","v":""},null,null,null,null,null,null,null,null,null,""]
[null,null,null,null,null,null,null,null,null,null,null,null,null,null,null,null,null,null,null,null,null,null,null,null,null,null,null,null,null,null,null,null,null,""]
[null,{"$f":"IF(OR(H58=\"Socio o Accionista\",H58=\"Fideicomitente\",H58=\"Inversionista\"),\"Participación en %\",IF(H58=\"\",\"\",\"\"))","v":""},null,null,null,null,null,{"$f":"IF(H60<>\"\",\"¿Es Persona Expuesta Politicamente?\",\"\")","v":""},null,null,null,null,null,null,null,null,null,{"$f":"IF(OR(H60=\"NIT\",H60=\"Fideicomiso/Fondo\",H60=\"PJ No Residente\"),\"¿Emite acciones al portador?\",IF(H60=\"\",\"\",\"\"))","v":""},null,null,null,null,null,null,null,{"$f":"IF(OR(H60=\"NIT\",H60=\"Fideicomiso/Fondo\",H60=\"PJ No Residente\"),\"\",IF(H60=\"\",\"\",\"Género\"))","v":""},null,null,null,null,null,null,null,""]
[null,{"$f":"IF(OR(H59=\"Socio o Accionista\",H59=\"Fideicomitente\",H59=\"Inversionista\",H59=\"Beneficiario de Activos/Rendimientos/Utilidades\"),\"Participación en %\",IF(H59=\"\",\"\",\"\"))","v":""},null,null,null,null,null,null,null,null,null,null,null,null,null,null,null,null,null,null,null,null,null,null,null,null,null,null,null,null,null,null,null,""]
[null,{"$f":"IF(OR(H60=\"NIT\",H60=\"Fideicomiso/Fondo\",H60=\"PJ No Residente\"),\"\",IF(H60=\"\",\"\",\"Fecha de Nacimiento\"))","v":""},null,null,null,null,null,null,null,null,null,{"$f":"IF(OR(H60=\"NIT\",H60=\"Fideicomiso/Fondo\",H60=\"PJ No Residente\"),\"\",IF(H60=\"\",\"\",\"País de nacimiento\"))","v":""},null,null,null,null,null,null,null,null,null,{"$f":"IF(OR(H60=\"NIT\",H60=\"Fideicomiso/Fondo\",H60=\"PJ No Residente\"),\"\",IF(H60=\"\",\"\",\"Nacionalidad\"))","v":""},null,null,null,null,null,null,null,null,null,null,null,""]
[null,null,null,null,null,null,null,null,null,null,null,null,null,null,null,null,null,null,null,null,null,null,null,null,null,null,null,null,null,null,null,null,null,""]
[null,{"$f":"IF(H60<>\"\",\"Pais de Residencia\",\"\")","v":""},null,null,null,null,null,null,null,null,null,{"$f":"IF(H60<>\"\",\"Departamento de Residencia\",\"\")","v":""},null,null,null,null,null,null,null,null,null,{"$f":"IF(H60<>\"\",\"Ciudad de Residencia\",\"\")","v":""},null,null,null,null,null,null,null,null,null,null,null,""]
[null,null,null,null,null,null,null,null,null,null,null,null,null,null,null,null,null,null,null,null,null,null,null,null,null,null,null,null,null,null,null,null,null,""]
[null,{"$f":"IF(H60<>\"\",\"Dirección de residencia\",\"\")","v":""},null,null,null,null,null,null,null,null,null,null,null,null,null,null,{"$f":"IF(H60<>\"\",\"Correo electrónico\",\"\")","v":""},null,null,null,null,null,null,null,null,null,null,null,null,null,null,null,null,""]
[null,null,null,null,null,null,null,null,null,null,null,null,null,null,null,null,null,null,null,null,null,null,null,null,null,null,null,null,null,null,null,null,null,""]
[null,null,null,null,null,null,null,null,null,null,null,null,null,null,null,null,null,null,null,null,null,null,null,null,null,null,null,null,null,null,null,null,null,""]
[null,{"$f":"IF(OR(H58=\"Socio o Accionista\"),\"Tipo de Participación\",IF(H58=\"\",\"\",\"\"))","v":""},null,null,null,null,null,null,null,{"$f":"IF(B77=\"Conjunta\",\"Tipo de Documento\",IF(B77=\"\",\"\",\"\"))","v":""},null,null,null,null,null,null,{"$f":"IF(B77=\"Conjunta\",\"N° de Documento\",IF(B77=\"\",\"\",\"\"))","v":""},null,null,null,null,null,null,{"$f":"IF(B77=\"Conjunta\",\"Parentesco\",IF(B77=\"\",\"\",\"\"))","v":""},null,null,null,null,null,null,null,null,null,""]
[null,null,null,null,null,null,null,null,null,null,null,null,null,null,null,null,null,null,null,null,null,null,null,null,null,null,null,null,null,null,null,null,null,""]
[null,null,null,null,null,null,null,null,null,null,null,null,null,null,null,null,null,null,null,null,null,null,null,null,null,null,null,null,null,null,null,null,null,""]
[null,{"$f":"IF(OR(H58=\"Socio o Accionista\"),\"Tipo de Participación\",IF(H61=\"\",\"\",\"\"))","v":""},null,null,null,null,null,null,null,{"$f":"IF(B80=\"Conjunta\",\"Tipo de Documento\",IF(B80=\"\",\"\",\"\"))","v":""},null,null,null,null,null,null,{"$f":"IF(B80=\"Conjunta\",\"N° de Documento\",IF(B80=\"\",\"\",\"\"))","v":""},null,null,null,null,null,null,{"$f":"IF(B80=\"Conjunta\",\"Parentesco\",IF(B80=\"\",\"\",\"\"))","v":""},null,null,null,null,null,null,null,null,null,""]
[null,null,null,null,null,null,null,null,null,null,null,null,null,null,null,null,null,null,null,null,null,null,null,null,null,null,null,null,null,null,null,null,null,""]
[null,null,null,null,null,null,null,null,null,null,null,null,null,null,null,null,null,null,null,null,null,null,null,null,null,null,null,null,null,null,null,null,null,""]
[null,{"$f":"IF(OR(H58=\"Socio o Accionista\"),\"Tipo de Participación\",IF(H64=\"\",\"\",\"\"))","v":""},null,null,null,null,null,null,null,{"$f":"IF(B83=\"Conjunta\",\"Tipo de Documento\",IF(B83=\"\",\"\",\"\"))","v":""},null,null,null,null,null,null,{"$f":"IF(B83=\"Conjunta\",\"N° de Documento\",IF(B83=\"\",\"\",\"\"))","v":""},null,null,null,null,null,null,{"$f":"IF(B83=\"Conjunta\",\"Parentesco\",IF(B83=\"\",\"\",\"\"))","v":""},null,null,null,null,null,null,null,null,null,""]
[null,null,null,null,null,null,null,null,null,null,null,null,null,null,null,null,null,null,null,null,null,null,null,null,null,null,null,null,null,null,null,null,null,""]
[null,null,null,null,null,null,null,null,null,null,null,null,null,null,null,null,null,null,null,null,null,null,null,null,null,null,null,null,null,null,null,null,null,""]
[null,{"$f":"IF(H60<>\"\",\"País de Expedición del NIT\",\"\")","v":""},null,null,null,null,null,null,null,null,null,null,null,null,null,null,{"$f":"IF(H60<>\"\",\"N° de Identificación Tributario\",\"\")","v":""},null,null,null,null,null,null,null,null,null,null,null,null,null,null,null,null,""]
[null,{"$f":"IF(H60<>\"\",\"1 -\",\"\")","v":""},null,null,null,null,null,null,null,null,null,null,null,null,null,null,{"$f":"IF(H60<>\"\",\"1 -\",\"\")","v":""},null,null,null,null,null,null,null,null,null,null,null,null,null,null,null,null,""]
[null,{"$f":"IF(H60<>\"\",\"2 -\",\"\")","v":""},null,null,null,null,null,null,null,null,null,null,null,null,null,null,{"$f":"IF(H60<>\"\",\"2 -\",\"\")","v":""},null,null,null,null,null,null,null,null,null,null,null,null,null,null,null,null,""]
[null,null,null,null,null,null,null,null,null,null,null,null,null,null,null,null,null,null,null,null,null,null,null,null,null,null,null,null,null,null,null,null,null,""]
["N1","Tipo de Relación",null,null,null,null,null,null,null,null,null,null,null,null,null,null,null,null,null,null,null,null,null,null,null,null,null,null,null,null,null,null,null,""]
[null,null,null,null,null,null,null,null,null,null,null,null,null,null,null,null,null,null,null,null,null,null,null,null,null,null,null,null,null,null,null,null,null,""]
[null,"Tipo de Documento",null,null,null,null,null,null,null,null,null,null,null,null,null,null,null,null,null,null,null,null,null,null,null,null,null,null,null,null,null,null,null,""]
[3,{"$f":"IF(H91<>\"\",\"N° de Documento\",\"\")","v":""},null,null,null,null,null,null,null,null,null,{"$f":"IF(H91<>\"\",\"Fecha de Expedición\",\"\")","v":""},null,null,null,null,null,null,null,null,null,{"$f":"IF(H91<>\"\",\"País de Expedición\",\"\")","v":""},null,null,null,null,null,null,null,null,null,null,null,""]
[null,null,null,null,null,null,null,null,null,null,null,null,null,null,null,null,null,null,null,null,null,null,null,null,null,null,null,null,null,null,null,null,null,""]
[null,{"$f":"IF(OR(H91=\"NIT\",H91=\"Fideicomiso/Fondo\",H91=\"PJ No Residente\"),\"Razón Social\",\"\")","v":""},null,null,null,null,null,null,null,null,null,null,null,null,null,null,null,null,null,null,null,null,null,null,null,null,null,null,null,null,null,null,null,""]
[null,null,null,null,null,null,null,null,null,null,null,null,null,null,null,null,null,null,null,null,null,null,null,null,null,null,null,null,null,null,null,null,null,""]
[null,{"$f":"IF(OR(H91=\"NIT\",H91=\"Fideicomiso/Fondo\",H91=\"PJ No Residente\",H91=\"\"),\"\",\"Primer Nombre\")","v":""},null,null,null,null,null,null,null,{"$f":"IF(OR(H91=\"NIT\",H91=\"Fideicomiso/Fondo\",H91=\"PJ No Residente\",H91=\"\"),\"\",\"Segundo Nombre\")","v":""},null,null,null,null,null,null,{"$f":"IF(OR(H91=\"NIT\",H91=\"Fideicomiso/Fondo\",H91=\"PJ No Residente\",H91=\"\"),\"\",\"Primer Apellido\")","v":""},null,null,null,null,null,null,{"$f":"IF(OR(H91=\"NIT\",H91=\"Fideicomiso/Fondo\",H91=\"PJ No Residente\",H91=\"\"),\"\",\"Segundo Apellido\")","v":""},null,null,null,null,null,null,null,null,null,""]
[null,"Sebastian",null,null,null,null,null,null,null,null,null,null,null,null,null,null,null,null,null,null,null,null,null,null,null,null,null,null,null,null,null,null,null,""]
[null,{"$f":"IF(OR(H89=\"Socio o Accionista\",H89=\"Fideicomitente\",H89=\"Inversionista\",H89=\"Beneficiario de Activos/Rendimientos/Utilidades\"),\"Participación en %\",IF(H89=\"\",\"\",\"\"))","v":""},null,null,null,null,null,{"$f":"IF(H91<>\"\",\"¿Es Persona Expuesta Politicamente?\",\"\")","v":""},null,null,null,null,null,null,null,null,null,{"$f":"IF(OR(H91=\"NIT\",H91=\"Fideicomiso/Fondo\",H91=\"PJ No Residente\"),\"¿Emite acciones al portador?\",IF(H91=\"\",\"\",\"\"))","v":""},null,null,null,null,null,null,null,{"$f":"IF(OR(H91=\"NIT\",H91=\"Fideicomiso/Fondo\",H91=\"PJ No Residente\"),\"\",IF(H91=\"\",\"\",\"Género\"))","v":""},null,null,null,null,null,null,null,""]
[null,null,null,null,null,null,null,null,null,null,null,null,null,null,null,null,null,null,null,null,null,null,null,null,null,null,null,null,null,null,null,null,null,""]
[null,{"$f":"IF(OR(H91=\"NIT\",H91=\"Fideicomiso/Fondo\",H91=\"PJ No Residente\"),\"\",IF(H91=\"\",\"\",\"Fecha de Nacimiento\"))","v":""},null,null,null,null,null,null,null,null,null,{"$f":"IF(OR(H91=\"NIT\",H91=\"Fideicomiso/Fondo\",H91=\"PJ No Residente\"),\"\",IF(H91=\"\",\"\",\"País de nacimiento\"))","v":""},null,null,null,null,null,null,null,null,null,{"$f":"IF(OR(H91=\"NIT\",H91=\"Fideicomiso/Fondo\",H91=\"PJ No Residente\"),\"\",IF(H91=\"\",\"\",\"Nacionalidad\"))","v":""},null,null,null,null,null,null,null,null,null,null,null,""]
[null,null,null,null,null,null,null,null,null,null,null,null,null,null,null,null,null,null,null,null,null,null,null,null,null,null,null,null,null,null,null,null,null,""]
[null,{"$f":"IF(H91<>\"\",\"Pais de Residencia\",\"\")","v":""},null,null,null,null,null,null,null,null,null,{"$f":"IF(H91<>\"\",\"Departamento de Residencia\",\"\")","v":""},null,null,null,null,null,null,null,null,null,{"$f":"IF(H91<>\"\",\"Ciudad de Residencia\",\"\")","v":""},null,null,null,null,null,null,null,null,null,null,null,""]
[null,null,null,null,null,null,null,null,null,null,null,null,null,null,null,null,null,null,null,null,null,null,null,null,null,null,null,null,null,null,null,null,null,""]
[null,{"$f":"IF(H91<>\"\",\"Dirección de residencia\",\"\")","v":""},null,null,null,null,null,null,null,null,null,null,null,null,null,null,{"$f":"IF(H91<>\"\",\"Correo electrónico\",\"\")","v":""},null,null,null,null,null,null,null,null,null,null,null,null,null,null,null,null,""]
[null,null,null,null,null,null,null,null,null,null,null,null,null,null,null,null,null,null,null,null,null,null,null,null,null,null,null,null,null,null,null,null,null,""]
[null,null,null,null,null,null,null,null,null,null,null,null,null,null,null,null,null,null,null,null,null,null,null,null,null,null,null,null,null,null,null,null,null,""]
[null,{"$f":"IF(OR(H89=\"Socio o Accionista\"),\"Tipo de Participación\",IF(H89=\"\",\"\",\"\"))","v":""},null,null,null,null,null,null,null,{"$f":"IF(B108=\"Conjunta\",\"Tipo de Documento\",IF(B108=\"\",\"\",\"\"))","v":""},null,null,null,null,null,null,{"$f":"IF(B108=\"Conjunta\",\"N° de Documento\",IF(B108=\"\",\"\",\"\"))","v":""},null,null,null,null,null,null,{"$f":"IF(B108=\"Conjunta\",\"Parentesco\",IF(B108=\"\",\"\",\"\"))","v":""},null,null,null,null,null,null,null,null,null,""]
[null,null,null,null,null,null,null,null,null,null,null,null,null,null,null,null,null,null,null,null,null,null,null,null,null,null,null,null,null,null,null,null,null,""]
[null,null,null,null,null,null,null,null,null,null,null,null,null,null,null,null,null,null,null,null,null,null,null,null,null,null,null,null,null,null,null,null,null,""]
[null,{"$f":"IF(OR(H89=\"Socio o Accionista\"),\"Tipo de Participación\",IF(H92=\"\",\"\",\"\"))","v":""},null,null,null,null,null,null,null,{"$f":"IF(B111=\"Conjunta\",\"Tipo de Documento\",IF(B111=\"\",\"\",\"\"))","v":""},null,null,null,null,null,null,{"$f":"IF(B111=\"Conjunta\",\"N° de Documento\",IF(B111=\"\",\"\",\"\"))","v":""},null,null,null,null,null,null,{"$f":"IF(B111=\"Conjunta\",\"Parentesco\",IF(B111=\"\",\"\",\"\"))","v":""},null,null,null,null,null,null,null,null,null,""]
[null,null,null,null,null,null,null,null,null,null,null,null,null,null,null,null,null,null,null,null,null,null,null,null,null,null,null,null,null,null,null,null,null,""]
[null,null,null,null,null,null,null,null,null,null,null,null,null,null,null,null,null,null,null,null,null,null,null,null,null,null,null,null,null,null,null,null,null,""]
[null,{"$f":"IF(OR(H89=\"Socio o Accionista\"),\"Tipo de Participación\",IF(H95=\"\",\"\",\"\"))","v":""},null,null,null,null,null,null,null,{"$f":"IF(B114=\"Conjunta\",\"Tipo de Documento\",IF(B114=\"\",\"\",\"\"))","v":""},null,null,null,null,null,null,{"$f":"IF(B114=\"Conjunta\",\"N° de Documento\",IF(B114=\"\",\"\",\"\"))","v":""},null,null,null,null,null,null,{"$f":"IF(B114=\"Conjunta\",\"Parentesco\",IF(B114=\"\",\"\",\"\"))","v":""},null,null,null,null,null,null,null,null,null,""]
[null,null,null,null,null,null,null,null,null,null,null,null,null,null,null,null,null,null,null,null,null,null,null,null,null,null,null,null,null,null,null,null,null,""]
[null,null,null,null,null,null,null,null,null,null,null,null,null,null,null,null,null,null,null,null,null,null,null,null,null,null,null,null,null,null,null,null,null,""]
[null,{"$f":"IF(H91<>\"\",\"País de Expedición del NIT\",\"\")","v":""},null,null,null,null,null,null,null,null,null,null,null,null,null,null,{"$f":"IF(H91<>\"\",\"N° de Identificación Tributario\",\"\")","v":""},null,null,null,null,null,null,null,null,null,null,null,null,null,null,null,null,""]
[null,{"$f":"IF(H91<>\"\",\"1 -\",\"\")","v":""},null,null,null,null,null,null,null,null,null,null,null,null,null,null,{"$f":"IF(H91<>\"\",\"1 -\",\"\")","v":""},null,null,null,null,null,null,null,null,null,null,null,null,null,null,null,null,""]
[null,{"$f":"IF(H91<>\"\",\"2 -\",\"\")","v":""},null,null,null,null,null,null,null,null,null,null,null,null,null,null,{"$f":"IF(H91<>\"\",\"2 -\",\"\")","v":""},null,null,null,null,null,null,null,null,null,null,null,null,null,null,null,null,""]
[null,null,null,null,null,null,null,null,null,null,null,null,null,null,null,null,null,null,null,null,null,null,null,null,null,null,null,null,null,null,null,null,null,""]
["N1","Tipo de Relación",null,null,null,null,null,null,null,null,null,null,null,null,null,null,null,null,null,null,null,null,null,null,null,null,null,null,null,null,null,null,null,{"$f":"IF($H$120=\"\",\"\",1)","v":""}]
[null,null,null,null,null,null,null,null,null,null,null,null,null,null,null,null,null,null,null,null,null,null,null,null,null,null,null,null,null,null,null,null,null,{"$f":"IF($H$120=\"\",\"\",1)","v":""}]
[null,"Tipo de Documento",null,null,null,null,null,null,null,null,null,null,null,null,null,null,null,null,null,null,null,null,null,null,null,null,null,null,null,null,null,null,null,""]
[4,{"$f":"IF(H122<>\"\",\"N° de Documento\",\"\")","v":""},null,null,null,null,null,null,null,null,null,{"$f":"IF(H122<>\"\",\"Fecha de Expedición\",\"\")","v":""},null,null,null,null,null,null,null,null,null,{"$f":"IF(H122<>\"\",\"País de Expedición\",\"\")","v":""},null,null,null,null,null,null,null,null,null,null,null,""]
[null,null,null,null,null,null,null,null,null,null,null,null,null,null,null,null,null,null,null,null,null,null,null,null,null,null,null,null,null,null,null,null,null,""]
[null,{"$f":"IF(OR(H122=\"NIT\",H122=\"Fideicomiso/Fondo\",H122=\"PJ No Residente\"),\"Razón Social\",\"\")","v":""},null,null,null,null,null,null,null,null,null,null,null,null,null,null,null,null,null,null,null,null,null,null,null,null,null,null,null,null,null,null,null,""]
[null,null,null,null,null,null,null,null,null,null,null,null,null,null,null,null,null,null,null,null,null,null,null,null,null,null,null,null,null,null,null,null,null,""]
[null,{"$f":"IF(OR(H122=\"NIT\",H122=\"Fideicomiso/Fondo\",H122=\"PJ No Residente\",H122=\"\"),\"\",\"Primer Nombre\")","v":""},null,null,null,null,null,null,null,{"$f":"IF(OR(H122=\"NIT\",H122=\"Fideicomiso/Fondo\",H122=\"PJ No Residente\",H122=\"\"),\"\",\"Segundo Nombre\")","v":""},null,null,null,null,null,null,{"$f":"IF(OR(H122=\"NIT\",H122=\"Fideicomiso/Fondo\",H122=\"PJ No Residente\",H122=\"\"),\"\",\"Primer Apellido\")","v":""},null,null,null,null,null,null,{"$f":"IF(OR(H122=\"NIT\",H122=\"Fideicomiso/Fondo\",H122=\"PJ No Residente\",H122=\"\"),\"\",\"Segundo Apellido\")","v":""},null,null,null,null,null,null,null,null,null,""]
[null,null,null,null,null,null,null,null,null,null,null,null,null,null,null,null,null,null,null,null,null,null,null,null,null,null,null,null,null,null,null,null,null,""]
[null,{"$f":"IF(OR(H120=\"Socio o Accionista\",H120=\"Fideicomitente\",H120=\"Inversionista\",H120=\"Beneficiario de Activos/Rendimientos/Utilidades\"),\"Participación en %\",IF(H120=\"\",\"\",\"\"))","v":""},null,null,null,null,null,{"$f":"IF(H122<>\"\",\"¿Es Persona Expuesta Politicamente?\",\"\")","v":""},null,null,null,null,null,null,null,null,null,{"$f":"IF(OR(H122=\"NIT\",H122=\"Fideicomiso/Fondo\",H122=\"PJ No Residente\"),\"¿Emite acciones al portador?\",IF(H122=\"\",\"\",\"\"))","v":""},null,null,null,null,null,null,null,{"$f":"IF(OR(H122=\"NIT\",H122=\"Fideicomiso/Fondo\",H122=\"PJ No Residente\"),\"\",IF(H122=\"\",\"\",\"Género\"))","v":""},null,null,null,null,null,null,null,""]
[null,null,null,null,null,null,null,null,null,null,null,null,null,null,null,null,null,null,null,null,null,null,null,null,null,null,null,null,null,null,null,null,null,""]
[null,{"$f":"IF(OR(H122=\"NIT\",H122=\"Fideicomiso/Fondo\",H122=\"PJ No Residente\"),\"\",IF(H122=\"\",\"\",\"Fecha de Nacimiento\"))","v":""},null,null,null,null,null,null,null,null,null,{"$f":"IF(OR(H122=\"NIT\",H122=\"Fideicomiso/Fondo\",H122=\"PJ No Residente\"),\"\",IF(H122=\"\",\"\",\"País de nacimiento\"))","v":""},null,null,null,null,null,null,null,null,null,{"$f":"IF(OR(H122=\"NIT\",H122=\"Fideicomiso/Fondo\",H122=\"PJ No Residente\"),\"\",IF(H122=\"\",\"\",\"Nacionalidad\"))","v":""},null,null,null,null,null,null,null,null,null,null,null,""]
[null,null,null,null,null,null,null,null,null,null,null,null,null,null,null,null,null,null,null,null,null,null,null,null,null,null,null,null,null,null,null,null,null,""]
[null,{"$f":"IF(H122<>\"\",\"Pais de Residencia\",\"\")","v":""},null,null,null,null,null,null,null,null,null,{"$f":"IF(H122<>\"\",\"Departamento de Residencia\",\"\")","v":""},null,null,null,null,null,null,null,null,null,{"$f":"IF(H122<>\"\",\"Ciudad de Residencia\",\"\")","v":""},null,null,null,null,null,null,null,null,null,null,null,""]
[null,null,null,null,null,null,null,null,null,null,null,null,null,null,null,null,null,null,null,null,null,null,null,null,null,null,null,null,null,null,null,null,null,""]
[null,{"$f":"IF(H122<>\"\",\"Dirección de residencia\",\"\")","v":""},null,null,null,null,null,null,null,null,null,null,null,null,null,null,{"$f":"IF(H122<>\"\",\"Correo electrónico\",\"\")","v":""},null,null,null,null,null,null,null,null,null,null,null,null,null,null,null,null,""]
[null,null,null,null,null,null,null,null,null,null,null,null,null,null,null,null,null,null,null,null,null,null,null,null,null,null,null,null,null,null,null,null,null,""]
[null,null,null,null,null,null,null,null,null,null,null,null,null,null,null,null,null,null,null,null,null,null,null,null,null,null,null,null,null,null,null,null,null,""]
[null,{"$f":"IF(OR(H120=\"Socio o Accionista\"),\"Tipo de Participación\",IF(H120=\"\",\"\",\"\"))","v":""},null,null,null,null,null,null,null,{"$f":"IF(B139=\"Conjunta\",\"Tipo de Documento\",IF(B139=\"\",\"\",\"\"))","v":""},null,null,null,null,null,null,{"$f":"IF(B139=\"Conjunta\",\"N° de Documento\",IF(B139=\"\",\"\",\"\"))","v":""},null,null,null,null,null,null,{"$f":"IF(B139=\"Conjunta\",\"Parentesco\",IF(B139=\"\",\"\",\"\"))","v":""},null,null,null,null,null,null,null,null,null,""]
[null,null,null,null,null,null,null,null,null,null,null,null,null,null,null,null,null,null,null,null,null,null,null,null,null,null,null,null,null,null,null,null,null,""]
[null,null,null,null,null,null,null,null,null,null,null,null,null,null,null,null,null,null,null,null,null,null,null,null,null,null,null,null,null,null,null,null,null,""]
[null,{"$f":"IF(OR(H120=\"Socio o Accionista\"),\"Tipo de Participación\",IF(H123=\"\",\"\",\"\"))","v":""},null,null,null,null,null,null,null,{"$f":"IF(B142=\"Conjunta\",\"Tipo de Documento\",IF(B142=\"\",\"\",\"\"))","v":""},null,null,null,null,null,null,{"$f":"IF(B142=\"Conjunta\",\"N° de Documento\",IF(B142=\"\",\"\",\"\"))","v":""},null,null,null,null,null,null,{"$f":"IF(B142=\"Conjunta\",\"Parentesco\",IF(B142=\"\",\"\",\"\"))","v":""},null,null,null,null,null,null,null,null,null,""]
[null,null,null,null,null,null,null,null,null,null,null,null,null,null,null,null,null,null,null,null,null,null,null,null,null,null,null,null,null,null,null,null,null,""]
[null,null,null,null,null,null,null,null,null,null,null,null,null,null,null,null,null,null,null,null,null,null,null,null,null,null,null,null,null,null,null,null,null,""]
[null,{"$f":"IF(OR(H120=\"Socio o Accionista\"),\"Tipo de Participación\",IF(H126=\"\",\"\",\"\"))","v":""},null,null,null,null,null,null,null,{"$f":"IF(B145=\"Conjunta\",\"Tipo de Documento\",IF(B145=\"\",\"\",\"\"))","v":""},null,null,null,null,null,null,{"$f":"IF(B145=\"Conjunta\",\"N° de Documento\",IF(B145=\"\",\"\",\"\"))","v":""},null,null,null,null,null,null,{"$f":"IF(B145=\"Conjunta\",\"Parentesco\",IF(B145=\"\",\"\",\"\"))","v":""},null,null,null,null,null,null,null,null,null,""]
[null,null,null,null,null,null,null,null,null,null,null,null,null,null,null,null,null,null,null,null,null,null,null,null,null,null,null,null,null,null,null,null,null,""]
[null,null,null,null,null,null,null,null,null,null,null,null,null,null,null,null,null,null,null,null,null,null,null,null,null,null,null,null,null,null,null,null,null,""]
[null,{"$f":"IF(H122<>\"\",\"País de Expedición del NIT\",\"\")","v":""},null,null,null,null,null,null,null,null,null,null,null,null,null,null,{"$f":"IF(H122<>\"\",\"N° de Identificación Tributario\",\"\")","v":""},null,null,null,null,null,null,null,null,null,null,null,null,null,null,null,null,""]
[null,{"$f":"IF(H122<>\"\",\"1 -\",\"\")","v":""},null,null,null,null,null,null,null,null,null,null,null,null,null,null,{"$f":"IF(H122<>\"\",\"1 -\",\"\")","v":""},null,null,null,null,null,null,null,null,null,null,null,null,null,null,null,null,""]
[null,{"$f":"IF(H122<>\"\",\"2 -\",\"\")","v":""},null,null,null,null,null,null,null,null,null,null,null,null,null,null,{"$f":"IF(H122<>\"\",\"2 -\",\"\")","v":""},null,null,null,null,null,null,null,null,null,null,null,null,null,null,null,null,""]
[null,null,null,null,null,null,null,null,null,null,null,null,null,null,null,null,null,null,null,null,null,null,null,null,null,null,null,null,null,null,null,null,null,""]
["N1","Tipo de Relación",null,null,null,null,null,null,null,null,null,null,null,null,null,null,null,null,null,null,null,null,null,null,null,null,null,null,null,null,null,null,null,""]
[null,null,null,null,null,null,null,null,null,null,null,null,null,null,null,null,null,null,null,null,null,null,null,null,null,null,null,null,null,null,null,null,null,""]
[null,"Tipo de Documento",null,null,null,null,null,null,null,null,null,null,null,null,null,null,null,null,null,null,null,null,null,null,null,null,null,null,null,null,null,null,null,""]
[5,{"$f":"IF(H153<>\"\",\"N° de Documento\",\"\")","v":""},null,null,null,null,null,null,null,null,null,{"$f":"IF(H153<>\"\",\"Fecha de Expedición\",\"\")","v":""},null,null,null,null,null,null,null,null,null,{"$f":"IF(H153<>\"\",\"País de Expedición\",\"\")","v":""},null,null,null,null,null,null,null,null,null,null,null,""]
[null,null,null,null,null,null,null,null,null,null,null,null,null,null,null,null,null,null,null,null,null,null,null,null,null,null,null,null,null,null,null,null,null,""]
[null,{"$f":"IF(OR(H153=\"NIT\",H153=\"Fideicomiso/Fondo\",H153=\"PJ No Residente\"),\"Razón Social\",\"\")","v":""},null,null,null,null,null,null,null,null,null,null,null,null,null,null,null,null,null,null,null,null,null,null,null,null,null,null,null,null,null,null,null,""]
[null,null,null,null,null,null,null,null,null,null,null,null,null,null,null,null,null,null,null,null,null,null,null,null,null,null,null,null,null,null,null,null,null,""]
[null,{"$f":"IF(OR(H153=\"NIT\",H153=\"Fideicomiso/Fondo\",H153=\"PJ No Residente\",H153=\"\"),\"\",\"Primer Nombre\")","v":""},null,null,null,null,null,null,null,{"$f":"IF(OR(H153=\"NIT\",H153=\"Fideicomiso/Fondo\",H153=\"PJ No Residente\",H153=\"\"),\"\",\"Segundo Nombre\")","v":""},null,null,null,null,null,null,{"$f":"IF(OR(H153=\"NIT\",H153=\"Fideicomiso/Fondo\",H153=\"PJ No Residente\",H153=\"\"),\"\",\"Primer Apellido\")","v":""},null,null,null,null,null,null,{"$f":"IF(OR(H153=\"NIT\",H153=\"Fideicomiso/Fondo\",H153=\"PJ No Residente\",H153=\"\"),\"\",\"Segundo Apellido\")","v":""},null,null,null,null,null,null,null,null,null,""]
[null,null,null,null,null,null,null,null,null,null,null,null,null,null,null,null,null,null,null,null,null,null,null,null,null,null,null,null,null,null,null,null,null,""]
[null,{"$f":"IF(OR(H151=\"Socio o Accionista\",H151=\"Fideicomitente\",H151=\"Inversionista\",H151=\"Beneficiario de Activos/Rendimientos/Utilidades\"),\"Participación en %\",IF(H151=\"\",\"\",\"\"))","v":""},null,null,null,null,null,{"$f":"IF(H153<>\"\",\"¿Es Persona Expuesta Politicamente?\",\"\")","v":""},null,null,null,null,null,null,null,null,null,{"$f":"IF(OR(H153=\"NIT\",H153=\"Fideicomiso/Fondo\",H153=\"PJ No Residente\"),\"¿Emite acciones al portador?\",IF(H153=\"\",\"\",\"\"))","v":""},null,null,null,null,null,null,null,{"$f":"IF(OR(H153=\"NIT\",H153=\"Fideicomiso/Fondo\",H153=\"PJ No Residente\"),\"\",IF(H153=\"\",\"\",\"Género\"))","v":""},null,null,null,null,null,null,null,""]
[null,null,null,null,null,null,null,null,null,null,null,null,null,null,null,null,null,null,null,null,null,null,null,null,null,null,null,null,null,null,null,null,null,""]
[null,{"$f":"IF(OR(H153=\"NIT\",H153=\"Fideicomiso/Fondo\",H153=\"PJ No Residente\"),\"\",IF(H153=\"\",\"\",\"Fecha de Nacimiento\"))","v":""},null,null,null,null,null,null,null,null,null,{"$f":"IF(OR(H153=\"NIT\",H153=\"Fideicomiso/Fondo\",H153=\"PJ No Residente\"),\"\",IF(H153=\"\",\"\",\"País de nacimiento\"))","v":""},null,null,null,null,null,null,null,null,null,{"$f":"IF(OR(H153=\"NIT\",H153=\"Fideicomiso/Fondo\",H153=\"PJ No Residente\"),\"\",IF(H153=\"\",\"\",\"Nacionalidad\"))","v":""},null,null,null,null,null,null,null,null,null,null,null,""]
[null,null,null,null,null,null,null,null,null,null,null,null,null,null,null,null,null,null,null,null,null,null,null,null,null,null,null,null,null,null,null,null,null,""]
[null,{"$f":"IF(H153<>\"\",\"Pais de Residencia\",\"\")","v":""},null,null,null,null,null,null,null,null,null,{"$f":"IF(H153<>\"\",\"Departamento de Residencia\",\"\")","v":""},null,null,null,null,null,null,null,null,null,{"$f":"IF(H153<>\"\",\"Ciudad de Residencia\",\"\")","v":""},null,null,null,null,null,null,null,null,null,null,null,""]
[null,null,null,null,null,null,null,null,null,null,null,null,null,null,null,null,null,null,null,null,null,null,null,null,null,null,null,null,null,null,null,null,null,""]
[null,{"$f":"IF(H153<>\"\",\"Dirección de residencia\",\"\")","v":""},null,null,null,null,null,null,null,null,null,null,null,null,null,null,{"$f":"IF(H153<>\"\",\"Correo electrónico\",\"\")","v":""},null,null,null,null,null,null,null,null,null,null,null,null,null,null,null,null,""]
[null,null,null,null,null,null,null,null,null,null,null,null,null,null,null,null,null,null,null,null,null,null,null,null,null,null,null,null,null,null,null,null,null,""]
[null,null,null,null,null,null,null,null,null,null,null,null,null,null,null,null,null,null,null,null,null,null,null,null,null,null,null,null,null,null,null,null,null,""]
[null,{"$f":"IF(OR(H151=\"Socio o Accionista\"),\"Tipo de Participación\",IF(H151=\"\",\"\",\"\"))","v":""},null,null,null,null,null,null,null,{"$f":"IF(B170=\"Conjunta\",\"Tipo de Documento\",IF(B170=\"\",\"\",\"\"))","v":""},null,null,null,null,null,null,{"$f":"IF(B170=\"Conjunta\",\"N° de Documento\",IF(B170=\"\",\"\",\"\"))","v":""},null,null,null,null,null,null,{"$f":"IF(B170=\"Conjunta\",\"Parentesco\",IF(B170=\"\",\"\",\"\"))","v":""},null,null,null,null,null,null,null,null,null,""]
[null,null,null,null,null,null,null,null,null,null,null,null,null,null,null,null,null,null,null,null,null,null,null,null,null,null,null,null,null,null,null,null,null,""]
[null,null,null,null,null,null,null,null,null,null,null,null,null,null,null,null,null,null,null,null,null,null,null,null,null,null,null,null,null,null,null,null,null,""]
[null,{"$f":"IF(OR(H151=\"Socio o Accionista\"),\"Tipo de Participación\",IF(H154=\"\",\"\",\"\"))","v":""},null,null,null,null,null,null,null,{"$f":"IF(B173=\"Conjunta\",\"Tipo de Documento\",IF(B173=\"\",\"\",\"\"))","v":""},null,null,null,null,null,null,{"$f":"IF(B173=\"Conjunta\",\"N° de Documento\",IF(B173=\"\",\"\",\"\"))","v":""},null,null,null,null,null,null,{"$f":"IF(B173=\"Conjunta\",\"Parentesco\",IF(B173=\"\",\"\",\"\"))","v":""},null,null,null,null,null,null,null,null,null,""]
[null,null,null,null,null,null,null,null,null,null,null,null,null,null,null,null,null,null,null,null,null,null,null,null,null,null,null,null,null,null,null,null,null,""]
[null,null,null,null,null,null,null,null,null,null,null,null,null,null,null,null,null,null,null,null,null,null,null,null,null,null,null,null,null,null,null,null,null,""]
[null,{"$f":"IF(OR(H151=\"Socio o Accionista\"),\"Tipo de Participación\",IF(H157=\"\",\"\",\"\"))","v":""},null,null,null,null,null,null,null,{"$f":"IF(B176=\"Conjunta\",\"Tipo de Documento\",IF(B176=\"\",\"\",\"\"))","v":""},null,null,null,null,null,null,{"$f":"IF(B176=\"Conjunta\",\"N° de Documento\",IF(B176=\"\",\"\",\"\"))","v":""},null,null,null,null,null,null,{"$f":"IF(B176=\"Conjunta\",\"Parentesco\",IF(B176=\"\",\"\",\"\"))","v":""},null,null,null,null,null,null,null,null,null,""]
[null,null,null,null,null,null,null,null,null,null,null,null,null,null,null,null,null,null,null,null,null,null,null,null,null,null,null,null,null,null,null,null,null,""]
[null,null,null,null,null,null,null,null,null,null,null,null,null,null,null,null,null,null,null,null,null,null,null,null,null,null,null,null,null,null,null,null,null,""]
[null,{"$f":"IF(H153<>\"\",\"País de Expedición del NIT\",\"\")","v":""},null,null,null,null,null,null,null,null,null,null,null,null,null,null,{"$f":"IF(H153<>\"\",\"N° de Identificación Tributario\",\"\")","v":""},null,null,null,null,null,null,null,null,null,null,null,null,null,null,null,null,""]
[null,{"$f":"IF(H153<>\"\",\"1 -\",\"\")","v":""},null,null,null,null,null,null,null,null,null,null,null,null,null,null,{"$f":"IF(H153<>\"\",\"1 -\",\"\")","v":""},null,null,null,null,null,null,null,null,null,null,null,null,null,null,null,null,""]
[null,{"$f":"IF(H153<>\"\",\"2 -\",\"\")","v":""},null,null,null,null,null,null,null,null,null,null,null,null,null,null,{"$f":"IF(H153<>\"\",\"2 -\",\"\")","v":""},null,null,null,null,null,null,null,null,null,null,null,null,null,null,null,null,""]
[null,null,null,null,null,null,null,null,null,null,null,null,null,null,null,null,null,null,null,null,null,null,null,null,null,null,null,null,null,null,null,null,null,""]
["N1","Tipo de Relación",null,null,null,null,null,null,null,null,null,null,null,null,null,null,null,null,null,null,null,null,null,null,null,null,null,null,null,null,null,null,null,{"$f":"IF($H$182=\"\",\"\",1)","v":""}]
[null,null,null,null,null,null,null,null,null,null,null,null,null,null,null,null,null,null,null,null,null,null,null,null,null,null,null,null,null,null,null,null,null,{"$f":"IF($H$182=\"\",\"\",1)","v":""}]
[null,"Tipo de Documento",null,null,null,null,null,null,null,null,null,null,null,null,null,null,null,null,null,null,null,null,null,null,null,null,null,null,null,null,null,null,null,""]
[6,{"$f":"IF(H184<>\"\",\"N° de Documento\",\"\")","v":""},null,null,null,null,null,null,null,null,null,{"$f":"IF(H184<>\"\",\"Fecha de Expedición\",\"\")","v":""},null,null,null,null,null,null,null,null,null,{"$f":"IF(H184<>\"\",\"País de Expedición\",\"\")","v":""},null,null,null,null,null,null,null,null,null,null,null,""]
[null,null,null,null,null,null,null,null,null,null,null,null,null,null,null,null,null,null,null,null,null,null,null,null,null,null,null,null,null,null,null,null,null,""]
[null,{"$f":"IF(OR(H184=\"NIT\",H184=\"Fideicomiso/Fondo\",H184=\"PJ No Residente\"),\"Razón Social\",\"\")","v":""},null,null,null,null,null,null,null,null,null,null,null,null,null,null,null,null,null,null,null,null,null,null,null,null,null,null,null,null,null,null,null,""]
[null,null,null,null,null,null,null,null,null,null,null,null,null,null,null,null,null,null,null,null,null,null,null,null,null,null,null,null,null,null,null,null,null,""]
[null,{"$f":"IF(OR(H184=\"NIT\",H184=\"Fideicomiso/Fondo\",H184=\"PJ No Residente\",H184=\"\"),\"\",\"Primer Nombre\")","v":""},null,null,null,null,null,null,null,{"$f":"IF(OR(H184=\"NIT\",H184=\"Fideicomiso/Fondo\",H184=\"PJ No Residente\",H184=\"\"),\"\",\"Segundo Nombre\")","v":""},null,null,null,null,null,null,{"$f":"IF(OR(H184=\"NIT\",H184=\"Fideicomiso/Fondo\",H184=\"PJ No Residente\",H184=\"\"),\"\",\"Primer Apellido\")","v":""},null,null,null,null,null,null,{"$f":"IF(OR(H184=\"NIT\",H184=\"Fideicomiso/Fondo\",H184=\"PJ No Residente\",H184=\"\"),\"\",\"Segundo Apellido\")","v":""},null,null,null,null,null,null,null,null,null,""]
[null,null,null,null,null,null,null,null,null,null,null,null,null,null,null,null,null,null,null,null,null,null,null,null,null,null,null,null,null,null,null,null,null,""]
[null,{"$f":"IF(OR(H182=\"Socio o Accionista\",H182=\"Fideicomitente\",H182=\"Inversionista\",H182=\"Beneficiario de Activos/Rendimientos/Utilidades\"),\"Participación en %\",IF(H182=\"\",\"\",\"\"))","v":""},null,null,null,null,null,{"$f":"IF(H184<>\"\",\"¿Es Persona Expuesta Politicamente?\",\"\")","v":""},null,null,null,null,null,null,null,null,null,{"$f":"IF(OR(H184=\"NIT\",H184=\"Fideicomiso/Fondo\",H184=\"PJ No Residente\"),\"¿Emite acciones al portador?\",IF(H184=\"\",\"\",\"\"))","v":""},null,null,null,null,null,null,null,{"$f":"IF(OR(H184=\"NIT\",H184=\"Fideicomiso/Fondo\",H184=\"PJ No Residente\"),\"\",IF(H184=\"\",\"\",\"Género\"))","v":""},null,null,null,null,null,null,null,""]
[null,null,null,null,null,null,null,null,null,null,null,null,null,null,null,null,null,null,null,null,null,null,null,null,null,null,null,null,null,null,null,null,null,""]
[null,{"$f":"IF(OR(H184=\"NIT\",H184=\"Fideicomiso/Fondo\",H184=\"PJ No Residente\"),\"\",IF(H184=\"\",\"\",\"Fecha de Nacimiento\"))","v":""},null,null,null,null,null,null,null,null,null,{"$f":"IF(OR(H184=\"NIT\",H184=\"Fideicomiso/Fondo\",H184=\"PJ No Residente\"),\"\",IF(H184=\"\",\"\",\"País de nacimiento\"))","v":""},null,null,null,null,null,null,null,null,null,{"$f":"IF(OR(H184=\"NIT\",H184=\"Fideicomiso/Fondo\",H184=\"PJ No Residente\"),\"\",IF(H184=\"\",\"\",\"Nacionalidad\"))","v":""},null,null,null,null,null,null,null,null,null,null,null,""]
[null,null,null,null,null,null,null,null,null,null,null,null,null,null,null,null,null,null,null,null,null,null,null,null,null,null,null,null,null,null,null,null,null,""]
[null,{"$f":"IF(H184<>\"\",\"Pais de Residencia\",\"\")","v":""},null,null,null,null,null,null,null,null,null,{"$f":"IF(H184<>\"\",\"Departamento de Residencia\",\"\")","v":""},null,null,null,null,null,null,null,null,null,{"$f":"IF(H184<>\"\",\"Ciudad de Residencia\",\"\")","v":""},null,null,null,null,null,null,null,null,null,null,null,""]
[null,null,null,null,null,null,null,null,null,null,null,null,null,null,null,null,null,null,null,null,null,null,null,null,null,null,null,null,null,null,null,null,null,""]
[null,{"$f":"IF(H184<>\"\",\"Dirección de residencia\",\"\")","v":""},null,null,null,null,null,null,null,null,null,null,null,null,null,null,{"$f":"IF(H184<>\"\",\"Correo electrónico\",\"\")","v":""},null,null,null,null,null,null,null,null,null,null,null,null,null,null,null,null,""]
[null,null,null,null,null,null,null,null,null,null,null,null,null,null,null,null,null,null,null,null,null,null,null,null,null,null,null,null,null,null,null,null,null,""]
[null,null,null,null,null,null,null,null,null,null,null,null,null,null,null,null,null,null,null,null,null,null,null,null,null,null,null,null,null,null,null,null,null,""]
[null,{"$f":"IF(OR(H182=\"Socio o Accionista\"),\"Tipo de Participación\",IF(H182=\"\",\"\",\"\"))","v":""},null,null,null,null,null,null,null,{"$f":"IF(B201=\"Conjunta\",\"Tipo de Documento\",IF(B201=\"\",\"\",\"\"))","v":""},null,null,null,null,null,null,{"$f":"IF(B201=\"Conjunta\",\"N° de Documento\",IF(B201=\"\",\"\",\"\"))","v":""},null,null,null,null,null,null,{"$f":"IF(B201=\"Conjunta\",\"Parentesco\",IF(B201=\"\",\"\",\"\"))","v":""},null,null,null,null,null,null,null,null,null,""]
[null,null,null,null,null,null,null,null,null,null,null,null,null,null,null,null,null,null,null,null,null,null,null,null,null,null,null,null,null,null,null,null,null,""]
[null,null,null,null,null,null,null,null,null,null,null,null,null,null,null,null,null,null,null,null,null,null,null,null,null,null,null,null,null,null,null,null,null,""]
[null,{"$f":"IF(OR(H182=\"Socio o Accionista\"),\"Tipo de Participación\",IF(H185=\"\",\"\",\"\"))","v":""},null,null,null,null,null,null,null,{"$f":"IF(B204=\"Conjunta\",\"Tipo de Documento\",IF(B204=\"\",\"\",\"\"))","v":""},null,null,null,null,null,null,{"$f":"IF(B204=\"Conjunta\",\"N° de Documento\",IF(B204=\"\",\"\",\"\"))","v":""},null,null,null,null,null,null,{"$f":"IF(B204=\"Conjunta\",\"Parentesco\",IF(B204=\"\",\"\",\"\"))","v":""},null,null,null,null,null,null,null,null,null,""]
[null,null,null,null,null,null,null,null,null,null,null,null,null,null,null,null,null,null,null,null,null,null,null,null,null,null,null,null,null,null,null,null,null,""]
[null,null,null,null,null,null,null,null,null,null,null,null,null,null,null,null,null,null,null,null,null,null,null,null,null,null,null,null,null,null,null,null,null,""]
[null,{"$f":"IF(OR(H182=\"Socio o Accionista\"),\"Tipo de Participación\",IF(H188=\"\",\"\",\"\"))","v":""},null,null,null,null,null,null,null,{"$f":"IF(B207=\"Conjunta\",\"Tipo de Documento\",IF(B207=\"\",\"\",\"\"))","v":""},null,null,null,null,null,null,{"$f":"IF(B207=\"Conjunta\",\"N° de Documento\",IF(B207=\"\",\"\",\"\"))","v":""},null,null,null,null,null,null,{"$f":"IF(B207=\"Conjunta\",\"Parentesco\",IF(B207=\"\",\"\",\"\"))","v":""},null,null,null,null,null,null,null,null,null,""]
[null,null,null,null,null,null,null,null,null,null,null,null,null,null,null,null,null,null,null,null,null,null,null,null,null,null,null,null,null,null,null,null,null,""]
[null,null,null,null,null,null,null,null,null,null,null,null,null,null,null,null,null,null,null,null,null,null,null,null,null,null,null,null,null,null,null,null,null,""]
[null,{"$f":"IF(H184<>\"\",\"País de Expedición del NIT\",\"\")","v":""},null,null,null,null,null,null,null,null,null,null,null,null,null,null,{"$f":"IF(H184<>\"\",\"N° de Identificación Tributario\",\"\")","v":""},null,null,null,null,null,null,null,null,null,null,null,null,null,null,null,null,""]
[null,{"$f":"IF(H184<>\"\",\"1 -\",\"\")","v":""},null,null,null,null,null,null,null,null,null,null,null,null,null,null,{"$f":"IF(H184<>\"\",\"1 -\",\"\")","v":""},null,null,null,null,null,null,null,null,null,null,null,null,null,null,null,null,""]
[null,{"$f":"IF(H184<>\"\",\"2 -\",\"\")","v":""},null,null,null,null,null,null,null,null,null,null,null,null,null,null,{"$f":"IF(H184<>\"\",\"2 -\",\"\")","v":""},null,null,null,null,null,null,null,null,null,null,null,null,null,null,null,null,""]
[null,null,null,null,null,null,null,null,null,null,null,null,null,null,null,null,null,null,null,null,null,null,null,null,null,null,null,null,null,null,null,null,null,""]
["N1","Tipo de Relación",null,null,null,null,null,null,null,null,null,null,null,null,null,null,null,null,null,null,null,null,null,null,null,null,null,null,null,null,null,null,null,""]
[null,null,null,null,null,null,null,null,null,null,null,null,null,null,null,null,null,null,null,null,null,null,null,null,null,null,null,null,null,null,null,null,null,""]
[null,"Tipo de Documento",null,null,null,null,null,null,null,null,null,null,null,null,null,null,null,null,null,null,null,null,null,null,null,null,null,null,null,null,null,null,null,""]
[7,{"$f":"IF(H215<>\"\",\"N° de Documento\",\"\")","v":""},null,null,null,null,null,null,null,null,null,{"$f":"IF(H215<>\"\",\"Fecha de Expedición\",\"\")","v":""},null,null,null,null,null,null,null,null,null,{"$f":"IF(H215<>\"\",\"País de Expedición\",\"\")","v":""},null,null,null,null,null,null,null,null,null,null,null,""]
[null,null,null,null,null,null,null,null,null,null,null,null,null,null,null,null,null,null,null,null,null,null,null,null,null,null,null,null,null,null,null,null,null,""]
[null,{"$f":"IF(OR(H215=\"NIT\",H215=\"Fideicomiso/Fondo\",H215=\"PJ No Residente\"),\"Razón Social\",\"\")","v":""},null,null,null,null,null,null,null,null,null,null,null,null,null,null,null,null,null,null,null,null,null,null,null,null,null,null,null,null,null,null,null,""]
[null,null,null,null,null,null,null,null,null,null,null,null,null,null,null,null,null,null,null,null,null,null,null,null,null,null,null,null,null,null,null,null,null,""]
[null,{"$f":"IF(OR(H215=\"NIT\",H215=\"Fideicomiso/Fondo\",H215=\"PJ No Residente\",H215=\"\"),\"\",\"Primer Nombre\")","v":""},null,null,null,null,null,null,null,{"$f":"IF(OR(H215=\"NIT\",H215=\"Fideicomiso/Fondo\",H215=\"PJ No Residente\",H215=\"\"),\"\",\"Segundo Nombre\")","v":""},null,null,null,null,null,null,{"$f":"IF(OR(H215=\"NIT\",H215=\"Fideicomiso/Fondo\",H215=\"PJ No Residente\",H215=\"\"),\"\",\"Primer Apellido\")","v":""},null,null,null,null,null,null,{"$f":"IF(OR(H215=\"NIT\",H215=\"Fideicomiso/Fondo\",H215=\"PJ No Residente\",H215=\"\"),\"\",\"Segundo Apellido\")","v":""},null,null,null,null,null,null,null,null,null,""]
[null,null,null,null,null,null,null,null,null,null,null,null,null,null,null,null,null,null,null,null,null,null,null,null,null,null,null,null,null,null,null,null,null,""]
[null,{"$f":"IF(OR(H213=\"Socio o Accionista\",H213=\"Fideicomitente\",H213=\"Inversionista\",H213=\"Beneficiario de Activos/Rendimientos/Utilidades\"),\"Participación en %\",IF(H213=\"\",\"\",\"\"))","v":""},null,null,null,null,null,{"$f":"IF(H215<>\"\",\"¿Es Persona Expuesta Politicamente?\",\"\")","v":""},null,null,null,null,null,null,null,null,null,{"$f":"IF(OR(H215=\"NIT\",H215=\"Fideicomiso/Fondo\",H215=\"PJ No Residente\"),\"¿Emite acciones al portador?\",IF(H215=\"\",\"\",\"\"))","v":""},null,null,null,null,null,null,null,{"$f":"IF(OR(H215=\"NIT\",H215=\"Fideicomiso/Fondo\",H215=\"PJ No Residente\"),\"\",IF(H215=\"\",\"\",\"Género\"))","v":""},null,null,null,null,null,null,null,""]
[null,null,null,null,null,null,null,null,null,null,null,null,null,null,null,null,null,null,null,null,null,null,null,null,null,null,null,null,null,null,null,null,null,""]
[null,{"$f":"IF(OR(H215=\"NIT\",H215=\"Fideicomiso/Fondo\",H215=\"PJ No Residente\"),\"\",IF(H215=\"\",\"\",\"Fecha de Nacimiento\"))","v":""},null,null,null,null,null,null,null,null,null,{"$f":"IF(OR(H215=\"NIT\",H215=\"Fideicomiso/Fondo\",H215=\"PJ No Residente\"),\"\",IF(H215=\"\",\"\",\"País de nacimiento\"))","v":""},null,null,null,null,null,null,null,null,null,{"$f":"IF(OR(H215=\"NIT\",H215=\"Fideicomiso/Fondo\",H215=\"PJ No Residente\"),\"\",IF(H215=\"\",\"\",\"Nacionalidad\"))","v":""},null,null,null,null,null,null,null,null,null,null,null,""]
[null,null,null,null,null,null,null,null,null,null,null,null,null,null,null,null,null,null,null,null,null,null,null,null,null,null,null,null,null,null,null,null,null,""]
[null,{"$f":"IF(H215<>\"\",\"Pais de Residencia\",\"\")","v":""},null,null,null,null,null,null,null,null,null,{"$f":"IF(H215<>\"\",\"Departamento de Residencia\",\"\")","v":""},null,null,null,null,null,null,null,null,null,{"$f":"IF(H215<>\"\",\"Ciudad de Residencia\",\"\")","v":""},null,null,null,null,null,null,null,null,null,null,null,""]
[null,null,null,null,null,null,null,null,null,null,null,null,null,null,null,null,null,null,null,null,null,null,null,null,null,null,null,null,null,null,null,null,null,""]
[null,{"$f":"IF(H215<>\"\",\"Dirección de residencia\",\"\")","v":""},null,null,null,null,null,null,null,null,null,null,null,null,null,null,{"$f":"IF(H215<>\"\",\"Correo electrónico\",\"\")","v":""},null,null,null,null,null,null,null,null,null,null,null,null,null,null,null,null,""]
[null,null,null,null,null,null,null,null,null,null,null,null,null,null,null,null,null,null,null,null,null,null,null,null,null,null,null,null,null,null,null,null,null,""]
[null,null,null,null,null,null,null,null,null,null,null,null,null,null,null,null,null,null,null,null,null,null,null,null,null,null,null,null,null,null,null,null,null,""]
[null,{"$f":"IF(OR(H213=\"Socio o Accionista\"),\"Tipo de Participación\",IF(H213=\"\",\"\",\"\"))","v":""},null,null,null,null,null,null,null,{"$f":"IF(B232=\"Conjunta\",\"Tipo de Documento\",IF(B232=\"\",\"\",\"\"))","v":""},null,null,null,null,null,null,{"$f":"IF(B232=\"Conjunta\",\"N° de Documento\",IF(B232=\"\",\"\",\"\"))","v":""},null,null,null,null,null,null,{"$f":"IF(B232=\"Conjunta\",\"Parentesco\",IF(B232=\"\",\"\",\"\"))","v":""},null,null,null,null,null,null,null,null,null,""]
[null,null,null,null,null,null,null,null,null,null,null,null,null,null,null,null,null,null,null,null,null,null,null,null,null,null,null,null,null,null,null,null,null,""]
[null,null,null,null,null,null,null,null,null,null,null,null,null,null,null,null,null,null,null,null,null,null,null,null,null,null,null,null,null,null,null,null,null,""]
[null,{"$f":"IF(OR(H213=\"Socio o Accionista\"),\"Tipo de Participación\",IF(H216=\"\",\"\",\"\"))","v":""},null,null,null,null,null,null,null,{"$f":"IF(B235=\"Conjunta\",\"Tipo de Documento\",IF(B235=\"\",\"\",\"\"))","v":""},null,null,null,null,null,null,{"$f":"IF(B235=\"Conjunta\",\"N° de Documento\",IF(B235=\"\",\"\",\"\"))","v":""},null,null,null,null,null,null,{"$f":"IF(B235=\"Conjunta\",\"Parentesco\",IF(B235=\"\",\"\",\"\"))","v":""},null,null,null,null,null,null,null,null,null,""]
[null,null,null,null,null,null,null,null,null,null,null,null,null,null,null,null,null,null,null,null,null,null,null,null,null,null,null,null,null,null,null,null,null,""]
[null,null,null,null,null,null,null,null,null,null,null,null,null,null,null,null,null,null,null,null,null,null,null,null,null,null,null,null,null,null,null,null,null,""]
[null,{"$f":"IF(OR(H213=\"Socio o Accionista\"),\"Tipo de Participación\",IF(H219=\"\",\"\",\"\"))","v":""},null,null,null,null,null,null,null,{"$f":"IF(B238=\"Conjunta\",\"Tipo de Documento\",IF(B238=\"\",\"\",\"\"))","v":""},null,null,null,null,null,null,{"$f":"IF(B238=\"Conjunta\",\"N° de Documento\",IF(B238=\"\",\"\",\"\"))","v":""},null,null,null,null,null,null,{"$f":"IF(B238=\"Conjunta\",\"Parentesco\",IF(B238=\"\",\"\",\"\"))","v":""},null,null,null,null,null,null,null,null,null,""]
[null,null,null,null,null,null,null,null,null,null,null,null,null,null,null,null,null,null,null,null,null,null,null,null,null,null,null,null,null,null,null,null,null,""]
[null,null,null,null,null,null,null,null,null,null,null,null,null,null,null,null,null,null,null,null,null,null,null,null,null,null,null,null,null,null,null,null,null,""]
[null,{"$f":"IF(H215<>\"\",\"País de Expedición del NIT\",\"\")","v":""},null,null,null,null,null,null,null,null,null,null,null,null,null,null,{"$f":"IF(H215<>\"\",\"N° de Identificación Tributario\",\"\")","v":""},null,null,null,null,null,null,null,null,null,null,null,null,null,null,null,null,""]
[null,{"$f":"IF(H215<>\"\",\"1 -\",\"\")","v":""},null,null,null,null,null,null,null,null,null,null,null,null,null,null,{"$f":"IF(H215<>\"\",\"1 -\",\"\")","v":""},null,null,null,null,null,null,null,null,null,null,null,null,null,null,null,null,""]
[null,{"$f":"IF(H215<>\"\",\"2 -\",\"\")","v":""},null,null,null,null,null,null,null,null,null,null,null,null,null,null,{"$f":"IF(H215<>\"\",\"2 -\",\"\")","v":""},null,null,null,null,null,null,null,null,null,null,null,null,null,null,null,null,""]
[null,null,null,null,null,null,null,null,null,null,null,null,null,null,null,null,null,null,null,null,null,null,null,null,null,null,null,null,null,null,null,null,null,{"$f":"IF($H$182=\"\",\"\",1)","v":""}]
["N1","Tipo de Relación",null,null,null,null,null,null,null,null,null,null,null,null,null,null,null,null,null,null,null,null,null,null,null,null,null,null,null,null,null,null,null,{"$f":"IF($H$244=\"\",\"\",\"1\")","v":""}]
[null,null,null,null,null,null,null,null,null,null,null,null,null,null,null,null,null,null,null,null,null,null,null,null,null,null,null,null,null,null,null,null,null,{"$f":"IF($H$244=\"\",\"\",\"1\")","v":""}]
[null,"Tipo de Documento",null,null,null,null,null,null,null,null,null,null,null,null,null,null,null,null,null,null,null,null,null,null,null,null,null,null,null,null,null,null,null,""]
[8,{"$f":"IF(H246<>\"\",\"N° de Documento\",\"\")","v":""},null,null,null,null,null,null,null,null,null,{"$f":"IF(H246<>\"\",\"Fecha de Expedición\",\"\")","v":""},null,null,null,null,null,null,null,null,null,{"$f":"IF(H246<>\"\",\"País de Expedición\",\"\")","v":""},null,null,null,null,null,null,null,null,null,null,null,""]
[null,null,null,null,null,null,null,null,null,null,null,null,null,null,null,null,null,null,null,null,null,null,null,null,null,null,null,null,null,null,null,null,null,""]
[null,{"$f":"IF(OR(H246=\"NIT\",H246=\"Fideicomiso/Fondo\",H246=\"PJ No Residente\"),\"Razón Social\",\"\")","v":""},null,null,null,null,null,null,null,null,null,null,null,null,null,null,null,null,null,null,null,null,null,null,null,null,null,null,null,null,null,null,null,""]
[null,null,null,null,null,null,null,null,null,null,null,null,null,null,null,null,null,null,null,null,null,null,null,null,null,null,null,null,null,null,null,null,null,""]
[null,{"$f":"IF(OR(H246=\"NIT\",H246=\"Fideicomiso/Fondo\",H246=\"PJ No Residente\",H246=\"\"),\"\",\"Primer Nombre\")","v":""},null,null,null,null,null,null,null,{"$f":"IF(OR(H246=\"NIT\",H246=\"Fideicomiso/Fondo\",H246=\"PJ No Residente\",H246=\"\"),\"\",\"Segundo Nombre\")","v":""},null,null,null,null,null,null,{"$f":"IF(OR(H246=\"NIT\",H246=\"Fideicomiso/Fondo\",H246=\"PJ No Residente\",H246=\"\"),\"\",\"Primer Apellido\")","v":""},null,null,null,null,null,null,{"$f":"IF(OR(H246=\"NIT\",H246=\"Fideicomiso/Fondo\",H246=\"PJ No Residente\",H246=\"\"),\"\",\"Segundo Apellido\")","v":""},null,null,null,null,null,null,null,null,null,""]
[null,null,null,null,null,null,null,null,null,null,null,null,null,null,null,null,null,null,null,null,null,null,null,null,null,null,null,null,null,null,null,null,null,""]
[null,{"$f":"IF(OR(H244=\"Socio o Accionista\",H244=\"Fideicomitente\",H244=\"Inversionista\",H244=\"Beneficiario de Activos/Rendimientos/Utilidades\"),\"Participación en %\",IF(H244=\"\",\"\",\"\"))","v":""},null,null,null,null,null,{"$f":"IF(H246<>\"\",\"¿Es Persona Expuesta Politicamente?\",\"\")","v":""},null,null,null,null,null,null,null,null,null,{"$f":"IF(OR(H246=\"NIT\",H246=\"Fideicomiso/Fondo\",H246=\"PJ No Residente\"),\"¿Emite acciones al portador?\",IF(H246=\"\",\"\",\"\"))","v":""},null,null,null,null,null,null,null,{"$f":"IF(OR(H246=\"NIT\",H246=\"Fideicomiso/Fondo\",H246=\"PJ No Residente\"),\"\",IF(H246=\"\",\"\",\"Género\"))","v":""},null,null,null,null,null,null,null,""]
[null,null,null,null,null,null,null,null,null,null,null,null,null,null,null,null,null,null,null,null,null,null,null,null,null,null,null,null,null,null,null,null,null,""]
[null,{"$f":"IF(OR(H246=\"NIT\",H246=\"Fideicomiso/Fondo\",H246=\"PJ No Residente\"),\"\",IF(H246=\"\",\"\",\"Fecha de Nacimiento\"))","v":""},null,null,null,null,null,null,null,null,null,{"$f":"IF(OR(H246=\"NIT\",H246=\"Fideicomiso/Fondo\",H246=\"PJ No Residente\"),\"\",IF(H246=\"\",\"\",\"País de nacimiento\"))","v":""},null,null,null,null,null,null,null,null,null,{"$f":"IF(OR(H246=\"NIT\",H246=\"Fideicomiso/Fondo\",H246=\"PJ No Residente\"),\"\",IF(H246=\"\",\"\",\"Nacionalidad\"))","v":""},null,null,null,null,null,null,null,null,null,null,null,""]
[null,null,null,null,null,null,null,null,null,null,null,null,null,null,null,null,null,null,null,null,null,null,null,null,null,null,null,null,null,null,null,null,null,""]
[null,{"$f":"IF(H246<>\"\",\"Pais de Residencia\",\"\")","v":""},null,null,null,null,null,null,null,null,null,{"$f":"IF(H246<>\"\",\"Departamento de Residencia\",\"\")","v":""},null,null,null,null,null,null,null,null,null,{"$f":"IF(H246<>\"\",\"Ciudad de Residencia\",\"\")","v":""},null,null,null,null,null,null,null,null,null,null,null,""]
[null,null,null,null,null,null,null,null,null,null,null,null,null,null,null,null,null,null,null,null,null,null,null,null,null,null,null,null,null,null,null,null,null,""]
[null,{"$f":"IF(H246<>\"\",\"Dirección de residencia\",\"\")","v":""},null,null,null,null,null,null,null,null,null,null,null,null,null,null,{"$f":"IF(H246<>\"\",\"Correo electrónico\",\"\")","v":""},null,null,null,null,null,null,null,null,null,null,null,null,null,null,null,null,""]
[null,null,null,null,null,null,null,null,null,null,null,null,null,null,null,null,null,null,null,null,null,null,null,null,null,null,null,null,null,null,null,null,null,""]
[null,null,null,null,null,null,null,null,null,null,null,null,null,null,null,null,null,null,null,null,null,null,null,null,null,null,null,null,null,null,null,null,null,""]
[null,{"$f":"IF(OR(H244=\"Socio o Accionista\"),\"Tipo de Participación\",IF(H244=\"\",\"\",\"\"))","v":""},null,null,null,null,null,null,null,{"$f":"IF(B263=\"Conjunta\",\"Tipo de Documento\",IF(B263=\"\",\"\",\"\"))","v":""},null,null,null,null,null,null,{"$f":"IF(B263=\"Conjunta\",\"N° de Documento\",IF(B263=\"\",\"\",\"\"))","v":""},null,null,null,null,null,null,{"$f":"IF(B263=\"Conjunta\",\"Parentesco\",IF(B263=\"\",\"\",\"\"))","v":""},null,null,null,null,null,null,null,null,null,""]
[null,null,null,null,null,null,null,null,null,null,null,null,null,null,null,null,null,null,null,null,null,null,null,null,null,null,null,null,null,null,null,null,null,""]
[null,null,null,null,null,null,null,null,null,null,null,null,null,null,null,null,null,null,null,null,null,null,null,null,null,null,null,null,null,null,null,null,null,""]
[null,{"$f":"IF(OR(H244=\"Socio o Accionista\"),\"Tipo de Participación\",IF(H247=\"\",\"\",\"\"))","v":""},null,null,null,null,null,null,null,{"$f":"IF(B266=\"Conjunta\",\"Tipo de Documento\",IF(B266=\"\",\"\",\"\"))","v":""},null,null,null,null,null,null,{"$f":"IF(B266=\"Conjunta\",\"N° de Documento\",IF(B266=\"\",\"\",\"\"))","v":""},null,null,null,null,null,null,{"$f":"IF(B266=\"Conjunta\",\"Parentesco\",IF(B266=\"\",\"\",\"\"))","v":""},null,null,null,null,null,null,null,null,null,""]
[null,null,null,null,null,null,null,null,null,null,null,null,null,null,null,null,null,null,null,null,null,null,null,null,null,null,null,null,null,null,null,null,null,""]
[null,null,null,null,null,null,null,null,null,null,null,null,null,null,null,null,null,null,null,null,null,null,null,null,null,null,null,null,null,null,null,null,null,""]
[null,{"$f":"IF(OR(H244=\"Socio o Accionista\"),\"Tipo de Participación\",IF(H250=\"\",\"\",\"\"))","v":""},null,null,null,null,null,null,null,{"$f":"IF(B269=\"Conjunta\",\"Tipo de Documento\",IF(B269=\"\",\"\",\"\"))","v":""},null,null,null,null,null,null,{"$f":"IF(B269=\"Conjunta\",\"N° de Documento\",IF(B269=\"\",\"\",\"\"))","v":""},null,null,null,null,null,null,{"$f":"IF(B269=\"Conjunta\",\"Parentesco\",IF(B269=\"\",\"\",\"\"))","v":""},null,null,null,null,null,null,null,null,null,""]
[null,null,null,null,null,null,null,null,null,null,null,null,null,null,null,null,null,null,null,null,null,null,null,null,null,null,null,null,null,null,null,null,null,""]
[null,null,null,null,null,null,null,null,null,null,null,null,null,null,null,null,null,null,null,null,null,null,null,null,null,null,null,null,null,null,null,null,null,""]
[null,{"$f":"IF(H246<>\"\",\"País de Expedición del NIT\",\"\")","v":""},null,null,null,null,null,null,null,null,null,null,null,null,null,null,{"$f":"IF(H246<>\"\",\"N° de Identificación Tributario\",\"\")","v":""},null,null,null,null,null,null,null,null,null,null,null,null,null,null,null,null,""]
[null,{"$f":"IF(H246<>\"\",\"1 -\",\"\")","v":""},null,null,null,null,null,null,null,null,null,null,null,null,null,null,{"$f":"IF(H246<>\"\",\"1 -\",\"\")","v":""},null,null,null,null,null,null,null,null,null,null,null,null,null,null,null,null,""]
[null,{"$f":"IF(H246<>\"\",\"2 -\",\"\")","v":""},null,null,null,null,null,null,null,null,null,null,null,null,null,null,{"$f":"IF(H246<>\"\",\"2 -\",\"\")","v":""},null,null,null,null,null,null,null,null,null,null,null,null,null,null,null,null,""]
[null,null,null,null,null,null,null,null,null,null,null,null,null,null,null,null,null,null,null,null,null,null,null,null,null,null,null,null,null,null,null,null,null,""]
["N1","Tipo de Relación",null,null,null,null,null,null,null,null,null,null,null,null,null,null,null,null,null,null,null,null,null,null,null,null,null,null,null,null,null,null,null,""]
[null,null,null,null,null,null,null,null,null,null,null,null,null,null,null,null,null,null,null,null,null,null,null,null,null,null,null,null,null,null,null,null,null,""]
[null,"Tipo de Documento",null,null,null,null,null,null,null,null,null,null,null,null,null,null,null,null,null,null,null,null,null,null,null,null,null,null,null,null,null,null,null,""]
[9,{"$f":"IF(H277<>\"\",\"N° de Documento\",\"\")","v":""},null,null,null,null,null,null,null,null,null,{"$f":"IF(H277<>\"\",\"Fecha de Expedición\",\"\")","v":""},null,null,null,null,null,null,null,null,null,{"$f":"IF(H277<>\"\",\"País de Expedición\",\"\")","v":""},null,null,null,null,null,null,null,null,null,null,null,""]
[null,null,null,null,null,null,null,null,null,null,null,null,null,null,null,null,null,null,null,null,null,null,null,null,null,null,null,null,null,null,null,null,null,""]
[null,{"$f":"IF(OR(H277=\"NIT\",H277=\"Fideicomiso/Fondo\",H277=\"PJ No Residente\"),\"Razón Social\",\"\")","v":""},null,null,null,null,null,null,null,null,null,null,null,null,null,null,null,null,null,null,null,null,null,null,null,null,null,null,null,null,null,null,null,""]
[null,null,null,null,null,null,null,null,null,null,null,null,null,null,null,null,null,null,null,null,null,null,null,null,null,null,null,null,null,null,null,null,null,""]
[null,{"$f":"IF(OR(H277=\"NIT\",H277=\"Fideicomiso/Fondo\",H277=\"PJ No Residente\",H277=\"\"),\"\",\"Primer Nombre\")","v":""},null,null,null,null,null,null,null,{"$f":"IF(OR(H277=\"NIT\",H277=\"Fideicomiso/Fondo\",H277=\"PJ No Residente\",H277=\"\"),\"\",\"Segundo Nombre\")","v":""},null,null,null,null,null,null,{"$f":"IF(OR(H277=\"NIT\",H277=\"Fideicomiso/Fondo\",H277=\"PJ No Residente\",H277=\"\"),\"\",\"Primer Apellido\")","v":""},null,null,null,null,null,null,{"$f":"IF(OR(H277=\"NIT\",H277=\"Fideicomiso/Fondo\",H277=\"PJ No Residente\",H277=\"\"),\"\",\"Segundo Apellido\")","v":""},null,null,null,null,null,null,null,null,null,""]
[null,null,null,null,null,null,null,null,null,null,null,null,null,null,null,null,null,null,null,null,null,null,null,null,null,null,null,null,null,null,null,null,null,""]
[null,{"$f":"IF(OR(H275=\"Socio o Accionista\",H275=\"Fideicomitente\",H275=\"Inversionista\",H275=\"Beneficiario de Activos/Rendimientos/Utilidades\"),\"Participación en %\",IF(H275=\"\",\"\",\"\"))","v":""},null,null,null,null,null,{"$f":"IF(H277<>\"\",\"¿Es Persona Expuesta Politicamente?\",\"\")","v":""},null,null,null,null,null,null,null,null,null,{"$f":"IF(OR(H277=\"NIT\",H277=\"Fideicomiso/Fondo\",H277=\"PJ No Residente\"),\"¿Emite acciones al portador?\",IF(H277=\"\",\"\",\"\"))","v":""},null,null,null,null,null,null,null,{"$f":"IF(OR(H277=\"NIT\",H277=\"Fideicomiso/Fondo\",H277=\"PJ No Residente\"),\"\",IF(H277=\"\",\"\",\"Género\"))","v":""},null,null,null,null,null,null,null,""]
[null,null,null,null,null,null,null,null,null,null,null,null,null,null,null,null,null,null,null,null,null,null,null,null,null,null,null,null,null,null,null,null,null,""]
[null,{"$f":"IF(OR(H277=\"NIT\",H277=\"Fideicomiso/Fondo\",H277=\"PJ No Residente\"),\"\",IF(H277=\"\",\"\",\"Fecha de Nacimiento\"))","v":""},null,null,null,null,null,null,null,null,null,{"$f":"IF(OR(H277=\"NIT\",H277=\"Fideicomiso/Fondo\",H277=\"PJ No Residente\"),\"\",IF(H277=\"\",\"\",\"País de nacimiento\"))","v":""},null,null,null,null,null,null,null,null,null,{"$f":"IF(OR(H277=\"NIT\",H277=\"Fideicomiso/Fondo\",H277=\"PJ No Residente\"),\"\",IF(H277=\"\",\"\",\"Nacionalidad\"))","v":""},null,null,null,null,null,null,null,null,null,null,null,""]
[null,null,null,null,null,null,null,null,null,null,null,null,null,null,null,null,null,null,null,null,null,null,null,null,null,null,null,null,null,null,null,null,null,""]
[null,{"$f":"IF(H277<>\"\",\"Pais de Residencia\",\"\")","v":""},null,null,null,null,null,null,null,null,null,{"$f":"IF(H277<>\"\",\"Departamento de Residencia\",\"\")","v":""},null,null,null,null,null,null,null,null,null,{"$f":"IF(H277<>\"\",\"Ciudad de Residencia\",\"\")","v":""},null,null,null,null,null,null,null,null,null,null,null,""]
[null,null,null,null,null,null,null,null,null,null,null,null,null,null,null,null,null,null,null,null,null,null,null,null,null,null,null,null,null,null,null,null,null,""]
[null,{"$f":"IF(H277<>\"\",\"Dirección de residencia\",\"\")","v":""},null,null,null,null,null,null,null,null,null,null,null,null,null,null,{"$f":"IF(H277<>\"\",\"Correo electrónico\",\"\")","v":""},null,null,null,null,null,null,null,null,null,null,null,null,null,null,null,null,""]
[null,null,null,null,null,null,null,null,null,null,null,null,null,null,null,null,null,null,null,null,null,null,null,null,null,null,null,null,null,null,null,null,null,""]
[null,null,null,null,null,null,null,null,null,null,null,null,null,null,null,null,null,null,null,null,null,null,null,null,null,null,null,null,null,null,null,null,null,""]
[null,{"$f":"IF(OR(H275=\"Socio o Accionista\"),\"Tipo de Participación\",IF(H275=\"\",\"\",\"\"))","v":""},null,null,null,null,null,null,null,{"$f":"IF(B294=\"Conjunta\",\"Tipo de Documento\",IF(B294=\"\",\"\",\"\"))","v":""},null,null,null,null,null,null,{"$f":"IF(B294=\"Conjunta\",\"N° de Documento\",IF(B294=\"\",\"\",\"\"))","v":""},null,null,null,null,null,null,{"$f":"IF(B294=\"Conjunta\",\"Parentesco\",IF(B294=\"\",\"\",\"\"))","v":""},null,null,null,null,null,null,null,null,null,""]
[null,null,null,null,null,null,null,null,null,null,null,null,null,null,null,null,null,null,null,null,null,null,null,null,null,null,null,null,null,null,null,null,null,""]
[null,null,null,null,null,null,null,null,null,null,null,null,null,null,null,null,null,null,null,null,null,null,null,null,null,null,null,null,null,null,null,null,null,""]
[null,{"$f":"IF(OR(H275=\"Socio o Accionista\"),\"Tipo de Participación\",IF(H278=\"\",\"\",\"\"))","v":""},null,null,null,null,null,null,null,{"$f":"IF(B297=\"Conjunta\",\"Tipo de Documento\",IF(B297=\"\",\"\",\"\"))","v":""},null,null,null,null,null,null,{"$f":"IF(B297=\"Conjunta\",\"N° de Documento\",IF(B297=\"\",\"\",\"\"))","v":""},null,null,null,null,null,null,{"$f":"IF(B297=\"Conjunta\",\"Parentesco\",IF(B297=\"\",\"\",\"\"))","v":""},null,null,null,null,null,null,null,null,null,""]
[null,null,null,null,null,null,null,null,null,null,null,null,null,null,null,null,null,null,null,null,null,null,null,null,null,null,null,null,null,null,null,null,null,""]
[null,null,null,null,null,null,null,null,null,null,null,null,null,null,null,null,null,null,null,null,null,null,null,null,null,null,null,null,null,null,null,null,null,""]
[null,{"$f":"IF(OR(H275=\"Socio o Accionista\"),\"Tipo de Participación\",IF(H281=\"\",\"\",\"\"))","v":""},null,null,null,null,null,null,null,{"$f":"IF(B300=\"Conjunta\",\"Tipo de Documento\",IF(B300=\"\",\"\",\"\"))","v":""},null,null,null,null,null,null,{"$f":"IF(B300=\"Conjunta\",\"N° de Documento\",IF(B300=\"\",\"\",\"\"))","v":""},null,null,null,null,null,null,{"$f":"IF(B300=\"Conjunta\",\"Parentesco\",IF(B300=\"\",\"\",\"\"))","v":""},null,null,null,null,null,null,null,null,null,""]
[null,null,null,null,null,null,null,null,null,null,null,null,null,null,null,null,null,null,null,null,null,null,null,null,null,null,null,null,null,null,null,null,null,""]
[null,null,null,null,null,null,null,null,null,null,null,null,null,null,null,null,null,null,null,null,null,null,null,null,null,null,null,null,null,null,null,null,null,""]
[null,{"$f":"IF(H277<>\"\",\"País de Expedición del NIT\",\"\")","v":""},null,null,null,null,null,null,null,null,null,null,null,null,null,null,{"$f":"IF(H277<>\"\",\"N° de Identificación Tributario\",\"\")","v":""},null,null,null,null,null,null,null,null,null,null,null,null,null,null,null,null,""]
[null,{"$f":"IF(H277<>\"\",\"1 -\",\"\")","v":""},null,null,null,null,null,null,null,null,null,null,null,null,null,null,{"$f":"IF(H277<>\"\",\"1 -\",\"\")","v":""},null,null,null,null,null,null,null,null,null,null,null,null,null,null,null,null,""]
[null,{"$f":"IF(H277<>\"\",\"2 -\",\"\")","v":""},null,null,null,null,null,null,null,null,null,null,null,null,null,null,{"$f":"IF(H277<>\"\",\"2 -\",\"\")","v":""},null,null,null,null,null,null,null,null,null,null,null,null,null,null,null,null,""]
[null,null,null,null,null,null,null,null,null,null,null,null,null,null,null,null,null,null,null,null,null,null,null,null,null,null,null,null,null,null,null,null,null,""]
["N1","Tipo de Relación",null,null,null,null,null,null,null,null,null,null,null,null,null,null,null,null,null,null,null,null,null,null,null,null,null,null,null,null,null,null,null,{"$f":"IF($H$306=\"\",\"\",\"1\")","v":""}]
[null,null,null,null,null,null,null,null,null,null,null,null,null,null,null,null,null,null,null,null,null,null,null,null,null,null,null,null,null,null,null,null,null,{"$f":"IF($H$306=\"\",\"\",\"1\")","v":""}]
[null,"Tipo de Documento",null,null,null,null,null,null,null,null,null,null,null,null,null,null,null,null,null,null,null,null,null,null,null,null,null,null,null,null,null,null,null,""]
[10,{"$f":"IF(H308<>\"\",\"N° de Documento\",\"\")","v":""},null,null,null,null,null,null,null,null,null,{"$f":"IF(H308<>\"\",\"Fecha de Expedición\",\"\")","v":""},null,null,null,null,null,null,null,null,null,{"$f":"IF(H308<>\"\",\"País de Expedición\",\"\")","v":""},null,null,null,null,null,null,null,null,null,null,null,""]
[null,null,null,null,null,null,null,null,null,null,null,null,null,null,null,null,null,null,null,null,null,null,null,null,null,null,null,null,null,null,null,null,null,""]
[null,{"$f":"IF(OR(H308=\"NIT\",H308=\"Fideicomiso/Fondo\",H308=\"PJ No Residente\"),\"Razón Social\",\"\")","v":""},null,null,null,null,null,null,null,null,null,null,null,null,null,null,null,null,null,null,null,null,null,null,null,null,null,null,null,null,null,null,null,""]
[null,null,null,null,null,null,null,null,null,null,null,null,null,null,null,null,null,null,null,null,null,null,null,null,null,null,null,null,null,null,null,null,null,""]
[null,{"$f":"IF(OR(H308=\"NIT\",H308=\"Fideicomiso/Fondo\",H308=\"PJ No Residente\",H308=\"\"),\"\",\"Primer Nombre\")","v":""},null,null,null,null,null,null,null,{"$f":"IF(OR(H308=\"NIT\",H308=\"Fideicomiso/Fondo\",H308=\"PJ No Residente\",H308=\"\"),\"\",\"Segundo Nombre\")","v":""},null,null,null,null,null,null,{"$f":"IF(OR(H308=\"NIT\",H308=\"Fideicomiso/Fondo\",H308=\"PJ No Residente\",H308=\"\"),\"\",\"Primer Apellido\")","v":""},null,null,null,null,null,null,{"$f":"IF(OR(H308=\"NIT\",H308=\"Fideicomiso/Fondo\",H308=\"PJ No Residente\",H308=\"\"),\"\",\"Segundo Apellido\")","v":""},null,null,null,null,null,null,null,null,null,""]
[null,null,null,null,null,null,null,null,null,null,null,null,null,null,null,null,null,null,null,null,null,null,null,null,null,null,null,null,null,null,null,null,null,""]
[null,{"$f":"IF(OR(H306=\"Socio o Accionista\",H306=\"Fideicomitente\",H306=\"Inversionista\",H306=\"Beneficiario de Activos/Rendimientos/Utilidades\"),\"Participación en %\",IF(H306=\"\",\"\",\"\"))","v":""},null,null,null,null,null,{"$f":"IF(H308<>\"\",\"¿Es Persona Expuesta Politicamente?\",\"\")","v":""},null,null,null,null,null,null,null,null,null,{"$f":"IF(OR(H308=\"NIT\",H308=\"Fideicomiso/Fondo\",H308=\"PJ No Residente\"),\"¿Emite acciones al portador?\",IF(H308=\"\",\"\",\"\"))","v":""},null,null,null,null,null,null,null,{"$f":"IF(OR(H308=\"NIT\",H308=\"Fideicomiso/Fondo\",H308=\"PJ No Residente\"),\"\",IF(H308=\"\",\"\",\"Género\"))","v":""},null,null,null,null,null,null,null,""]
[null,null,null,null,null,null,null,null,null,null,null,null,null,null,null,null,null,null,null,null,null,null,null,null,null,null,null,null,null,null,null,null,null,""]
[null,{"$f":"IF(OR(H308=\"NIT\",H308=\"Fideicomiso/Fondo\",H308=\"PJ No Residente\"),\"\",IF(H308=\"\",\"\",\"Fecha de Nacimiento\"))","v":""},null,null,null,null,null,null,null,null,null,{"$f":"IF(OR(H308=\"NIT\",H308=\"Fideicomiso/Fondo\",H308=\"PJ No Residente\"),\"\",IF(H308=\"\",\"\",\"País de nacimiento\"))","v":""},null,null,null,null,null,null,null,null,null,{"$f":"IF(OR(H308=\"NIT\",H308=\"Fideicomiso/Fondo\",H308=\"PJ No Residente\"),\"\",IF(H308=\"\",\"\",\"Nacionalidad\"))","v":""},null,null,null,null,null,null,null,null,null,null,null,""]
[null,null,null,null,null,null,null,null,null,null,null,null,null,null,null,null,null,null,null,null,null,null,null,null,null,null,null,null,null,null,null,null,null,""]
[null,{"$f":"IF(H308<>\"\",\"Pais de Residencia\",\"\")","v":""},null,null,null,null,null,null,null,null,null,{"$f":"IF(H308<>\"\",\"Departamento de Residencia\",\"\")","v":""},null,null,null,null,null,null,null,null,null,{"$f":"IF(H308<>\"\",\"Ciudad de Residencia\",\"\")","v":""},null,null,null,null,null,null,null,null,null,null,null,""]
[null,null,null,null,null,null,null,null,null,null,null,null,null,null,null,null,null,null,null,null,null,null,null,null,null,null,null,null,null,null,null,null,null,""]
[null,{"$f":"IF(H308<>\"\",\"Dirección de residencia\",\"\")","v":""},null,null,null,null,null,null,null,null,null,null,null,null,null,null,{"$f":"IF(H308<>\"\",\"Correo electrónico\",\"\")","v":""},null,null,null,null,null,null,null,null,null,null,null,null,null,null,null,null,""]
[null,null,null,null,null,null,null,null,null,null,null,null,null,null,null,null,null,null,null,null,null,null,null,null,null,null,null,null,null,null,null,null,null,""]
[null,null,null,null,null,null,null,null,null,null,null,null,null,null,null,null,null,null,null,null,null,null,null,null,null,null,null,null,null,null,null,null,null,""]
[null,{"$f":"IF(OR(H306=\"Socio o Accionista\"),\"Tipo de Participación\",IF(H306=\"\",\"\",\"\"))","v":""},null,null,null,null,null,null,null,{"$f":"IF(B325=\"Conjunta\",\"Tipo de Documento\",IF(B325=\"\",\"\",\"\"))","v":""},null,null,null,null,null,null,{"$f":"IF(B325=\"Conjunta\",\"N° de Documento\",IF(B325=\"\",\"\",\"\"))","v":""},null,null,null,null,null,null,{"$f":"IF(B325=\"Conjunta\",\"Parentesco\",IF(B325=\"\",\"\",\"\"))","v":""},null,null,null,null,null,null,null,null,null,""]
[null,null,null,null,null,null,null,null,null,null,null,null,null,null,null,null,null,null,null,null,null,null,null,null,null,null,null,null,null,null,null,null,null,""]
[null,null,null,null,null,null,null,null,null,null,null,null,null,null,null,null,null,null,null,null,null,null,null,null,null,null,null,null,null,null,null,null,null,""]
[null,{"$f":"IF(OR(H306=\"Socio o Accionista\"),\"Tipo de Participación\",IF(H309=\"\",\"\",\"\"))","v":""},null,null,null,null,null,null,null,{"$f":"IF(B328=\"Conjunta\",\"Tipo de Documento\",IF(B328=\"\",\"\",\"\"))","v":""},null,null,null,null,null,null,{"$f":"IF(B328=\"Conjunta\",\"N° de Documento\",IF(B328=\"\",\"\",\"\"))","v":""},null,null,null,null,null,null,{"$f":"IF(B328=\"Conjunta\",\"Parentesco\",IF(B328=\"\",\"\",\"\"))","v":""},null,null,null,null,null,null,null,null,null,""]
[null,null,null,null,null,null,null,null,null,null,null,null,null,null,null,null,null,null,null,null,null,null,null,null,null,null,null,null,null,null,null,null,null,""]
[null,null,null,null,null,null,null,null,null,null,null,null,null,null,null,null,null,null,null,null,null,null,null,null,null,null,null,null,null,null,null,null,null,""]
[null,{"$f":"IF(OR(H306=\"Socio o Accionista\"),\"Tipo de Participación\",IF(H312=\"\",\"\",\"\"))","v":""},null,null,null,null,null,null,null,{"$f":"IF(B331=\"Conjunta\",\"Tipo de Documento\",IF(B331=\"\",\"\",\"\"))","v":""},null,null,null,null,null,null,{"$f":"IF(B331=\"Conjunta\",\"N° de Documento\",IF(B331=\"\",\"\",\"\"))","v":""},null,null,null,null,null,null,{"$f":"IF(B331=\"Conjunta\",\"Parentesco\",IF(B331=\"\",\"\",\"\"))","v":""},null,null,null,null,null,null,null,null,null,""]
[null,null,null,null,null,null,null,null,null,null,null,null,null,null,null,null,null,null,null,null,null,null,null,null,null,null,null,null,null,null,null,null,null,""]
[null,null,null,null,null,null,null,null,null,null,null,null,null,null,null,null,null,null,null,null,null,null,null,null,null,null,null,null,null,null,null,null,null,""]
[null,{"$f":"IF(H308<>\"\",\"País de Expedición del NIT\",\"\")","v":""},null,null,null,null,null,null,null,null,null,null,null,null,null,null,{"$f":"IF(H308<>\"\",\"N° de Identificación Tributario\",\"\")","v":""},null,null,null,null,null,null,null,null,null,null,null,null,null,null,null,null,""]
[null,{"$f":"IF(H308<>\"\",\"1 -\",\"\")","v":""},null,null,null,null,null,null,null,null,null,null,null,null,null,null,{"$f":"IF(H308<>\"\",\"1 -\",\"\")","v":""},null,null,null,null,null,null,null,null,null,null,null,null,null,null,null,null,""]
[null,{"$f":"IF(H308<>\"\",\"2 -\",\"\")","v":""},null,null,null,null,null,null,null,null,null,null,null,null,null,null,{"$f":"IF(H308<>\"\",\"2 -\",\"\")","v":""},null,null,null,null,null,null,null,null,null,null,null,null,null,null,null,null,""]
[null,null,null,null,null,null,null,null,null,null,null,null,null,null,null,null,null,null,null,null,null,null,null,null,null,null,null,null,null,null,null,null,null,""]
["N1","Tipo de Relación",null,null,null,null,null,null,null,null,null,null,null,null,null,null,null,null,null,null,null,null,null,null,null,null,null,null,null,null,null,null,null,""]
[null,null,null,null,null,null,null,null,null,null,null,null,null,null,null,null,null,null,null,null,null,null,null,null,null,null,null,null,null,null,null,null,null,""]
[null,"Tipo de Documento",null,null,null,null,null,null,null,null,null,null,null,null,null,null,null,null,null,null,null,null,null,null,null,null,null,null,null,null,null,null,null,""]
[11,{"$f":"IF(H339<>\"\",\"N° de Documento\",\"\")","v":""},null,null,null,null,null,null,null,null,null,{"$f":"IF(H339<>\"\",\"Fecha de Expedición\",\"\")","v":""},null,null,null,null,null,null,null,null,null,{"$f":"IF(H339<>\"\",\"País de Expedición\",\"\")","v":""},null,null,null,null,null,null,null,null,null,null,null,""]
[null,null,null,null,null,null,null,null,null,null,null,null,null,null,null,null,null,null,null,null,null,null,null,null,null,null,null,null,null,null,null,null,null,""]
[null,{"$f":"IF(OR(H339=\"NIT\",H339=\"Fideicomiso/Fondo\",H339=\"PJ No Residente\"),\"Razón Social\",\"\")","v":""},null,null,null,null,null,null,null,null,null,null,null,null,null,null,null,null,null,null,null,null,null,null,null,null,null,null,null,null,null,null,null,""]
[null,null,null,null,null,null,null,null,null,null,null,null,null,null,null,null,null,null,null,null,null,null,null,null,null,null,null,null,null,null,null,null,null,""]
[null,{"$f":"IF(OR(H339=\"NIT\",H339=\"Fideicomiso/Fondo\",H339=\"PJ No Residente\",H339=\"\"),\"\",\"Primer Nombre\")","v":""},null,null,null,null,null,null,null,{"$f":"IF(OR(H339=\"NIT\",H339=\"Fideicomiso/Fondo\",H339=\"PJ No Residente\",H339=\"\"),\"\",\"Segundo Nombre\")","v":""},null,null,null,null,null,null,{"$f":"IF(OR(H339=\"NIT\",H339=\"Fideicomiso/Fondo\",H339=\"PJ No Residente\",H339=\"\"),\"\",\"Primer Apellido\")","v":""},null,null,null,null,null,null,{"$f":"IF(OR(H339=\"NIT\",H339=\"Fideicomiso/Fondo\",H339=\"PJ No Residente\",H339=\"\"),\"\",\"Segundo Apellido\")","v":""},null,null,null,null,null,null,null,null,null,""]
[null,null,null,null,null,null,null,null,null,null,null,null,null,null,null,null,null,null,null,null,null,null,null,null,null,null,null,null,null,null,null,null,null,""]
[null,{"$f":"IF(OR(H337=\"Socio o Accionista\",H337=\"Fideicomitente\",H337=\"Inversionista\",H337=\"Beneficiario de Activos/Rendimientos/Utilidades\"),\"Participación en %\",IF(H337=\"\",\"\",\"\"))","v":""},null,null,null,null,null,{"$f":"IF(H339<>\"\",\"¿Es Persona Expuesta Politicamente?\",\"\")","v":""},null,null,null,null,null,null,null,null,null,{"$f":"IF(OR(H339=\"NIT\",H339=\"Fideicomiso/Fondo\",H339=\"PJ No Residente\"),\"¿Emite acciones al portador?\",IF(H339=\"\",\"\",\"\"))","v":""},null,null,null,null,null,null,null,{"$f":"IF(OR(H339=\"NIT\",H339=\"Fideicomiso/Fondo\",H339=\"PJ No Residente\"),\"\",IF(H339=\"\",\"\",\"Género\"))","v":""},null,null,null,null,null,null,null,""]
[null,null,null,null,null,null,null,null,null,null,null,null,null,null,null,null,null,null,null,null,null,null,null,null,null,null,null,null,null,null,null,null,null,""]
[null,{"$f":"IF(OR(H339=\"NIT\",H339=\"Fideicomiso/Fondo\",H339=\"PJ No Residente\"),\"\",IF(H339=\"\",\"\",\"Fecha de Nacimiento\"))","v":""},null,null,null,null,null,null,null,null,null,{"$f":"IF(OR(H339=\"NIT\",H339=\"Fideicomiso/Fondo\",H339=\"PJ No Residente\"),\"\",IF(H339=\"\",\"\",\"País de nacimiento\"))","v":""},null,null,null,null,null,null,null,null,null,{"$f":"IF(OR(H339=\"NIT\",H339=\"Fideicomiso/Fondo\",H339=\"PJ No Residente\"),\"\",IF(H339=\"\",\"\",\"Nacionalidad\"))","v":""},null,null,null,null,null,null,null,null,null,null,null,""]
[null,null,null,null,null,null,null,null,null,null,null,null,null,null,null,null,null,null,null,null,null,null,null,null,null,null,null,null,null,null,null,null,null,""]
[null,{"$f":"IF(H339<>\"\",\"Pais de Residencia\",\"\")","v":""},null,null,null,null,null,null,null,null,null,{"$f":"IF(H339<>\"\",\"Departamento de Residencia\",\"\")","v":""},null,null,null,null,null,null,null,null,null,{"$f":"IF(H339<>\"\",\"Ciudad de Residencia\",\"\")","v":""},null,null,null,null,null,null,null,null,null,null,null,""]
[null,null,null,null,null,null,null,null,null,null,null,null,null,null,null,null,null,null,null,null,null,null,null,null,null,null,null,null,null,null,null,null,null,""]
[null,{"$f":"IF(H339<>\"\",\"Dirección de residencia\",\"\")","v":""},null,null,null,null,null,null,null,null,null,null,null,null,null,null,{"$f":"IF(H339<>\"\",\"Correo electrónico\",\"\")","v":""},null,null,null,null,null,null,null,null,null,null,null,null,null,null,null,null,""]
[null,null,null,null,null,null,null,null,null,null,null,null,null,null,null,null,null,null,null,null,null,null,null,null,null,null,null,null,null,null,null,null,null,""]
[null,null,null,null,null,null,null,null,null,null,null,null,null,null,null,null,null,null,null,null,null,null,null,null,null,null,null,null,null,null,null,null,null,""]
[null,{"$f":"IF(OR(H337=\"Socio o Accionista\"),\"Tipo de Participación\",IF(H337=\"\",\"\",\"\"))","v":""},null,null,null,null,null,null,null,{"$f":"IF(B356=\"Conjunta\",\"Tipo de Documento\",IF(B356=\"\",\"\",\"\"))","v":""},null,null,null,null,null,null,{"$f":"IF(B356=\"Conjunta\",\"N° de Documento\",IF(B356=\"\",\"\",\"\"))","v":""},null,null,null,null,null,null,{"$f":"IF(B356=\"Conjunta\",\"Parentesco\",IF(B356=\"\",\"\",\"\"))","v":""},null,null,null,null,null,null,null,null,null,""]
[null,null,null,null,null,null,null,null,null,null,null,null,null,null,null,null,null,null,null,null,null,null,null,null,null,null,null,null,null,null,null,null,null,""]
[null,null,null,null,null,null,null,null,null,null,null,null,null,null,null,null,null,null,null,null,null,null,null,null,null,null,null,null,null,null,null,null,null,""]
[null,{"$f":"IF(OR(H337=\"Socio o Accionista\"),\"Tipo de Participación\",IF(H340=\"\",\"\",\"\"))","v":""},null,null,null,null,null,null,null,{"$f":"IF(B359=\"Conjunta\",\"Tipo de Documento\",IF(B359=\"\",\"\",\"\"))","v":""},null,null,null,null,null,null,{"$f":"IF(B359=\"Conjunta\",\"N° de Documento\",IF(B359=\"\",\"\",\"\"))","v":""},null,null,null,null,null,null,{"$f":"IF(B359=\"Conjunta\",\"Parentesco\",IF(B359=\"\",\"\",\"\"))","v":""},null,null,null,null,null,null,null,null,null,""]
[null,null,null,null,null,null,null,null,null,null,null,null,null,null,null,null,null,null,null,null,null,null,null,null,null,null,null,null,null,null,null,null,null,""]
[null,null,null,null,null,null,null,null,null,null,null,null,null,null,null,null,null,null,null,null,null,null,null,null,null,null,null,null,null,null,null,null,null,""]
[null,{"$f":"IF(OR(H337=\"Socio o Accionista\"),\"Tipo de Participación\",IF(H343=\"\",\"\",\"\"))","v":""},null,null,null,null,null,null,null,{"$f":"IF(B362=\"Conjunta\",\"Tipo de Documento\",IF(B362=\"\",\"\",\"\"))","v":""},null,null,null,null,null,null,{"$f":"IF(B362=\"Conjunta\",\"N° de Documento\",IF(B362=\"\",\"\",\"\"))","v":""},null,null,null,null,null,null,{"$f":"IF(B362=\"Conjunta\",\"Parentesco\",IF(B362=\"\",\"\",\"\"))","v":""},null,null,null,null,null,null,null,null,null,""]
[null,null,null,null,null,null,null,null,null,null,null,null,null,null,null,null,null,null,null,null,null,null,null,null,null,null,null,null,null,null,null,null,null,""]
[null,null,null,null,null,null,null,null,null,null,null,null,null,null,null,null,null,null,null,null,null,null,null,null,null,null,null,null,null,null,null,null,null,""]
[null,{"$f":"IF(H339<>\"\",\"País de Expedición del NIT\",\"\")","v":""},null,null,null,null,null,null,null,null,null,null,null,null,null,null,{"$f":"IF(H339<>\"\",\"N° de Identificación Tributario\",\"\")","v":""},null,null,null,null,null,null,null,null,null,null,null,null,null,null,null,null,""]
[null,{"$f":"IF(H339<>\"\",\"1 -\",\"\")","v":""},null,null,null,null,null,null,null,null,null,null,null,null,null,null,{"$f":"IF(H339<>\"\",\"1 -\",\"\")","v":""},null,null,null,null,null,null,null,null,null,null,null,null,null,null,null,null,""]
[null,{"$f":"IF(H339<>\"\",\"2 -\",\"\")","v":""},null,null,null,null,null,null,null,null,null,null,null,null,null,null,{"$f":"IF(H339<>\"\",\"2 -\",\"\")","v":""},null,null,null,null,null,null,null,null,null,null,null,null,null,null,null,null,""]
[null,null,null,null,null,null,null,null,null,null,null,null,null,null,null,null,null,null,null,null,null,null,null,null,null,null,null,null,null,null,null,null,null,""]
["N1","Tipo de Relación",null,null,null,null,null,null,null,null,null,null,null,null,null,null,null,null,null,null,null,null,null,null,null,null,null,null,null,null,null,null,null,{"$f":"IF($H$368=\"\",\"\",\"1\")","v":""}]
[null,null,null,null,null,null,null,null,null,null,null,null,null,null,null,null,null,null,null,null,null,null,null,null,null,null,null,null,null,null,null,null,null,{"$f":"IF($H$368=\"\",\"\",\"1\")","v":""}]
[null,"Tipo de Documento",null,null,null,null,null,null,null,null,null,null,null,null,null,null,null,null,null,null,null,null,null,null,null,null,null,null,null,null,null,null,null,""]
[12,{"$f":"IF(H370<>\"\",\"N° de Documento\",\"\")","v":""},null,null,null,null,null,null,null,null,null,{"$f":"IF(H370<>\"\",\"Fecha de Expedición\",\"\")","v":""},null,null,null,null,null,null,null,null,null,{"$f":"IF(H370<>\"\",\"País de Expedición\",\"\")","v":""},null,null,null,null,null,null,null,null,null,null,null,""]
[null,null,null,null,null,null,null,null,null,null,null,null,null,null,null,null,null,null,null,null,null,null,null,null,null,null,null,null,null,null,null,null,null,""]
[null,{"$f":"IF(OR(H370=\"NIT\",H370=\"Fideicomiso/Fondo\",H370=\"PJ No Residente\"),\"Razón Social\",\"\")","v":""},null,null,null,null,null,null,null,null,null,null,null,null,null,null,null,null,null,null,null,null,null,null,null,null,null,null,null,null,null,null,null,""]
[null,null,null,null,null,null,null,null,null,null,null,null,null,null,null,null,null,null,null,null,null,null,null,null,null,null,null,null,null,null,null,null,null,""]
[null,{"$f":"IF(OR(H370=\"NIT\",H370=\"Fideicomiso/Fondo\",H370=\"PJ No Residente\",H370=\"\"),\"\",\"Primer Nombre\")","v":""},null,null,null,null,null,null,null,{"$f":"IF(OR(H370=\"NIT\",H370=\"Fideicomiso/Fondo\",H370=\"PJ No Residente\",H370=\"\"),\"\",\"Segundo Nombre\")","v":""},null,null,null,null,null,null,{"$f":"IF(OR(H370=\"NIT\",H370=\"Fideicomiso/Fondo\",H370=\"PJ No Residente\",H370=\"\"),\"\",\"Primer Apellido\")","v":""},null,null,null,null,null,null,{"$f":"IF(OR(H370=\"NIT\",H370=\"Fideicomiso/Fondo\",H370=\"PJ No Residente\",H370=\"\"),\"\",\"Segundo Apellido\")","v":""},null,null,null,null,null,null,null,null,null,""]
[null,null,null,null,null,null,null,null,null,null,null,null,null,null,null,null,null,null,null,null,null,null,null,null,null,null,null,null,null,null,null,null,null,""]
[null,{"$f":"IF(OR(H368=\"Socio o Accionista\",H368=\"Fideicomitente\",H368=\"Inversionista\",H368=\"Beneficiario de Activos/Rendimientos/Utilidades\"),\"Participación en %\",IF(H368=\"\",\"\",\"\"))","v":""},null,null,null,null,null,{"$f":"IF(H370<>\"\",\"¿Es Persona Expuesta Politicamente?\",\"\")","v":""},null,null,null,null,null,null,null,null,null,{"$f":"IF(OR(H370=\"NIT\",H370=\"Fideicomiso/Fondo\",H370=\"PJ No Residente\"),\"¿Emite acciones al portador?\",IF(H370=\"\",\"\",\"\"))","v":""},null,null,null,null,null,null,null,{"$f":"IF(OR(H370=\"NIT\",H370=\"Fideicomiso/Fondo\",H370=\"PJ No Residente\"),\"\",IF(H370=\"\",\"\",\"Género\"))","v":""},null,null,null,null,null,null,null,""]
[null,null,null,null,null,null,null,null,null,null,null,null,null,null,null,null,null,null,null,null,null,null,null,null,null,null,null,null,null,null,null,null,null,""]
[null,{"$f":"IF(OR(H370=\"NIT\",H370=\"Fideicomiso/Fondo\",H370=\"PJ No Residente\"),\"\",IF(H370=\"\",\"\",\"Fecha de Nacimiento\"))","v":""},null,null,null,null,null,null,null,null,null,{"$f":"IF(OR(H370=\"NIT\",H370=\"Fideicomiso/Fondo\",H370=\"PJ No Residente\"),\"\",IF(H370=\"\",\"\",\"País de nacimiento\"))","v":""},null,null,null,null,null,null,null,null,null,{"$f":"IF(OR(H370=\"NIT\",H370=\"Fideicomiso/Fondo\",H370=\"PJ No Residente\"),\"\",IF(H370=\"\",\"\",\"Nacionalidad\"))","v":""},null,null,null,null,null,null,null,null,null,null,null,""]
[null,null,null,null,null,null,null,null,null,null,null,null,null,null,null,null,null,null,null,null,null,null,null,null,null,null,null,null,null,null,null,null,null,""]
[null,{"$f":"IF(H370<>\"\",\"Pais de Residencia\",\"\")","v":""},null,null,null,null,null,null,null,null,null,{"$f":"IF(H370<>\"\",\"Departamento de Residencia\",\"\")","v":""},null,null,null,null,null,null,null,null,null,{"$f":"IF(H370<>\"\",\"Ciudad de Residencia\",\"\")","v":""},null,null,null,null,null,null,null,null,null,null,null,""]
[null,null,null,null,null,null,null,null,null,null,null,null,null,null,null,null,null,null,null,null,null,null,null,null,null,null,null,null,null,null,null,null,null,""]
[null,{"$f":"IF(H370<>\"\",\"Dirección de residencia\",\"\")","v":""},null,null,null,null,null,null,null,null,null,null,null,null,null,null,{"$f":"IF(H370<>\"\",\"Correo electrónico\",\"\")","v":""},null,null,null,null,null,null,null,null,null,null,null,null,null,null,null,null,""]
[null,null,null,null,null,null,null,null,null,null,null,null,null,null,null,null,null,null,null,null,null,null,null,null,null,null,null,null,null,null,null,null,null,""]
[null,null,null,null,null,null,null,null,null,null,null,null,null,null,null,null,null,null,null,null,null,null,null,null,null,null,null,null,null,null,null,null,null,""]
[null,{"$f":"IF(OR(H368=\"Socio o Accionista\"),\"Tipo de Participación\",IF(H368=\"\",\"\",\"\"))","v":""},null,null,null,null,null,null,null,{"$f":"IF(B387=\"Conjunta\",\"Tipo de Documento\",IF(B387=\"\",\"\",\"\"))","v":""},null,null,null,null,null,null,{"$f":"IF(B387=\"Conjunta\",\"N° de Documento\",IF(B387=\"\",\"\",\"\"))","v":""},null,null,null,null,null,null,{"$f":"IF(B387=\"Conjunta\",\"Parentesco\",IF(B387=\"\",\"\",\"\"))","v":""},null,null,null,null,null,null,null,null,null,""]
[null,null,null,null,null,null,null,null,null,null,null,null,null,null,null,null,null,null,null,null,null,null,null,null,null,null,null,null,null,null,null,null,null,""]
[null,null,null,null,null,null,null,null,null,null,null,null,null,null,null,null,null,null,null,null,null,null,null,null,null,null,null,null,null,null,null,null,null,""]
[null,{"$f":"IF(OR(H368=\"Socio o Accionista\"),\"Tipo de Participación\",IF(H371=\"\",\"\",\"\"))","v":""},null,null,null,null,null,null,null,{"$f":"IF(B390=\"Conjunta\",\"Tipo de Documento\",IF(B390=\"\",\"\",\"\"))","v":""},null,null,null,null,null,null,{"$f":"IF(B390=\"Conjunta\",\"N° de Documento\",IF(B390=\"\",\"\",\"\"))","v":""},null,null,null,null,null,null,{"$f":"IF(B390=\"Conjunta\",\"Parentesco\",IF(B390=\"\",\"\",\"\"))","v":""},null,null,null,null,null,null,null,null,null,""]
[null,null,null,null,null,null,null,null,null,null,null,null,null,null,null,null,null,null,null,null,null,null,null,null,null,null,null,null,null,null,null,null,null,""]
[null,null,null,null,null,null,null,null,null,null,null,null,null,null,null,null,null,null,null,null,null,null,null,null,null,null,null,null,null,null,null,null,null,""]
[null,{"$f":"IF(OR(H368=\"Socio o Accionista\"),\"Tipo de Participación\",IF(H374=\"\",\"\",\"\"))","v":""},null,null,null,null,null,null,null,{"$f":"IF(B393=\"Conjunta\",\"Tipo de Documento\",IF(B393=\"\",\"\",\"\"))","v":""},null,null,null,null,null,null,{"$f":"IF(B393=\"Conjunta\",\"N° de Documento\",IF(B393=\"\",\"\",\"\"))","v":""},null,null,null,null,null,null,{"$f":"IF(B393=\"Conjunta\",\"Parentesco\",IF(B393=\"\",\"\",\"\"))","v":""},null,null,null,null,null,null,null,null,null,""]
[null,null,null,null,null,null,null,null,null,null,null,null,null,null,null,null,null,null,null,null,null,null,null,null,null,null,null,null,null,null,null,null,null,""]
[null,null,null,null,null,null,null,null,null,null,null,null,null,null,null,null,null,null,null,null,null,null,null,null,null,null,null,null,null,null,null,null,null,""]
[null,{"$f":"IF(H370<>\"\",\"País de Expedición del NIT\",\"\")","v":""},null,null,null,null,null,null,null,null,null,null,null,null,null,null,{"$f":"IF(H370<>\"\",\"N° de Identificación Tributario\",\"\")","v":""},null,null,null,null,null,null,null,null,null,null,null,null,null,null,null,null,""]
[null,{"$f":"IF(H370<>\"\",\"1 -\",\"\")","v":""},null,null,null,null,null,null,null,null,null,null,null,null,null,null,{"$f":"IF(H370<>\"\",\"1 -\",\"\")","v":""},null,null,null,null,null,null,null,null,null,null,null,null,null,null,null,null,""]
[null,{"$f":"IF(H370<>\"\",\"2 -\",\"\")","v":""},null,null,null,null,null,null,null,null,null,null,null,null,null,null,{"$f":"IF(H370<>\"\",\"2 -\",\"\")","v":""},null,null,null,null,null,null,null,null,null,null,null,null,null,null,null,null,""]
[null,null,null,null,null,null,null,null,null,null,null,null,null,null,null,null,null,null,null,null,null,null,null,null,null,null,null,null,null,null,null,null,null,""]
["N1","Tipo de Relación",null,null,null,null,null,null,null,null,null,null,null,null,null,null,null,null,null,null,null,null,null,null,null,null,null,null,null,null,null,null,null,""]
[null,null,null,null,null,null,null,null,null,null,null,null,null,null,null,null,null,null,null,null,null,null,null,null,null,null,null,null,null,null,null,null,null,""]
[null,"Tipo de Documento",null,null,null,null,null,null,null,null,null,null,null,null,null,null,null,null,null,null,null,null,null,null,null,null,null,null,null,null,null,null,null,""]
[13,{"$f":"IF(H401<>\"\",\"N° de Documento\",\"\")","v":""},null,null,null,null,null,null,null,null,null,{"$f":"IF(H401<>\"\",\"Fecha de Expedición\",\"\")","v":""},null,null,null,null,null,null,null,null,null,{"$f":"IF(H401<>\"\",\"País de Expedición\",\"\")","v":""},null,null,null,null,null,null,null,null,null,null,null,""]
[null,null,null,null,null,null,null,null,null,null,null,null,null,null,null,null,null,null,null,null,null,null,null,null,null,null,null,null,null,null,null,null,null,""]
[null,{"$f":"IF(OR(H401=\"NIT\",H401=\"Fideicomiso/Fondo\",H401=\"PJ No Residente\"),\"Razón Social\",\"\")","v":""},null,null,null,null,null,null,null,null,null,null,null,null,null,null,null,null,null,null,null,null,null,null,null,null,null,null,null,null,null,null,null,""]
[null,null,null,null,null,null,null,null,null,null,null,null,null,null,null,null,null,null,null,null,null,null,null,null,null,null,null,null,null,null,null,null,null,""]
[null,{"$f":"IF(OR(H401=\"NIT\",H401=\"Fideicomiso/Fondo\",H401=\"PJ No Residente\",H401=\"\"),\"\",\"Primer Nombre\")","v":""},null,null,null,null,null,null,null,{"$f":"IF(OR(H401=\"NIT\",H401=\"Fideicomiso/Fondo\",H401=\"PJ No Residente\",H401=\"\"),\"\",\"Segundo Nombre\")","v":""},null,null,null,null,null,null,{"$f":"IF(OR(H401=\"NIT\",H401=\"Fideicomiso/Fondo\",H401=\"PJ No Residente\",H401=\"\"),\"\",\"Primer Apellido\")","v":""},null,null,null,null,null,null,{"$f":"IF(OR(H401=\"NIT\",H401=\"Fideicomiso/Fondo\",H401=\"PJ No Residente\",H401=\"\"),\"\",\"Segundo Apellido\")","v":""},null,null,null,null,null,null,null,null,null,""]
[null,null,null,null,null,null,null,null,null,null,null,null,null,null,null,null,null,null,null,null,null,null,null,null,null,null,null,null,null,null,null,null,null,""]
[null,{"$f":"IF(OR(H399=\"Socio o Accionista\",H399=\"Fideicomitente\",H399=\"Inversionista\",H399=\"Beneficiario de Activos/Rendimientos/Utilidades\"),\"Participación en %\",IF(H399=\"\",\"\",\"\"))","v":""},null,null,null,null,null,{"$f":"IF(H401<>\"\",\"¿Es Persona Expuesta Politicamente?\",\"\")","v":""},null,null,null,null,null,null,null,null,null,{"$f":"IF(OR(H401=\"NIT\",H401=\"Fideicomiso/Fondo\",H401=\"PJ No Residente\"),\"¿Emite acciones al portador?\",IF(H401=\"\",\"\",\"\"))","v":""},null,null,null,null,null,null,null,{"$f":"IF(OR(H401=\"NIT\",H401=\"Fideicomiso/Fondo\",H401=\"PJ No Residente\"),\"\",IF(H401=\"\",\"\",\"Género\"))","v":""},null,null,null,null,null,null,null,""]
[null,null,null,null,null,null,null,null,null,null,null,null,null,null,null,null,null,null,null,null,null,null,null,null,null,null,null,null,null,null,null,null,null,""]
[null,{"$f":"IF(OR(H401=\"NIT\",H401=\"Fideicomiso/Fondo\",H401=\"PJ No Residente\"),\"\",IF(H401=\"\",\"\",\"Fecha de Nacimiento\"))","v":""},null,null,null,null,null,null,null,null,null,{"$f":"IF(OR(H401=\"NIT\",H401=\"Fideicomiso/Fondo\",H401=\"PJ No Residente\"),\"\",IF(H401=\"\",\"\",\"País de nacimiento\"))","v":""},null,null,null,null,null,null,null,null,null,{"$f":"IF(OR(H401=\"NIT\",H401=\"Fideicomiso/Fondo\",H401=\"PJ No Residente\"),\"\",IF(H401=\"\",\"\",\"Nacionalidad\"))","v":""},null,null,null,null,null,null,null,null,null,null,null,""]
[null,null,null,null,null,null,null,null,null,null,null,null,null,null,null,null,null,null,null,null,null,null,null,null,null,null,null,null,null,null,null,null,null,""]
[null,{"$f":"IF(H401<>\"\",\"Pais de Residencia\",\"\")","v":""},null,null,null,null,null,null,null,null,null,{"$f":"IF(H401<>\"\",\"Departamento de Residencia\",\"\")","v":""},null,null,null,null,null,null,null,null,null,{"$f":"IF(H401<>\"\",\"Ciudad de Residencia\",\"\")","v":""},null,null,null,null,null,null,null,null,null,null,null,""]
[null,null,null,null,null,null,null,null,null,null,null,null,null,null,null,null,null,null,null,null,null,null,null,null,null,null,null,null,null,null,null,null,null,""]
[null,{"$f":"IF(H401<>\"\",\"Dirección de residencia\",\"\")","v":""},null,null,null,null,null,null,null,null,null,null,null,null,null,null,{"$f":"IF(H401<>\"\",\"Correo electrónico\",\"\")","v":""},null,null,null,null,null,null,null,null,null,null,null,null,null,null,null,null,""]
[null,null,null,null,null,null,null,null,null,null,null,null,null,null,null,null,null,null,null,null,null,null,null,null,null,null,null,null,null,null,null,null,null,""]
[null,null,null,null,null,null,null,null,null,null,null,null,null,null,null,null,null,null,null,null,null,null,null,null,null,null,null,null,null,null,null,null,null,""]
[null,{"$f":"IF(OR(H399=\"Socio o Accionista\"),\"Tipo de Participación\",IF(H399=\"\",\"\",\"\"))","v":""},null,null,null,null,null,null,null,{"$f":"IF(B418=\"Conjunta\",\"Tipo de Documento\",IF(B418=\"\",\"\",\"\"))","v":""},null,null,null,null,null,null,{"$f":"IF(B418=\"Conjunta\",\"N° de Documento\",IF(B418=\"\",\"\",\"\"))","v":""},null,null,null,null,null,null,{"$f":"IF(B418=\"Conjunta\",\"Parentesco\",IF(B418=\"\",\"\",\"\"))","v":""},null,null,null,null,null,null,null,null,null,""]
[null,null,null,null,null,null,null,null,null,null,null,null,null,null,null,null,null,null,null,null,null,null,null,null,null,null,null,null,null,null,null,null,null,""]
[null,null,null,null,null,null,null,null,null,null,null,null,null,null,null,null,null,null,null,null,null,null,null,null,null,null,null,null,null,null,null,null,null,""]
[null,{"$f":"IF(OR(H399=\"Socio o Accionista\"),\"Tipo de Participación\",IF(H402=\"\",\"\",\"\"))","v":""},null,null,null,null,null,null,null,{"$f":"IF(B421=\"Conjunta\",\"Tipo de Documento\",IF(B421=\"\",\"\",\"\"))","v":""},null,null,null,null,null,null,{"$f":"IF(B421=\"Conjunta\",\"N° de Documento\",IF(B421=\"\",\"\",\"\"))","v":""},null,null,null,null,null,null,{"$f":"IF(B421=\"Conjunta\",\"Parentesco\",IF(B421=\"\",\"\",\"\"))","v":""},null,null,null,null,null,null,null,null,null,""]
[null,null,null,null,null,null,null,null,null,null,null,null,null,null,null,null,null,null,null,null,null,null,null,null,null,null,null,null,null,null,null,null,null,""]
[null,null,null,null,null,null,null,null,null,null,null,null,null,null,null,null,null,null,null,null,null,null,null,null,null,null,null,null,null,null,null,null,null,""]
[null,{"$f":"IF(OR(H399=\"Socio o Accionista\"),\"Tipo de Participación\",IF(H405=\"\",\"\",\"\"))","v":""},null,null,null,null,null,null,null,{"$f":"IF(B424=\"Conjunta\",\"Tipo de Documento\",IF(B424=\"\",\"\",\"\"))","v":""},null,null,null,null,null,null,{"$f":"IF(B424=\"Conjunta\",\"N° de Documento\",IF(B424=\"\",\"\",\"\"))","v":""},null,null,null,null,null,null,{"$f":"IF(B424=\"Conjunta\",\"Parentesco\",IF(B424=\"\",\"\",\"\"))","v":""},null,null,null,null,null,null,null,null,null,""]
[null,null,null,null,null,null,null,null,null,null,null,null,null,null,null,null,null,null,null,null,null,null,null,null,null,null,null,null,null,null,null,null,null,""]
[null,null,null,null,null,null,null,null,null,null,null,null,null,null,null,null,null,null,null,null,null,null,null,null,null,null,null,null,null,null,null,null,null,""]
[null,{"$f":"IF(H401<>\"\",\"País de Expedición del NIT\",\"\")","v":""},null,null,null,null,null,null,null,null,null,null,null,null,null,null,{"$f":"IF(H401<>\"\",\"N° de Identificación Tributario\",\"\")","v":""},null,null,null,null,null,null,null,null,null,null,null,null,null,null,null,null,""]
[null,{"$f":"IF(H401<>\"\",\"1 -\",\"\")","v":""},null,null,null,null,null,null,null,null,null,null,null,null,null,null,{"$f":"IF(H401<>\"\",\"1 -\",\"\")","v":""},null,null,null,null,null,null,null,null,null,null,null,null,null,null,null,null,""]
[null,{"$f":"IF(H401<>\"\",\"2 -\",\"\")","v":""},null,null,null,null,null,null,null,null,null,null,null,null,null,null,{"$f":"IF(H401<>\"\",\"2 -\",\"\")","v":""},null,null,null,null,null,null,null,null,null,null,null,null,null,null,null,null,""]
[null,null,null,null,null,null,null,null,null,null,null,null,null,null,null,null,null,null,null,null,null,null,null,null,null,null,null,null,null,null,null,null,null,{"$f":"IF($H$368=\"\",\"\",\"1\")","v":""}]
["N1","Tipo de Relación",null,null,null,null,null,null,null,null,null,null,null,null,null,null,null,null,null,null,null,null,null,null,null,null,null,null,null,null,null,null,null,{"$f":"IF($H$430=\"\",\"\",\"1\")","v":""}]
[null,null,null,null,null,null,null,null,null,null,null,null,null,null,null,null,null,null,null,null,null,null,null,null,null,null,null,null,null,null,null,null,null,{"$f":"IF($H$430=\"\",\"\",\"1\")","v":""}]
[null,"Tipo de Documento",null,null,null,null,null,null,null,null,null,null,null,null,null,null,null,null,null,null,null,null,null,null,null,null,null,null,null,null,null,null,null,""]
[14,{"$f":"IF(H432<>\"\",\"N° de Documento\",\"\")","v":""},null,null,null,null,null,null,null,null,null,{"$f":"IF(H432<>\"\",\"Fecha de Expedición\",\"\")","v":""},null,null,null,null,null,null,null,null,null,{"$f":"IF(H432<>\"\",\"País de Expedición\",\"\")","v":""},null,null,null,null,null,null,null,null,null,null,null,""]
[null,null,null,null,null,null,null,null,null,null,null,null,null,null,null,null,null,null,null,null,null,null,null,null,null,null,null,null,null,null,null,null,null,""]
[null,{"$f":"IF(OR(H432=\"NIT\",H432=\"Fideicomiso/Fondo\",H432=\"PJ No Residente\"),\"Razón Social\",\"\")","v":""},null,null,null,null,null,null,null,null,null,null,null,null,null,null,null,null,null,null,null,null,null,null,null,null,null,null,null,null,null,null,null,""]
[null,null,null,null,null,null,null,null,null,null,null,null,null,null,null,null,null,null,null,null,null,null,null,null,null,null,null,null,null,null,null,null,null,""]
[null,{"$f":"IF(OR(H432=\"NIT\",H432=\"Fideicomiso/Fondo\",H432=\"PJ No Residente\",H432=\"\"),\"\",\"Primer Nombre\")","v":""},null,null,null,null,null,null,null,{"$f":"IF(OR(H432=\"NIT\",H432=\"Fideicomiso/Fondo\",H432=\"PJ No Residente\",H432=\"\"),\"\",\"Segundo Nombre\")","v":""},null,null,null,null,null,null,{"$f":"IF(OR(H432=\"NIT\",H432=\"Fideicomiso/Fondo\",H432=\"PJ No Residente\",H432=\"\"),\"\",\"Primer Apellido\")","v":""},null,null,null,null,null,null,{"$f":"IF(OR(H432=\"NIT\",H432=\"Fideicomiso/Fondo\",H432=\"PJ No Residente\",H432=\"\"),\"\",\"Segundo Apellido\")","v":""},null,null,null,null,null,null,null,null,null,""]
[null,null,null,null,null,null,null,null,null,null,null,null,null,null,null,null,null,null,null,null,null,null,null,null,null,null,null,null,null,null,null,null,null,""]
[null,{"$f":"IF(OR(H430=\"Socio o Accionista\",H430=\"Fideicomitente\",H430=\"Inversionista\",H430=\"Beneficiario de Activos/Rendimientos/Utilidades\"),\"Participación en %\",IF(H430=\"\",\"\",\"\"))","v":""},null,null,null,null,null,{"$f":"IF(H432<>\"\",\"¿Es Persona Expuesta Politicamente?\",\"\")","v":""},null,null,null,null,null,null,null,null,null,{"$f":"IF(OR(H432=\"NIT\",H432=\"Fideicomiso/Fondo\",H432=\"PJ No Residente\"),\"¿Emite acciones al portador?\",IF(H432=\"\",\"\",\"\"))","v":""},null,null,null,null,null,null,null,{"$f":"IF(OR(H432=\"NIT\",H432=\"Fideicomiso/Fondo\",H432=\"PJ No Residente\"),\"\",IF(H432=\"\",\"\",\"Género\"))","v":""},null,null,null,null,null,null,null,""]
[null,null,null,null,null,null,null,null,null,null,null,null,null,null,null,null,null,null,null,null,null,null,null,null,null,null,null,null,null,null,null,null,null,""]
[null,{"$f":"IF(OR(H432=\"NIT\",H432=\"Fideicomiso/Fondo\",H432=\"PJ No Residente\"),\"\",IF(H432=\"\",\"\",\"Fecha de Nacimiento\"))","v":""},null,null,null,null,null,null,null,null,null,{"$f":"IF(OR(H432=\"NIT\",H432=\"Fideicomiso/Fondo\",H432=\"PJ No Residente\"),\"\",IF(H432=\"\",\"\",\"País de nacimiento\"))","v":""},null,null,null,null,null,null,null,null,null,{"$f":"IF(OR(H432=\"NIT\",H432=\"Fideicomiso/Fondo\",H432=\"PJ No Residente\"),\"\",IF(H432=\"\",\"\",\"Nacionalidad\"))","v":""},null,null,null,null,null,null,null,null,null,null,null,""]
[null,null,null,null,null,null,null,null,null,null,null,null,null,null,null,null,null,null,null,null,null,null,null,null,null,null,null,null,null,null,null,null,null,""]
[null,{"$f":"IF(H432<>\"\",\"Pais de Residencia\",\"\")","v":""},null,null,null,null,null,null,null,null,null,{"$f":"IF(H432<>\"\",\"Departamento de Residencia\",\"\")","v":""},null,null,null,null,null,null,null,null,null,{"$f":"IF(H432<>\"\",\"Ciudad de Residencia\",\"\")","v":""},null,null,null,null,null,null,null,null,null,null,null,""]
[null,null,null,null,null,null,null,null,null,null,null,null,null,null,null,null,null,null,null,null,null,null,null,null,null,null,null,null,null,null,null,null,null,""]
[null,{"$f":"IF(H432<>\"\",\"Dirección de residencia\",\"\")","v":""},null,null,null,null,null,null,null,null,null,null,null,null,null,null,{"$f":"IF(H432<>\"\",\"Correo electrónico\",\"\")","v":""},null,null,null,null,null,null,null,null,null,null,null,null,null,null,null,null,""]
[null,null,null,null,null,null,null,null,null,null,null,null,null,null,null,null,null,null,null,null,null,null,null,null,null,null,null,null,null,null,null,null,null,""]
[null,null,null,null,null,null,null,null,null,null,null,null,null,null,null,null,null,null,null,null,null,null,null,null,null,null,null,null,null,null,null,null,null,""]
[null,{"$f":"IF(OR(H430=\"Socio o Accionista\"),\"Tipo de Participación\",IF(H430=\"\",\"\",\"\"))","v":""},null,null,null,null,null,null,null,{"$f":"IF(B449=\"Conjunta\",\"Tipo de Documento\",IF(B449=\"\",\"\",\"\"))","v":""},null,null,null,null,null,null,{"$f":"IF(B449=\"Conjunta\",\"N° de Documento\",IF(B449=\"\",\"\",\"\"))","v":""},null,null,null,null,null,null,{"$f":"IF(B449=\"Conjunta\",\"Parentesco\",IF(B449=\"\",\"\",\"\"))","v":""},null,null,null,null,null,null,null,null,null,""]
[null,null,null,null,null,null,null,null,null,null,null,null,null,null,null,null,null,null,null,null,null,null,null,null,null,null,null,null,null,null,null,null,null,""]
[null,null,null,null,null,null,null,null,null,null,null,null,null,null,null,null,null,null,null,null,null,null,null,null,null,null,null,null,null,null,null,null,null,""]
[null,{"$f":"IF(OR(H430=\"Socio o Accionista\"),\"Tipo de Participación\",IF(H433=\"\",\"\",\"\"))","v":""},null,null,null,null,null,null,null,{"$f":"IF(B452=\"Conjunta\",\"Tipo de Documento\",IF(B452=\"\",\"\",\"\"))","v":""},null,null,null,null,null,null,{"$f":"IF(B452=\"Conjunta\",\"N° de Documento\",IF(B452=\"\",\"\",\"\"))","v":""},null,null,null,null,null,null,{"$f":"IF(B452=\"Conjunta\",\"Parentesco\",IF(B452=\"\",\"\",\"\"))","v":""},null,null,null,null,null,null,null,null,null,""]
[null,null,null,null,null,null,null,null,null,null,null,null,null,null,null,null,null,null,null,null,null,null,null,null,null,null,null,null,null,null,null,null,null,""]
[null,null,null,null,null,null,null,null,null,null,null,null,null,null,null,null,null,null,null,null,null,null,null,null,null,null,null,null,null,null,null,null,null,""]
[null,{"$f":"IF(OR(H430=\"Socio o Accionista\"),\"Tipo de Participación\",IF(H436=\"\",\"\",\"\"))","v":""},null,null,null,null,null,null,null,{"$f":"IF(B455=\"Conjunta\",\"Tipo de Documento\",IF(B455=\"\",\"\",\"\"))","v":""},null,null,null,null,null,null,{"$f":"IF(B455=\"Conjunta\",\"N° de Documento\",IF(B455=\"\",\"\",\"\"))","v":""},null,null,null,null,null,null,{"$f":"IF(B455=\"Conjunta\",\"Parentesco\",IF(B455=\"\",\"\",\"\"))","v":""},null,null,null,null,null,null,null,null,null,""]
[null,null,null,null,null,null,null,null,null,null,null,null,null,null,null,null,null,null,null,null,null,null,null,null,null,null,null,null,null,null,null,null,null,""]
[null,null,null,null,null,null,null,null,null,null,null,null,null,null,null,null,null,null,null,null,null,null,null,null,null,null,null,null,null,null,null,null,null,""]
[null,{"$f":"IF(H432<>\"\",\"País de Expedición del NIT\",\"\")","v":""},null,null,null,null,null,null,null,null,null,null,null,null,null,null,{"$f":"IF(H432<>\"\",\"N° de Identificación Tributario\",\"\")","v":""},null,null,null,null,null,null,null,null,null,null,null,null,null,null,null,null,""]
[null,{"$f":"IF(H432<>\"\",\"1 -\",\"\")","v":""},null,null,null,null,null,null,null,null,null,null,null,null,null,null,{"$f":"IF(H432<>\"\",\"1 -\",\"\")","v":""},null,null,null,null,null,null,null,null,null,null,null,null,null,null,null,null,""]
[null,{"$f":"IF(H432<>\"\",\"2 -\",\"\")","v":""},null,null,null,null,null,null,null,null,null,null,null,null,null,null,{"$f":"IF(H432<>\"\",\"2 -\",\"\")","v":""},null,null,null,null,null,null,null,null,null,null,null,null,null,null,null,null,""]
[null,null,null,null,null,null,null,null,null,null,null,null,null,null,null,null,null,null,null,null,null,null,null,null,null,null,null,null,null,null,null,null,null,""]
["N1","Tipo de Relación",null,null,null,null,null,null,null,null,null,null,null,null,null,null,null,null,null,null,null,null,null,null,null,null,null,null,null,null,null,null,null,""]
[null,null,null,null,null,null,null,null,null,null,null,null,null,null,null,null,null,null,null,null,null,null,null,null,null,null,null,null,null,null,null,null,null,""]
[null,"Tipo de Documento",null,null,null,null,null,null,null,null,null,null,null,null,null,null,null,null,null,null,null,null,null,null,null,null,null,null,null,null,null,null,null,""]
[15,{"$f":"IF(H463<>\"\",\"N° de Documento\",\"\")","v":""},null,null,null,null,null,null,null,null,null,{"$f":"IF(H463<>\"\",\"Fecha de Expedición\",\"\")","v":""},null,null,null,null,null,null,null,null,null,{"$f":"IF(H463<>\"\",\"País de Expedición\",\"\")","v":""},null,null,null,null,null,null,null,null,null,null,null,""]
[null,null,null,null,null,null,null,null,null,null,null,null,null,null,null,null,null,null,null,null,null,null,null,null,null,null,null,null,null,null,null,null,null,""]
[null,{"$f":"IF(OR(H463=\"NIT\",H463=\"Fideicomiso/Fondo\",H463=\"PJ No Residente\"),\"Razón Social\",\"\")","v":""},null,null,null,null,null,null,null,null,null,null,null,null,null,null,null,null,null,null,null,null,null,null,null,null,null,null,null,null,null,null,null,""]
[null,null,null,null,null,null,null,null,null,null,null,null,null,null,null,null,null,null,null,null,null,null,null,null,null,null,null,null,null,null,null,null,null,""]
[null,{"$f":"IF(OR(H463=\"NIT\",H463=\"Fideicomiso/Fondo\",H463=\"PJ No Residente\",H463=\"\"),\"\",\"Primer Nombre\")","v":""},null,null,null,null,null,null,null,{"$f":"IF(OR(H463=\"NIT\",H463=\"Fideicomiso/Fondo\",H463=\"PJ No Residente\",H463=\"\"),\"\",\"Segundo Nombre\")","v":""},null,null,null,null,null,null,{"$f":"IF(OR(H463=\"NIT\",H463=\"Fideicomiso/Fondo\",H463=\"PJ No Residente\",H463=\"\"),\"\",\"Primer Apellido\")","v":""},null,null,null,null,null,null,{"$f":"IF(OR(H463=\"NIT\",H463=\"Fideicomiso/Fondo\",H463=\"PJ No Residente\",H463=\"\"),\"\",\"Segundo Apellido\")","v":""},null,null,null,null,null,null,null,null,null,""]
[null,null,null,null,null,null,null,null,null,null,null,null,null,null,null,null,null,null,null,null,null,null,null,null,null,null,null,null,null,null,null,null,null,""]
[null,{"$f":"IF(OR(H461=\"Socio o Accionista\",H461=\"Fideicomitente\",H461=\"Inversionista\",H461=\"Beneficiario de Activos/Rendimientos/Utilidades\"),\"Participación en %\",IF(H461=\"\",\"\",\"\"))","v":""},null,null,null,null,null,{"$f":"IF(H463<>\"\",\"¿Es Persona Expuesta Politicamente?\",\"\")","v":""},null,null,null,null,null,null,null,null,null,{"$f":"IF(OR(H463=\"NIT\",H463=\"Fideicomiso/Fondo\",H463=\"PJ No Residente\"),\"¿Emite acciones al portador?\",IF(H463=\"\",\"\",\"\"))","v":""},null,null,null,null,null,null,null,{"$f":"IF(OR(H463=\"NIT\",H463=\"Fideicomiso/Fondo\",H463=\"PJ No Residente\"),\"\",IF(H463=\"\",\"\",\"Género\"))","v":""},null,null,null,null,null,null,null,""]
[null,null,null,null,null,null,null,null,null,null,null,null,null,null,null,null,null,null,null,null,null,null,null,null,null,null,null,null,null,null,null,null,null,""]
[null,{"$f":"IF(OR(H463=\"NIT\",H463=\"Fideicomiso/Fondo\",H463=\"PJ No Residente\"),\"\",IF(H463=\"\",\"\",\"Fecha de Nacimiento\"))","v":""},null,null,null,null,null,null,null,null,null,{"$f":"IF(OR(H463=\"NIT\",H463=\"Fideicomiso/Fondo\",H463=\"PJ No Residente\"),\"\",IF(H463=\"\",\"\",\"País de nacimiento\"))","v":""},null,null,null,null,null,null,null,null,null,{"$f":"IF(OR(H463=\"NIT\",H463=\"Fideicomiso/Fondo\",H463=\"PJ No Residente\"),\"\",IF(H463=\"\",\"\",\"Nacionalidad\"))","v":""},null,null,null,null,null,null,null,null,null,null,null,""]
[null,null,null,null,null,null,null,null,null,null,null,null,null,null,null,null,null,null,null,null,null,null,null,null,null,null,null,null,null,null,null,null,null,""]
[null,{"$f":"IF(H463<>\"\",\"Pais de Residencia\",\"\")","v":""},null,null,null,null,null,null,null,null,null,{"$f":"IF(H463<>\"\",\"Departamento de Residencia\",\"\")","v":""},null,null,null,null,null,null,null,null,null,{"$f":"IF(H463<>\"\",\"Ciudad de Residencia\",\"\")","v":""},null,null,null,null,null,null,null,null,null,null,null,""]
[null,null,null,null,null,null,null,null,null,null,null,null,null,null,null,null,null,null,null,null,null,null,null,null,null,null,null,null,null,null,null,null,null,""]
[null,{"$f":"IF(H463<>\"\",\"Dirección de residencia\",\"\")","v":""},null,null,null,null,null,null,null,null,null,null,null,null,null,null,{"$f":"IF(H463<>\"\",\"Correo electrónico\",\"\")","v":""},null,null,null,null,null,null,null,null,null,null,null,null,null,null,null,null,""]
[null,null,null,null,null,null,null,null,null,null,null,null,null,null,null,null,null,null,null,null,null,null,null,null,null,null,null,null,null,null,null,null,null,""]
[null,null,null,null,null,null,null,null,null,null,null,null,null,null,null,null,null,null,null,null,null,null,null,null,null,null,null,null,null,null,null,null,null,""]
[null,{"$f":"IF(OR(H461=\"Socio o Accionista\"),\"Tipo de Participación\",IF(H461=\"\",\"\",\"\"))","v":""},null,null,null,null,null,null,null,{"$f":"IF(B480=\"Conjunta\",\"Tipo de Documento\",IF(B480=\"\",\"\",\"\"))","v":""},null,null,null,null,null,null,{"$f":"IF(B480=\"Conjunta\",\"N° de Documento\",IF(B480=\"\",\"\",\"\"))","v":""},null,null,null,null,null,null,{"$f":"IF(B480=\"Conjunta\",\"Parentesco\",IF(B480=\"\",\"\",\"\"))","v":""},null,null,null,null,null,null,null,null,null,""]
[null,null,null,null,null,null,null,null,null,null,null,null,null,null,null,null,null,null,null,null,null,null,null,null,null,null,null,null,null,null,null,null,null,""]
[null,null,null,null,null,null,null,null,null,null,null,null,null,null,null,null,null,null,null,null,null,null,null,null,null,null,null,null,null,null,null,null,null,""]
[null,{"$f":"IF(OR(H461=\"Socio o Accionista\"),\"Tipo de Participación\",IF(H464=\"\",\"\",\"\"))","v":""},null,null,null,null,null,null,null,{"$f":"IF(B483=\"Conjunta\",\"Tipo de Documento\",IF(B483=\"\",\"\",\"\"))","v":""},null,null,null,null,null,null,{"$f":"IF(B483=\"Conjunta\",\"N° de Documento\",IF(B483=\"\",\"\",\"\"))","v":""},null,null,null,null,null,null,{"$f":"IF(B483=\"Conjunta\",\"Parentesco\",IF(B483=\"\",\"\",\"\"))","v":""},null,null,null,null,null,null,null,null,null,""]
[null,null,null,null,null,null,null,null,null,null,null,null,null,null,null,null,null,null,null,null,null,null,null,null,null,null,null,null,null,null,null,null,null,""]
[null,null,null,null,null,null,null,null,null,null,null,null,null,null,null,null,null,null,null,null,null,null,null,null,null,null,null,null,null,null,null,null,null,""]
[null,{"$f":"IF(OR(H461=\"Socio o Accionista\"),\"Tipo de Participación\",IF(H467=\"\",\"\",\"\"))","v":""},null,null,null,null,null,null,null,{"$f":"IF(B486=\"Conjunta\",\"Tipo de Documento\",IF(B486=\"\",\"\",\"\"))","v":""},null,null,null,null,null,null,{"$f":"IF(B486=\"Conjunta\",\"N° de Documento\",IF(B486=\"\",\"\",\"\"))","v":""},null,null,null,null,null,null,{"$f":"IF(B486=\"Conjunta\",\"Parentesco\",IF(B486=\"\",\"\",\"\"))","v":""},null,null,null,null,null,null,null,null,null,""]
[null,null,null,null,null,null,null,null,null,null,null,null,null,null,null,null,null,null,null,null,null,null,null,null,null,null,null,null,null,null,null,null,null,""]
[null,null,null,null,null,null,null,null,null,null,null,null,null,null,null,null,null,null,null,null,null,null,null,null,null,null,null,null,null,null,null,null,null,""]
[null,{"$f":"IF(H463<>\"\",\"País de Expedición del NIT\",\"\")","v":""},null,null,null,null,null,null,null,null,null,null,null,null,null,null,{"$f":"IF(H463<>\"\",\"N° de Identificación Tributario\",\"\")","v":""},null,null,null,null,null,null,null,null,null,null,null,null,null,null,null,null,""]
[null,{"$f":"IF(H463<>\"\",\"1 -\",\"\")","v":""},null,null,null,null,null,null,null,null,null,null,null,null,null,null,{"$f":"IF(H463<>\"\",\"1 -\",\"\")","v":""},null,null,null,null,null,null,null,null,null,null,null,null,null,null,null,null,""]
[null,{"$f":"IF(H463<>\"\",\"2 -\",\"\")","v":""},null,null,null,null,null,null,null,null,null,null,null,null,null,null,{"$f":"IF(H463<>\"\",\"2 -\",\"\")","v":""},null,null,null,null,null,null,null,null,null,null,null,null,null,null,null,null,""]
[null,null,null,null,null,null,null,null,null,null,null,null,null,null,null,null,null,null,null,null,null,null,null,null,null,null,null,null,null,null,null,null,null,""]
["N1","Tipo de Relación",null,null,null,null,null,null,null,null,null,null,null,null,null,null,null,null,null,null,null,null,null,null,null,null,null,null,null,null,null,null,null,{"$f":"IF($H$492=\"\",\"\",\"1\")","v":""}]
[null,null,null,null,null,null,null,null,null,null,null,null,null,null,null,null,null,null,null,null,null,null,null,null,null,null,null,null,null,null,null,null,null,{"$f":"IF($H$492=\"\",\"\",\"1\")","v":""}]
[null,"Tipo de Documento",null,null,null,null,null,null,null,null,null,null,null,null,null,null,null,null,null,null,null,null,null,null,null,null,null,null,null,null,null,null,null,""]
[16,{"$f":"IF(H494<>\"\",\"N° de Documento\",\"\")","v":""},null,null,null,null,null,null,null,null,null,{"$f":"IF(H494<>\"\",\"Fecha de Expedición\",\"\")","v":""},null,null,null,null,null,null,null,null,null,{"$f":"IF(H494<>\"\",\"País de Expedición\",\"\")","v":""},null,null,null,null,null,null,null,null,null,null,null,""]
[null,null,null,null,null,null,null,null,null,null,null,null,null,null,null,null,null,null,null,null,null,null,null,null,null,null,null,null,null,null,null,null,null,""]
[null,{"$f":"IF(OR(H494=\"NIT\",H494=\"Fideicomiso/Fondo\",H494=\"PJ No Residente\"),\"Razón Social\",\"\")","v":""},null,null,null,null,null,null,null,null,null,null,null,null,null,null,null,null,null,null,null,null,null,null,null,null,null,null,null,null,null,null,null,""]
[null,null,null,null,null,null,null,null,null,null,null,null,null,null,null,null,null,null,null,null,null,null,null,null,null,null,null,null,null,null,null,null,null,""]
[null,{"$f":"IF(OR(H494=\"NIT\",H494=\"Fideicomiso/Fondo\",H494=\"PJ No Residente\",H494=\"\"),\"\",\"Primer Nombre\")","v":""},null,null,null,null,null,null,null,{"$f":"IF(OR(H494=\"NIT\",H494=\"Fideicomiso/Fondo\",H494=\"PJ No Residente\",H494=\"\"),\"\",\"Segundo Nombre\")","v":""},null,null,null,null,null,null,{"$f":"IF(OR(H494=\"NIT\",H494=\"Fideicomiso/Fondo\",H494=\"PJ No Residente\",H494=\"\"),\"\",\"Primer Apellido\")","v":""},null,null,null,null,null,null,{"$f":"IF(OR(H494=\"NIT\",H494=\"Fideicomiso/Fondo\",H494=\"PJ No Residente\",H494=\"\"),\"\",\"Segundo Apellido\")","v":""},null,null,null,null,null,null,null,null,null,""]
[null,null,null,null,null,null,null,null,null,null,null,null,null,null,null,null,null,null,null,null,null,null,null,null,null,null,null,null,null,null,null,null,null,""]
[null,{"$f":"IF(OR(H492=\"Socio o Accionista\",H492=\"Fideicomitente\",H492=\"Inversionista\",H492=\"Beneficiario de Activos/Rendimientos/Utilidades\"),\"Participación en %\",IF(H492=\"\",\"\",\"\"))","v":""},null,null,null,null,null,{"$f":"IF(H494<>\"\",\"¿Es Persona Expuesta Politicamente?\",\"\")","v":""},null,null,null,null,null,null,null,null,null,{"$f":"IF(OR(H494=\"NIT\",H494=\"Fideicomiso/Fondo\",H494=\"PJ No Residente\"),\"¿Emite acciones al portador?\",IF(H494=\"\",\"\",\"\"))","v":""},null,null,null,null,null,null,null,{"$f":"IF(OR(H494=\"NIT\",H494=\"Fideicomiso/Fondo\",H494=\"PJ No Residente\"),\"\",IF(H494=\"\",\"\",\"Género\"))","v":""},null,null,null,null,null,null,null,""]
[null,null,null,null,null,null,null,null,null,null,null,null,null,null,null,null,null,null,null,null,null,null,null,null,null,null,null,null,null,null,null,null,null,""]
[null,{"$f":"IF(OR(H494=\"NIT\",H494=\"Fideicomiso/Fondo\",H494=\"PJ No Residente\"),\"\",IF(H494=\"\",\"\",\"Fecha de Nacimiento\"))","v":""},null,null,null,null,null,null,null,null,null,{"$f":"IF(OR(H494=\"NIT\",H494=\"Fideicomiso/Fondo\",H494=\"PJ No Residente\"),\"\",IF(H494=\"\",\"\",\"País de nacimiento\"))","v":""},null,null,null,null,null,null,null,null,null,{"$f":"IF(OR(H494=\"NIT\",H494=\"Fideicomiso/Fondo\",H494=\"PJ No Residente\"),\"\",IF(H494=\"\",\"\",\"Nacionalidad\"))","v":""},null,null,null,null,null,null,null,null,null,null,null,""]
[null,null,null,null,null,null,null,null,null,null,null,null,null,null,null,null,null,null,null,null,null,null,null,null,null,null,null,null,null,null,null,null,null,""]
[null,{"$f":"IF(H494<>\"\",\"Pais de Residencia\",\"\")","v":""},null,null,null,null,null,null,null,null,null,{"$f":"IF(H494<>\"\",\"Departamento de Residencia\",\"\")","v":""},null,null,null,null,null,null,null,null,null,{"$f":"IF(H494<>\"\",\"Ciudad de Residencia\",\"\")","v":""},null,null,null,null,null,null,null,null,null,null,null,""]
[null,null,null,null,null,null,null,null,null,null,null,null,null,null,null,null,null,null,null,null,null,null,null,null,null,null,null,null,null,null,null,null,null,""]
[null,{"$f":"IF(H494<>\"\",\"Dirección de residencia\",\"\")","v":""},null,null,null,null,null,null,null,null,null,null,null,null,null,null,{"$f":"IF(H494<>\"\",\"Correo electrónico\",\"\")","v":""},null,null,null,null,null,null,null,null,null,null,null,null,null,null,null,null,""]
[null,null,null,null,null,null,null,null,null,null,null,null,null,null,null,null,null,null,null,null,null,null,null,null,null,null,null,null,null,null,null,null,null,""]
[null,null,null,null,null,null,null,null,null,null,null,null,null,null,null,null,null,null,null,null,null,null,null,null,null,null,null,null,null,null,null,null,null,""]
[null,{"$f":"IF(OR(H492=\"Socio o Accionista\"),\"Tipo de Participación\",IF(H492=\"\",\"\",\"\"))","v":""},null,null,null,null,null,null,null,{"$f":"IF(B511=\"Conjunta\",\"Tipo de Documento\",IF(B511=\"\",\"\",\"\"))","v":""},null,null,null,null,null,null,{"$f":"IF(B511=\"Conjunta\",\"N° de Documento\",IF(B511=\"\",\"\",\"\"))","v":""},null,null,null,null,null,null,{"$f":"IF(B511=\"Conjunta\",\"Parentesco\",IF(B511=\"\",\"\",\"\"))","v":""},null,null,null,null,null,null,null,null,null,""]
[null,null,null,null,null,null,null,null,null,null,null,null,null,null,null,null,null,null,null,null,null,null,null,null,null,null,null,null,null,null,null,null,null,""]
[null,null,null,null,null,null,null,null,null,null,null,null,null,null,null,null,null,null,null,null,null,null,null,null,null,null,null,null,null,null,null,null,null,""]
[null,{"$f":"IF(OR(H492=\"Socio o Accionista\"),\"Tipo de Participación\",IF(H495=\"\",\"\",\"\"))","v":""},null,null,null,null,null,null,null,{"$f":"IF(B514=\"Conjunta\",\"Tipo de Documento\",IF(B514=\"\",\"\",\"\"))","v":""},null,null,null,null,null,null,{"$f":"IF(B514=\"Conjunta\",\"N° de Documento\",IF(B514=\"\",\"\",\"\"))","v":""},null,null,null,null,null,null,{"$f":"IF(B514=\"Conjunta\",\"Parentesco\",IF(B514=\"\",\"\",\"\"))","v":""},null,null,null,null,null,null,null,null,null,""]
[null,null,null,null,null,null,null,null,null,null,null,null,null,null,null,null,null,null,null,null,null,null,null,null,null,null,null,null,null,null,null,null,null,""]
[null,null,null,null,null,null,null,null,null,null,null,null,null,null,null,null,null,null,null,null,null,null,null,null,null,null,null,null,null,null,null,null,null,""]
[null,{"$f":"IF(OR(H492=\"Socio o Accionista\"),\"Tipo de Participación\",IF(H498=\"\",\"\",\"\"))","v":""},null,null,null,null,null,null,null,{"$f":"IF(B517=\"Conjunta\",\"Tipo de Documento\",IF(B517=\"\",\"\",\"\"))","v":""},null,null,null,null,null,null,{"$f":"IF(B517=\"Conjunta\",\"N° de Documento\",IF(B517=\"\",\"\",\"\"))","v":""},null,null,null,null,null,null,{"$f":"IF(B517=\"Conjunta\",\"Parentesco\",IF(B517=\"\",\"\",\"\"))","v":""},null,null,null,null,null,null,null,null,null,""]
[null,null,null,null,null,null,null,null,null,null,null,null,null,null,null,null,null,null,null,null,null,null,null,null,null,null,null,null,null,null,null,null,null,""]
[null,null,null,null,null,null,null,null,null,null,null,null,null,null,null,null,null,null,null,null,null,null,null,null,null,null,null,null,null,null,null,null,null,""]
[null,{"$f":"IF(H494<>\"\",\"País de Expedición del NIT\",\"\")","v":""},null,null,null,null,null,null,null,null,null,null,null,null,null,null,{"$f":"IF(H494<>\"\",\"N° de Identificación Tributario\",\"\")","v":""},null,null,null,null,null,null,null,null,null,null,null,null,null,null,null,null,""]
[null,{"$f":"IF(H494<>\"\",\"1 -\",\"\")","v":""},null,null,null,null,null,null,null,null,null,null,null,null,null,null,{"$f":"IF(H494<>\"\",\"1 -\",\"\")","v":""},null,null,null,null,null,null,null,null,null,null,null,null,null,null,null,null,""]
[null,{"$f":"IF(H494<>\"\",\"2 -\",\"\")","v":""},null,null,null,null,null,null,null,null,null,null,null,null,null,null,{"$f":"IF(H494<>\"\",\"2 -\",\"\")","v":""},null,null,null,null,null,null,null,null,null,null,null,null,null,null,null,null,""]
[null,null,null,null,null,null,null,null,null,null,null,null,null,null,null,null,null,null,null,null,null,null,null,null,null,null,null,null,null,null,null,null,null,""]
["N1","Tipo de Relación",null,null,null,null,null,null,null,null,null,null,null,null,null,null,null,null,null,null,null,null,null,null,null,null,null,null,null,null,null,null,null,""]
[null,null,null,null,null,null,null,null,null,null,null,null,null,null,null,null,null,null,null,null,null,null,null,null,null,null,null,null,null,null,null,null,null,""]
[null,"Tipo de Documento",null,null,null,null,null,null,null,null,null,null,null,null,null,null,null,null,null,null,null,null,null,null,null,null,null,null,null,null,null,null,null,""]
[17,{"$f":"IF(H525<>\"\",\"N° de Documento\",\"\")","v":""},null,null,null,null,null,null,null,null,null,{"$f":"IF(H525<>\"\",\"Fecha de Expedición\",\"\")","v":""},null,null,null,null,null,null,null,null,null,{"$f":"IF(H525<>\"\",\"País de Expedición\",\"\")","v":""},null,null,null,null,null,null,null,null,null,null,null,""]
[null,null,null,null,null,null,null,null,null,null,null,null,null,null,null,null,null,null,null,null,null,null,null,null,null,null,null,null,null,null,null,null,null,""]
[null,{"$f":"IF(OR(H525=\"NIT\",H525=\"Fideicomiso/Fondo\",H525=\"PJ No Residente\"),\"Razón Social\",\"\")","v":""},null,null,null,null,null,null,null,null,null,null,null,null,null,null,null,null,null,null,null,null,null,null,null,null,null,null,null,null,null,null,null,""]
[null,null,null,null,null,null,null,null,null,null,null,null,null,null,null,null,null,null,null,null,null,null,null,null,null,null,null,null,null,null,null,null,null,""]
[null,{"$f":"IF(OR(H525=\"NIT\",H525=\"Fideicomiso/Fondo\",H525=\"PJ No Residente\",H525=\"\"),\"\",\"Primer Nombre\")","v":""},null,null,null,null,null,null,null,{"$f":"IF(OR(H525=\"NIT\",H525=\"Fideicomiso/Fondo\",H525=\"PJ No Residente\",H525=\"\"),\"\",\"Segundo Nombre\")","v":""},null,null,null,null,null,null,{"$f":"IF(OR(H525=\"NIT\",H525=\"Fideicomiso/Fondo\",H525=\"PJ No Residente\",H525=\"\"),\"\",\"Primer Apellido\")","v":""},null,null,null,null,null,null,{"$f":"IF(OR(H525=\"NIT\",H525=\"Fideicomiso/Fondo\",H525=\"PJ No Residente\",H525=\"\"),\"\",\"Segundo Apellido\")","v":""},null,null,null,null,null,null,null,null,null,""]
[null,null,null,null,null,null,null,null,null,null,null,null,null,null,null,null,null,null,null,null,null,null,null,null,null,null,null,null,null,null,null,null,null,""]
[null,{"$f":"IF(OR(H523=\"Socio o Accionista\",H523=\"Fideicomitente\",H523=\"Inversionista\",H523=\"Beneficiario de Activos/Rendimientos/Utilidades\"),\"Participación en %\",IF(H523=\"\",\"\",\"\"))","v":""},null,null,null,null,null,{"$f":"IF(H525<>\"\",\"¿Es Persona Expuesta Politicamente?\",\"\")","v":""},null,null,null,null,null,null,null,null,null,{"$f":"IF(OR(H525=\"NIT\",H525=\"Fideicomiso/Fondo\",H525=\"PJ No Residente\"),\"¿Emite acciones al portador?\",IF(H525=\"\",\"\",\"\"))","v":""},null,null,null,null,null,null,null,{"$f":"IF(OR(H525=\"NIT\",H525=\"Fideicomiso/Fondo\",H525=\"PJ No Residente\"),\"\",IF(H525=\"\",\"\",\"Género\"))","v":""},null,null,null,null,null,null,null,""]
[null,null,null,null,null,null,null,null,null,null,null,null,null,null,null,null,null,null,null,null,null,null,null,null,null,null,null,null,null,null,null,null,null,""]
[null,{"$f":"IF(OR(H525=\"NIT\",H525=\"Fideicomiso/Fondo\",H525=\"PJ No Residente\"),\"\",IF(H525=\"\",\"\",\"Fecha de Nacimiento\"))","v":""},null,null,null,null,null,null,null,null,null,{"$f":"IF(OR(H525=\"NIT\",H525=\"Fideicomiso/Fondo\",H525=\"PJ No Residente\"),\"\",IF(H525=\"\",\"\",\"País de nacimiento\"))","v":""},null,null,null,null,null,null,null,null,null,{"$f":"IF(OR(H525=\"NIT\",H525=\"Fideicomiso/Fondo\",H525=\"PJ No Residente\"),\"\",IF(H525=\"\",\"\",\"Nacionalidad\"))","v":""},null,null,null,null,null,null,null,null,null,null,null,""]
[null,null,null,null,null,null,null,null,null,null,null,null,null,null,null,null,null,null,null,null,null,null,null,null,null,null,null,null,null,null,null,null,null,""]
[null,{"$f":"IF(H525<>\"\",\"Pais de Residencia\",\"\")","v":""},null,null,null,null,null,null,null,null,null,{"$f":"IF(H525<>\"\",\"Departamento de Residencia\",\"\")","v":""},null,null,null,null,null,null,null,null,null,{"$f":"IF(H525<>\"\",\"Ciudad de Residencia\",\"\")","v":""},null,null,null,null,null,null,null,null,null,null,null,""]
[null,null,null,null,null,null,null,null,null,null,null,null,null,null,null,null,null,null,null,null,null,null,null,null,null,null,null,null,null,null,null,null,null,""]
[null,{"$f":"IF(H525<>\"\",\"Dirección de residencia\",\"\")","v":""},null,null,null,null,null,null,null,null,null,null,null,null,null,null,{"$f":"IF(H525<>\"\",\"Correo electrónico\",\"\")","v":""},null,null,null,null,null,null,null,null,null,null,null,null,null,null,null,null,""]
[null,null,null,null,null,null,null,null,null,null,null,null,null,null,null,null,null,null,null,null,null,null,null,null,null,null,null,null,null,null,null,null,null,""]
[null,null,null,null,null,null,null,null,null,null,null,null,null,null,null,null,null,null,null,null,null,null,null,null,null,null,null,null,null,null,null,null,null,""]
[null,{"$f":"IF(OR(H523=\"Socio o Accionista\"),\"Tipo de Participación\",IF(H523=\"\",\"\",\"\"))","v":""},null,null,null,null,null,null,null,{"$f":"IF(B542=\"Conjunta\",\"Tipo de Documento\",IF(B542=\"\",\"\",\"\"))","v":""},null,null,null,null,null,null,{"$f":"IF(B542=\"Conjunta\",\"N° de Documento\",IF(B542=\"\",\"\",\"\"))","v":""},null,null,null,null,null,null,{"$f":"IF(B542=\"Conjunta\",\"Parentesco\",IF(B542=\"\",\"\",\"\"))","v":""},null,null,null,null,null,null,null,null,null,""]
[null,null,null,null,null,null,null,null,null,null,null,null,null,null,null,null,null,null,null,null,null,null,null,null,null,null,null,null,null,null,null,null,null,""]
[null,null,null,null,null,null,null,null,null,null,null,null,null,null,null,null,null,null,null,null,null,null,null,null,null,null,null,null,null,null,null,null,null,""]
[null,{"$f":"IF(OR(H523=\"Socio o Accionista\"),\"Tipo de Participación\",IF(H526=\"\",\"\",\"\"))","v":""},null,null,null,null,null,null,null,{"$f":"IF(B545=\"Conjunta\",\"Tipo de Documento\",IF(B545=\"\",\"\",\"\"))","v":""},null,null,null,null,null,null,{"$f":"IF(B545=\"Conjunta\",\"N° de Documento\",IF(B545=\"\",\"\",\"\"))","v":""},null,null,null,null,null,null,{"$f":"IF(B545=\"Conjunta\",\"Parentesco\",IF(B545=\"\",\"\",\"\"))","v":""},null,null,null,null,null,null,null,null,null,""]
[null,null,null,null,null,null,null,null,null,null,null,null,null,null,null,null,null,null,null,null,null,null,null,null,null,null,null,null,null,null,null,null,null,""]
[null,null,null,null,null,null,null,null,null,null,null,null,null,null,null,null,null,null,null,null,null,null,null,null,null,null,null,null,null,null,null,null,null,""]
[null,{"$f":"IF(OR(H523=\"Socio o Accionista\"),\"Tipo de Participación\",IF(H529=\"\",\"\",\"\"))","v":""},null,null,null,null,null,null,null,{"$f":"IF(B548=\"Conjunta\",\"Tipo de Documento\",IF(B548=\"\",\"\",\"\"))","v":""},null,null,null,null,null,null,{"$f":"IF(B548=\"Conjunta\",\"N° de Documento\",IF(B548=\"\",\"\",\"\"))","v":""},null,null,null,null,null,null,{"$f":"IF(B548=\"Conjunta\",\"Parentesco\",IF(B548=\"\",\"\",\"\"))","v":""},null,null,null,null,null,null,null,null,null,""]
[null,null,null,null,null,null,null,null,null,null,null,null,null,null,null,null,null,null,null,null,null,null,null,null,null,null,null,null,null,null,null,null,null,""]
[null,null,null,null,null,null,null,null,null,null,null,null,null,null,null,null,null,null,null,null,null,null,null,null,null,null,null,null,null,null,null,null,null,""]
[null,{"$f":"IF(H525<>\"\",\"País de Expedición del NIT\",\"\")","v":""},null,null,null,null,null,null,null,null,null,null,null,null,null,null,{"$f":"IF(H525<>\"\",\"N° de Identificación Tributario\",\"\")","v":""},null,null,null,null,null,null,null,null,null,null,null,null,null,null,null,null,""]
[null,{"$f":"IF(H525<>\"\",\"1 -\",\"\")","v":""},null,null,null,null,null,null,null,null,null,null,null,null,null,null,{"$f":"IF(H525<>\"\",\"1 -\",\"\")","v":""},null,null,null,null,null,null,null,null,null,null,null,null,null,null,null,null,""]
[null,{"$f":"IF(H525<>\"\",\"2 -\",\"\")","v":""},null,null,null,null,null,null,null,null,null,null,null,null,null,null,{"$f":"IF(H525<>\"\",\"2 -\",\"\")","v":""},null,null,null,null,null,null,null,null,null,null,null,null,null,null,null,null,""]
[null,null,null,null,null,null,null,null,null,null,null,null,null,null,null,null,null,null,null,null,null,null,null,null,null,null,null,null,null,null,null,null,null,""]
["N1","Tipo de Relación",null,null,null,null,null,null,null,null,null,null,null,null,null,null,null,null,null,null,null,null,null,null,null,null,null,null,null,null,null,null,null,{"$f":"IF($H$554=\"\",\"\",\"1\")","v":""}]
[null,null,null,null,null,null,null,null,null,null,null,null,null,null,null,null,null,null,null,null,null,null,null,null,null,null,null,null,null,null,null,null,null,{"$f":"IF($H$554=\"\",\"\",\"1\")","v":""}]
[null,"Tipo de Documento",null,null,null,null,null,null,null,null,null,null,null,null,null,null,null,null,null,null,null,null,null,null,null,null,null,null,null,null,null,null,null,""]
[18,{"$f":"IF(H556<>\"\",\"N° de Documento\",\"\")","v":""},null,null,null,null,null,null,null,null,null,{"$f":"IF(H556<>\"\",\"Fecha de Expedición\",\"\")","v":""},null,null,null,null,null,null,null,null,null,{"$f":"IF(H556<>\"\",\"País de Expedición\",\"\")","v":""},null,null,null,null,null,null,null,null,null,null,null,""]
[null,null,null,null,null,null,null,null,null,null,null,null,null,null,null,null,null,null,null,null,null,null,null,null,null,null,null,null,null,null,null,null,null,""]
[null,{"$f":"IF(OR(H556=\"NIT\",H556=\"Fideicomiso/Fondo\",H556=\"PJ No Residente\"),\"Razón Social\",\"\")","v":""},null,null,null,null,null,null,null,null,null,null,null,null,null,null,null,null,null,null,null,null,null,null,null,null,null,null,null,null,null,null,null,""]
[null,null,null,null,null,null,null,null,null,null,null,null,null,null,null,null,null,null,null,null,null,null,null,null,null,null,null,null,null,null,null,null,null,""]
[null,{"$f":"IF(OR(H556=\"NIT\",H556=\"Fideicomiso/Fondo\",H556=\"PJ No Residente\",H556=\"\"),\"\",\"Primer Nombre\")","v":""},null,null,null,null,null,null,null,{"$f":"IF(OR(H556=\"NIT\",H556=\"Fideicomiso/Fondo\",H556=\"PJ No Residente\",H556=\"\"),\"\",\"Segundo Nombre\")","v":""},null,null,null,null,null,null,{"$f":"IF(OR(H556=\"NIT\",H556=\"Fideicomiso/Fondo\",H556=\"PJ No Residente\",H556=\"\"),\"\",\"Primer Apellido\")","v":""},null,null,null,null,null,null,{"$f":"IF(OR(H556=\"NIT\",H556=\"Fideicomiso/Fondo\",H556=\"PJ No Residente\",H556=\"\"),\"\",\"Segundo Apellido\")","v":""},null,null,null,null,null,null,null,null,null,""]
[null,null,null,null,null,null,null,null,null,null,null,null,null,null,null,null,null,null,null,null,null,null,null,null,null,null,null,null,null,null,null,null,null,""]
[null,{"$f":"IF(OR(H554=\"Socio o Accionista\",H554=\"Fideicomitente\",H554=\"Inversionista\",H554=\"Beneficiario de Activos/Rendimientos/Utilidades\"),\"Participación en %\",IF(H554=\"\",\"\",\"\"))","v":""},null,null,null,null,null,{"$f":"IF(H556<>\"\",\"¿Es Persona Expuesta Politicamente?\",\"\")","v":""},null,null,null,null,null,null,null,null,null,{"$f":"IF(OR(H556=\"NIT\",H556=\"Fideicomiso/Fondo\",H556=\"PJ No Residente\"),\"¿Emite acciones al portador?\",IF(H556=\"\",\"\",\"\"))","v":""},null,null,null,null,null,null,null,{"$f":"IF(OR(H556=\"NIT\",H556=\"Fideicomiso/Fondo\",H556=\"PJ No Residente\"),\"\",IF(H556=\"\",\"\",\"Género\"))","v":""},null,null,null,null,null,null,null,""]
[null,null,null,null,null,null,null,null,null,null,null,null,null,null,null,null,null,null,null,null,null,null,null,null,null,null,null,null,null,null,null,null,null,""]
[null,{"$f":"IF(OR(H556=\"NIT\",H556=\"Fideicomiso/Fondo\",H556=\"PJ No Residente\"),\"\",IF(H556=\"\",\"\",\"Fecha de Nacimiento\"))","v":""},null,null,null,null,null,null,null,null,null,{"$f":"IF(OR(H556=\"NIT\",H556=\"Fideicomiso/Fondo\",H556=\"PJ No Residente\"),\"\",IF(H556=\"\",\"\",\"País de nacimiento\"))","v":""},null,null,null,null,null,null,null,null,null,{"$f":"IF(OR(H556=\"NIT\",H556=\"Fideicomiso/Fondo\",H556=\"PJ No Residente\"),\"\",IF(H556=\"\",\"\",\"Nacionalidad\"))","v":""},null,null,null,null,null,null,null,null,null,null,null,""]
[null,null,null,null,null,null,null,null,null,null,null,null,null,null,null,null,null,null,null,null,null,null,null,null,null,null,null,null,null,null,null,null,null,""]
[null,{"$f":"IF(H556<>\"\",\"Pais de Residencia\",\"\")","v":""},null,null,null,null,null,null,null,null,null,{"$f":"IF(H556<>\"\",\"Departamento de Residencia\",\"\")","v":""},null,null,null,null,null,null,null,null,null,{"$f":"IF(H556<>\"\",\"Ciudad de Residencia\",\"\")","v":""},null,null,null,null,null,null,null,null,null,null,null,""]
[null,null,null,null,null,null,null,null,null,null,null,null,null,null,null,null,null,null,null,null,null,null,null,null,null,null,null,null,null,null,null,null,null,""]
[null,{"$f":"IF(H556<>\"\",\"Dirección de residencia\",\"\")","v":""},null,null,null,null,null,null,null,null,null,null,null,null,null,null,{"$f":"IF(H556<>\"\",\"Correo electrónico\",\"\")","v":""},null,null,null,null,null,null,null,null,null,null,null,null,null,null,null,null,""]
[null,null,null,null,null,null,null,null,null,null,null,null,null,null,null,null,null,null,null,null,null,null,null,null,null,null,null,null,null,null,null,null,null,""]
[null,null,null,null,null,null,null,null,null,null,null,null,null,null,null,null,null,null,null,null,null,null,null,null,null,null,null,null,null,null,null,null,null,""]
[null,{"$f":"IF(OR(H554=\"Socio o Accionista\"),\"Tipo de Participación\",IF(H554=\"\",\"\",\"\"))","v":""},null,null,null,null,null,null,null,{"$f":"IF(B573=\"Conjunta\",\"Tipo de Documento\",IF(B573=\"\",\"\",\"\"))","v":""},null,null,null,null,null,null,{"$f":"IF(B573=\"Conjunta\",\"N° de Documento\",IF(B573=\"\",\"\",\"\"))","v":""},null,null,null,null,null,null,{"$f":"IF(B573=\"Conjunta\",\"Parentesco\",IF(B573=\"\",\"\",\"\"))","v":""},null,null,null,null,null,null,null,null,null,""]
[null,null,null,null,null,null,null,null,null,null,null,null,null,null,null,null,null,null,null,null,null,null,null,null,null,null,null,null,null,null,null,null,null,""]
[null,null,null,null,null,null,null,null,null,null,null,null,null,null,null,null,null,null,null,null,null,null,null,null,null,null,null,null,null,null,null,null,null,""]
[null,{"$f":"IF(OR(H554=\"Socio o Accionista\"),\"Tipo de Participación\",IF(H557=\"\",\"\",\"\"))","v":""},null,null,null,null,null,null,null,{"$f":"IF(B576=\"Conjunta\",\"Tipo de Documento\",IF(B576=\"\",\"\",\"\"))","v":""},null,null,null,null,null,null,{"$f":"IF(B576=\"Conjunta\",\"N° de Documento\",IF(B576=\"\",\"\",\"\"))","v":""},null,null,null,null,null,null,{"$f":"IF(B576=\"Conjunta\",\"Parentesco\",IF(B576=\"\",\"\",\"\"))","v":""},null,null,null,null,null,null,null,null,null,""]
[null,null,null,null,null,null,null,null,null,null,null,null,null,null,null,null,null,null,null,null,null,null,null,null,null,null,null,null,null,null,null,null,null,""]
[null,null,null,null,null,null,null,null,null,null,null,null,null,null,null,null,null,null,null,null,null,null,null,null,null,null,null,null,null,null,null,null,null,""]
[null,{"$f":"IF(OR(H554=\"Socio o Accionista\"),\"Tipo de Participación\",IF(H560=\"\",\"\",\"\"))","v":""},null,null,null,null,null,null,null,{"$f":"IF(B579=\"Conjunta\",\"Tipo de Documento\",IF(B579=\"\",\"\",\"\"))","v":""},null,null,null,null,null,null,{"$f":"IF(B579=\"Conjunta\",\"N° de Documento\",IF(B579=\"\",\"\",\"\"))","v":""},null,null,null,null,null,null,{"$f":"IF(B579=\"Conjunta\",\"Parentesco\",IF(B579=\"\",\"\",\"\"))","v":""},null,null,null,null,null,null,null,null,null,""]
[null,null,null,null,null,null,null,null,null,null,null,null,null,null,null,null,null,null,null,null,null,null,null,null,null,null,null,null,null,null,null,null,null,""]
[null,null,null,null,null,null,null,null,null,null,null,null,null,null,null,null,null,null,null,null,null,null,null,null,null,null,null,null,null,null,null,null,null,""]
[null,{"$f":"IF(H556<>\"\",\"País de Expedición del NIT\",\"\")","v":""},null,null,null,null,null,null,null,null,null,null,null,null,null,null,{"$f":"IF(H556<>\"\",\"N° de Identificación Tributario\",\"\")","v":""},null,null,null,null,null,null,null,null,null,null,null,null,null,null,null,null,""]
[null,{"$f":"IF(H556<>\"\",\"1 -\",\"\")","v":""},null,null,null,null,null,null,null,null,null,null,null,null,null,null,{"$f":"IF(H556<>\"\",\"1 -\",\"\")","v":""},null,null,null,null,null,null,null,null,null,null,null,null,null,null,null,null,""]
[null,{"$f":"IF(H556<>\"\",\"2 -\",\"\")","v":""},null,null,null,null,null,null,null,null,null,null,null,null,null,null,{"$f":"IF(H556<>\"\",\"2 -\",\"\")","v":""},null,null,null,null,null,null,null,null,null,null,null,null,null,null,null,null,""]
[null,null,null,null,null,null,null,null,null,null,null,null,null,null,null,null,null,null,null,null,null,null,null,null,null,null,null,null,null,null,null,null,null,""]
["N1","Tipo de Relación",null,null,null,null,null,null,null,null,null,null,null,null,null,null,null,null,null,null,null,null,null,null,null,null,null,null,null,null,null,null,null,""]
[null,null,null,null,null,null,null,null,null,null,null,null,null,null,null,null,null,null,null,null,null,null,null,null,null,null,null,null,null,null,null,null,null,""]
[null,"Tipo de Documento",null,null,null,null,null,null,null,null,null,null,null,null,null,null,null,null,null,null,null,null,null,null,null,null,null,null,null,null,null,null,null,""]
[19,{"$f":"IF(H587<>\"\",\"N° de Documento\",\"\")","v":""},null,null,null,null,null,null,null,null,null,{"$f":"IF(H587<>\"\",\"Fecha de Expedición\",\"\")","v":""},null,null,null,null,null,null,null,null,null,{"$f":"IF(H587<>\"\",\"País de Expedición\",\"\")","v":""},null,null,null,null,null,null,null,null,null,null,null,""]
[null,null,null,null,null,null,null,null,null,null,null,null,null,null,null,null,null,null,null,null,null,null,null,null,null,null,null,null,null,null,null,null,null,""]
[null,{"$f":"IF(OR(H587=\"NIT\",H587=\"Fideicomiso/Fondo\",H587=\"PJ No Residente\"),\"Razón Social\",\"\")","v":""},null,null,null,null,null,null,null,null,null,null,null,null,null,null,null,null,null,null,null,null,null,null,null,null,null,null,null,null,null,null,null,""]
[null,null,null,null,null,null,null,null,null,null,null,null,null,null,null,null,null,null,null,null,null,null,null,null,null,null,null,null,null,null,null,null,null,""]
[null,{"$f":"IF(OR(H587=\"NIT\",H587=\"Fideicomiso/Fondo\",H587=\"PJ No Residente\",H587=\"\"),\"\",\"Primer Nombre\")","v":""},null,null,null,null,null,null,null,{"$f":"IF(OR(H587=\"NIT\",H587=\"Fideicomiso/Fondo\",H587=\"PJ No Residente\",H587=\"\"),\"\",\"Segundo Nombre\")","v":""},null,null,null,null,null,null,{"$f":"IF(OR(H587=\"NIT\",H587=\"Fideicomiso/Fondo\",H587=\"PJ No Residente\",H587=\"\"),\"\",\"Primer Apellido\")","v":""},null,null,null,null,null,null,{"$f":"IF(OR(H587=\"NIT\",H587=\"Fideicomiso/Fondo\",H587=\"PJ No Residente\",H587=\"\"),\"\",\"Segundo Apellido\")","v":""},null,null,null,null,null,null,null,null,null,""]
[null,null,null,null,null,null,null,null,null,null,null,null,null,null,null,null,null,null,null,null,null,null,null,null,null,null,null,null,null,null,null,null,null,""]
[null,{"$f":"IF(OR(H585=\"Socio o Accionista\",H585=\"Fideicomitente\",H585=\"Inversionista\",H585=\"Beneficiario de Activos/Rendimientos/Utilidades\"),\"Participación en %\",IF(H585=\"\",\"\",\"\"))","v":""},null,null,null,null,null,{"$f":"IF(H587<>\"\",\"¿Es Persona Expuesta Politicamente?\",\"\")","v":""},null,null,null,null,null,null,null,null,null,{"$f":"IF(OR(H587=\"NIT\",H587=\"Fideicomiso/Fondo\",H587=\"PJ No Residente\"),\"¿Emite acciones al portador?\",IF(H587=\"\",\"\",\"\"))","v":""},null,null,null,null,null,null,null,{"$f":"IF(OR(H587=\"NIT\",H587=\"Fideicomiso/Fondo\",H587=\"PJ No Residente\"),\"\",IF(H587=\"\",\"\",\"Género\"))","v":""},null,null,null,null,null,null,null,""]
[null,null,null,null,null,null,null,null,null,null,null,null,null,null,null,null,null,null,null,null,null,null,null,null,null,null,null,null,null,null,null,null,null,""]
[null,{"$f":"IF(OR(H587=\"NIT\",H587=\"Fideicomiso/Fondo\",H587=\"PJ No Residente\"),\"\",IF(H587=\"\",\"\",\"Fecha de Nacimiento\"))","v":""},null,null,null,null,null,null,null,null,null,{"$f":"IF(OR(H587=\"NIT\",H587=\"Fideicomiso/Fondo\",H587=\"PJ No Residente\"),\"\",IF(H587=\"\",\"\",\"País de nacimiento\"))","v":""},null,null,null,null,null,null,null,null,null,{"$f":"IF(OR(H587=\"NIT\",H587=\"Fideicomiso/Fondo\",H587=\"PJ No Residente\"),\"\",IF(H587=\"\",\"\",\"Nacionalidad\"))","v":""},null,null,null,null,null,null,null,null,null,null,null,""]
[null,null,null,null,null,null,null,null,null,null,null,null,null,null,null,null,null,null,null,null,null,null,null,null,null,null,null,null,null,null,null,null,null,""]
[null,{"$f":"IF(H587<>\"\",\"Pais de Residencia\",\"\")","v":""},null,null,null,null,null,null,null,null,null,{"$f":"IF(H587<>\"\",\"Departamento de Residencia\",\"\")","v":""},null,null,null,null,null,null,null,null,null,{"$f":"IF(H587<>\"\",\"Ciudad de Residencia\",\"\")","v":""},null,null,null,null,null,null,null,null,null,null,null,""]
[null,null,null,null,null,null,null,null,null,null,null,null,null,null,null,null,null,null,null,null,null,null,null,null,null,null,null,null,null,null,null,null,null,""]
[null,{"$f":"IF(H587<>\"\",\"Dirección de residencia\",\"\")","v":""},null,null,null,null,null,null,null,null,null,null,null,null,null,null,{"$f":"IF(H587<>\"\",\"Correo electrónico\",\"\")","v":""},null,null,null,null,null,null,null,null,null,null,null,null,null,null,null,null,""]
[null,null,null,null,null,null,null,null,null,null,null,null,null,null,null,null,null,null,null,null,null,null,null,null,null,null,null,null,null,null,null,null,null,""]
[null,null,null,null,null,null,null,null,null,null,null,null,null,null,null,null,null,null,null,null,null,null,null,null,null,null,null,null,null,null,null,null,null,""]
[null,{"$f":"IF(OR(H585=\"Socio o Accionista\"),\"Tipo de Participación\",IF(H585=\"\",\"\",\"\"))","v":""},null,null,null,null,null,null,null,{"$f":"IF(B604=\"Conjunta\",\"Tipo de Documento\",IF(B604=\"\",\"\",\"\"))","v":""},null,null,null,null,null,null,{"$f":"IF(B604=\"Conjunta\",\"N° de Documento\",IF(B604=\"\",\"\",\"\"))","v":""},null,null,null,null,null,null,{"$f":"IF(B604=\"Conjunta\",\"Parentesco\",IF(B604=\"\",\"\",\"\"))","v":""},null,null,null,null,null,null,null,null,null,""]
[null,null,null,null,null,null,null,null,null,null,null,null,null,null,null,null,null,null,null,null,null,null,null,null,null,null,null,null,null,null,null,null,null,""]
[null,null,null,null,null,null,null,null,null,null,null,null,null,null,null,null,null,null,null,null,null,null,null,null,null,null,null,null,null,null,null,null,null,""]
[null,{"$f":"IF(OR(H585=\"Socio o Accionista\"),\"Tipo de Participación\",IF(H588=\"\",\"\",\"\"))","v":""},null,null,null,null,null,null,null,{"$f":"IF(B607=\"Conjunta\",\"Tipo de Documento\",IF(B607=\"\",\"\",\"\"))","v":""},null,null,null,null,null,null,{"$f":"IF(B607=\"Conjunta\",\"N° de Documento\",IF(B607=\"\",\"\",\"\"))","v":""},null,null,null,null,null,null,{"$f":"IF(B607=\"Conjunta\",\"Parentesco\",IF(B607=\"\",\"\",\"\"))","v":""},null,null,null,null,null,null,null,null,null,""]
[null,null,null,null,null,null,null,null,null,null,null,null,null,null,null,null,null,null,null,null,null,null,null,null,null,null,null,null,null,null,null,null,null,""]
[null,null,null,null,null,null,null,null,null,null,null,null,null,null,null,null,null,null,null,null,null,null,null,null,null,null,null,null,null,null,null,null,null,""]
[null,{"$f":"IF(OR(H585=\"Socio o Accionista\"),\"Tipo de Participación\",IF(H591=\"\",\"\",\"\"))","v":""},null,null,null,null,null,null,null,{"$f":"IF(B610=\"Conjunta\",\"Tipo de Documento\",IF(B610=\"\",\"\",\"\"))","v":""},null,null,null,null,null,null,{"$f":"IF(B610=\"Conjunta\",\"N° de Documento\",IF(B610=\"\",\"\",\"\"))","v":""},null,null,null,null,null,null,{"$f":"IF(B610=\"Conjunta\",\"Parentesco\",IF(B610=\"\",\"\",\"\"))","v":""},null,null,null,null,null,null,null,null,null,""]
[null,null,null,null,null,null,null,null,null,null,null,null,null,null,null,null,null,null,null,null,null,null,null,null,null,null,null,null,null,null,null,null,null,""]
[null,null,null,null,null,null,null,null,null,null,null,null,null,null,null,null,null,null,null,null,null,null,null,null,null,null,null,null,null,null,null,null,null,""]
[null,{"$f":"IF(H587<>\"\",\"País de Expedición del NIT\",\"\")","v":""},null,null,null,null,null,null,null,null,null,null,null,null,null,null,{"$f":"IF(H587<>\"\",\"N° de Identificación Tributario\",\"\")","v":""},null,null,null,null,null,null,null,null,null,null,null,null,null,null,null,null,""]
[null,{"$f":"IF(H587<>\"\",\"1 -\",\"\")","v":""},null,null,null,null,null,null,null,null,null,null,null,null,null,null,{"$f":"IF(H587<>\"\",\"1 -\",\"\")","v":""},null,null,null,null,null,null,null,null,null,null,null,null,null,null,null,null,""]
[null,{"$f":"IF(H587<>\"\",\"2 -\",\"\")","v":""},null,null,null,null,null,null,null,null,null,null,null,null,null,null,{"$f":"IF(H587<>\"\",\"2 -\",\"\")","v":""},null,null,null,null,null,null,null,null,null,null,null,null,null,null,null,null,""]
[null,null,null,null,null,null,null,null,null,null,null,null,null,null,null,null,null,null,null,null,null,null,null,null,null,null,null,null,null,null,null,null,null,""]
["N1","Tipo de Relación",null,null,null,null,null,null,null,null,null,null,null,null,null,null,null,null,null,null,null,null,null,null,null,null,null,null,null,null,null,null,null,{"$f":"IF($H$616=\"\",\"\",\"1\")","v":""}]
[null,null,null,null,null,null,null,null,null,null,null,null,null,null,null,null,null,null,null,null,null,null,null,null,null,null,null,null,null,null,null,null,null,{"$f":"IF($H$616=\"\",\"\",\"1\")","v":""}]
[null,"Tipo de Documento",null,null,null,null,null,null,null,null,null,null,null,null,null,null,null,null,null,null,null,null,null,null,null,null,null,null,null,null,null,null,null,""]
[20,{"$f":"IF(H618<>\"\",\"N° de Documento\",\"\")","v":""},null,null,null,null,null,null,null,null,null,{"$f":"IF(H618<>\"\",\"Fecha de Expedición\",\"\")","v":""},null,null,null,null,null,null,null,null,null,{"$f":"IF(H618<>\"\",\"País de Expedición\",\"\")","v":""},null,null,null,null,null,null,null,null,null,null,null,""]
[null,null,null,null,null,null,null,null,null,null,null,null,null,null,null,null,null,null,null,null,null,null,null,null,null,null,null,null,null,null,null,null,null,""]
[null,{"$f":"IF(OR(H618=\"NIT\",H618=\"Fideicomiso/Fondo\",H618=\"PJ No Residente\"),\"Razón Social\",\"\")","v":""},null,null,null,null,null,null,null,null,null,null,null,null,null,null,null,null,null,null,null,null,null,null,null,null,null,null,null,null,null,null,null,""]
[null,null,null,null,null,null,null,null,null,null,null,null,null,null,null,null,null,null,null,null,null,null,null,null,null,null,null,null,null,null,null,null,null,""]
[null,{"$f":"IF(OR(H618=\"NIT\",H618=\"Fideicomiso/Fondo\",H618=\"PJ No Residente\",H618=\"\"),\"\",\"Primer Nombre\")","v":""},null,null,null,null,null,null,null,{"$f":"IF(OR(H618=\"NIT\",H618=\"Fideicomiso/Fondo\",H618=\"PJ No Residente\",H618=\"\"),\"\",\"Segundo Nombre\")","v":""},null,null,null,null,null,null,{"$f":"IF(OR(H618=\"NIT\",H618=\"Fideicomiso/Fondo\",H618=\"PJ No Residente\",H618=\"\"),\"\",\"Primer Apellido\")","v":""},null,null,null,null,null,null,{"$f":"IF(OR(H618=\"NIT\",H618=\"Fideicomiso/Fondo\",H618=\"PJ No Residente\",H618=\"\"),\"\",\"Segundo Apellido\")","v":""},null,null,null,null,null,null,null,null,null,""]
[null,null,null,null,null,null,null,null,null,null,null,null,null,null,null,null,null,null,null,null,null,null,null,null,null,null,null,null,null,null,null,null,null,""]
[null,{"$f":"IF(OR(H616=\"Socio o Accionista\",H616=\"Fideicomitente\",H616=\"Inversionista\",H616=\"Beneficiario de Activos/Rendimientos/Utilidades\"),\"Participación en %\",IF(H616=\"\",\"\",\"\"))","v":""},null,null,null,null,null,{"$f":"IF(H618<>\"\",\"¿Es Persona Expuesta Politicamente?\",\"\")","v":""},null,null,null,null,null,null,null,null,null,{"$f":"IF(OR(H618=\"NIT\",H618=\"Fideicomiso/Fondo\",H618=\"PJ No Residente\"),\"¿Emite acciones al portador?\",IF(H618=\"\",\"\",\"\"))","v":""},null,null,null,null,null,null,null,{"$f":"IF(OR(H618=\"NIT\",H618=\"Fideicomiso/Fondo\",H618=\"PJ No Residente\"),\"\",IF(H618=\"\",\"\",\"Género\"))","v":""},null,null,null,null,null,null,null,""]
[null,null,null,null,null,null,null,null,null,null,null,null,null,null,null,null,null,null,null,null,null,null,null,null,null,null,null,null,null,null,null,null,null,""]
[null,{"$f":"IF(OR(H618=\"NIT\",H618=\"Fideicomiso/Fondo\",H618=\"PJ No Residente\"),\"\",IF(H618=\"\",\"\",\"Fecha de Nacimiento\"))","v":""},null,null,null,null,null,null,null,null,null,{"$f":"IF(OR(H618=\"NIT\",H618=\"Fideicomiso/Fondo\",H618=\"PJ No Residente\"),\"\",IF(H618=\"\",\"\",\"País de nacimiento\"))","v":""},null,null,null,null,null,null,null,null,null,{"$f":"IF(OR(H618=\"NIT\",H618=\"Fideicomiso/Fondo\",H618=\"PJ No Residente\"),\"\",IF(H618=\"\",\"\",\"Nacionalidad\"))","v":""},null,null,null,null,null,null,null,null,null,null,null,""]
[null,null,null,null,null,null,null,null,null,null,null,null,null,null,null,null,null,null,null,null,null,null,null,null,null,null,null,null,null,null,null,null,null,""]
[null,{"$f":"IF(H618<>\"\",\"Pais de Residencia\",\"\")","v":""},null,null,null,null,null,null,null,null,null,{"$f":"IF(H618<>\"\",\"Departamento de Residencia\",\"\")","v":""},null,null,null,null,null,null,null,null,null,{"$f":"IF(H618<>\"\",\"Ciudad de Residencia\",\"\")","v":""},null,null,null,null,null,null,null,null,null,null,null,""]
[null,null,null,null,null,null,null,null,null,null,null,null,null,null,null,null,null,null,null,null,null,null,null,null,null,null,null,null,null,null,null,null,null,""]
[null,{"$f":"IF(H618<>\"\",\"Dirección de residencia\",\"\")","v":""},null,null,null,null,null,null,null,null,null,null,null,null,null,null,{"$f":"IF(H618<>\"\",\"Correo electrónico\",\"\")","v":""},null,null,null,null,null,null,null,null,null,null,null,null,null,null,null,null,""]
[null,null,null,null,null,null,null,null,null,null,null,null,null,null,null,null,null,null,null,null,null,null,null,null,null,null,null,null,null,null,null,null,null,""]
[null,null,null,null,null,null,null,null,null,null,null,null,null,null,null,null,null,null,null,null,null,null,null,null,null,null,null,null,null,null,null,null,null,""]
[null,{"$f":"IF(OR(H616=\"Socio o Accionista\"),\"Tipo de Participación\",IF(H616=\"\",\"\",\"\"))","v":""},null,null,null,null,null,null,null,{"$f":"IF(B635=\"Conjunta\",\"Tipo de Documento\",IF(B635=\"\",\"\",\"\"))","v":""},null,null,null,null,null,null,{"$f":"IF(B635=\"Conjunta\",\"N° de Documento\",IF(B635=\"\",\"\",\"\"))","v":""},null,null,null,null,null,null,{"$f":"IF(B635=\"Conjunta\",\"Parentesco\",IF(B635=\"\",\"\",\"\"))","v":""},null,null,null,null,null,null,null,null,null,""]
[null,null,null,null,null,null,null,null,null,null,null,null,null,null,null,null,null,null,null,null,null,null,null,null,null,null,null,null,null,null,null,null,null,""]
[null,null,null,null,null,null,null,null,null,null,null,null,null,null,null,null,null,null,null,null,null,null,null,null,null,null,null,null,null,null,null,null,null,""]
[null,{"$f":"IF(OR(H616=\"Socio o Accionista\"),\"Tipo de Participación\",IF(H619=\"\",\"\",\"\"))","v":""},null,null,null,null,null,null,null,{"$f":"IF(B638=\"Conjunta\",\"Tipo de Documento\",IF(B638=\"\",\"\",\"\"))","v":""},null,null,null,null,null,null,{"$f":"IF(B638=\"Conjunta\",\"N° de Documento\",IF(B638=\"\",\"\",\"\"))","v":""},null,null,null,null,null,null,{"$f":"IF(B638=\"Conjunta\",\"Parentesco\",IF(B638=\"\",\"\",\"\"))","v":""},null,null,null,null,null,null,null,null,null,""]
[null,null,null,null,null,null,null,null,null,null,null,null,null,null,null,null,null,null,null,null,null,null,null,null,null,null,null,null,null,null,null,null,null,""]
[null,null,null,null,null,null,null,null,null,null,null,null,null,null,null,null,null,null,null,null,null,null,null,null,null,null,null,null,null,null,null,null,null,""]
[null,{"$f":"IF(OR(H616=\"Socio o Accionista\"),\"Tipo de Participación\",IF(H622=\"\",\"\",\"\"))","v":""},null,null,null,null,null,null,null,{"$f":"IF(B641=\"Conjunta\",\"Tipo de Documento\",IF(B641=\"\",\"\",\"\"))","v":""},null,null,null,null,null,null,{"$f":"IF(B641=\"Conjunta\",\"N° de Documento\",IF(B641=\"\",\"\",\"\"))","v":""},null,null,null,null,null,null,{"$f":"IF(B641=\"Conjunta\",\"Parentesco\",IF(B641=\"\",\"\",\"\"))","v":""},null,null,null,null,null,null,null,null,null,""]
[null,null,null,null,null,null,null,null,null,null,null,null,null,null,null,null,null,null,null,null,null,null,null,null,null,null,null,null,null,null,null,null,null,""]
[null,null,null,null,null,null,null,null,null,null,null,null,null,null,null,null,null,null,null,null,null,null,null,null,null,null,null,null,null,null,null,null,null,""]
[null,{"$f":"IF(H618<>\"\",\"País de Expedición del NIT\",\"\")","v":""},null,null,null,null,null,null,null,null,null,null,null,null,null,null,{"$f":"IF(H618<>\"\",\"N° de Identificación Tributario\",\"\")","v":""},null,null,null,null,null,null,null,null,null,null,null,null,null,null,null,null,""]
[null,{"$f":"IF(H618<>\"\",\"1 -\",\"\")","v":""},null,null,null,null,null,null,null,null,null,null,null,null,null,null,{"$f":"IF(H618<>\"\",\"1 -\",\"\")","v":""},null,null,null,null,null,null,null,null,null,null,null,null,null,null,null,null,""]
[null,{"$f":"IF(H618<>\"\",\"2 -\",\"\")","v":""},null,null,null,null,null,null,null,null,null,null,null,null,null,null,{"$f":"IF(H618<>\"\",\"2 -\",\"\")","v":""},null,null,null,null,null,null,null,null,null,null,null,null,null,null,null,null,""]
[null,null,null,null,null,null,null,null,null,null,null,null,null,null,null,null,null,null,null,null,null,null,null,null,null,null,null,null,null,null,null,null,null,""]
["N1","Tipo de Relación",null,null,null,null,null,null,null,null,null,null,null,null,null,null,null,null,null,null,null,null,null,null,null,null,null,null,null,null,null,null,null,""]
[null,null,null,null,null,null,null,null,null,null,null,null,null,null,null,null,null,null,null,null,null,null,null,null,null,null,null,null,null,null,null,null,null,""]
[null,"Tipo de Documento",null,null,null,null,null,null,null,null,null,null,null,null,null,null,null,null,null,null,null,null,null,null,null,null,null,null,null,null,null,null,null,""]
[21,{"$f":"IF(H649<>\"\",\"N° de Documento\",\"\")","v":""},null,null,null,null,null,null,null,null,null,{"$f":"IF(H649<>\"\",\"Fecha de Expedición\",\"\")","v":""},null,null,null,null,null,null,null,null,null,{"$f":"IF(H649<>\"\",\"País de Expedición\",\"\")","v":""},null,null,null,null,null,null,null,null,null,null,null,""]
[null,null,null,null,null,null,null,null,null,null,null,null,null,null,null,null,null,null,null,null,null,null,null,null,null,null,null,null,null,null,null,null,null,""]
[null,{"$f":"IF(OR(H649=\"NIT\",H649=\"Fideicomiso/Fondo\",H649=\"PJ No Residente\"),\"Razón Social\",\"\")","v":""},null,null,null,null,null,null,null,null,null,null,null,null,null,null,null,null,null,null,null,null,null,null,null,null,null,null,null,null,null,null,null,""]
[null,null,null,null,null,null,null,null,null,null,null,null,null,null,null,null,null,null,null,null,null,null,null,null,null,null,null,null,null,null,null,null,null,""]
[null,{"$f":"IF(OR(H649=\"NIT\",H649=\"Fideicomiso/Fondo\",H649=\"PJ No Residente\",H649=\"\"),\"\",\"Primer Nombre\")","v":""},null,null,null,null,null,null,null,{"$f":"IF(OR(H649=\"NIT\",H649=\"Fideicomiso/Fondo\",H649=\"PJ No Residente\",H649=\"\"),\"\",\"Segundo Nombre\")","v":""},null,null,null,null,null,null,{"$f":"IF(OR(H649=\"NIT\",H649=\"Fideicomiso/Fondo\",H649=\"PJ No Residente\",H649=\"\"),\"\",\"Primer Apellido\")","v":""},null,null,null,null,null,null,{"$f":"IF(OR(H649=\"NIT\",H649=\"Fideicomiso/Fondo\",H649=\"PJ No Residente\",H649=\"\"),\"\",\"Segundo Apellido\")","v":""},null,null,null,null,null,null,null,null,null,""]
[null,null,null,null,null,null,null,null,null,null,null,null,null,null,null,null,null,null,null,null,null,null,null,null,null,null,null,null,null,null,null,null,null,""]
[null,{"$f":"IF(OR(H647=\"Socio o Accionista\",H647=\"Fideicomitente\",H647=\"Inversionista\",H647=\"Beneficiario de Activos/Rendimientos/Utilidades\"),\"Participación en %\",IF(H647=\"\",\"\",\"\"))","v":""},null,null,null,null,null,{"$f":"IF(H649<>\"\",\"¿Es Persona Expuesta Politicamente?\",\"\")","v":""},null,null,null,null,null,null,null,null,null,{"$f":"IF(OR(H649=\"NIT\",H649=\"Fideicomiso/Fondo\",H649=\"PJ No Residente\"),\"¿Emite acciones al portador?\",IF(H649=\"\",\"\",\"\"))","v":""},null,null,null,null,null,null,null,{"$f":"IF(OR(H649=\"NIT\",H649=\"Fideicomiso/Fondo\",H649=\"PJ No Residente\"),\"\",IF(H649=\"\",\"\",\"Género\"))","v":""},null,null,null,null,null,null,null,""]
[null,null,null,null,null,null,null,null,null,null,null,null,null,null,null,null,null,null,null,null,null,null,null,null,null,null,null,null,null,null,null,null,null,""]
[null,{"$f":"IF(OR(H649=\"NIT\",H649=\"Fideicomiso/Fondo\",H649=\"PJ No Residente\"),\"\",IF(H649=\"\",\"\",\"Fecha de Nacimiento\"))","v":""},null,null,null,null,null,null,null,null,null,{"$f":"IF(OR(H649=\"NIT\",H649=\"Fideicomiso/Fondo\",H649=\"PJ No Residente\"),\"\",IF(H649=\"\",\"\",\"País de nacimiento\"))","v":""},null,null,null,null,null,null,null,null,null,{"$f":"IF(OR(H649=\"NIT\",H649=\"Fideicomiso/Fondo\",H649=\"PJ No Residente\"),\"\",IF(H649=\"\",\"\",\"Nacionalidad\"))","v":""},null,null,null,null,null,null,null,null,null,null,null,""]
[null,null,null,null,null,null,null,null,null,null,null,null,null,null,null,null,null,null,null,null,null,null,null,null,null,null,null,null,null,null,null,null,null,""]
[null,{"$f":"IF(H649<>\"\",\"Pais de Residencia\",\"\")","v":""},null,null,null,null,null,null,null,null,null,{"$f":"IF(H649<>\"\",\"Departamento de Residencia\",\"\")","v":""},null,null,null,null,null,null,null,null,null,{"$f":"IF(H649<>\"\",\"Ciudad de Residencia\",\"\")","v":""},null,null,null,null,null,null,null,null,null,null,null,""]
[null,null,null,null,null,null,null,null,null,null,null,null,null,null,null,null,null,null,null,null,null,null,null,null,null,null,null,null,null,null,null,null,null,""]
[null,{"$f":"IF(H649<>\"\",\"Dirección de residencia\",\"\")","v":""},null,null,null,null,null,null,null,null,null,null,null,null,null,null,{"$f":"IF(H649<>\"\",\"Correo electrónico\",\"\")","v":""},null,null,null,null,null,null,null,null,null,null,null,null,null,null,null,null,""]
[null,null,null,null,null,null,null,null,null,null,null,null,null,null,null,null,null,null,null,null,null,null,null,null,null,null,null,null,null,null,null,null,null,""]
[null,null,null,null,null,null,null,null,null,null,null,null,null,null,null,null,null,null,null,null,null,null,null,null,null,null,null,null,null,null,null,null,null,""]
[null,{"$f":"IF(OR(H647=\"Socio o Accionista\"),\"Tipo de Participación\",IF(H647=\"\",\"\",\"\"))","v":""},null,null,null,null,null,null,null,{"$f":"IF(B666=\"Conjunta\",\"Tipo de Documento\",IF(B666=\"\",\"\",\"\"))","v":""},null,null,null,null,null,null,{"$f":"IF(B666=\"Conjunta\",\"N° de Documento\",IF(B666=\"\",\"\",\"\"))","v":""},null,null,null,null,null,null,{"$f":"IF(B666=\"Conjunta\",\"Parentesco\",IF(B666=\"\",\"\",\"\"))","v":""},null,null,null,null,null,null,null,null,null,""]
[null,null,null,null,null,null,null,null,null,null,null,null,null,null,null,null,null,null,null,null,null,null,null,null,null,null,null,null,null,null,null,null,null,""]
[null,null,null,null,null,null,null,null,null,null,null,null,null,null,null,null,null,null,null,null,null,null,null,null,null,null,null,null,null,null,null,null,null,""]
[null,{"$f":"IF(OR(H647=\"Socio o Accionista\"),\"Tipo de Participación\",IF(H650=\"\",\"\",\"\"))","v":""},null,null,null,null,null,null,null,{"$f":"IF(B669=\"Conjunta\",\"Tipo de Documento\",IF(B669=\"\",\"\",\"\"))","v":""},null,null,null,null,null,null,{"$f":"IF(B669=\"Conjunta\",\"N° de Documento\",IF(B669=\"\",\"\",\"\"))","v":""},null,null,null,null,null,null,{"$f":"IF(B669=\"Conjunta\",\"Parentesco\",IF(B669=\"\",\"\",\"\"))","v":""},null,null,null,null,null,null,null,null,null,""]
[null,null,null,null,null,null,null,null,null,null,null,null,null,null,null,null,null,null,null,null,null,null,null,null,null,null,null,null,null,null,null,null,null,""]
[null,null,null,null,null,null,null,null,null,null,null,null,null,null,null,null,null,null,null,null,null,null,null,null,null,null,null,null,null,null,null,null,null,""]
[null,{"$f":"IF(OR(H647=\"Socio o Accionista\"),\"Tipo de Participación\",IF(H653=\"\",\"\",\"\"))","v":""},null,null,null,null,null,null,null,{"$f":"IF(B672=\"Conjunta\",\"Tipo de Documento\",IF(B672=\"\",\"\",\"\"))","v":""},null,null,null,null,null,null,{"$f":"IF(B672=\"Conjunta\",\"N° de Documento\",IF(B672=\"\",\"\",\"\"))","v":""},null,null,null,null,null,null,{"$f":"IF(B672=\"Conjunta\",\"Parentesco\",IF(B672=\"\",\"\",\"\"))","v":""},null,null,null,null,null,null,null,null,null,""]
[null,null,null,null,null,null,null,null,null,null,null,null,null,null,null,null,null,null,null,null,null,null,null,null,null,null,null,null,null,null,null,null,null,""]
[null,null,null,null,null,null,null,null,null,null,null,null,null,null,null,null,null,null,null,null,null,null,null,null,null,null,null,null,null,null,null,null,null,""]
[null,{"$f":"IF(H649<>\"\",\"País de Expedición del NIT\",\"\")","v":""},null,null,null,null,null,null,null,null,null,null,null,null,null,null,{"$f":"IF(H649<>\"\",\"N° de Identificación Tributario\",\"\")","v":""},null,null,null,null,null,null,null,null,null,null,null,null,null,null,null,null,""]
[null,{"$f":"IF(H649<>\"\",\"1 -\",\"\")","v":""},null,null,null,null,null,null,null,null,null,null,null,null,null,null,{"$f":"IF(H649<>\"\",\"1 -\",\"\")","v":""},null,null,null,null,null,null,null,null,null,null,null,null,null,null,null,null,""]
[null,{"$f":"IF(H649<>\"\",\"2 -\",\"\")","v":""},null,null,null,null,null,null,null,null,null,null,null,null,null,null,{"$f":"IF(H649<>\"\",\"2 -\",\"\")","v":""},null,null,null,null,null,null,null,null,null,null,null,null,null,null,null,null,""]
[null,null,null,null,null,null,null,null,null,null,null,null,null,null,null,null,null,null,null,null,null,null,null,null,null,null,null,null,null,null,null,null,null,""]
["N1","Tipo de Relación",null,null,null,null,null,null,null,null,null,null,null,null,null,null,null,null,null,null,null,null,null,null,null,null,null,null,null,null,null,null,null,{"$f":"IF($H$678=\"\",\"\",\"1\")","v":""}]
[null,null,null,null,null,null,null,null,null,null,null,null,null,null,null,null,null,null,null,null,null,null,null,null,null,null,null,null,null,null,null,null,null,{"$f":"IF($H$678=\"\",\"\",\"1\")","v":""}]
[null,"Tipo de Documento",null,null,null,null,null,null,null,null,null,null,null,null,null,null,null,null,null,null,null,null,null,null,null,null,null,null,null,null,null,null,null,""]
[22,{"$f":"IF(H680<>\"\",\"N° de Documento\",\"\")","v":""},null,null,null,null,null,null,null,null,null,{"$f":"IF(H680<>\"\",\"Fecha de Expedición\",\"\")","v":""},null,null,null,null,null,null,null,null,null,{"$f":"IF(H680<>\"\",\"País de Expedición\",\"\")","v":""},null,null,null,null,null,null,null,null,null,null,null,""]
[null,null,null,null,null,null,null,null,null,null,null,null,null,null,null,null,null,null,null,null,null,null,null,null,null,null,null,null,null,null,null,null,null,""]
[null,{"$f":"IF(OR(H680=\"NIT\",H680=\"Fideicomiso/Fondo\",H680=\"PJ No Residente\"),\"Razón Social\",\"\")","v":""},null,null,null,null,null,null,null,null,null,null,null,null,null,null,null,null,null,null,null,null,null,null,null,null,null,null,null,null,null,null,null,""]
[null,null,null,null,null,null,null,null,null,null,null,null,null,null,null,null,null,null,null,null,null,null,null,null,null,null,null,null,null,null,null,null,null,""]
[null,{"$f":"IF(OR(H680=\"NIT\",H680=\"Fideicomiso/Fondo\",H680=\"PJ No Residente\",H680=\"\"),\"\",\"Primer Nombre\")","v":""},null,null,null,null,null,null,null,{"$f":"IF(OR(H680=\"NIT\",H680=\"Fideicomiso/Fondo\",H680=\"PJ No Residente\",H680=\"\"),\"\",\"Segundo Nombre\")","v":""},null,null,null,null,null,null,{"$f":"IF(OR(H680=\"NIT\",H680=\"Fideicomiso/Fondo\",H680=\"PJ No Residente\",H680=\"\"),\"\",\"Primer Apellido\")","v":""},null,null,null,null,null,null,{"$f":"IF(OR(H680=\"NIT\",H680=\"Fideicomiso/Fondo\",H680=\"PJ No Residente\",H680=\"\"),\"\",\"Segundo Apellido\")","v":""},null,null,null,null,null,null,null,null,null,""]
[null,null,null,null,null,null,null,null,null,null,null,null,null,null,null,null,null,null,null,null,null,null,null,null,null,null,null,null,null,null,null,null,null,""]
[null,{"$f":"IF(OR(H678=\"Socio o Accionista\",H678=\"Fideicomitente\",H678=\"Inversionista\",H678=\"Beneficiario de Activos/Rendimientos/Utilidades\"),\"Participación en %\",IF(H678=\"\",\"\",\"\"))","v":""},null,null,null,null,null,{"$f":"IF(H680<>\"\",\"¿Es Persona Expuesta Politicamente?\",\"\")","v":""},null,null,null,null,null,null,null,null,null,{"$f":"IF(OR(H680=\"NIT\",H680=\"Fideicomiso/Fondo\",H680=\"PJ No Residente\"),\"¿Emite acciones al portador?\",IF(H680=\"\",\"\",\"\"))","v":""},null,null,null,null,null,null,null,{"$f":"IF(OR(H680=\"NIT\",H680=\"Fideicomiso/Fondo\",H680=\"PJ No Residente\"),\"\",IF(H680=\"\",\"\",\"Género\"))","v":""},null,null,null,null,null,null,null,""]
[null,null,null,null,null,null,null,null,null,null,null,null,null,null,null,null,null,null,null,null,null,null,null,null,null,null,null,null,null,null,null,null,null,""]
[null,{"$f":"IF(OR(H680=\"NIT\",H680=\"Fideicomiso/Fondo\",H680=\"PJ No Residente\"),\"\",IF(H680=\"\",\"\",\"Fecha de Nacimiento\"))","v":""},null,null,null,null,null,null,null,null,null,{"$f":"IF(OR(H680=\"NIT\",H680=\"Fideicomiso/Fondo\",H680=\"PJ No Residente\"),\"\",IF(H680=\"\",\"\",\"País de nacimiento\"))","v":""},null,null,null,null,null,null,null,null,null,{"$f":"IF(OR(H680=\"NIT\",H680=\"Fideicomiso/Fondo\",H680=\"PJ No Residente\"),\"\",IF(H680=\"\",\"\",\"Nacionalidad\"))","v":""},null,null,null,null,null,null,null,null,null,null,null,""]
[null,null,null,null,null,null,null,null,null,null,null,null,null,null,null,null,null,null,null,null,null,null,null,null,null,null,null,null,null,null,null,null,null,""]
[null,{"$f":"IF(H680<>\"\",\"Pais de Residencia\",\"\")","v":""},null,null,null,null,null,null,null,null,null,{"$f":"IF(H680<>\"\",\"Departamento de Residencia\",\"\")","v":""},null,null,null,null,null,null,null,null,null,{"$f":"IF(H680<>\"\",\"Ciudad de Residencia\",\"\")","v":""},null,null,null,null,null,null,null,null,null,null,null,""]
[null,null,null,null,null,null,null,null,null,null,null,null,null,null,null,null,null,null,null,null,null,null,null,null,null,null,null,null,null,null,null,null,null,""]
[null,{"$f":"IF(H680<>\"\",\"Dirección de residencia\",\"\")","v":""},null,null,null,null,null,null,null,null,null,null,null,null,null,null,{"$f":"IF(H680<>\"\",\"Correo electrónico\",\"\")","v":""},null,null,null,null,null,null,null,null,null,null,null,null,null,null,null,null,""]
[null,null,null,null,null,null,null,null,null,null,null,null,null,null,null,null,null,null,null,null,null,null,null,null,null,null,null,null,null,null,null,null,null,""]
[null,null,null,null,null,null,null,null,null,null,null,null,null,null,null,null,null,null,null,null,null,null,null,null,null,null,null,null,null,null,null,null,null,""]
[null,{"$f":"IF(OR(H678=\"Socio o Accionista\"),\"Tipo de Participación\",IF(H678=\"\",\"\",\"\"))","v":""},null,null,null,null,null,null,null,{"$f":"IF(B697=\"Conjunta\",\"Tipo de Documento\",IF(B697=\"\",\"\",\"\"))","v":""},null,null,null,null,null,null,{"$f":"IF(B697=\"Conjunta\",\"N° de Documento\",IF(B697=\"\",\"\",\"\"))","v":""},null,null,null,null,null,null,{"$f":"IF(B697=\"Conjunta\",\"Parentesco\",IF(B697=\"\",\"\",\"\"))","v":""},null,null,null,null,null,null,null,null,null,""]
[null,null,null,null,null,null,null,null,null,null,null,null,null,null,null,null,null,null,null,null,null,null,null,null,null,null,null,null,null,null,null,null,null,""]
[null,null,null,null,null,null,null,null,null,null,null,null,null,null,null,null,null,null,null,null,null,null,null,null,null,null,null,null,null,null,null,null,null,""]
[null,{"$f":"IF(OR(H678=\"Socio o Accionista\"),\"Tipo de Participación\",IF(H681=\"\",\"\",\"\"))","v":""},null,null,null,null,null,null,null,{"$f":"IF(B700=\"Conjunta\",\"Tipo de Documento\",IF(B700=\"\",\"\",\"\"))","v":""},null,null,null,null,null,null,{"$f":"IF(B700=\"Conjunta\",\"N° de Documento\",IF(B700=\"\",\"\",\"\"))","v":""},null,null,null,null,null,null,{"$f":"IF(B700=\"Conjunta\",\"Parentesco\",IF(B700=\"\",\"\",\"\"))","v":""},null,null,null,null,null,null,null,null,null,""]
[null,null,null,null,null,null,null,null,null,null,null,null,null,null,null,null,null,null,null,null,null,null,null,null,null,null,null,null,null,null,null,null,null,""]
[null,null,null,null,null,null,null,null,null,null,null,null,null,null,null,null,null,null,null,null,null,null,null,null,null,null,null,null,null,null,null,null,null,""]
[null,{"$f":"IF(OR(H678=\"Socio o Accionista\"),\"Tipo de Participación\",IF(H684=\"\",\"\",\"\"))","v":""},null,null,null,null,null,null,null,{"$f":"IF(B703=\"Conjunta\",\"Tipo de Documento\",IF(B703=\"\",\"\",\"\"))","v":""},null,null,null,null,null,null,{"$f":"IF(B703=\"Conjunta\",\"N° de Documento\",IF(B703=\"\",\"\",\"\"))","v":""},null,null,null,null,null,null,{"$f":"IF(B703=\"Conjunta\",\"Parentesco\",IF(B703=\"\",\"\",\"\"))","v":""},null,null,null,null,null,null,null,null,null,""]
[null,null,null,null,null,null,null,null,null,null,null,null,null,null,null,null,null,null,null,null,null,null,null,null,null,null,null,null,null,null,null,null,null,""]
[null,null,null,null,null,null,null,null,null,null,null,null,null,null,null,null,null,null,null,null,null,null,null,null,null,null,null,null,null,null,null,null,null,""]
[null,{"$f":"IF(H680<>\"\",\"País de Expedición del NIT\",\"\")","v":""},null,null,null,null,null,null,null,null,null,null,null,null,null,null,{"$f":"IF(H680<>\"\",\"N° de Identificación Tributario\",\"\")","v":""},null,null,null,null,null,null,null,null,null,null,null,null,null,null,null,null,""]
[null,{"$f":"IF(H680<>\"\",\"1 -\",\"\")","v":""},null,null,null,null,null,null,null,null,null,null,null,null,null,null,{"$f":"IF(H680<>\"\",\"1 -\",\"\")","v":""},null,null,null,null,null,null,null,null,null,null,null,null,null,null,null,null,""]
[null,{"$f":"IF(H680<>\"\",\"2 -\",\"\")","v":""},null,null,null,null,null,null,null,null,null,null,null,null,null,null,{"$f":"IF(H680<>\"\",\"2 -\",\"\")","v":""},null,null,null,null,null,null,null,null,null,null,null,null,null,null,null,null,""]
[null,null,null,null,null,null,null,null,null,null,null,null,null,null,null,null,null,null,null,null,null,null,null,null,null,null,null,null,null,null,null,null,null,""]
["N1","Tipo de Relación",null,null,null,null,null,null,null,null,null,null,null,null,null,null,null,null,null,null,null,null,null,null,null,null,null,null,null,null,null,null,null,""]
[null,null,null,null,null,null,null,null,null,null,null,null,null,null,null,null,null,null,null,null,null,null,null,null,null,null,null,null,null,null,null,null,null,""]
[null,"Tipo de Documento",null,null,null,null,null,null,null,null,null,null,null,null,null,null,null,null,null,null,null,null,null,null,null,null,null,null,null,null,null,null,null,""]
[23,{"$f":"IF(H711<>\"\",\"N° de Documento\",\"\")","v":""},null,null,null,null,null,null,null,null,null,{"$f":"IF(H711<>\"\",\"Fecha de Expedición\",\"\")","v":""},null,null,null,null,null,null,null,null,null,{"$f":"IF(H711<>\"\",\"País de Expedición\",\"\")","v":""},null,null,null,null,null,null,null,null,null,null,null,""]
[null,null,null,null,null,null,null,null,null,null,null,null,null,null,null,null,null,null,null,null,null,null,null,null,null,null,null,null,null,null,null,null,null,""]
[null,{"$f":"IF(OR(H711=\"NIT\",H711=\"Fideicomiso/Fondo\",H711=\"PJ No Residente\"),\"Razón Social\",\"\")","v":""},null,null,null,null,null,null,null,null,null,null,null,null,null,null,null,null,null,null,null,null,null,null,null,null,null,null,null,null,null,null,null,""]
[null,null,null,null,null,null,null,null,null,null,null,null,null,null,null,null,null,null,null,null,null,null,null,null,null,null,null,null,null,null,null,null,null,""]
[null,{"$f":"IF(OR(H711=\"NIT\",H711=\"Fideicomiso/Fondo\",H711=\"PJ No Residente\",H711=\"\"),\"\",\"Primer Nombre\")","v":""},null,null,null,null,null,null,null,{"$f":"IF(OR(H711=\"NIT\",H711=\"Fideicomiso/Fondo\",H711=\"PJ No Residente\",H711=\"\"),\"\",\"Segundo Nombre\")","v":""},null,null,null,null,null,null,{"$f":"IF(OR(H711=\"NIT\",H711=\"Fideicomiso/Fondo\",H711=\"PJ No Residente\",H711=\"\"),\"\",\"Primer Apellido\")","v":""},null,null,null,null,null,null,{"$f":"IF(OR(H711=\"NIT\",H711=\"Fideicomiso/Fondo\",H711=\"PJ No Residente\",H711=\"\"),\"\",\"Segundo Apellido\")","v":""},null,null,null,null,null,null,null,null,null,""]
[null,null,null,null,null,null,null,null,null,null,null,null,null,null,null,null,null,null,null,null,null,null,null,null,null,null,null,null,null,null,null,null,null,""]
[null,{"$f":"IF(OR(H709=\"Socio o Accionista\",H709=\"Fideicomitente\",H709=\"Inversionista\",H709=\"Beneficiario de Activos/Rendimientos/Utilidades\"),\"Participación en %\",IF(H709=\"\",\"\",\"\"))","v":""},null,null,null,null,null,{"$f":"IF(H711<>\"\",\"¿Es Persona Expuesta Politicamente?\",\"\")","v":""},null,null,null,null,null,null,null,null,null,{"$f":"IF(OR(H711=\"NIT\",H711=\"Fideicomiso/Fondo\",H711=\"PJ No Residente\"),\"¿Emite acciones al portador?\",IF(H711=\"\",\"\",\"\"))","v":""},null,null,null,null,null,null,null,{"$f":"IF(OR(H711=\"NIT\",H711=\"Fideicomiso/Fondo\",H711=\"PJ No Residente\"),\"\",IF(H711=\"\",\"\",\"Género\"))","v":""},null,null,null,null,null,null,null,""]
[null,null,null,null,null,null,null,null,null,null,null,null,null,null,null,null,null,null,null,null,null,null,null,null,null,null,null,null,null,null,null,null,null,""]
[null,{"$f":"IF(OR(H711=\"NIT\",H711=\"Fideicomiso/Fondo\",H711=\"PJ No Residente\"),\"\",IF(H711=\"\",\"\",\"Fecha de Nacimiento\"))","v":""},null,null,null,null,null,null,null,null,null,{"$f":"IF(OR(H711=\"NIT\",H711=\"Fideicomiso/Fondo\",H711=\"PJ No Residente\"),\"\",IF(H711=\"\",\"\",\"País de nacimiento\"))","v":""},null,null,null,null,null,null,null,null,null,{"$f":"IF(OR(H711=\"NIT\",H711=\"Fideicomiso/Fondo\",H711=\"PJ No Residente\"),\"\",IF(H711=\"\",\"\",\"Nacionalidad\"))","v":""},null,null,null,null,null,null,null,null,null,null,null,""]
[null,null,null,null,null,null,null,null,null,null,null,null,null,null,null,null,null,null,null,null,null,null,null,null,null,null,null,null,null,null,null,null,null,""]
[null,{"$f":"IF(H711<>\"\",\"Pais de Residencia\",\"\")","v":""},null,null,null,null,null,null,null,null,null,{"$f":"IF(H711<>\"\",\"Departamento de Residencia\",\"\")","v":""},null,null,null,null,null,null,null,null,null,{"$f":"IF(H711<>\"\",\"Ciudad de Residencia\",\"\")","v":""},null,null,null,null,null,null,null,null,null,null,null,""]
[null,null,null,null,null,null,null,null,null,null,null,null,null,null,null,null,null,null,null,null,null,null,null,null,null,null,null,null,null,null,null,null,null,""]
[null,{"$f":"IF(H711<>\"\",\"Dirección de residencia\",\"\")","v":""},null,null,null,null,null,null,null,null,null,null,null,null,null,null,{"$f":"IF(H711<>\"\",\"Correo electrónico\",\"\")","v":""},null,null,null,null,null,null,null,null,null,null,null,null,null,null,null,null,""]
[null,null,null,null,null,null,null,null,null,null,null,null,null,null,null,null,null,null,null,null,null,null,null,null,null,null,null,null,null,null,null,null,null,""]
[null,null,null,null,null,null,null,null,null,null,null,null,null,null,null,null,null,null,null,null,null,null,null,null,null,null,null,null,null,null,null,null,null,""]
[null,{"$f":"IF(OR(H709=\"Socio o Accionista\"),\"Tipo de Participación\",IF(H709=\"\",\"\",\"\"))","v":""},null,null,null,null,null,null,null,{"$f":"IF(B728=\"Conjunta\",\"Tipo de Documento\",IF(B728=\"\",\"\",\"\"))","v":""},null,null,null,null,null,null,{"$f":"IF(B728=\"Conjunta\",\"N° de Documento\",IF(B728=\"\",\"\",\"\"))","v":""},null,null,null,null,null,null,{"$f":"IF(B728=\"Conjunta\",\"Parentesco\",IF(B728=\"\",\"\",\"\"))","v":""},null,null,null,null,null,null,null,null,null,""]
[null,null,null,null,null,null,null,null,null,null,null,null,null,null,null,null,null,null,null,null,null,null,null,null,null,null,null,null,null,null,null,null,null,""]
[null,null,null,null,null,null,null,null,null,null,null,null,null,null,null,null,null,null,null,null,null,null,null,null,null,null,null,null,null,null,null,null,null,""]
[null,{"$f":"IF(OR(H709=\"Socio o Accionista\"),\"Tipo de Participación\",IF(H712=\"\",\"\",\"\"))","v":""},null,null,null,null,null,null,null,{"$f":"IF(B731=\"Conjunta\",\"Tipo de Documento\",IF(B731=\"\",\"\",\"\"))","v":""},null,null,null,null,null,null,{"$f":"IF(B731=\"Conjunta\",\"N° de Documento\",IF(B731=\"\",\"\",\"\"))","v":""},null,null,null,null,null,null,{"$f":"IF(B731=\"Conjunta\",\"Parentesco\",IF(B731=\"\",\"\",\"\"))","v":""},null,null,null,null,null,null,null,null,null,""]
[null,null,null,null,null,null,null,null,null,null,null,null,null,null,null,null,null,null,null,null,null,null,null,null,null,null,null,null,null,null,null,null,null,""]
[null,null,null,null,null,null,null,null,null,null,null,null,null,null,null,null,null,null,null,null,null,null,null,null,null,null,null,null,null,null,null,null,null,""]
[null,{"$f":"IF(OR(H709=\"Socio o Accionista\"),\"Tipo de Participación\",IF(H715=\"\",\"\",\"\"))","v":""},null,null,null,null,null,null,null,{"$f":"IF(B734=\"Conjunta\",\"Tipo de Documento\",IF(B734=\"\",\"\",\"\"))","v":""},null,null,null,null,null,null,{"$f":"IF(B734=\"Conjunta\",\"N° de Documento\",IF(B734=\"\",\"\",\"\"))","v":""},null,null,null,null,null,null,{"$f":"IF(B734=\"Conjunta\",\"Parentesco\",IF(B734=\"\",\"\",\"\"))","v":""},null,null,null,null,null,null,null,null,null,""]
[null,null,null,null,null,null,null,null,null,null,null,null,null,null,null,null,null,null,null,null,null,null,null,null,null,null,null,null,null,null,null,null,null,""]
[null,null,null,null,null,null,null,null,null,null,null,null,null,null,null,null,null,null,null,null,null,null,null,null,null,null,null,null,null,null,null,null,null,""]
[null,{"$f":"IF(H711<>\"\",\"País de Expedición del NIT\",\"\")","v":""},null,null,null,null,null,null,null,null,null,null,null,null,null,null,{"$f":"IF(H711<>\"\",\"N° de Identificación Tributario\",\"\")","v":""},null,null,null,null,null,null,null,null,null,null,null,null,null,null,null,null,""]
[null,{"$f":"IF(H711<>\"\",\"1 -\",\"\")","v":""},null,null,null,null,null,null,null,null,null,null,null,null,null,null,{"$f":"IF(H711<>\"\",\"1 -\",\"\")","v":""},null,null,null,null,null,null,null,null,null,null,null,null,null,null,null,null,""]
[null,{"$f":"IF(H711<>\"\",\"2 -\",\"\")","v":""},null,null,null,null,null,null,null,null,null,null,null,null,null,null,{"$f":"IF(H711<>\"\",\"2 -\",\"\")","v":""},null,null,null,null,null,null,null,null,null,null,null,null,null,null,null,null,""]
[null,null,null,null,null,null,null,null,null,null,null,null,null,null,null,null,null,null,null,null,null,null,null,null,null,null,null,null,null,null,null,null,null,""]
["N1","Tipo de Relación",null,null,null,null,null,null,null,null,null,null,null,null,null,null,null,null,null,null,null,null,null,null,null,null,null,null,null,null,null,null,null,{"$f":"IF($H$740=\"\",\"\",\"1\")","v":""}]
[null,null,null,null,null,null,null,null,null,null,null,null,null,null,null,null,null,null,null,null,null,null,null,null,null,null,null,null,null,null,null,null,null,{"$f":"IF($H$740=\"\",\"\",\"1\")","v":""}]
[null,"Tipo de Documento",null,null,null,null,null,null,null,null,null,null,null,null,null,null,null,null,null,null,null,null,null,null,null,null,null,null,null,null,null,null,null,""]
[24,{"$f":"IF(H742<>\"\",\"N° de Documento\",\"\")","v":""},null,null,null,null,null,null,null,null,null,{"$f":"IF(H742<>\"\",\"Fecha de Expedición\",\"\")","v":""},null,null,null,null,null,null,null,null,null,{"$f":"IF(H742<>\"\",\"País de Expedición\",\"\")","v":""},null,null,null,null,null,null,null,null,null,null,null,""]
[null,null,null,null,null,null,null,null,null,null,null,null,null,null,null,null,null,null,null,null,null,null,null,null,null,null,null,null,null,null,null,null,null,""]
[null,{"$f":"IF(OR(H742=\"NIT\",H742=\"Fideicomiso/Fondo\",H742=\"PJ No Residente\"),\"Razón Social\",\"\")","v":""},null,null,null,null,null,null,null,null,null,null,null,null,null,null,null,null,null,null,null,null,null,null,null,null,null,null,null,null,null,null,null,""]
[null,null,null,null,null,null,null,null,null,null,null,null,null,null,null,null,null,null,null,null,null,null,null,null,null,null,null,null,null,null,null,null,null,""]
[null,{"$f":"IF(OR(H742=\"NIT\",H742=\"Fideicomiso/Fondo\",H742=\"PJ No Residente\",H742=\"\"),\"\",\"Primer Nombre\")","v":""},null,null,null,null,null,null,null,{"$f":"IF(OR(H742=\"NIT\",H742=\"Fideicomiso/Fondo\",H742=\"PJ No Residente\",H742=\"\"),\"\",\"Segundo Nombre\")","v":""},null,null,null,null,null,null,{"$f":"IF(OR(H742=\"NIT\",H742=\"Fideicomiso/Fondo\",H742=\"PJ No Residente\",H742=\"\"),\"\",\"Primer Apellido\")","v":""},null,null,null,null,null,null,{"$f":"IF(OR(H742=\"NIT\",H742=\"Fideicomiso/Fondo\",H742=\"PJ No Residente\",H742=\"\"),\"\",\"Segundo Apellido\")","v":""},null,null,null,null,null,null,null,null,null,""]
[null,null,null,null,null,null,null,null,null,null,null,null,null,null,null,null,null,null,null,null,null,null,null,null,null,null,null,null,null,null,null,null,null,""]
[null,{"$f":"IF(OR(H740=\"Socio o Accionista\",H740=\"Fideicomitente\",H740=\"Inversionista\",H740=\"Beneficiario de Activos/Rendimientos/Utilidades\"),\"Participación en %\",IF(H740=\"\",\"\",\"\"))","v":""},null,null,null,null,null,{"$f":"IF(H742<>\"\",\"¿Es Persona Expuesta Politicamente?\",\"\")","v":""},null,null,null,null,null,null,null,null,null,{"$f":"IF(OR(H742=\"NIT\",H742=\"Fideicomiso/Fondo\",H742=\"PJ No Residente\"),\"¿Emite acciones al portador?\",IF(H742=\"\",\"\",\"\"))","v":""},null,null,null,null,null,null,null,{"$f":"IF(OR(H742=\"NIT\",H742=\"Fideicomiso/Fondo\",H742=\"PJ No Residente\"),\"\",IF(H742=\"\",\"\",\"Género\"))","v":""},null,null,null,null,null,null,null,""]
[null,null,null,null,null,null,null,null,null,null,null,null,null,null,null,null,null,null,null,null,null,null,null,null,null,null,null,null,null,null,null,null,null,""]
[null,{"$f":"IF(OR(H742=\"NIT\",H742=\"Fideicomiso/Fondo\",H742=\"PJ No Residente\"),\"\",IF(H742=\"\",\"\",\"Fecha de Nacimiento\"))","v":""},null,null,null,null,null,null,null,null,null,{"$f":"IF(OR(H742=\"NIT\",H742=\"Fideicomiso/Fondo\",H742=\"PJ No Residente\"),\"\",IF(H742=\"\",\"\",\"País de nacimiento\"))","v":""},null,null,null,null,null,null,null,null,null,{"$f":"IF(OR(H742=\"NIT\",H742=\"Fideicomiso/Fondo\",H742=\"PJ No Residente\"),\"\",IF(H742=\"\",\"\",\"Nacionalidad\"))","v":""},null,null,null,null,null,null,null,null,null,null,null,""]
[null,null,null,null,null,null,null,null,null,null,null,null,null,null,null,null,null,null,null,null,null,null,null,null,null,null,null,null,null,null,null,null,null,""]
[null,{"$f":"IF(H742<>\"\",\"Pais de Residencia\",\"\")","v":""},null,null,null,null,null,null,null,null,null,{"$f":"IF(H742<>\"\",\"Departamento de Residencia\",\"\")","v":""},null,null,null,null,null,null,null,null,null,{"$f":"IF(H742<>\"\",\"Ciudad de Residencia\",\"\")","v":""},null,null,null,null,null,null,null,null,null,null,null,""]
[null,null,null,null,null,null,null,null,null,null,null,null,null,null,null,null,null,null,null,null,null,null,null,null,null,null,null,null,null,null,null,null,null,""]
[null,{"$f":"IF(H742<>\"\",\"Dirección de residencia\",\"\")","v":""},null,null,null,null,null,null,null,null,null,null,null,null,null,null,{"$f":"IF(H742<>\"\",\"Correo electrónico\",\"\")","v":""},null,null,null,null,null,null,null,null,null,null,null,null,null,null,null,null,""]
[null,null,null,null,null,null,null,null,null,null,null,null,null,null,null,null,null,null,null,null,null,null,null,null,null,null,null,null,null,null,null,null,null,""]
[null,null,null,null,null,null,null,null,null,null,null,null,null,null,null,null,null,null,null,null,null,null,null,null,null,null,null,null,null,null,null,null,null,""]
[null,{"$f":"IF(OR(H740=\"Socio o Accionista\"),\"Tipo de Participación\",IF(H740=\"\",\"\",\"\"))","v":""},null,null,null,null,null,null,null,{"$f":"IF(B759=\"Conjunta\",\"Tipo de Documento\",IF(B759=\"\",\"\",\"\"))","v":""},null,null,null,null,null,null,{"$f":"IF(B759=\"Conjunta\",\"N° de Documento\",IF(B759=\"\",\"\",\"\"))","v":""},null,null,null,null,null,null,{"$f":"IF(B759=\"Conjunta\",\"Parentesco\",IF(B759=\"\",\"\",\"\"))","v":""},null,null,null,null,null,null,null,null,null,""]
[null,null,null,null,null,null,null,null,null,null,null,null,null,null,null,null,null,null,null,null,null,null,null,null,null,null,null,null,null,null,null,null,null,""]
[null,null,null,null,null,null,null,null,null,null,null,null,null,null,null,null,null,null,null,null,null,null,null,null,null,null,null,null,null,null,null,null,null,""]
[null,{"$f":"IF(OR(H740=\"Socio o Accionista\"),\"Tipo de Participación\",IF(H743=\"\",\"\",\"\"))","v":""},null,null,null,null,null,null,null,{"$f":"IF(B762=\"Conjunta\",\"Tipo de Documento\",IF(B762=\"\",\"\",\"\"))","v":""},null,null,null,null,null,null,{"$f":"IF(B762=\"Conjunta\",\"N° de Documento\",IF(B762=\"\",\"\",\"\"))","v":""},null,null,null,null,null,null,{"$f":"IF(B762=\"Conjunta\",\"Parentesco\",IF(B762=\"\",\"\",\"\"))","v":""},null,null,null,null,null,null,null,null,null,""]
[null,null,null,null,null,null,null,null,null,null,null,null,null,null,null,null,null,null,null,null,null,null,null,null,null,null,null,null,null,null,null,null,null,""]
[null,null,null,null,null,null,null,null,null,null,null,null,null,null,null,null,null,null,null,null,null,null,null,null,null,null,null,null,null,null,null,null,null,""]
[null,{"$f":"IF(OR(H740=\"Socio o Accionista\"),\"Tipo de Participación\",IF(H746=\"\",\"\",\"\"))","v":""},null,null,null,null,null,null,null,{"$f":"IF(B765=\"Conjunta\",\"Tipo de Documento\",IF(B765=\"\",\"\",\"\"))","v":""},null,null,null,null,null,null,{"$f":"IF(B765=\"Conjunta\",\"N° de Documento\",IF(B765=\"\",\"\",\"\"))","v":""},null,null,null,null,null,null,{"$f":"IF(B765=\"Conjunta\",\"Parentesco\",IF(B765=\"\",\"\",\"\"))","v":""},null,null,null,null,null,null,null,null,null,""]
[null,null,null,null,null,null,null,null,null,null,null,null,null,null,null,null,null,null,null,null,null,null,null,null,null,null,null,null,null,null,null,null,null,""]
[null,null,null,null,null,null,null,null,null,null,null,null,null,null,null,null,null,null,null,null,null,null,null,null,null,null,null,null,null,null,null,null,null,""]
[null,{"$f":"IF(H742<>\"\",\"País de Expedición del NIT\",\"\")","v":""},null,null,null,null,null,null,null,null,null,null,null,null,null,null,{"$f":"IF(H742<>\"\",\"N° de Identificación Tributario\",\"\")","v":""},null,null,null,null,null,null,null,null,null,null,null,null,null,null,null,null,""]
[null,{"$f":"IF(H742<>\"\",\"1 -\",\"\")","v":""},null,null,null,null,null,null,null,null,null,null,null,null,null,null,{"$f":"IF(H742<>\"\",\"1 -\",\"\")","v":""},null,null,null,null,null,null,null,null,null,null,null,null,null,null,null,null,""]
[null,{"$f":"IF(H742<>\"\",\"2 -\",\"\")","v":""},null,null,null,null,null,null,null,null,null,null,null,null,null,null,{"$f":"IF(H742<>\"\",\"2 -\",\"\")","v":""},null,null,null,null,null,null,null,null,null,null,null,null,null,null,null,null,""]
[null,null,null,null,null,null,null,null,null,null,null,null,null,null,null,null,null,null,null,null,null,null,null,null,null,null,null,null,null,null,null,null,null,""]
["N1","Tipo de Relación",null,null,null,null,null,null,null,null,null,null,null,null,null,null,null,null,null,null,null,null,null,null,null,null,null,null,null,null,null,null,null,""]
[null,null,null,null,null,null,null,null,null,null,null,null,null,null,null,null,null,null,null,null,null,null,null,null,null,null,null,null,null,null,null,null,null,""]
[null,"Tipo de Documento",null,null,null,null,null,null,null,null,null,null,null,null,null,null,null,null,null,null,null,null,null,null,null,null,null,null,null,null,null,null,null,""]
[25,{"$f":"IF(H773<>\"\",\"N° de Documento\",\"\")","v":""},null,null,null,null,null,null,null,null,null,{"$f":"IF(H773<>\"\",\"Fecha de Expedición\",\"\")","v":""},null,null,null,null,null,null,null,null,null,{"$f":"IF(H773<>\"\",\"País de Expedición\",\"\")","v":""},null,null,null,null,null,null,null,null,null,null,null,""]
[null,null,null,null,null,null,null,null,null,null,null,null,null,null,null,null,null,null,null,null,null,null,null,null,null,null,null,null,null,null,null,null,null,""]
[null,{"$f":"IF(OR(H773=\"NIT\",H773=\"Fideicomiso/Fondo\",H773=\"PJ No Residente\"),\"Razón Social\",\"\")","v":""},null,null,null,null,null,null,null,null,null,null,null,null,null,null,null,null,null,null,null,null,null,null,null,null,null,null,null,null,null,null,null,""]
[null,null,null,null,null,null,null,null,null,null,null,null,null,null,null,null,null,null,null,null,null,null,null,null,null,null,null,null,null,null,null,null,null,""]
[null,{"$f":"IF(OR(H773=\"NIT\",H773=\"Fideicomiso/Fondo\",H773=\"PJ No Residente\",H773=\"\"),\"\",\"Primer Nombre\")","v":""},null,null,null,null,null,null,null,{"$f":"IF(OR(H773=\"NIT\",H773=\"Fideicomiso/Fondo\",H773=\"PJ No Residente\",H773=\"\"),\"\",\"Segundo Nombre\")","v":""},null,null,null,null,null,null,{"$f":"IF(OR(H773=\"NIT\",H773=\"Fideicomiso/Fondo\",H773=\"PJ No Residente\",H773=\"\"),\"\",\"Primer Apellido\")","v":""},null,null,null,null,null,null,{"$f":"IF(OR(H773=\"NIT\",H773=\"Fideicomiso/Fondo\",H773=\"PJ No Residente\",H773=\"\"),\"\",\"Segundo Apellido\")","v":""},null,null,null,null,null,null,null,null,null,""]
[null,null,null,null,null,null,null,null,null,null,null,null,null,null,null,null,null,null,null,null,null,null,null,null,null,null,null,null,null,null,null,null,null,""]
[null,{"$f":"IF(OR(H771=\"Socio o Accionista\",H771=\"Fideicomitente\",H771=\"Inversionista\",H771=\"Beneficiario de Activos/Rendimientos/Utilidades\"),\"Participación en %\",IF(H771=\"\",\"\",\"\"))","v":""},null,null,null,null,null,{"$f":"IF(H773<>\"\",\"¿Es Persona Expuesta Politicamente?\",\"\")","v":""},null,null,null,null,null,null,null,null,null,{"$f":"IF(OR(H773=\"NIT\",H773=\"Fideicomiso/Fondo\",H773=\"PJ No Residente\"),\"¿Emite acciones al portador?\",IF(H773=\"\",\"\",\"\"))","v":""},null,null,null,null,null,null,null,{"$f":"IF(OR(H773=\"NIT\",H773=\"Fideicomiso/Fondo\",H773=\"PJ No Residente\"),\"\",IF(H773=\"\",\"\",\"Género\"))","v":""},null,null,null,null,null,null,null,""]
[null,null,null,null,null,null,null,null,null,null,null,null,null,null,null,null,null,null,null,null,null,null,null,null,null,null,null,null,null,null,null,null,null,""]
[null,{"$f":"IF(OR(H773=\"NIT\",H773=\"Fideicomiso/Fondo\",H773=\"PJ No Residente\"),\"\",IF(H773=\"\",\"\",\"Fecha de Nacimiento\"))","v":""},null,null,null,null,null,null,null,null,null,{"$f":"IF(OR(H773=\"NIT\",H773=\"Fideicomiso/Fondo\",H773=\"PJ No Residente\"),\"\",IF(H773=\"\",\"\",\"País de nacimiento\"))","v":""},null,null,null,null,null,null,null,null,null,{"$f":"IF(OR(H773=\"NIT\",H773=\"Fideicomiso/Fondo\",H773=\"PJ No Residente\"),\"\",IF(H773=\"\",\"\",\"Nacionalidad\"))","v":""},null,null,null,null,null,null,null,null,null,null,null,""]
[null,null,null,null,null,null,null,null,null,null,null,null,null,null,null,null,null,null,null,null,null,null,null,null,null,null,null,null,null,null,null,null,null,""]
[null,{"$f":"IF(H773<>\"\",\"Pais de Residencia\",\"\")","v":""},null,null,null,null,null,null,null,null,null,{"$f":"IF(H773<>\"\",\"Departamento de Residencia\",\"\")","v":""},null,null,null,null,null,null,null,null,null,{"$f":"IF(H773<>\"\",\"Ciudad de Residencia\",\"\")","v":""},null,null,null,null,null,null,null,null,null,null,null,""]
[null,null,null,null,null,null,null,null,null,null,null,null,null,null,null,null,null,null,null,null,null,null,null,null,null,null,null,null,null,null,null,null,null,""]
[null,{"$f":"IF(H773<>\"\",\"Dirección de residencia\",\"\")","v":""},null,null,null,null,null,null,null,null,null,null,null,null,null,null,{"$f":"IF(H773<>\"\",\"Correo electrónico\",\"\")","v":""},null,null,null,null,null,null,null,null,null,null,null,null,null,null,null,null,""]
[null,null,null,null,null,null,null,null,null,null,null,null,null,null,null,null,null,null,null,null,null,null,null,null,null,null,null,null,null,null,null,null,null,""]
[null,null,null,null,null,null,null,null,null,null,null,null,null,null,null,null,null,null,null,null,null,null,null,null,null,null,null,null,null,null,null,null,null,""]
[null,{"$f":"IF(OR(H771=\"Socio o Accionista\"),\"Tipo de Participación\",IF(H771=\"\",\"\",\"\"))","v":""},null,null,null,null,null,null,null,{"$f":"IF(B790=\"Conjunta\",\"Tipo de Documento\",IF(B790=\"\",\"\",\"\"))","v":""},null,null,null,null,null,null,{"$f":"IF(B790=\"Conjunta\",\"N° de Documento\",IF(B790=\"\",\"\",\"\"))","v":""},null,null,null,null,null,null,{"$f":"IF(B790=\"Conjunta\",\"Parentesco\",IF(B790=\"\",\"\",\"\"))","v":""},null,null,null,null,null,null,null,null,null,""]
[null,null,null,null,null,null,null,null,null,null,null,null,null,null,null,null,null,null,null,null,null,null,null,null,null,null,null,null,null,null,null,null,null,""]
[null,null,null,null,null,null,null,null,null,null,null,null,null,null,null,null,null,null,null,null,null,null,null,null,null,null,null,null,null,null,null,null,null,""]
[null,{"$f":"IF(OR(H771=\"Socio o Accionista\"),\"Tipo de Participación\",IF(H774=\"\",\"\",\"\"))","v":""},null,null,null,null,null,null,null,{"$f":"IF(B793=\"Conjunta\",\"Tipo de Documento\",IF(B793=\"\",\"\",\"\"))","v":""},null,null,null,null,null,null,{"$f":"IF(B793=\"Conjunta\",\"N° de Documento\",IF(B793=\"\",\"\",\"\"))","v":""},null,null,null,null,null,null,{"$f":"IF(B793=\"Conjunta\",\"Parentesco\",IF(B793=\"\",\"\",\"\"))","v":""},null,null,null,null,null,null,null,null,null,""]
[null,null,null,null,null,null,null,null,null,null,null,null,null,null,null,null,null,null,null,null,null,null,null,null,null,null,null,null,null,null,null,null,null,""]
[null,null,null,null,null,null,null,null,null,null,null,null,null,null,null,null,null,null,null,null,null,null,null,null,null,null,null,null,null,null,null,null,null,""]
[null,{"$f":"IF(OR(H771=\"Socio o Accionista\"),\"Tipo de Participación\",IF(H777=\"\",\"\",\"\"))","v":""},null,null,null,null,null,null,null,{"$f":"IF(B796=\"Conjunta\",\"Tipo de Documento\",IF(B796=\"\",\"\",\"\"))","v":""},null,null,null,null,null,null,{"$f":"IF(B796=\"Conjunta\",\"N° de Documento\",IF(B796=\"\",\"\",\"\"))","v":""},null,null,null,null,null,null,{"$f":"IF(B796=\"Conjunta\",\"Parentesco\",IF(B796=\"\",\"\",\"\"))","v":""},null,null,null,null,null,null,null,null,null,""]
[null,null,null,null,null,null,null,null,null,null,null,null,null,null,null,null,null,null,null,null,null,null,null,null,null,null,null,null,null,null,null,null,null,""]
[null,null,null,null,null,null,null,null,null,null,null,null,null,null,null,null,null,null,null,null,null,null,null,null,null,null,null,null,null,null,null,null,null,""]
[null,{"$f":"IF(H773<>\"\",\"País de Expedición del NIT\",\"\")","v":""},null,null,null,null,null,null,null,null,null,null,null,null,null,null,{"$f":"IF(H773<>\"\",\"N° de Identificación Tributario\",\"\")","v":""},null,null,null,null,null,null,null,null,null,null,null,null,null,null,null,null,""]
[null,{"$f":"IF(H773<>\"\",\"1 -\",\"\")","v":""},null,null,null,null,null,null,null,null,null,null,null,null,null,null,{"$f":"IF(H773<>\"\",\"1 -\",\"\")","v":""},null,null,null,null,null,null,null,null,null,null,null,null,null,null,null,null,""]
[null,{"$f":"IF(H773<>\"\",\"2 -\",\"\")","v":""},null,null,null,null,null,null,null,null,null,null,null,null,null,null,{"$f":"IF(H773<>\"\",\"2 -\",\"\")","v":""},null,null,null,null,null,null,null,null,null,null,null,null,null,null,null,null,""]
[null,null,null,null,null,null,null,null,null,null,null,null,null,null,null,null,null,null,null,null,null,null,null,null,null,null,null,null,null,null,null,null,null,""]
["N1","Tipo de Relación",null,null,null,null,null,null,null,null,null,null,null,null,null,null,null,null,null,null,null,null,null,null,null,null,null,null,null,null,null,null,null,{"$f":"IF($H$802=\"\",\"\",\"1\")","v":""}]
[null,null,null,null,null,null,null,null,null,null,null,null,null,null,null,null,null,null,null,null,null,null,null,null,null,null,null,null,null,null,null,null,null,{"$f":"IF($H$802=\"\",\"\",\"1\")","v":""}]
[null,"Tipo de Documento",null,null,null,null,null,null,null,null,null,null,null,null,null,null,null,null,null,null,null,null,null,null,null,null,null,null,null,null,null,null,null,""]
[26,{"$f":"IF(H804<>\"\",\"N° de Documento\",\"\")","v":""},null,null,null,null,null,null,null,null,null,{"$f":"IF(H804<>\"\",\"Fecha de Expedición\",\"\")","v":""},null,null,null,null,null,null,null,null,null,{"$f":"IF(H804<>\"\",\"País de Expedición\",\"\")","v":""},null,null,null,null,null,null,null,null,null,null,null,""]
[null,null,null,null,null,null,null,null,null,null,null,null,null,null,null,null,null,null,null,null,null,null,null,null,null,null,null,null,null,null,null,null,null,""]
[null,{"$f":"IF(OR(H804=\"NIT\",H804=\"Fideicomiso/Fondo\",H804=\"PJ No Residente\"),\"Razón Social\",\"\")","v":""},null,null,null,null,null,null,null,null,null,null,null,null,null,null,null,null,null,null,null,null,null,null,null,null,null,null,null,null,null,null,null,""]
[null,null,null,null,null,null,null,null,null,null,null,null,null,null,null,null,null,null,null,null,null,null,null,null,null,null,null,null,null,null,null,null,null,""]
[null,{"$f":"IF(OR(H804=\"NIT\",H804=\"Fideicomiso/Fondo\",H804=\"PJ No Residente\",H804=\"\"),\"\",\"Primer Nombre\")","v":""},null,null,null,null,null,null,null,{"$f":"IF(OR(H804=\"NIT\",H804=\"Fideicomiso/Fondo\",H804=\"PJ No Residente\",H804=\"\"),\"\",\"Segundo Nombre\")","v":""},null,null,null,null,null,null,{"$f":"IF(OR(H804=\"NIT\",H804=\"Fideicomiso/Fondo\",H804=\"PJ No Residente\",H804=\"\"),\"\",\"Primer Apellido\")","v":""},null,null,null,null,null,null,{"$f":"IF(OR(H804=\"NIT\",H804=\"Fideicomiso/Fondo\",H804=\"PJ No Residente\",H804=\"\"),\"\",\"Segundo Apellido\")","v":""},null,null,null,null,null,null,null,null,null,""]
[null,null,null,null,null,null,null,null,null,null,null,null,null,null,null,null,null,null,null,null,null,null,null,null,null,null,null,null,null,null,null,null,null,""]
[null,{"$f":"IF(OR(H802=\"Socio o Accionista\",H802=\"Fideicomitente\",H802=\"Inversionista\",H802=\"Beneficiario de Activos/Rendimientos/Utilidades\"),\"Participación en %\",IF(H802=\"\",\"\",\"\"))","v":""},null,null,null,null,null,{"$f":"IF(H804<>\"\",\"¿Es Persona Expuesta Politicamente?\",\"\")","v":""},null,null,null,null,null,null,null,null,null,{"$f":"IF(OR(H804=\"NIT\",H804=\"Fideicomiso/Fondo\",H804=\"PJ No Residente\"),\"¿Emite acciones al portador?\",IF(H804=\"\",\"\",\"\"))","v":""},null,null,null,null,null,null,null,{"$f":"IF(OR(H804=\"NIT\",H804=\"Fideicomiso/Fondo\",H804=\"PJ No Residente\"),\"\",IF(H804=\"\",\"\",\"Género\"))","v":""},null,null,null,null,null,null,null,""]
[null,null,null,null,null,null,null,null,null,null,null,null,null,null,null,null,null,null,null,null,null,null,null,null,null,null,null,null,null,null,null,null,null,""]
[null,{"$f":"IF(OR(H804=\"NIT\",H804=\"Fideicomiso/Fondo\",H804=\"PJ No Residente\"),\"\",IF(H804=\"\",\"\",\"Fecha de Nacimiento\"))","v":""},null,null,null,null,null,null,null,null,null,{"$f":"IF(OR(H804=\"NIT\",H804=\"Fideicomiso/Fondo\",H804=\"PJ No Residente\"),\"\",IF(H804=\"\",\"\",\"País de nacimiento\"))","v":""},null,null,null,null,null,null,null,null,null,{"$f":"IF(OR(H804=\"NIT\",H804=\"Fideicomiso/Fondo\",H804=\"PJ No Residente\"),\"\",IF(H804=\"\",\"\",\"Nacionalidad\"))","v":""},null,null,null,null,null,null,null,null,null,null,null,""]
[null,null,null,null,null,null,null,null,null,null,null,null,null,null,null,null,null,null,null,null,null,null,null,null,null,null,null,null,null,null,null,null,null,""]
[null,{"$f":"IF(H804<>\"\",\"Pais de Residencia\",\"\")","v":""},null,null,null,null,null,null,null,null,null,{"$f":"IF(H804<>\"\",\"Departamento de Residencia\",\"\")","v":""},null,null,null,null,null,null,null,null,null,{"$f":"IF(H804<>\"\",\"Ciudad de Residencia\",\"\")","v":""},null,null,null,null,null,null,null,null,null,null,null,""]
[null,null,null,null,null,null,null,null,null,null,null,null,null,null,null,null,null,null,null,null,null,null,null,null,null,null,null,null,null,null,null,null,null,""]
[null,{"$f":"IF(H804<>\"\",\"Dirección de residencia\",\"\")","v":""},null,null,null,null,null,null,null,null,null,null,null,null,null,null,{"$f":"IF(H804<>\"\",\"Correo electrónico\",\"\")","v":""},null,null,null,null,null,null,null,null,null,null,null,null,null,null,null,null,""]
[null,null,null,null,null,null,null,null,null,null,null,null,null,null,null,null,null,null,null,null,null,null,null,null,null,null,null,null,null,null,null,null,null,""]
[null,null,null,null,null,null,null,null,null,null,null,null,null,null,null,null,null,null,null,null,null,null,null,null,null,null,null,null,null,null,null,null,null,""]
[null,{"$f":"IF(OR(H802=\"Socio o Accionista\"),\"Tipo de Participación\",IF(H802=\"\",\"\",\"\"))","v":""},null,null,null,null,null,null,null,{"$f":"IF(B821=\"Conjunta\",\"Tipo de Documento\",IF(B821=\"\",\"\",\"\"))","v":""},null,null,null,null,null,null,{"$f":"IF(B821=\"Conjunta\",\"N° de Documento\",IF(B821=\"\",\"\",\"\"))","v":""},null,null,null,null,null,null,{"$f":"IF(B821=\"Conjunta\",\"Parentesco\",IF(B821=\"\",\"\",\"\"))","v":""},null,null,null,null,null,null,null,null,null,""]
[null,null,null,null,null,null,null,null,null,null,null,null,null,null,null,null,null,null,null,null,null,null,null,null,null,null,null,null,null,null,null,null,null,""]
[null,null,null,null,null,null,null,null,null,null,null,null,null,null,null,null,null,null,null,null,null,null,null,null,null,null,null,null,null,null,null,null,null,""]
[null,{"$f":"IF(OR(H802=\"Socio o Accionista\"),\"Tipo de Participación\",IF(H805=\"\",\"\",\"\"))","v":""},null,null,null,null,null,null,null,{"$f":"IF(B824=\"Conjunta\",\"Tipo de Documento\",IF(B824=\"\",\"\",\"\"))","v":""},null,null,null,null,null,null,{"$f":"IF(B824=\"Conjunta\",\"N° de Documento\",IF(B824=\"\",\"\",\"\"))","v":""},null,null,null,null,null,null,{"$f":"IF(B824=\"Conjunta\",\"Parentesco\",IF(B824=\"\",\"\",\"\"))","v":""},null,null,null,null,null,null,null,null,null,""]
[null,null,null,null,null,null,null,null,null,null,null,null,null,null,null,null,null,null,null,null,null,null,null,null,null,null,null,null,null,null,null,null,null,""]
[null,null,null,null,null,null,null,null,null,null,null,null,null,null,null,null,null,null,null,null,null,null,null,null,null,null,null,null,null,null,null,null,null,""]
[null,{"$f":"IF(OR(H802=\"Socio o Accionista\"),\"Tipo de Participación\",IF(H808=\"\",\"\",\"\"))","v":""},null,null,null,null,null,null,null,{"$f":"IF(B827=\"Conjunta\",\"Tipo de Documento\",IF(B827=\"\",\"\",\"\"))","v":""},null,null,null,null,null,null,{"$f":"IF(B827=\"Conjunta\",\"N° de Documento\",IF(B827=\"\",\"\",\"\"))","v":""},null,null,null,null,null,null,{"$f":"IF(B827=\"Conjunta\",\"Parentesco\",IF(B827=\"\",\"\",\"\"))","v":""},null,null,null,null,null,null,null,null,null,""]
[null,null,null,null,null,null,null,null,null,null,null,null,null,null,null,null,null,null,null,null,null,null,null,null,null,null,null,null,null,null,null,null,null,""]
[null,null,null,null,null,null,null,null,null,null,null,null,null,null,null,null,null,null,null,null,null,null,null,null,null,null,null,null,null,null,null,null,null,""]
[null,{"$f":"IF(H804<>\"\",\"País de Expedición del NIT\",\"\")","v":""},null,null,null,null,null,null,null,null,null,null,null,null,null,null,{"$f":"IF(H804<>\"\",\"N° de Identificación Tributario\",\"\")","v":""},null,null,null,null,null,null,null,null,null,null,null,null,null,null,null,null,""]
[null,{"$f":"IF(H804<>\"\",\"1 -\",\"\")","v":""},null,null,null,null,null,null,null,null,null,null,null,null,null,null,{"$f":"IF(H804<>\"\",\"1 -\",\"\")","v":""},null,null,null,null,null,null,null,null,null,null,null,null,null,null,null,null,""]
[null,{"$f":"IF(H804<>\"\",\"2 -\",\"\")","v":""},null,null,null,null,null,null,null,null,null,null,null,null,null,null,{"$f":"IF(H804<>\"\",\"2 -\",\"\")","v":""},null,null,null,null,null,null,null,null,null,null,null,null,null,null,null,null,""]
[null,null,null,null,null,null,null,null,null,null,null,null,null,null,null,null,null,null,null,null,null,null,null,null,null,null,null,null,null,null,null,null,null,""]
["N1","Tipo de Relación",null,null,null,null,null,null,null,null,null,null,null,null,null,null,null,null,null,null,null,null,null,null,null,null,null,null,null,null,null,null,null,""]
[null,null,null,null,null,null,null,null,null,null,null,null,null,null,null,null,null,null,null,null,null,null,null,null,null,null,null,null,null,null,null,null,null,""]
[null,"Tipo de Documento",null,null,null,null,null,null,null,null,null,null,null,null,null,null,null,null,null,null,null,null,null,null,null,null,null,null,null,null,null,null,null,""]
[27,{"$f":"IF(H835<>\"\",\"N° de Documento\",\"\")","v":""},null,null,null,null,null,null,null,null,null,{"$f":"IF(H835<>\"\",\"Fecha de Expedición\",\"\")","v":""},null,null,null,null,null,null,null,null,null,{"$f":"IF(H835<>\"\",\"País de Expedición\",\"\")","v":""},null,null,null,null,null,null,null,null,null,null,null,""]
[null,null,null,null,null,null,null,null,null,null,null,null,null,null,null,null,null,null,null,null,null,null,null,null,null,null,null,null,null,null,null,null,null,""]
[null,{"$f":"IF(OR(H835=\"NIT\",H835=\"Fideicomiso/Fondo\",H835=\"PJ No Residente\"),\"Razón Social\",\"\")","v":""},null,null,null,null,null,null,null,null,null,null,null,null,null,null,null,null,null,null,null,null,null,null,null,null,null,null,null,null,null,null,null,""]
[null,null,null,null,null,null,null,null,null,null,null,null,null,null,null,null,null,null,null,null,null,null,null,null,null,null,null,null,null,null,null,null,null,""]
[null,{"$f":"IF(OR(H835=\"NIT\",H835=\"Fideicomiso/Fondo\",H835=\"PJ No Residente\",H835=\"\"),\"\",\"Primer Nombre\")","v":""},null,null,null,null,null,null,null,{"$f":"IF(OR(H835=\"NIT\",H835=\"Fideicomiso/Fondo\",H835=\"PJ No Residente\",H835=\"\"),\"\",\"Segundo Nombre\")","v":""},null,null,null,null,null,null,{"$f":"IF(OR(H835=\"NIT\",H835=\"Fideicomiso/Fondo\",H835=\"PJ No Residente\",H835=\"\"),\"\",\"Primer Apellido\")","v":""},null,null,null,null,null,null,{"$f":"IF(OR(H835=\"NIT\",H835=\"Fideicomiso/Fondo\",H835=\"PJ No Residente\",H835=\"\"),\"\",\"Segundo Apellido\")","v":""},null,null,null,null,null,null,null,null,null,""]
[null,null,null,null,null,null,null,null,null,null,null,null,null,null,null,null,null,null,null,null,null,null,null,null,null,null,null,null,null,null,null,null,null,""]
[null,{"$f":"IF(OR(H833=\"Socio o Accionista\",H833=\"Fideicomitente\",H833=\"Inversionista\",H833=\"Beneficiario de Activos/Rendimientos/Utilidades\"),\"Participación en %\",IF(H833=\"\",\"\",\"\"))","v":""},null,null,null,null,null,{"$f":"IF(H835<>\"\",\"¿Es Persona Expuesta Politicamente?\",\"\")","v":""},null,null,null,null,null,null,null,null,null,{"$f":"IF(OR(H835=\"NIT\",H835=\"Fideicomiso/Fondo\",H835=\"PJ No Residente\"),\"¿Emite acciones al portador?\",IF(H835=\"\",\"\",\"\"))","v":""},null,null,null,null,null,null,null,{"$f":"IF(OR(H835=\"NIT\",H835=\"Fideicomiso/Fondo\",H835=\"PJ No Residente\"),\"\",IF(H835=\"\",\"\",\"Género\"))","v":""},null,null,null,null,null,null,null,""]
[null,null,null,null,null,null,null,null,null,null,null,null,null,null,null,null,null,null,null,null,null,null,null,null,null,null,null,null,null,null,null,null,null,""]
[null,{"$f":"IF(OR(H835=\"NIT\",H835=\"Fideicomiso/Fondo\",H835=\"PJ No Residente\"),\"\",IF(H835=\"\",\"\",\"Fecha de Nacimiento\"))","v":""},null,null,null,null,null,null,null,null,null,{"$f":"IF(OR(H835=\"NIT\",H835=\"Fideicomiso/Fondo\",H835=\"PJ No Residente\"),\"\",IF(H835=\"\",\"\",\"País de nacimiento\"))","v":""},null,null,null,null,null,null,null,null,null,{"$f":"IF(OR(H835=\"NIT\",H835=\"Fideicomiso/Fondo\",H835=\"PJ No Residente\"),\"\",IF(H835=\"\",\"\",\"Nacionalidad\"))","v":""},null,null,null,null,null,null,null,null,null,null,null,""]
[null,null,null,null,null,null,null,null,null,null,null,null,null,null,null,null,null,null,null,null,null,null,null,null,null,null,null,null,null,null,null,null,null,""]
[null,{"$f":"IF(H835<>\"\",\"Pais de Residencia\",\"\")","v":""},null,null,null,null,null,null,null,null,null,{"$f":"IF(H835<>\"\",\"Departamento de Residencia\",\"\")","v":""},null,null,null,null,null,null,null,null,null,{"$f":"IF(H835<>\"\",\"Ciudad de Residencia\",\"\")","v":""},null,null,null,null,null,null,null,null,null,null,null,""]
[null,null,null,null,null,null,null,null,null,null,null,null,null,null,null,null,null,null,null,null,null,null,null,null,null,null,null,null,null,null,null,null,null,""]
[null,{"$f":"IF(H835<>\"\",\"Dirección de residencia\",\"\")","v":""},null,null,null,null,null,null,null,null,null,null,null,null,null,null,{"$f":"IF(H835<>\"\",\"Correo electrónico\",\"\")","v":""},null,null,null,null,null,null,null,null,null,null,null,null,null,null,null,null,""]
[null,null,null,null,null,null,null,null,null,null,null,null,null,null,null,null,null,null,null,null,null,null,null,null,null,null,null,null,null,null,null,null,null,""]
[null,null,null,null,null,null,null,null,null,null,null,null,null,null,null,null,null,null,null,null,null,null,null,null,null,null,null,null,null,null,null,null,null,""]
[null,{"$f":"IF(OR(H833=\"Socio o Accionista\"),\"Tipo de Participación\",IF(H833=\"\",\"\",\"\"))","v":""},null,null,null,null,null,null,null,{"$f":"IF(B852=\"Conjunta\",\"Tipo de Documento\",IF(B852=\"\",\"\",\"\"))","v":""},null,null,null,null,null,null,{"$f":"IF(B852=\"Conjunta\",\"N° de Documento\",IF(B852=\"\",\"\",\"\"))","v":""},null,null,null,null,null,null,{"$f":"IF(B852=\"Conjunta\",\"Parentesco\",IF(B852=\"\",\"\",\"\"))","v":""},null,null,null,null,null,null,null,null,null,""]
[null,null,null,null,null,null,null,null,null,null,null,null,null,null,null,null,null,null,null,null,null,null,null,null,null,null,null,null,null,null,null,null,null,""]
[null,null,null,null,null,null,null,null,null,null,null,null,null,null,null,null,null,null,null,null,null,null,null,null,null,null,null,null,null,null,null,null,null,""]
[null,{"$f":"IF(OR(H833=\"Socio o Accionista\"),\"Tipo de Participación\",IF(H836=\"\",\"\",\"\"))","v":""},null,null,null,null,null,null,null,{"$f":"IF(B855=\"Conjunta\",\"Tipo de Documento\",IF(B855=\"\",\"\",\"\"))","v":""},null,null,null,null,null,null,{"$f":"IF(B855=\"Conjunta\",\"N° de Documento\",IF(B855=\"\",\"\",\"\"))","v":""},null,null,null,null,null,null,{"$f":"IF(B855=\"Conjunta\",\"Parentesco\",IF(B855=\"\",\"\",\"\"))","v":""},null,null,null,null,null,null,null,null,null,""]
[null,null,null,null,null,null,null,null,null,null,null,null,null,null,null,null,null,null,null,null,null,null,null,null,null,null,null,null,null,null,null,null,null,""]
[null,null,null,null,null,null,null,null,null,null,null,null,null,null,null,null,null,null,null,null,null,null,null,null,null,null,null,null,null,null,null,null,null,""]
[null,{"$f":"IF(OR(H833=\"Socio o Accionista\"),\"Tipo de Participación\",IF(H839=\"\",\"\",\"\"))","v":""},null,null,null,null,null,null,null,{"$f":"IF(B858=\"Conjunta\",\"Tipo de Documento\",IF(B858=\"\",\"\",\"\"))","v":""},null,null,null,null,null,null,{"$f":"IF(B858=\"Conjunta\",\"N° de Documento\",IF(B858=\"\",\"\",\"\"))","v":""},null,null,null,null,null,null,{"$f":"IF(B858=\"Conjunta\",\"Parentesco\",IF(B858=\"\",\"\",\"\"))","v":""},null,null,null,null,null,null,null,null,null,""]
[null,null,null,null,null,null,null,null,null,null,null,null,null,null,null,null,null,null,null,null,null,null,null,null,null,null,null,null,null,null,null,null,null,""]
[null,null,null,null,null,null,null,null,null,null,null,null,null,null,null,null,null,null,null,null,null,null,null,null,null,null,null,null,null,null,null,null,null,""]
[null,{"$f":"IF(H835<>\"\",\"País de Expedición del NIT\",\"\")","v":""},null,null,null,null,null,null,null,null,null,null,null,null,null,null,{"$f":"IF(H835<>\"\",\"N° de Identificación Tributario\",\"\")","v":""},null,null,null,null,null,null,null,null,null,null,null,null,null,null,null,null,""]
[null,{"$f":"IF(H835<>\"\",\"1 -\",\"\")","v":""},null,null,null,null,null,null,null,null,null,null,null,null,null,null,{"$f":"IF(H835<>\"\",\"1 -\",\"\")","v":""},null,null,null,null,null,null,null,null,null,null,null,null,null,null,null,null,""]
[null,{"$f":"IF(H835<>\"\",\"2 -\",\"\")","v":""},null,null,null,null,null,null,null,null,null,null,null,null,null,null,{"$f":"IF(H835<>\"\",\"2 -\",\"\")","v":""},null,null,null,null,null,null,null,null,null,null,null,null,null,null,null,null,""]
[null,null,null,null,null,null,null,null,null,null,null,null,null,null,null,null,null,null,null,null,null,null,null,null,null,null,null,null,null,null,null,null,null,""]
["N1","Tipo de Relación",null,null,null,null,null,null,null,null,null,null,null,null,null,null,null,null,null,null,null,null,null,null,null,null,null,null,null,null,null,null,null,{"$f":"IF($H$864=\"\",\"\",\"1\")","v":""}]
[null,null,null,null,null,null,null,null,null,null,null,null,null,null,null,null,null,null,null,null,null,null,null,null,null,null,null,null,null,null,null,null,null,{"$f":"IF($H$864=\"\",\"\",\"1\")","v":""}]
[null,"Tipo de Documento",null,null,null,null,null,null,null,null,null,null,null,null,null,null,null,null,null,null,null,null,null,null,null,null,null,null,null,null,null,null,null,""]
[28,{"$f":"IF(H866<>\"\",\"N° de Documento\",\"\")","v":""},null,null,null,null,null,null,null,null,null,{"$f":"IF(H866<>\"\",\"Fecha de Expedición\",\"\")","v":""},null,null,null,null,null,null,null,null,null,{"$f":"IF(H866<>\"\",\"País de Expedición\",\"\")","v":""},null,null,null,null,null,null,null,null,null,null,null,""]
[null,null,null,null,null,null,null,null,null,null,null,null,null,null,null,null,null,null,null,null,null,null,null,null,null,null,null,null,null,null,null,null,null,""]
[null,{"$f":"IF(OR(H866=\"NIT\",H866=\"Fideicomiso/Fondo\",H866=\"PJ No Residente\"),\"Razón Social\",\"\")","v":""},null,null,null,null,null,null,null,null,null,null,null,null,null,null,null,null,null,null,null,null,null,null,null,null,null,null,null,null,null,null,null,""]
[null,null,null,null,null,null,null,null,null,null,null,null,null,null,null,null,null,null,null,null,null,null,null,null,null,null,null,null,null,null,null,null,null,""]
[null,{"$f":"IF(OR(H866=\"NIT\",H866=\"Fideicomiso/Fondo\",H866=\"PJ No Residente\",H866=\"\"),\"\",\"Primer Nombre\")","v":""},null,null,null,null,null,null,null,{"$f":"IF(OR(H866=\"NIT\",H866=\"Fideicomiso/Fondo\",H866=\"PJ No Residente\",H866=\"\"),\"\",\"Segundo Nombre\")","v":""},null,null,null,null,null,null,{"$f":"IF(OR(H866=\"NIT\",H866=\"Fideicomiso/Fondo\",H866=\"PJ No Residente\",H866=\"\"),\"\",\"Primer Apellido\")","v":""},null,null,null,null,null,null,{"$f":"IF(OR(H866=\"NIT\",H866=\"Fideicomiso/Fondo\",H866=\"PJ No Residente\",H866=\"\"),\"\",\"Segundo Apellido\")","v":""},null,null,null,null,null,null,null,null,null,""]
[null,null,null,null,null,null,null,null,null,null,null,null,null,null,null,null,null,null,null,null,null,null,null,null,null,null,null,null,null,null,null,null,null,""]
[null,{"$f":"IF(OR(H864=\"Socio o Accionista\",H864=\"Fideicomitente\",H864=\"Inversionista\",H864=\"Beneficiario de Activos/Rendimientos/Utilidades\"),\"Participación en %\",IF(H864=\"\",\"\",\"\"))","v":""},null,null,null,null,null,{"$f":"IF(H866<>\"\",\"¿Es Persona Expuesta Politicamente?\",\"\")","v":""},null,null,null,null,null,null,null,null,null,{"$f":"IF(OR(H866=\"NIT\",H866=\"Fideicomiso/Fondo\",H866=\"PJ No Residente\"),\"¿Emite acciones al portador?\",IF(H866=\"\",\"\",\"\"))","v":""},null,null,null,null,null,null,null,{"$f":"IF(OR(H866=\"NIT\",H866=\"Fideicomiso/Fondo\",H866=\"PJ No Residente\"),\"\",IF(H866=\"\",\"\",\"Género\"))","v":""},null,null,null,null,null,null,null,""]
[null,null,null,null,null,null,null,null,null,null,null,null,null,null,null,null,null,null,null,null,null,null,null,null,null,null,null,null,null,null,null,null,null,""]
[null,{"$f":"IF(OR(H866=\"NIT\",H866=\"Fideicomiso/Fondo\",H866=\"PJ No Residente\"),\"\",IF(H866=\"\",\"\",\"Fecha de Nacimiento\"))","v":""},null,null,null,null,null,null,null,null,null,{"$f":"IF(OR(H866=\"NIT\",H866=\"Fideicomiso/Fondo\",H866=\"PJ No Residente\"),\"\",IF(H866=\"\",\"\",\"País de nacimiento\"))","v":""},null,null,null,null,null,null,null,null,null,{"$f":"IF(OR(H866=\"NIT\",H866=\"Fideicomiso/Fondo\",H866=\"PJ No Residente\"),\"\",IF(H866=\"\",\"\",\"Nacionalidad\"))","v":""},null,null,null,null,null,null,null,null,null,null,null,""]
[null,null,null,null,null,null,null,null,null,null,null,null,null,null,null,null,null,null,null,null,null,null,null,null,null,null,null,null,null,null,null,null,null,""]
[null,{"$f":"IF(H866<>\"\",\"Pais de Residencia\",\"\")","v":""},null,null,null,null,null,null,null,null,null,{"$f":"IF(H866<>\"\",\"Departamento de Residencia\",\"\")","v":""},null,null,null,null,null,null,null,null,null,{"$f":"IF(H866<>\"\",\"Ciudad de Residencia\",\"\")","v":""},null,null,null,null,null,null,null,null,null,null,null,""]
[null,null,null,null,null,null,null,null,null,null,null,null,null,null,null,null,null,null,null,null,null,null,null,null,null,null,null,null,null,null,null,null,null,""]
[null,{"$f":"IF(H866<>\"\",\"Dirección de residencia\",\"\")","v":""},null,null,null,null,null,null,null,null,null,null,null,null,null,null,{"$f":"IF(H866<>\"\",\"Correo electrónico\",\"\")","v":""},null,null,null,null,null,null,null,null,null,null,null,null,null,null,null,null,""]
[null,null,null,null,null,null,null,null,null,null,null,null,null,null,null,null,null,null,null,null,null,null,null,null,null,null,null,null,null,null,null,null,null,""]
[null,null,null,null,null,null,null,null,null,null,null,null,null,null,null,null,null,null,null,null,null,null,null,null,null,null,null,null,null,null,null,null,null,""]
[null,{"$f":"IF(OR(H864=\"Socio o Accionista\"),\"Tipo de Participación\",IF(H864=\"\",\"\",\"\"))","v":""},null,null,null,null,null,null,null,{"$f":"IF(B883=\"Conjunta\",\"Tipo de Documento\",IF(B883=\"\",\"\",\"\"))","v":""},null,null,null,null,null,null,{"$f":"IF(B883=\"Conjunta\",\"N° de Documento\",IF(B883=\"\",\"\",\"\"))","v":""},null,null,null,null,null,null,{"$f":"IF(B883=\"Conjunta\",\"Parentesco\",IF(B883=\"\",\"\",\"\"))","v":""},null,null,null,null,null,null,null,null,null,""]
[null,null,null,null,null,null,null,null,null,null,null,null,null,null,null,null,null,null,null,null,null,null,null,null,null,null,null,null,null,null,null,null,null,""]
[null,null,null,null,null,null,null,null,null,null,null,null,null,null,null,null,null,null,null,null,null,null,null,null,null,null,null,null,null,null,null,null,null,""]
[null,{"$f":"IF(OR(H864=\"Socio o Accionista\"),\"Tipo de Participación\",IF(H867=\"\",\"\",\"\"))","v":""},null,null,null,null,null,null,null,{"$f":"IF(B886=\"Conjunta\",\"Tipo de Documento\",IF(B886=\"\",\"\",\"\"))","v":""},null,null,null,null,null,null,{"$f":"IF(B886=\"Conjunta\",\"N° de Documento\",IF(B886=\"\",\"\",\"\"))","v":""},null,null,null,null,null,null,{"$f":"IF(B886=\"Conjunta\",\"Parentesco\",IF(B886=\"\",\"\",\"\"))","v":""},null,null,null,null,null,null,null,null,null,""]
[null,null,null,null,null,null,null,null,null,null,null,null,null,null,null,null,null,null,null,null,null,null,null,null,null,null,null,null,null,null,null,null,null,""]
[null,null,null,null,null,null,null,null,null,null,null,null,null,null,null,null,null,null,null,null,null,null,null,null,null,null,null,null,null,null,null,null,null,""]
[null,{"$f":"IF(OR(H864=\"Socio o Accionista\"),\"Tipo de Participación\",IF(H870=\"\",\"\",\"\"))","v":""},null,null,null,null,null,null,null,{"$f":"IF(B889=\"Conjunta\",\"Tipo de Documento\",IF(B889=\"\",\"\",\"\"))","v":""},null,null,null,null,null,null,{"$f":"IF(B889=\"Conjunta\",\"N° de Documento\",IF(B889=\"\",\"\",\"\"))","v":""},null,null,null,null,null,null,{"$f":"IF(B889=\"Conjunta\",\"Parentesco\",IF(B889=\"\",\"\",\"\"))","v":""},null,null,null,null,null,null,null,null,null,""]
[null,null,null,null,null,null,null,null,null,null,null,null,null,null,null,null,null,null,null,null,null,null,null,null,null,null,null,null,null,null,null,null,null,""]
[null,null,null,null,null,null,null,null,null,null,null,null,null,null,null,null,null,null,null,null,null,null,null,null,null,null,null,null,null,null,null,null,null,""]
[null,{"$f":"IF(H866<>\"\",\"País de Expedición del NIT\",\"\")","v":""},null,null,null,null,null,null,null,null,null,null,null,null,null,null,{"$f":"IF(H866<>\"\",\"N° de Identificación Tributario\",\"\")","v":""},null,null,null,null,null,null,null,null,null,null,null,null,null,null,null,null,""]
[null,{"$f":"IF(H866<>\"\",\"1 -\",\"\")","v":""},null,null,null,null,null,null,null,null,null,null,null,null,null,null,{"$f":"IF(H866<>\"\",\"1 -\",\"\")","v":""},null,null,null,null,null,null,null,null,null,null,null,null,null,null,null,null,""]
[null,{"$f":"IF(H866<>\"\",\"2 -\",\"\")","v":""},null,null,null,null,null,null,null,null,null,null,null,null,null,null,{"$f":"IF(H866<>\"\",\"2 -\",\"\")","v":""},null,null,null,null,null,null,null,null,null,null,null,null,null,null,null,null,""]
[null,null,null,null,null,null,null,null,null,null,null,null,null,null,null,null,null,null,null,null,null,null,null,null,null,null,null,null,null,null,null,null,null,""]
["N1","Tipo de Relación",null,null,null,null,null,null,null,null,null,null,null,null,null,null,null,null,null,null,null,null,null,null,null,null,null,null,null,null,null,null,null,""]
[null,null,null,null,null,null,null,null,null,null,null,null,null,null,null,null,null,null,null,null,null,null,null,null,null,null,null,null,null,null,null,null,null,""]
[null,"Tipo de Documento",null,null,null,null,null,null,null,null,null,null,null,null,null,null,null,null,null,null,null,null,null,null,null,null,null,null,null,null,null,null,null,""]
[29,{"$f":"IF(H897<>\"\",\"N° de Documento\",\"\")","v":""},null,null,null,null,null,null,null,null,null,{"$f":"IF(H897<>\"\",\"Fecha de Expedición\",\"\")","v":""},null,null,null,null,null,null,null,null,null,{"$f":"IF(H897<>\"\",\"País de Expedición\",\"\")","v":""},null,null,null,null,null,null,null,null,null,null,null,""]
[null,null,null,null,null,null,null,null,null,null,null,null,null,null,null,null,null,null,null,null,null,null,null,null,null,null,null,null,null,null,null,null,null,""]
[null,{"$f":"IF(OR(H897=\"NIT\",H897=\"Fideicomiso/Fondo\",H897=\"PJ No Residente\"),\"Razón Social\",\"\")","v":""},null,null,null,null,null,null,null,null,null,null,null,null,null,null,null,null,null,null,null,null,null,null,null,null,null,null,null,null,null,null,null,""]
[null,null,null,null,null,null,null,null,null,null,null,null,null,null,null,null,null,null,null,null,null,null,null,null,null,null,null,null,null,null,null,null,null,""]
[null,{"$f":"IF(OR(H897=\"NIT\",H897=\"Fideicomiso/Fondo\",H897=\"PJ No Residente\",H897=\"\"),\"\",\"Primer Nombre\")","v":""},null,null,null,null,null,null,null,{"$f":"IF(OR(H897=\"NIT\",H897=\"Fideicomiso/Fondo\",H897=\"PJ No Residente\",H897=\"\"),\"\",\"Segundo Nombre\")","v":""},null,null,null,null,null,null,{"$f":"IF(OR(H897=\"NIT\",H897=\"Fideicomiso/Fondo\",H897=\"PJ No Residente\",H897=\"\"),\"\",\"Primer Apellido\")","v":""},null,null,null,null,null,null,{"$f":"IF(OR(H897=\"NIT\",H897=\"Fideicomiso/Fondo\",H897=\"PJ No Residente\",H897=\"\"),\"\",\"Segundo Apellido\")","v":""},null,null,null,null,null,null,null,null,null,""]
[null,null,null,null,null,null,null,null,null,null,null,null,null,null,null,null,null,null,null,null,null,null,null,null,null,null,null,null,null,null,null,null,null,""]
[null,{"$f":"IF(OR(H895=\"Socio o Accionista\",H895=\"Fideicomitente\",H895=\"Inversionista\",H895=\"Beneficiario de Activos/Rendimientos/Utilidades\"),\"Participación en %\",IF(H895=\"\",\"\",\"\"))","v":""},null,null,null,null,null,{"$f":"IF(H897<>\"\",\"¿Es Persona Expuesta Politicamente?\",\"\")","v":""},null,null,null,null,null,null,null,null,null,{"$f":"IF(OR(H897=\"NIT\",H897=\"Fideicomiso/Fondo\",H897=\"PJ No Residente\"),\"¿Emite acciones al portador?\",IF(H897=\"\",\"\",\"\"))","v":""},null,null,null,null,null,null,null,{"$f":"IF(OR(H897=\"NIT\",H897=\"Fideicomiso/Fondo\",H897=\"PJ No Residente\"),\"\",IF(H897=\"\",\"\",\"Género\"))","v":""},null,null,null,null,null,null,null,""]
[null,null,null,null,null,null,null,null,null,null,null,null,null,null,null,null,null,null,null,null,null,null,null,null,null,null,null,null,null,null,null,null,null,""]
[null,{"$f":"IF(OR(H897=\"NIT\",H897=\"Fideicomiso/Fondo\",H897=\"PJ No Residente\"),\"\",IF(H897=\"\",\"\",\"Fecha de Nacimiento\"))","v":""},null,null,null,null,null,null,null,null,null,{"$f":"IF(OR(H897=\"NIT\",H897=\"Fideicomiso/Fondo\",H897=\"PJ No Residente\"),\"\",IF(H897=\"\",\"\",\"País de nacimiento\"))","v":""},null,null,null,null,null,null,null,null,null,{"$f":"IF(OR(H897=\"NIT\",H897=\"Fideicomiso/Fondo\",H897=\"PJ No Residente\"),\"\",IF(H897=\"\",\"\",\"Nacionalidad\"))","v":""},null,null,null,null,null,null,null,null,null,null,null,""]
[null,null,null,null,null,null,null,null,null,null,null,null,null,null,null,null,null,null,null,null,null,null,null,null,null,null,null,null,null,null,null,null,null,""]
[null,{"$f":"IF(H897<>\"\",\"Pais de Residencia\",\"\")","v":""},null,null,null,null,null,null,null,null,null,{"$f":"IF(H897<>\"\",\"Departamento de Residencia\",\"\")","v":""},null,null,null,null,null,null,null,null,null,{"$f":"IF(H897<>\"\",\"Ciudad de Residencia\",\"\")","v":""},null,null,null,null,null,null,null,null,null,null,null,""]
[null,null,null,null,null,null,null,null,null,null,null,null,null,null,null,null,null,null,null,null,null,null,null,null,null,null,null,null,null,null,null,null,null,""]
[null,{"$f":"IF(H897<>\"\",\"Dirección de residencia\",\"\")","v":""},null,null,null,null,null,null,null,null,null,null,null,null,null,null,{"$f":"IF(H897<>\"\",\"Correo electrónico\",\"\")","v":""},null,null,null,null,null,null,null,null,null,null,null,null,null,null,null,null,""]
[null,null,null,null,null,null,null,null,null,null,null,null,null,null,null,null,null,null,null,null,null,null,null,null,null,null,null,null,null,null,null,null,null,""]
[null,null,null,null,null,null,null,null,null,null,null,null,null,null,null,null,null,null,null,null,null,null,null,null,null,null,null,null,null,null,null,null,null,""]
[null,{"$f":"IF(OR(H895=\"Socio o Accionista\"),\"Tipo de Participación\",IF(H895=\"\",\"\",\"\"))","v":""},null,null,null,null,null,null,null,{"$f":"IF(B914=\"Conjunta\",\"Tipo de Documento\",IF(B914=\"\",\"\",\"\"))","v":""},null,null,null,null,null,null,{"$f":"IF(B914=\"Conjunta\",\"N° de Documento\",IF(B914=\"\",\"\",\"\"))","v":""},null,null,null,null,null,null,{"$f":"IF(B914=\"Conjunta\",\"Parentesco\",IF(B914=\"\",\"\",\"\"))","v":""},null,null,null,null,null,null,null,null,null,""]
[null,null,null,null,null,null,null,null,null,null,null,null,null,null,null,null,null,null,null,null,null,null,null,null,null,null,null,null,null,null,null,null,null,""]
[null,null,null,null,null,null,null,null,null,null,null,null,null,null,null,null,null,null,null,null,null,null,null,null,null,null,null,null,null,null,null,null,null,""]
[null,{"$f":"IF(OR(H895=\"Socio o Accionista\"),\"Tipo de Participación\",IF(H898=\"\",\"\",\"\"))","v":""},null,null,null,null,null,null,null,{"$f":"IF(B917=\"Conjunta\",\"Tipo de Documento\",IF(B917=\"\",\"\",\"\"))","v":""},null,null,null,null,null,null,{"$f":"IF(B917=\"Conjunta\",\"N° de Documento\",IF(B917=\"\",\"\",\"\"))","v":""},null,null,null,null,null,null,{"$f":"IF(B917=\"Conjunta\",\"Parentesco\",IF(B917=\"\",\"\",\"\"))","v":""},null,null,null,null,null,null,null,null,null,""]
[null,null,null,null,null,null,null,null,null,null,null,null,null,null,null,null,null,null,null,null,null,null,null,null,null,null,null,null,null,null,null,null,null,""]
[null,null,null,null,null,null,null,null,null,null,null,null,null,null,null,null,null,null,null,null,null,null,null,null,null,null,null,null,null,null,null,null,null,""]
[null,{"$f":"IF(OR(H895=\"Socio o Accionista\"),\"Tipo de Participación\",IF(H901=\"\",\"\",\"\"))","v":""},null,null,null,null,null,null,null,{"$f":"IF(B920=\"Conjunta\",\"Tipo de Documento\",IF(B920=\"\",\"\",\"\"))","v":""},null,null,null,null,null,null,{"$f":"IF(B920=\"Conjunta\",\"N° de Documento\",IF(B920=\"\",\"\",\"\"))","v":""},null,null,null,null,null,null,{"$f":"IF(B920=\"Conjunta\",\"Parentesco\",IF(B920=\"\",\"\",\"\"))","v":""},null,null,null,null,null,null,null,null,null,""]
[null,null,null,null,null,null,null,null,null,null,null,null,null,null,null,null,null,null,null,null,null,null,null,null,null,null,null,null,null,null,null,null,null,""]
[null,null,null,null,null,null,null,null,null,null,null,null,null,null,null,null,null,null,null,null,null,null,null,null,null,null,null,null,null,null,null,null,null,""]
[null,{"$f":"IF(H897<>\"\",\"País de Expedición del NIT\",\"\")","v":""},null,null,null,null,null,null,null,null,null,null,null,null,null,null,{"$f":"IF(H897<>\"\",\"N° de Identificación Tributario\",\"\")","v":""},null,null,null,null,null,null,null,null,null,null,null,null,null,null,null,null,""]
[null,{"$f":"IF(H897<>\"\",\"1 -\",\"\")","v":""},null,null,null,null,null,null,null,null,null,null,null,null,null,null,{"$f":"IF(H897<>\"\",\"1 -\",\"\")","v":""},null,null,null,null,null,null,null,null,null,null,null,null,null,null,null,null,""]
[null,{"$f":"IF(H897<>\"\",\"2 -\",\"\")","v":""},null,null,null,null,null,null,null,null,null,null,null,null,null,null,{"$f":"IF(H897<>\"\",\"2 -\",\"\")","v":""},null,null,null,null,null,null,null,null,null,null,null,null,null,null,null,null,""]
[null,null,null,null,null,null,null,null,null,null,null,null,null,null,null,null,null,null,null,null,null,null,null,null,null,null,null,null,null,null,null,null,null,""]
["N1","Tipo de Relación",null,null,null,null,null,null,null,null,null,null,null,null,null,null,null,null,null,null,null,null,null,null,null,null,null,null,null,null,null,null,null,{"$f":"IF($H$926=\"\",\"\",\"1\")","v":""}]
[null,null,null,null,null,null,null,null,null,null,null,null,null,null,null,null,null,null,null,null,null,null,null,null,null,null,null,null,null,null,null,null,null,{"$f":"IF($H$926=\"\",\"\",\"1\")","v":""}]
[null,"Tipo de Documento",null,null,null,null,null,null,null,null,null,null,null,null,null,null,null,null,null,null,null,null,null,null,null,null,null,null,null,null,null,null,null,""]
[30,{"$f":"IF(H928<>\"\",\"N° de Documento\",\"\")","v":""},null,null,null,null,null,null,null,null,null,{"$f":"IF(H928<>\"\",\"Fecha de Expedición\",\"\")","v":""},null,null,null,null,null,null,null,null,null,{"$f":"IF(H928<>\"\",\"País de Expedición\",\"\")","v":""},null,null,null,null,null,null,null,null,null,null,null,""]
[null,null,null,null,null,null,null,null,null,null,null,null,null,null,null,null,null,null,null,null,null,null,null,null,null,null,null,null,null,null,null,null,null,""]
[null,{"$f":"IF(OR(H928=\"NIT\",H928=\"Fideicomiso/Fondo\",H928=\"PJ No Residente\"),\"Razón Social\",\"\")","v":""},null,null,null,null,null,null,null,null,null,null,null,null,null,null,null,null,null,null,null,null,null,null,null,null,null,null,null,null,null,null,null,""]
[null,null,null,null,null,null,null,null,null,null,null,null,null,null,null,null,null,null,null,null,null,null,null,null,null,null,null,null,null,null,null,null,null,""]
[null,{"$f":"IF(OR(H928=\"NIT\",H928=\"Fideicomiso/Fondo\",H928=\"PJ No Residente\",H928=\"\"),\"\",\"Primer Nombre\")","v":""},null,null,null,null,null,null,null,{"$f":"IF(OR(H928=\"NIT\",H928=\"Fideicomiso/Fondo\",H928=\"PJ No Residente\",H928=\"\"),\"\",\"Segundo Nombre\")","v":""},null,null,null,null,null,null,{"$f":"IF(OR(H928=\"NIT\",H928=\"Fideicomiso/Fondo\",H928=\"PJ No Residente\",H928=\"\"),\"\",\"Primer Apellido\")","v":""},null,null,null,null,null,null,{"$f":"IF(OR(H928=\"NIT\",H928=\"Fideicomiso/Fondo\",H928=\"PJ No Residente\",H928=\"\"),\"\",\"Segundo Apellido\")","v":""},null,null,null,null,null,null,null,null,null,""]
[null,null,null,null,null,null,null,null,null,null,null,null,null,null,null,null,null,null,null,null,null,null,null,null,null,null,null,null,null,null,null,null,null,""]
[null,{"$f":"IF(OR(H926=\"Socio o Accionista\",H926=\"Fideicomitente\",H926=\"Inversionista\",H926=\"Beneficiario de Activos/Rendimientos/Utilidades\"),\"Participación en %\",IF(H926=\"\",\"\",\"\"))","v":""},null,null,null,null,null,{"$f":"IF(H928<>\"\",\"¿Es Persona Expuesta Politicamente?\",\"\")","v":""},null,null,null,null,null,null,null,null,null,{"$f":"IF(OR(H928=\"NIT\",H928=\"Fideicomiso/Fondo\",H928=\"PJ No Residente\"),\"¿Emite acciones al portador?\",IF(H928=\"\",\"\",\"\"))","v":""},null,null,null,null,null,null,null,{"$f":"IF(OR(H928=\"NIT\",H928=\"Fideicomiso/Fondo\",H928=\"PJ No Residente\"),\"\",IF(H928=\"\",\"\",\"Género\"))","v":""},null,null,null,null,null,null,null,""]
[null,null,null,null,null,null,null,null,null,null,null,null,null,null,null,null,null,null,null,null,null,null,null,null,null,null,null,null,null,null,null,null,null,""]
[null,{"$f":"IF(OR(H928=\"NIT\",H928=\"Fideicomiso/Fondo\",H928=\"PJ No Residente\"),\"\",IF(H928=\"\",\"\",\"Fecha de Nacimiento\"))","v":""},null,null,null,null,null,null,null,null,null,{"$f":"IF(OR(H928=\"NIT\",H928=\"Fideicomiso/Fondo\",H928=\"PJ No Residente\"),\"\",IF(H928=\"\",\"\",\"País de nacimiento\"))","v":""},null,null,null,null,null,null,null,null,null,{"$f":"IF(OR(H928=\"NIT\",H928=\"Fideicomiso/Fondo\",H928=\"PJ No Residente\"),\"\",IF(H928=\"\",\"\",\"Nacionalidad\"))","v":""},null,null,null,null,null,null,null,null,null,null,null,""]
[null,null,null,null,null,null,null,null,null,null,null,null,null,null,null,null,null,null,null,null,null,null,null,null,null,null,null,null,null,null,null,null,null,""]
[null,{"$f":"IF(H928<>\"\",\"Pais de Residencia\",\"\")","v":""},null,null,null,null,null,null,null,null,null,{"$f":"IF(H928<>\"\",\"Departamento de Residencia\",\"\")","v":""},null,null,null,null,null,null,null,null,null,{"$f":"IF(H928<>\"\",\"Ciudad de Residencia\",\"\")","v":""},null,null,null,null,null,null,null,null,null,null,null,""]
[null,null,null,null,null,null,null,null,null,null,null,null,null,null,null,null,null,null,null,null,null,null,null,null,null,null,null,null,null,null,null,null,null,""]
[null,{"$f":"IF(H928<>\"\",\"Dirección de residencia\",\"\")","v":""},null,null,null,null,null,null,null,null,null,null,null,null,null,null,{"$f":"IF(H928<>\"\",\"Correo electrónico\",\"\")","v":""},null,null,null,null,null,null,null,null,null,null,null,null,null,null,null,null,""]
[null,null,null,null,null,null,null,null,null,null,null,null,null,null,null,null,null,null,null,null,null,null,null,null,null,null,null,null,null,null,null,null,null,""]
[null,null,null,null,null,null,null,null,null,null,null,null,null,null,null,null,null,null,null,null,null,null,null,null,null,null,null,null,null,null,null,null,null,""]
[null,{"$f":"IF(OR(H926=\"Socio o Accionista\"),\"Tipo de Participación\",IF(H926=\"\",\"\",\"\"))","v":""},null,null,null,null,null,null,null,{"$f":"IF(B945=\"Conjunta\",\"Tipo de Documento\",IF(B945=\"\",\"\",\"\"))","v":""},null,null,null,null,null,null,{"$f":"IF(B945=\"Conjunta\",\"N° de Documento\",IF(B945=\"\",\"\",\"\"))","v":""},null,null,null,null,null,null,{"$f":"IF(B945=\"Conjunta\",\"Parentesco\",IF(B945=\"\",\"\",\"\"))","v":""},null,null,null,null,null,null,null,null,null,""]
[null,null,null,null,null,null,null,null,null,null,null,null,null,null,null,null,null,null,null,null,null,null,null,null,null,null,null,null,null,null,null,null,null,""]
[null,null,null,null,null,null,null,null,null,null,null,null,null,null,null,null,null,null,null,null,null,null,null,null,null,null,null,null,null,null,null,null,null,""]
[null,{"$f":"IF(OR(H926=\"Socio o Accionista\"),\"Tipo de Participación\",IF(H929=\"\",\"\",\"\"))","v":""},null,null,null,null,null,null,null,{"$f":"IF(B948=\"Conjunta\",\"Tipo de Documento\",IF(B948=\"\",\"\",\"\"))","v":""},null,null,null,null,null,null,{"$f":"IF(B948=\"Conjunta\",\"N° de Documento\",IF(B948=\"\",\"\",\"\"))","v":""},null,null,null,null,null,null,{"$f":"IF(B948=\"Conjunta\",\"Parentesco\",IF(B948=\"\",\"\",\"\"))","v":""},null,null,null,null,null,null,null,null,null,""]
[null,null,null,null,null,null,null,null,null,null,null,null,null,null,null,null,null,null,null,null,null,null,null,null,null,null,null,null,null,null,null,null,null,""]
[null,null,null,null,null,null,null,null,null,null,null,null,null,null,null,null,null,null,null,null,null,null,null,null,null,null,null,null,null,null,null,null,null,""]
[null,{"$f":"IF(OR(H926=\"Socio o Accionista\"),\"Tipo de Participación\",IF(H932=\"\",\"\",\"\"))","v":""},null,null,null,null,null,null,null,{"$f":"IF(B951=\"Conjunta\",\"Tipo de Documento\",IF(B951=\"\",\"\",\"\"))","v":""},null,null,null,null,null,null,{"$f":"IF(B951=\"Conjunta\",\"N° de Documento\",IF(B951=\"\",\"\",\"\"))","v":""},null,null,null,null,null,null,{"$f":"IF(B951=\"Conjunta\",\"Parentesco\",IF(B951=\"\",\"\",\"\"))","v":""},null,null,null,null,null,null,null,null,null,""]
[null,null,null,null,null,null,null,null,null,null,null,null,null,null,null,null,null,null,null,null,null,null,null,null,null,null,null,null,null,null,null,null,null,""]
[null,null,null,null,null,null,null,null,null,null,null,null,null,null,null,null,null,null,null,null,null,null,null,null,null,null,null,null,null,null,null,null,null,""]
[null,{"$f":"IF(H928<>\"\",\"País de Expedición del NIT\",\"\")","v":""},null,null,null,null,null,null,null,null,null,null,null,null,null,null,{"$f":"IF(H928<>\"\",\"N° de Identificación Tributario\",\"\")","v":""},null,null,null,null,null,null,null,null,null,null,null,null,null,null,null,null,""]
[null,{"$f":"IF(H928<>\"\",\"1 -\",\"\")","v":""},null,null,null,null,null,null,null,null,null,null,null,null,null,null,{"$f":"IF(H928<>\"\",\"1 -\",\"\")","v":""},null,null,null,null,null,null,null,null,null,null,null,null,null,null,null,null,""]
[null,{"$f":"IF(H928<>\"\",\"2 -\",\"\")","v":""},null,null,null,null,null,null,null,null,null,null,null,null,null,null,{"$f":"IF(H928<>\"\",\"2 -\",\"\")","v":""},null,null,null,null,null,null,null,null,null,null,null,null,null,null,null,null,""]
[null,null,null,null,null,null,null,null,null,null,null,null,null,null,null,null,null,null,null,null,null,null,null,null,null,null,null,null,null,null,null,null,null,""]
["N1","Tipo de Relación",null,null,null,null,null,null,null,null,null,null,null,null,null,null,null,null,null,null,null,null,null,null,null,null,null,null,null,null,null,null,null,""]
[null,null,null,null,null,null,null,null,null,null,null,null,null,null,null,null,null,null,null,null,null,null,null,null,null,null,null,null,null,null,null,null,null,""]
[null,"Tipo de Documento",null,null,null,null,null,null,null,null,null,null,null,null,null,null,null,null,null,null,null,null,null,null,null,null,null,null,null,null,null,null,null,""]
[31,{"$f":"IF(H959<>\"\",\"N° de Documento\",\"\")","v":""},null,null,null,null,null,null,null,null,null,{"$f":"IF(H959<>\"\",\"Fecha de Expedición\",\"\")","v":""},null,null,null,null,null,null,null,null,null,{"$f":"IF(H959<>\"\",\"País de Expedición\",\"\")","v":""},null,null,null,null,null,null,null,null,null,null,null,""]
[null,null,null,null,null,null,null,null,null,null,null,null,null,null,null,null,null,null,null,null,null,null,null,null,null,null,null,null,null,null,null,null,null,""]
[null,{"$f":"IF(OR(H959=\"NIT\",H959=\"Fideicomiso/Fondo\",H959=\"PJ No Residente\"),\"Razón Social\",\"\")","v":""},null,null,null,null,null,null,null,null,null,null,null,null,null,null,null,null,null,null,null,null,null,null,null,null,null,null,null,null,null,null,null,""]
[null,null,null,null,null,null,null,null,null,null,null,null,null,null,null,null,null,null,null,null,null,null,null,null,null,null,null,null,null,null,null,null,null,""]
[null,{"$f":"IF(OR(H959=\"NIT\",H959=\"Fideicomiso/Fondo\",H959=\"PJ No Residente\",H959=\"\"),\"\",\"Primer Nombre\")","v":""},null,null,null,null,null,null,null,{"$f":"IF(OR(H959=\"NIT\",H959=\"Fideicomiso/Fondo\",H959=\"PJ No Residente\",H959=\"\"),\"\",\"Segundo Nombre\")","v":""},null,null,null,null,null,null,{"$f":"IF(OR(H959=\"NIT\",H959=\"Fideicomiso/Fondo\",H959=\"PJ No Residente\",H959=\"\"),\"\",\"Primer Apellido\")","v":""},null,null,null,null,null,null,{"$f":"IF(OR(H959=\"NIT\",H959=\"Fideicomiso/Fondo\",H959=\"PJ No Residente\",H959=\"\"),\"\",\"Segundo Apellido\")","v":""},null,null,null,null,null,null,null,null,null,""]
[null,null,null,null,null,null,null,null,null,null,null,null,null,null,null,null,null,null,null,null,null,null,null,null,null,null,null,null,null,null,null,null,null,""]
[null,{"$f":"IF(OR(H957=\"Socio o Accionista\",H957=\"Fideicomitente\",H957=\"Inversionista\",H957=\"Beneficiario de Activos/Rendimientos/Utilidades\"),\"Participación en %\",IF(H957=\"\",\"\",\"\"))","v":""},null,null,null,null,null,{"$f":"IF(H959<>\"\",\"¿Es Persona Expuesta Politicamente?\",\"\")","v":""},null,null,null,null,null,null,null,null,null,{"$f":"IF(OR(H959=\"NIT\",H959=\"Fideicomiso/Fondo\",H959=\"PJ No Residente\"),\"¿Emite acciones al portador?\",IF(H959=\"\",\"\",\"\"))","v":""},null,null,null,null,null,null,null,{"$f":"IF(OR(H959=\"NIT\",H959=\"Fideicomiso/Fondo\",H959=\"PJ No Residente\"),\"\",IF(H959=\"\",\"\",\"Género\"))","v":""},null,null,null,null,null,null,null,""]
[null,null,null,null,null,null,null,null,null,null,null,null,null,null,null,null,null,null,null,null,null,null,null,null,null,null,null,null,null,null,null,null,null,""]
[null,{"$f":"IF(OR(H959=\"NIT\",H959=\"Fideicomiso/Fondo\",H959=\"PJ No Residente\"),\"\",IF(H959=\"\",\"\",\"Fecha de Nacimiento\"))","v":""},null,null,null,null,null,null,null,null,null,{"$f":"IF(OR(H959=\"NIT\",H959=\"Fideicomiso/Fondo\",H959=\"PJ No Residente\"),\"\",IF(H959=\"\",\"\",\"País de nacimiento\"))","v":""},null,null,null,null,null,null,null,null,null,{"$f":"IF(OR(H959=\"NIT\",H959=\"Fideicomiso/Fondo\",H959=\"PJ No Residente\"),\"\",IF(H959=\"\",\"\",\"Nacionalidad\"))","v":""},null,null,null,null,null,null,null,null,null,null,null,""]
[null,null,null,null,null,null,null,null,null,null,null,null,null,null,null,null,null,null,null,null,null,null,null,null,null,null,null,null,null,null,null,null,null,""]
[null,{"$f":"IF(H959<>\"\",\"Pais de Residencia\",\"\")","v":""},null,null,null,null,null,null,null,null,null,{"$f":"IF(H959<>\"\",\"Departamento de Residencia\",\"\")","v":""},null,null,null,null,null,null,null,null,null,{"$f":"IF(H959<>\"\",\"Ciudad de Residencia\",\"\")","v":""},null,null,null,null,null,null,null,null,null,null,null,""]
[null,null,null,null,null,null,null,null,null,null,null,null,null,null,null,null,null,null,null,null,null,null,null,null,null,null,null,null,null,null,null,null,null,""]
[null,{"$f":"IF(H959<>\"\",\"Dirección de residencia\",\"\")","v":""},null,null,null,null,null,null,null,null,null,null,null,null,null,null,{"$f":"IF(H959<>\"\",\"Correo electrónico\",\"\")","v":""},null,null,null,null,null,null,null,null,null,null,null,null,null,null,null,null,""]
[null,null,null,null,null,null,null,null,null,null,null,null,null,null,null,null,null,null,null,null,null,null,null,null,null,null,null,null,null,null,null,null,null,""]
[null,null,null,null,null,null,null,null,null,null,null,null,null,null,null,null,null,null,null,null,null,null,null,null,null,null,null,null,null,null,null,null,null,""]
[null,{"$f":"IF(OR(H957=\"Socio o Accionista\"),\"Tipo de Participación\",IF(H957=\"\",\"\",\"\"))","v":""},null,null,null,null,null,null,null,{"$f":"IF(B976=\"Conjunta\",\"Tipo de Documento\",IF(B976=\"\",\"\",\"\"))","v":""},null,null,null,null,null,null,{"$f":"IF(B976=\"Conjunta\",\"N° de Documento\",IF(B976=\"\",\"\",\"\"))","v":""},null,null,null,null,null,null,{"$f":"IF(B976=\"Conjunta\",\"Parentesco\",IF(B976=\"\",\"\",\"\"))","v":""},null,null,null,null,null,null,null,null,null,""]
[null,null,null,null,null,null,null,null,null,null,null,null,null,null,null,null,null,null,null,null,null,null,null,null,null,null,null,null,null,null,null,null,null,""]
[null,null,null,null,null,null,null,null,null,null,null,null,null,null,null,null,null,null,null,null,null,null,null,null,null,null,null,null,null,null,null,null,null,""]
[null,{"$f":"IF(OR(H957=\"Socio o Accionista\"),\"Tipo de Participación\",IF(H960=\"\",\"\",\"\"))","v":""},null,null,null,null,null,null,null,{"$f":"IF(B979=\"Conjunta\",\"Tipo de Documento\",IF(B979=\"\",\"\",\"\"))","v":""},null,null,null,null,null,null,{"$f":"IF(B979=\"Conjunta\",\"N° de Documento\",IF(B979=\"\",\"\",\"\"))","v":""},null,null,null,null,null,null,{"$f":"IF(B979=\"Conjunta\",\"Parentesco\",IF(B979=\"\",\"\",\"\"))","v":""},null,null,null,null,null,null,null,null,null,""]
[null,null,null,null,null,null,null,null,null,null,null,null,null,null,null,null,null,null,null,null,null,null,null,null,null,null,null,null,null,null,null,null,null,""]
[null,null,null,null,null,null,null,null,null,null,null,null,null,null,null,null,null,null,null,null,null,null,null,null,null,null,null,null,null,null,null,null,null,""]
[null,{"$f":"IF(OR(H957=\"Socio o Accionista\"),\"Tipo de Participación\",IF(H963=\"\",\"\",\"\"))","v":""},null,null,null,null,null,null,null,{"$f":"IF(B982=\"Conjunta\",\"Tipo de Documento\",IF(B982=\"\",\"\",\"\"))","v":""},null,null,null,null,null,null,{"$f":"IF(B982=\"Conjunta\",\"N° de Documento\",IF(B982=\"\",\"\",\"\"))","v":""},null,null,null,null,null,null,{"$f":"IF(B982=\"Conjunta\",\"Parentesco\",IF(B982=\"\",\"\",\"\"))","v":""},null,null,null,null,null,null,null,null,null,""]
[null,null,null,null,null,null,null,null,null,null,null,null,null,null,null,null,null,null,null,null,null,null,null,null,null,null,null,null,null,null,null,null,null,""]
[null,null,null,null,null,null,null,null,null,null,null,null,null,null,null,null,null,null,null,null,null,null,null,null,null,null,null,null,null,null,null,null,null,""]
[null,{"$f":"IF(H959<>\"\",\"País de Expedición del NIT\",\"\")","v":""},null,null,null,null,null,null,null,null,null,null,null,null,null,null,{"$f":"IF(H959<>\"\",\"N° de Identificación Tributario\",\"\")","v":""},null,null,null,null,null,null,null,null,null,null,null,null,null,null,null,null,""]
[null,{"$f":"IF(H959<>\"\",\"1 -\",\"\")","v":""},null,null,null,null,null,null,null,null,null,null,null,null,null,null,{"$f":"IF(H959<>\"\",\"1 -\",\"\")","v":""},null,null,null,null,null,null,null,null,null,null,null,null,null,null,null,null,""]
[null,{"$f":"IF(H959<>\"\",\"2 -\",\"\")","v":""},null,null,null,null,null,null,null,null,null,null,null,null,null,null,{"$f":"IF(H959<>\"\",\"2 -\",\"\")","v":""},null,null,null,null,null,null,null,null,null,null,null,null,null,null,null,null,""]
[null,null,null,null,null,null,null,null,null,null,null,null,null,null,null,null,null,null,null,null,null,null,null,null,null,null,null,null,null,null,null,null,null,""]
["N1","Tipo de Relación",null,null,null,null,null,null,null,null,null,null,null,null,null,null,null,null,null,null,null,null,null,null,null,null,null,null,null,null,null,null,null,{"$f":"IF($H$988=\"\",\"\",\"1\")","v":""}]
[null,null,null,null,null,null,null,null,null,null,null,null,null,null,null,null,null,null,null,null,null,null,null,null,null,null,null,null,null,null,null,null,null,{"$f":"IF($H$988=\"\",\"\",\"1\")","v":""}]
[null,"Tipo de Documento",null,null,null,null,null,null,null,null,null,null,null,null,null,null,null,null,null,null,null,null,null,null,null,null,null,null,null,null,null,null,null,""]
[32,{"$f":"IF(H990<>\"\",\"N° de Documento\",\"\")","v":""},null,null,null,null,null,null,null,null,null,{"$f":"IF(H990<>\"\",\"Fecha de Expedición\",\"\")","v":""},null,null,null,null,null,null,null,null,null,{"$f":"IF(H990<>\"\",\"País de Expedición\",\"\")","v":""},null,null,null,null,null,null,null,null,null,null,null,""]
[null,null,null,null,null,null,null,null,null,null,null,null,null,null,null,null,null,null,null,null,null,null,null,null,null,null,null,null,null,null,null,null,null,""]
[null,{"$f":"IF(OR(H990=\"NIT\",H990=\"Fideicomiso/Fondo\",H990=\"PJ No Residente\"),\"Razón Social\",\"\")","v":""},null,null,null,null,null,null,null,null,null,null,null,null,null,null,null,null,null,null,null,null,null,null,null,null,null,null,null,null,null,null,null,""]
[null,null,null,null,null,null,null,null,null,null,null,null,null,null,null,null,null,null,null,null,null,null,null,null,null,null,null,null,null,null,null,null,null,""]
[null,{"$f":"IF(OR(H990=\"NIT\",H990=\"Fideicomiso/Fondo\",H990=\"PJ No Residente\",H990=\"\"),\"\",\"Primer Nombre\")","v":""},null,null,null,null,null,null,null,{"$f":"IF(OR(H990=\"NIT\",H990=\"Fideicomiso/Fondo\",H990=\"PJ No Residente\",H990=\"\"),\"\",\"Segundo Nombre\")","v":""},null,null,null,null,null,null,{"$f":"IF(OR(H990=\"NIT\",H990=\"Fideicomiso/Fondo\",H990=\"PJ No Residente\",H990=\"\"),\"\",\"Primer Apellido\")","v":""},null,null,null,null,null,null,{"$f":"IF(OR(H990=\"NIT\",H990=\"Fideicomiso/Fondo\",H990=\"PJ No Residente\",H990=\"\"),\"\",\"Segundo Apellido\")","v":""},null,null,null,null,null,null,null,null,null,""]
[null,null,null,null,null,null,null,null,null,null,null,null,null,null,null,null,null,null,null,null,null,null,null,null,null,null,null,null,null,null,null,null,null,""]
[null,{"$f":"IF(OR(H988=\"Socio o Accionista\",H988=\"Fideicomitente\",H988=\"Inversionista\",H988=\"Beneficiario de Activos/Rendimientos/Utilidades\"),\"Participación en %\",IF(H988=\"\",\"\",\"\"))","v":""},null,null,null,null,null,{"$f":"IF(H990<>\"\",\"¿Es Persona Expuesta Politicamente?\",\"\")","v":""},null,null,null,null,null,null,null,null,null,{"$f":"IF(OR(H990=\"NIT\",H990=\"Fideicomiso/Fondo\",H990=\"PJ No Residente\"),\"¿Emite acciones al portador?\",IF(H990=\"\",\"\",\"\"))","v":""},null,null,null,null,null,null,null,{"$f":"IF(OR(H990=\"NIT\",H990=\"Fideicomiso/Fondo\",H990=\"PJ No Residente\"),\"\",IF(H990=\"\",\"\",\"Género\"))","v":""},null,null,null,null,null,null,null,""]
[null,null,null,null,null,null,null,null,null,null,null,null,null,null,null,null,null,null,null,null,null,null,null,null,null,null,null,null,null,null,null,null,null,""]
[null,{"$f":"IF(OR(H990=\"NIT\",H990=\"Fideicomiso/Fondo\",H990=\"PJ No Residente\"),\"\",IF(H990=\"\",\"\",\"Fecha de Nacimiento\"))","v":""},null,null,null,null,null,null,null,null,null,{"$f":"IF(OR(H990=\"NIT\",H990=\"Fideicomiso/Fondo\",H990=\"PJ No Residente\"),\"\",IF(H990=\"\",\"\",\"País de nacimiento\"))","v":""},null,null,null,null,null,null,null,null,null,{"$f":"IF(OR(H990=\"NIT\",H990=\"Fideicomiso/Fondo\",H990=\"PJ No Residente\"),\"\",IF(H990=\"\",\"\",\"Nacionalidad\"))","v":""},null,null,null,null,null,null,null,null,null,null,null,""]
[null,null,null,null,null,null,null,null,null,null,null,null,null,null,null,null,null,null,null,null,null,null,null,null,null,null,null,null,null,null,null,null,null,""]
[null,null,null,null,null,null,null,null,null,null,null,null,null,null,null,null,null,null,null,null,null,null,null,null,null,null,null,null,null,null,null,null,null,""]
[null,null,null,null,null,null,null,null,null,null,null,null,null,null,null,null,null,null,null,null,null,null,null,null,null,null,null,null,null,null,null,null,null,""]
[null,null,null,null,null,null,null,null,null,null,null,null,null,null,null,null,null,null,null,null,null,null,null,null,null,null,null,null,null,null,null,null,null,""]
[null,null,null,null,null,null,null,null,null,null,null,null,null,null,null,null,null,null,null,null,null,null,null,null,null,null,null,null,null,null,null,null,null,""]
[null,null,null,null,null,null,null,null,null,null,null,null,null,null,null,null,null,null,null,null,null,null,null,null,null,null,null,null,null,null,null,null,null,""]
[null,{"$f":"IF(H1021<>\"\",\"Dirección de residencia\",\"\")","v":""},null,null,null,null,null,null,null,null,null,null,null,null,null,null,{"$f":"IF(H1021<>\"\",\"Correo electrónico\",\"\")","v":""},null,null,null,null,null,null,null,null,null,null,null,null,null,null,null,null,""]
[null,null,null,null,null,null,null,null,null,null,null,null,null,null,null,null,null,null,null,null,null,null,null,null,null,null,null,null,null,null,null,null,null,""]
[null,null,null,null,null,null,null,null,null,null,null,null,null,null,null,null,null,null,null,null,null,null,null,null,null,null,null,null,null,null,null,null,null,""]
[null,"Tipo de Documento",null,null,null,null,null,null,null,null,null,null,null,null,null,null,null,null,null,null,null,null,null,null,null,null,null,null,null,null,null,null,null,""]
[null,null,null,null,null,null,null,null,null,null,null,null,null,null,null,null,null,null,null,null,null,null,null,null,null,null,null,null,null,null,null,null,null,""]
[null,{"$f":"IF(H1052<>\"\",\"Dirección de residencia\",\"\")","v":""},null,null,null,null,null,null,null,null,null,null,null,null,null,null,{"$f":"IF(H1052<>\"\",\"Correo electrónico\",\"\")","v":""},null,null,null,null,null,null,null,null,null,null,null,null,null,null,null,null,""]
[null,null,null,null,null,null,null,null,null,null,null,null,null,null,null,null,null,null,null,null,null,null,null,null,null,null,null,null,null,null,null,null,null,""]
["N1","Tipo de Relación",null,null,null,null,null,null,null,null,null,null,null,null,null,null,null,null,null,null,null,null,null,null,null,null,null,null,null,null,null,null,null,""]
[35,{"$f":"IF(H1083<>\"\",\"N° de Documento\",\"\")","v":""},null,null,null,null,null,null,null,null,null,{"$f":"IF(H1083<>\"\",\"Fecha de Expedición\",\"\")","v":""},null,null,null,null,null,null,null,null,null,{"$f":"IF(H1083<>\"\",\"País de Expedición\",\"\")","v":""},null,null,null,null,null,null,null,null,null,null,null,""]
[null,{"$f":"IF(OR(H1083=\"NIT\",H1083=\"Fideicomiso/Fondo\",H1083=\"PJ No Residente\"),\"\",IF(H1083=\"\",\"\",\"Fecha de Nacimiento\"))","v":""},null,null,null,null,null,null,null,null,null,{"$f":"IF(OR(H1083=\"NIT\",H1083=\"Fideicomiso/Fondo\",H1083=\"PJ No Residente\"),\"\",IF(H1083=\"\",\"\",\"País de nacimiento\"))","v":""},null,null,null,null,null,null,null,null,null,{"$f":"IF(OR(H1083=\"NIT\",H1083=\"Fideicomiso/Fondo\",H1083=\"PJ No Residente\"),\"\",IF(H1083=\"\",\"\",\"Nacionalidad\"))","v":""},null,null,null,null,null,null,null,null,null,null,null,""]
[null,null,null,null,null,null,null,null,null,null,null,null,null,null,null,null,null,null,null,null,null,null,null,null,null,null,null,null,null,null,null,null,null,""]
[null,null,null,null,null,null,null,null,null,null,null,null,null,null,null,null,null,null,null,null,null,null,null,null,null,null,null,null,null,null,null,null,null,""]
["N1","Tipo de Relación",null,null,null,null,null,null,null,null,null,null,null,null,null,null,null,null,null,null,null,null,null,null,null,null,null,null,null,null,null,null,null,{"$f":"IF($H$1112=\"\",\"\",\"1\")","v":""}]
[36,{"$f":"IF(H1114<>\"\",\"N° de Documento\",\"\")","v":""},null,null,null,null,null,null,null,null,null,{"$f":"IF(H1114<>\"\",\"Fecha de Expedición\",\"\")","v":""},null,null,null,null,null,null,null,null,null,{"$f":"IF(H1114<>\"\",\"País de Expedición\",\"\")","v":""},null,null,null,null,null,null,null,null,null,null,null,""]
[null,null,null,null,null,null,null,null,null,null,null,null,null,null,null,null,null,null,null,null,null,null,null,null,null,null,null,null,null,null,null,null,null,""]
[null,null,null,null,null,null,null,null,null,null,null,null,null,null,null,null,null,null,null,null,null,null,null,null,null,null,null,null,null,null,null,null,null,""]
[null,{"$f":"IF(OR(H1112=\"Socio o Accionista\"),\"Tipo de Participación\",IF(H1115=\"\",\"\",\"\"))","v":""},null,null,null,null,null,null,null,{"$f":"IF(B1134=\"Conjunta\",\"Tipo de Documento\",IF(B1134=\"\",\"\",\"\"))","v":""},null,null,null,null,null,null,{"$f":"IF(B1134=\"Conjunta\",\"N° de Documento\",IF(B1134=\"\",\"\",\"\"))","v":""},null,null,null,null,null,null,{"$f":"IF(B1134=\"Conjunta\",\"Parentesco\",IF(B1134=\"\",\"\",\"\"))","v":""},null,null,null,null,null,null,null,null,null,""]
[null,null,null,null,null,null,null,null,null,null,null,null,null,null,null,null,null,null,null,null,null,null,null,null,null,null,null,null,null,null,null,null,null,""]
[null,"Tipo de Documento",null,null,null,null,null,null,null,null,null,null,null,null,null,null,null,null,null,null,null,null,null,null,null,null,null,null,null,null,null,null,null,""]
[null,null,null,null,null,null,null,null,null,null,null,null,null,null,null,null,null,null,null,null,null,null,null,null,null,null,null,null,null,null,null,null,null,""]
[null,null,null,null,null,null,null,null,null,null,null,null,null,null,null,null,null,null,null,null,null,null,null,null,null,null,null,null,null,null,null,null,null,""]
[null,{"$f":"IF(OR(H1143=\"Socio o Accionista\"),\"Tipo de Participación\",IF(H1146=\"\",\"\",\"\"))","v":""},null,null,null,null,null,null,null,{"$f":"IF(B1165=\"Conjunta\",\"Tipo de Documento\",IF(B1165=\"\",\"\",\"\"))","v":""},null,null,null,null,null,null,{"$f":"IF(B1165=\"Conjunta\",\"N° de Documento\",IF(B1165=\"\",\"\",\"\"))","v":""},null,null,null,null,null,null,{"$f":"IF(B1165=\"Conjunta\",\"Parentesco\",IF(B1165=\"\",\"\",\"\"))","v":""},null,null,null,null,null,null,null,null,null,""]
[null,null,null,null,null,null,null,null,null,null,null,null,null,null,null,null,null,null,null,null,null,null,null,null,null,null,null,null,null,null,null,null,null,""]
[null,null,null,null,null,null,null,null,null,null,null,null,null,null,null,null,null,null,null,null,null,null,null,null,null,null,null,null,null,null,null,null,null,""]
[null,{"$f":"IF(H1176<>\"\",\"Pais de Residencia\",\"\")","v":""},null,null,null,null,null,null,null,null,null,{"$f":"IF(H1176<>\"\",\"Departamento de Residencia\",\"\")","v":""},null,null,null,null,null,null,null,null,null,{"$f":"IF(H1176<>\"\",\"Ciudad de Residencia\",\"\")","v":""},null,null,null,null,null,null,null,null,null,null,null,""]
[null,null,null,null,null,null,null,null,null,null,null,null,null,null,null,null,null,null,null,null,null,null,null,null,null,null,null,null,null,null,null,null,null,""]
[null,null,null,null,null,null,null,null,null,null,null,null,null,null,null,null,null,null,null,null,null,null,null,null,null,null,null,null,null,null,null,null,null,""]
[null,{"$f":"IF(H1176<>\"\",\"2 -\",\"\")","v":""},null,null,null,null,null,null,null,null,null,null,null,null,null,null,{"$f":"IF(H1176<>\"\",\"2 -\",\"\")","v":""},null,null,null,null,null,null,null,null,null,null,null,null,null,null,null,null,""]
[null,null,null,null,null,null,null,null,null,null,null,null,null,null,null,null,null,null,null,null,null,null,null,null,null,null,null,null,null,null,null,null,null,""]
[null,{"$f":"IF(OR(H1207=\"NIT\",H1207=\"Fideicomiso/Fondo\",H1207=\"PJ No Residente\"),\"\",IF(H1207=\"\",\"\",\"Fecha de Nacimiento\"))","v":""},null,null,null,null,null,null,null,null,null,{"$f":"IF(OR(H1207=\"NIT\",H1207=\"Fideicomiso/Fondo\",H1207=\"PJ No Residente\"),\"\",IF(H1207=\"\",\"\",\"País de nacimiento\"))","v":""},null,null,null,null,null,null,null,null,null,{"$f":"IF(OR(H1207=\"NIT\",H1207=\"Fideicomiso/Fondo\",H1207=\"PJ No Residente\"),\"\",IF(H1207=\"\",\"\",\"Nacionalidad\"))","v":""},null,null,null,null,null,null,null,null,null,null,null,""]
[null,{"$f":"IF(OR(H1205=\"Socio o Accionista\"),\"Tipo de Participación\",IF(H1205=\"\",\"\",\"\"))","v":""},null,null,null,null,null,null,null,{"$f":"IF(B1224=\"Conjunta\",\"Tipo de Documento\",IF(B1224=\"\",\"\",\"\"))","v":""},null,null,null,null,null,null,{"$f":"IF(B1224=\"Conjunta\",\"N° de Documento\",IF(B1224=\"\",\"\",\"\"))","v":""},null,null,null,null,null,null,{"$f":"IF(B1224=\"Conjunta\",\"Parentesco\",IF(B1224=\"\",\"\",\"\"))","v":""},null,null,null,null,null,null,null,null,null,""]
[null,{"$f":"IF(H1207<>\"\",\"País de Expedición del NIT\",\"\")","v":""},null,null,null,null,null,null,null,null,null,null,null,null,null,null,{"$f":"IF(H1207<>\"\",\"N° de Identificación Tributario\",\"\")","v":""},null,null,null,null,null,null,null,null,null,null,null,null,null,null,null,null,""]
[null,{"$f":"IF(H1207<>\"\",\"2 -\",\"\")","v":""},null,null,null,null,null,null,null,null,null,null,null,null,null,null,{"$f":"IF(H1207<>\"\",\"2 -\",\"\")","v":""},null,null,null,null,null,null,null,null,null,null,null,null,null,null,null,null,""]
[null,{"$f":"IF(OR(H1238=\"NIT\",H1238=\"Fideicomiso/Fondo\",H1238=\"PJ No Residente\",H1238=\"\"),\"\",\"Primer Nombre\")","v":""},null,null,null,null,null,null,null,{"$f":"IF(OR(H1238=\"NIT\",H1238=\"Fideicomiso/Fondo\",H1238=\"PJ No Residente\",H1238=\"\"),\"\",\"Segundo Nombre\")","v":""},null,null,null,null,null,null,{"$f":"IF(OR(H1238=\"NIT\",H1238=\"Fideicomiso/Fondo\",H1238=\"PJ No Residente\",H1238=\"\"),\"\",\"Primer Apellido\")","v":""},null,null,null,null,null,null,{"$f":"IF(OR(H1238=\"NIT\",H1238=\"Fideicomiso/Fondo\",H1238=\"PJ No Residente\",H1238=\"\"),\"\",\"Segundo Apellido\")","v":""},null,null,null,null,null,null,null,null,null,""]
[null,{"$f":"IF(H1238<>\"\",\"Dirección de residencia\",\"\")","v":""},null,null,null,null,null,null,null,null,null,null,null,null,null,null,{"$f":"IF(H1238<>\"\",\"Correo electrónico\",\"\")","v":""},null,null,null,null,null,null,null,null,null,null,null,null,null,null,null,null,""]
[null,{"$f":"IF(OR(H1236=\"Socio o Accionista\"),\"Tipo de Participación\",IF(H1236=\"\",\"\",\"\"))","v":""},null,null,null,null,null,null,null,{"$f":"IF(B1255=\"Conjunta\",\"Tipo de Documento\",IF(B1255=\"\",\"\",\"\"))","v":""},null,null,null,null,null,null,{"$f":"IF(B1255=\"Conjunta\",\"N° de Documento\",IF(B1255=\"\",\"\",\"\"))","v":""},null,null,null,null,null,null,{"$f":"IF(B1255=\"Conjunta\",\"Parentesco\",IF(B1255=\"\",\"\",\"\"))","v":""},null,null,null,null,null,null,null,null,null,""]
[null,{"$f":"IF(H1238<>\"\",\"País de Expedición del NIT\",\"\")","v":""},null,null,null,null,null,null,null,null,null,null,null,null,null,null,{"$f":"IF(H1238<>\"\",\"N° de Identificación Tributario\",\"\")","v":""},null,null,null,null,null,null,null,null,null,null,null,null,null,null,null,null,""]
[41,{"$f":"IF(H1269<>\"\",\"N° de Documento\",\"\")","v":""},null,null,null,null,null,null,null,null,null,{"$f":"IF(H1269<>\"\",\"Fecha de Expedición\",\"\")","v":""},null,null,null,null,null,null,null,null,null,{"$f":"IF(H1269<>\"\",\"País de Expedición\",\"\")","v":""},null,null,null,null,null,null,null,null,null,null,null,""]
[null,{"$f":"IF(OR(H1269=\"NIT\",H1269=\"Fideicomiso/Fondo\",H1269=\"PJ No Residente\",H1269=\"\"),\"\",\"Primer Nombre\")","v":""},null,null,null,null,null,null,null,{"$f":"IF(OR(H1269=\"NIT\",H1269=\"Fideicomiso/Fondo\",H1269=\"PJ No Residente\",H1269=\"\"),\"\",\"Segundo Nombre\")","v":""},null,null,null,null,null,null,{"$f":"IF(OR(H1269=\"NIT\",H1269=\"Fideicomiso/Fondo\",H1269=\"PJ No Residente\",H1269=\"\"),\"\",\"Primer Apellido\")","v":""},null,null,null,null,null,null,{"$f":"IF(OR(H1269=\"NIT\",H1269=\"Fideicomiso/Fondo\",H1269=\"PJ No Residente\",H1269=\"\"),\"\",\"Segundo Apellido\")","v":""},null,null,null,null,null,null,null,null,null,""]
[null,null,null,null,null,null,null,null,null,null,null,null,null,null,null,null,null,null,null,null,null,null,null,null,null,null,null,null,null,null,null,null,null,""]
[null,null,null,null,null,null,null,null,null,null,null,null,null,null,null,null,null,null,null,null,null,null,null,null,null,null,null,null,null,null,null,null,null,""]
[null,null,null,null,null,null,null,null,null,null,null,null,null,null,null,null,null,null,null,null,null,null,null,null,null,null,null,null,null,null,null,null,null,""]
[null,null,null,null,null,null,null,null,null,null,null,null,null,null,null,null,null,null,null,null,null,null,null,null,null,null,null,null,null,null,null,null,null,""]
[null,null,null,null,null,null,null,null,null,null,null,null,null,null,null,null,null,null,null,null,null,null,null,null,null,null,null,null,null,null,null,null,null,""]
[null,null,null,null,null,null,null,null,null,null,null,null,null,null,null,null,null,null,null,null,null,null,null,null,null,null,null,null,null,null,null,null,null,""]
[null,null,null,null,null,null,null,null,null,null,null,null,null,null,null,null,null,null,null,null,null,null,null,null,null,null,null,null,null,null,null,null,null,""]
[null,null,null,null,null,null,null,null,null,null,null,null,null,null,null,null,null,null,null,null,null,null,null,null,null,null,null,null,null,null,null,null,null,""]
[null,null,null,null,null,null,null,null,null,null,null,null,null,null,null,null,null,null,null,null,null,null,null,null,null,null,null,null,null,null,null,null,null,""]
[null,null,null,null,null,null,null,null,null,null,null,null,null,null,null,null,null,null,null,null,null,null,null,null,null,null,null,null,null,null,null,null,null,""]
[null,{"$f":"IF(H1331<>\"\",\"Dirección de residencia\",\"\")","v":""},null,null,null,null,null,null,null,null,null,null,null,null,null,null,{"$f":"IF(H1331<>\"\",\"Correo electrónico\",\"\")","v":""},null,null,null,null,null,null,null,null,null,null,null,null,null,null,null,null,""]
[null,null,null,null,null,null,null,null,null,null,null,null,null,null,null,null,null,null,null,null,null,null,null,null,null,null,null,null,null,null,null,null,null,""]
[null,null,null,null,null,null,null,null,null,null,null,null,null,null,null,null,null,null,null,null,null,null,null,null,null,null,null,null,null,null,null,null,null,""]
[null,null,null,null,null,null,null,null,null,null,null,null,null,null,null,null,null,null,null,null,null,null,null,null,null,null,null,null,null,null,null,null,null,""]
[null,{"$f":"IF(OR(H1362=\"NIT\",H1362=\"Fideicomiso/Fondo\",H1362=\"PJ No Residente\"),\"\",IF(H1362=\"\",\"\",\"Fecha de Nacimiento\"))","v":""},null,null,null,null,null,null,null,null,null,{"$f":"IF(OR(H1362=\"NIT\",H1362=\"Fideicomiso/Fondo\",H1362=\"PJ No Residente\"),\"\",IF(H1362=\"\",\"\",\"País de nacimiento\"))","v":""},null,null,null,null,null,null,null,null,null,{"$f":"IF(OR(H1362=\"NIT\",H1362=\"Fideicomiso/Fondo\",H1362=\"PJ No Residente\"),\"\",IF(H1362=\"\",\"\",\"Nacionalidad\"))","v":""},null,null,null,null,null,null,null,null,null,null,null,""]
[null,{"$f":"IF(H1362<>\"\",\"Pais de Residencia\",\"\")","v":""},null,null,null,null,null,null,null,null,null,{"$f":"IF(H1362<>\"\",\"Departamento de Residencia\",\"\")","v":""},null,null,null,null,null,null,null,null,null,{"$f":"IF(H1362<>\"\",\"Ciudad de Residencia\",\"\")","v":""},null,null,null,null,null,null,null,null,null,null,null,""]
[null,{"$f":"IF(OR(H1360=\"Socio o Accionista\"),\"Tipo de Participación\",IF(H1366=\"\",\"\",\"\"))","v":""},null,null,null,null,null,null,null,{"$f":"IF(B1385=\"Conjunta\",\"Tipo de Documento\",IF(B1385=\"\",\"\",\"\"))","v":""},null,null,null,null,null,null,{"$f":"IF(B1385=\"Conjunta\",\"N° de Documento\",IF(B1385=\"\",\"\",\"\"))","v":""},null,null,null,null,null,null,{"$f":"IF(B1385=\"Conjunta\",\"Parentesco\",IF(B1385=\"\",\"\",\"\"))","v":""},null,null,null,null,null,null,null,null,null,""]
[null,null,null,null,null,null,null,null,null,null,null,null,null,null,null,null,null,null,null,null,null,null,null,null,null,null,null,null,null,null,null,null,null,""]
[45,{"$f":"IF(H1393<>\"\",\"N° de Documento\",\"\")","v":""},null,null,null,null,null,null,null,null,null,{"$f":"IF(H1393<>\"\",\"Fecha de Expedición\",\"\")","v":""},null,null,null,null,null,null,null,null,null,{"$f":"IF(H1393<>\"\",\"País de Expedición\",\"\")","v":""},null,null,null,null,null,null,null,null,null,null,null,""]
[null,null,null,null,null,null,null,null,null,null,null,null,null,null,null,null,null,null,null,null,null,null,null,null,null,null,null,null,null,null,null,null,null,""]
[null,null,null,null,null,null,null,null,null,null,null,null,null,null,null,null,null,null,null,null,null,null,null,null,null,null,null,null,null,null,null,null,null,""]
[null,null,null,null,null,null,null,null,null,null,null,null,null,null,null,null,null,null,null,null,null,null,null,null,null,null,null,null,null,null,null,null,null,""]
["N1","Tipo de Relación",null,null,null,null,null,null,null,null,null,null,null,null,null,null,null,null,null,null,null,null,null,null,null,null,null,null,null,null,null,null,null,{"$f":"IF($H$1422=\"\",\"\",\"1\")","v":""}]
[46,{"$f":"IF(H1424<>\"\",\"N° de Documento\",\"\")","v":""},null,null,null,null,null,null,null,null,null,{"$f":"IF(H1424<>\"\",\"Fecha de Expedición\",\"\")","v":""},null,null,null,null,null,null,null,null,null,{"$f":"IF(H1424<>\"\",\"País de Expedición\",\"\")","v":""},null,null,null,null,null,null,null,null,null,null,null,""]
[null,null,null,null,null,null,null,null,null,null,null,null,null,null,null,null,null,null,null,null,null,null,null,null,null,null,null,null,null,null,null,null,null,""]
[null,null,null,null,null,null,null,null,null,null,null,null,null,null,null,null,null,null,null,null,null,null,null,null,null,null,null,null,null,null,null,null,null,""]
[null,null,null,null,null,null,null,null,null,null,null,null,null,null,null,null,null,null,null,null,null,null,null,null,null,null,null,null,null,null,null,null,null,""]
[null,null,null,null,null,null,null,null,null,null,null,null,null,null,null,null,null,null,null,null,null,null,null,null,null,null,null,null,null,null,null,null,null,""]
[null,"Tipo de Documento",null,null,null,null,null,null,null,null,null,null,null,null,null,null,null,null,null,null,null,null,null,null,null,null,null,null,null,null,null,null,null,""]
[null,{"$f":"IF(OR(H1455=\"NIT\",H1455=\"Fideicomiso/Fondo\",H1455=\"PJ No Residente\",H1455=\"\"),\"\",\"Primer Nombre\")","v":""},null,null,null,null,null,null,null,{"$f":"IF(OR(H1455=\"NIT\",H1455=\"Fideicomiso/Fondo\",H1455=\"PJ No Residente\",H1455=\"\"),\"\",\"Segundo Nombre\")","v":""},null,null,null,null,null,null,{"$f":"IF(OR(H1455=\"NIT\",H1455=\"Fideicomiso/Fondo\",H1455=\"PJ No Residente\",H1455=\"\"),\"\",\"Primer Apellido\")","v":""},null,null,null,null,null,null,{"$f":"IF(OR(H1455=\"NIT\",H1455=\"Fideicomiso/Fondo\",H1455=\"PJ No Residente\",H1455=\"\"),\"\",\"Segundo Apellido\")","v":""},null,null,null,null,null,null,null,null,null,""]
[null,null,null,null,null,null,null,null,null,null,null,null,null,null,null,null,null,null,null,null,null,null,null,null,null,null,null,null,null,null,null,null,null,""]
[null,null,null,null,null,null,null,null,null,null,null,null,null,null,null,null,null,null,null,null,null,null,null,null,null,null,null,null,null,null,null,null,null,""]
[null,null,null,null,null,null,null,null,null,null,null,null,null,null,null,null,null,null,null,null,null,null,null,null,null,null,null,null,null,null,null,null,null,""]
[null,"Tipo de Documento",null,null,null,null,null,null,null,null,null,null,null,null,null,null,null,null,null,null,null,null,null,null,null,null,null,null,null,null,null,null,null,""]
[null,{"$f":"IF(OR(H1486=\"NIT\",H1486=\"Fideicomiso/Fondo\",H1486=\"PJ No Residente\"),\"\",IF(H1486=\"\",\"\",\"Fecha de Nacimiento\"))","v":""},null,null,null,null,null,null,null,null,null,{"$f":"IF(OR(H1486=\"NIT\",H1486=\"Fideicomiso/Fondo\",H1486=\"PJ No Residente\"),\"\",IF(H1486=\"\",\"\",\"País de nacimiento\"))","v":""},null,null,null,null,null,null,null,null,null,{"$f":"IF(OR(H1486=\"NIT\",H1486=\"Fideicomiso/Fondo\",H1486=\"PJ No Residente\"),\"\",IF(H1486=\"\",\"\",\"Nacionalidad\"))","v":""},null,null,null,null,null,null,null,null,null,null,null,""]
[null,{"$f":"IF(OR(H1484=\"Socio o Accionista\"),\"Tipo de Participación\",IF(H1484=\"\",\"\",\"\"))","v":""},null,null,null,null,null,null,null,{"$f":"IF(B1503=\"Conjunta\",\"Tipo de Documento\",IF(B1503=\"\",\"\",\"\"))","v":""},null,null,null,null,null,null,{"$f":"IF(B1503=\"Conjunta\",\"N° de Documento\",IF(B1503=\"\",\"\",\"\"))","v":""},null,null,null,null,null,null,{"$f":"IF(B1503=\"Conjunta\",\"Parentesco\",IF(B1503=\"\",\"\",\"\"))","v":""},null,null,null,null,null,null,null,null,null,""]
[null,null,null,null,null,null,null,null,null,null,null,null,null,null,null,null,null,null,null,null,null,null,null,null,null,null,null,null,null,null,null,null,null,""]
["N1","Tipo de Relación",null,null,null,null,null,null,null,null,null,null,null,null,null,null,null,null,null,null,null,null,null,null,null,null,null,null,null,null,null,null,null,""]
[null,{"$f":"IF(OR(H1517=\"NIT\",H1517=\"Fideicomiso/Fondo\",H1517=\"PJ No Residente\",H1517=\"\"),\"\",\"Primer Nombre\")","v":""},null,null,null,null,null,null,null,{"$f":"IF(OR(H1517=\"NIT\",H1517=\"Fideicomiso/Fondo\",H1517=\"PJ No Residente\",H1517=\"\"),\"\",\"Segundo Nombre\")","v":""},null,null,null,null,null,null,{"$f":"IF(OR(H1517=\"NIT\",H1517=\"Fideicomiso/Fondo\",H1517=\"PJ No Residente\",H1517=\"\"),\"\",\"Primer Apellido\")","v":""},null,null,null,null,null,null,{"$f":"IF(OR(H1517=\"NIT\",H1517=\"Fideicomiso/Fondo\",H1517=\"PJ No Residente\",H1517=\"\"),\"\",\"Segundo Apellido\")","v":""},null,null,null,null,null,null,null,null,null,""]
[null,{"$f":"IF(H1517<>\"\",\"Pais de Residencia\",\"\")","v":""},null,null,null,null,null,null,null,null,null,{"$f":"IF(H1517<>\"\",\"Departamento de Residencia\",\"\")","v":""},null,null,null,null,null,null,null,null,null,{"$f":"IF(H1517<>\"\",\"Ciudad de Residencia\",\"\")","v":""},null,null,null,null,null,null,null,null,null,null,null,""]
[null,{"$f":"IF(OR(H1515=\"Socio o Accionista\"),\"Tipo de Participación\",IF(H1515=\"\",\"\",\"\"))","v":""},null,null,null,null,null,null,null,{"$f":"IF(B1534=\"Conjunta\",\"Tipo de Documento\",IF(B1534=\"\",\"\",\"\"))","v":""},null,null,null,null,null,null,{"$f":"IF(B1534=\"Conjunta\",\"N° de Documento\",IF(B1534=\"\",\"\",\"\"))","v":""},null,null,null,null,null,null,{"$f":"IF(B1534=\"Conjunta\",\"Parentesco\",IF(B1534=\"\",\"\",\"\"))","v":""},null,null,null,null,null,null,null,null,null,""]
[null,{"$f":"IF(OR(H1515=\"Socio o Accionista\"),\"Tipo de Participación\",IF(H1518=\"\",\"\",\"\"))","v":""},null,null,null,null,null,null,null,{"$f":"IF(B1537=\"Conjunta\",\"Tipo de Documento\",IF(B1537=\"\",\"\",\"\"))","v":""},null,null,null,null,null,null,{"$f":"IF(B1537=\"Conjunta\",\"N° de Documento\",IF(B1537=\"\",\"\",\"\"))","v":""},null,null,null,null,null,null,{"$f":"IF(B1537=\"Conjunta\",\"Parentesco\",IF(B1537=\"\",\"\",\"\"))","v":""},null,null,null,null,null,null,null,null,null,""]
[null,null,null,null,null,null,null,null,null,null,null,null,null,null,null,null,null,null,null,null,null,null,null,null,null,null,null,null,null,null,null,null,null,{"$f":"IF($H$1546=\"\",\"\",\"1\")","v":""}]
[null,{"$f":"IF(OR(H1548=\"NIT\",H1548=\"Fideicomiso/Fondo\",H1548=\"PJ No Residente\",H1548=\"\"),\"\",\"Primer Nombre\")","v":""},null,null,null,null,null,null,null,{"$f":"IF(OR(H1548=\"NIT\",H1548=\"Fideicomiso/Fondo\",H1548=\"PJ No Residente\",H1548=\"\"),\"\",\"Segundo Nombre\")","v":""},null,null,null,null,null,null,{"$f":"IF(OR(H1548=\"NIT\",H1548=\"Fideicomiso/Fondo\",H1548=\"PJ No Residente\",H1548=\"\"),\"\",\"Primer Apellido\")","v":""},null,null,null,null,null,null,{"$f":"IF(OR(H1548=\"NIT\",H1548=\"Fideicomiso/Fondo\",H1548=\"PJ No Residente\",H1548=\"\"),\"\",\"Segundo Apellido\")","v":""},null,null,null,null,null,null,null,null,null,""]
[null,null,null,null,null,null,null,null,null,null,null,null,null,null,null,null,null,null,null,null,null,null,null,null,null,null,null,null,null,null,null,null,null,""]
[null,null,null,null,null,null,null,null,null,null,null,null,null,null,null,null,null,null,null,null,null,null,null,null,null,null,null,null,null,null,null,null,null,""]
[null,{"$f":"IF(H1548<>\"\",\"País de Expedición del NIT\",\"\")","v":""},null,null,null,null,null,null,null,null,null,null,null,null,null,null,{"$f":"IF(H1548<>\"\",\"N° de Identificación Tributario\",\"\")","v":""},null,null,null,null,null,null,null,null,null,null,null,null,null,null,null,null,""]
[null,null,null,null,null,null,null,null,null,null,null,null,null,null,null,null,null,null,null,null,null,null,null,null,null,null,null,null,null,null,null,null,null,""]
[null,null,null,null,null,null,null,null,null,null,null,null,null,null,null,null,null,null,null,null,null,null,null,null,null,null,null,null,null,null,null,null,null,""]
[null,null,null,null,null,null,null,null,null,null,null,null,null,null,null,null,null,null,null,null,null,null,null,null,null,null,null,null,null,null,null,null,null,""]
[null,null,null,null,null,null,null,null,null,null,null,null,null,null,null,null,null,null,null,null,null,null,null,null,null,null,null,null,null,null,null,null,null,""]
[null,null,null,null,null,null,null,null,null,null,null,null,null,null,null,null,null,null,null,null,null,null,null,null,null,null,null,null,null,null,null,null,null,""]
["Bloque B",null,null,null,null,null,null,null,null,null,null,null,null,null,null,null,null,null,null,null,null,null,null,null,null,null,null,null,null,null,null,null,null,1]
[null,null,null,null,null,null,null,null,null,null,null,null,null,null,null,null,null,null,null,null,null,null,null,null,null,null,null,null,null,null,null,null,null,1]
[null,{"$f":"IF(OR(H1620=\"NIT\",H1620=\"Fideicomiso/Fondo\",H1620=\"PJ No Residente\"),\"Razón Social\",\"\")","v":""},null,null,null,null,null,null,null,null,null,null,null,null,null,null,null,null,null,null,null,null,null,null,null,null,null,null,null,null,null,null,null,1]
[null,{"$f":"IF(OR(H1618=\"Socio o Accionista\",H1618=\"Fideicomitente\",H1618=\"Inversionista\",H1618=\"Beneficiario de Activos/Rendimientos/Utilidades\"),\"Participación en %\",IF(H1618=\"\",\"\",\"\"))","v":""},null,null,null,null,null,{"$f":"IF(H1620<>\"\",\"¿Es Persona Expuesta Politicamente?\",\"\")","v":""},null,null,null,null,null,null,null,null,null,{"$f":"IF(OR(H1620=\"NIT\",H1620=\"Fideicomiso/Fondo\",H1620=\"PJ No Residente\"),\"¿Emite acciones al portador?\",IF(H1620=\"\",\"\",\"\"))","v":""},null,null,null,null,null,null,null,{"$f":"IF(OR(H1620=\"NIT\",H1620=\"Fideicomiso/Fondo\",H1620=\"PJ No Residente\"),\"\",IF(H1620=\"\",\"\",\"Género\"))","v":""},null,null,null,null,null,null,null,1]
[null,null,null,null,null,null,null,null,null,null,null,null,null,null,null,null,null,null,null,null,null,null,null,null,null,null,null,null,null,null,null,null,null,1]
[null,null,null,null,null,null,null,null,null,null,null,null,null,null,null,null,null,null,null,null,null,null,null,null,null,null,null,null,null,null,null,null,null,1]
[null,{"$f":"IF(H1620<>\"\",\"1 -\",\"\")","v":""},null,null,null,null,null,null,null,null,null,null,null,null,null,null,{"$f":"IF(H1620<>\"\",\"1 -\",\"\")","v":""},null,null,null,null,null,null,null,null,null,null,null,null,null,null,null,null,1]
[null,null,null,null,null,null,null,null,null,null,null,null,null,null,null,null,null,null,null,null,null,null,null,null,null,null,null,null,null,null,null,null,null,1]
[null,null,null,null,null,null,null,null,null,null,null,null,null,null,null,null,null,null,null,null,null,null,null,null,null,null,null,null,null,null,null,null,null,1]
[null,null,null,null,null,null,null,null,null,null,null,null,null,null,null,null,null,null,null,null,null,null,null,null,null,null,null,null,null,null,null,null,null,{"$f":"IF($H$1666=\"\",\"\",\"1\")","v":""}]
[null,{"$f":"IF(H1668<>\"\",\"N° de Documento\",\"\")","v":""},null,null,null,null,null,null,null,null,null,{"$f":"IF(H1668<>\"\",\"Fecha de Expedición\",\"\")","v":""},null,null,null,null,null,null,null,null,null,{"$f":"IF(H1668<>\"\",\"País de Expedición\",\"\")","v":""},null,null,null,null,null,null,null,null,null,null,null,""]
[null,{"$f":"IF(OR(H1668=\"NIT\",H1668=\"Fideicomiso/Fondo\",H1668=\"PJ No Residente\"),\"\",IF(H1668=\"\",\"\",\"Fecha de Nacimiento\"))","v":""},null,null,null,null,null,null,null,null,null,{"$f":"IF(OR(H1668=\"NIT\",H1668=\"Fideicomiso/Fondo\",H1668=\"PJ No Residente\"),\"\",IF(H1668=\"\",\"\",\"País de nacimiento\"))","v":""},null,null,null,null,null,null,null,null,null,{"$f":"IF(OR(H1668=\"NIT\",H1668=\"Fideicomiso/Fondo\",H1668=\"PJ No Residente\"),\"\",IF(H1668=\"\",\"\",\"Nacionalidad\"))","v":""},null,null,null,null,null,null,null,null,null,null,null,""]
[null,{"$f":"IF(OR(H1666=\"Socio o Accionista\",H1666=\"Controlante\"),\"Tipo de Participación\",IF(H1666=\"\",\"\",\"\"))","v":""},null,null,null,null,null,null,null,{"$f":"IF(B1685=\"Conjunta\",\"Tipo de Documento\",IF(B1685=\"\",\"\",\"\"))","v":""},null,null,null,null,null,null,{"$f":"IF(B1685=\"Conjunta\",\"N° de Documento\",IF(B1685=\"\",\"\",\"\"))","v":""},null,null,null,null,null,null,{"$f":"IF(B1685=\"Conjunta\",\"Parentesco\",IF(B1685=\"\",\"\",\"\"))","v":""},null,null,null,null,null,null,null,null,null,""]
[null,null,null,null,null,null,null,null,null,null,null,null,null,null,null,null,null,null,null,null,null,null,null,null,null,null,null,null,null,null,null,null,null,""]
[null,{"$f":"IF(H1668<>\"\",\"2 -\",\"\")","v":""},null,null,null,null,null,null,null,null,null,null,null,null,null,null,{"$f":"IF(H1668<>\"\",\"2 -\",\"\")","v":""},null,null,null,null,null,null,null,null,null,null,null,null,null,null,null,null,""]
[null,null,null,null,null,null,null,null,null,null,null,null,null,null,null,null,null,null,null,null,null,null,null,null,null,null,null,null,null,null,null,null,null,""]
[null,{"$f":"IF(OR(H1702=\"NIT\",H1702=\"Fideicomiso/Fondo\",H1702=\"PJ No Residente\",H1702=\"\"),\"\",\"Primer Nombre\")","v":""},null,null,null,null,null,null,null,{"$f":"IF(OR(H1702=\"NIT\",H1702=\"Fideicomiso/Fondo\",H1702=\"PJ No Residente\",H1702=\"\"),\"\",\"Segundo Nombre\")","v":""},null,null,null,null,null,null,{"$f":"IF(OR(H1702=\"NIT\",H1702=\"Fideicomiso/Fondo\",H1702=\"PJ No Residente\",H1702=\"\"),\"\",\"Primer Apellido\")","v":""},null,null,null,null,null,null,{"$f":"IF(OR(H1702=\"NIT\",H1702=\"Fideicomiso/Fondo\",H1702=\"PJ No Residente\",H1702=\"\"),\"\",\"Segundo Apellido\")","v":""},null,null,null,null,null,null,null,null,null,""]
[null,{"$f":"IF(H1702<>\"\",\"Dirección de residencia\",\"\")","v":""},null,null,null,null,null,null,null,null,null,null,null,null,null,null,{"$f":"IF(H1702<>\"\",\"Correo electrónico\",\"\")","v":""},null,null,null,null,null,null,null,null,null,null,null,null,null,null,null,null,""]
[null,{"$f":"IF(OR(H1700=\"Socio o Accionista\",H1700=\"Controlante\"),\"Tipo de Participación\",IF(H1700=\"\",\"\",\"\"))","v":""},null,null,null,null,null,null,null,{"$f":"IF(B1725=\"Conjunta\",\"Tipo de Documento\",IF(B1725=\"\",\"\",\"\"))","v":""},null,null,null,null,null,null,{"$f":"IF(B1725=\"Conjunta\",\"N° de Documento\",IF(B1725=\"\",\"\",\"\"))","v":""},null,null,null,null,null,null,{"$f":"IF(B1725=\"Conjunta\",\"Parentesco\",IF(B1725=\"\",\"\",\"\"))","v":""},null,null,null,null,null,null,null,null,null,""]
[null,{"$f":"IF(H1702<>\"\",\"País de Expedición del NIT\",\"\")","v":""},null,null,null,null,null,null,null,null,null,null,null,null,null,null,{"$f":"IF(H1702<>\"\",\"N° de Identificación Tributario\",\"\")","v":""},null,null,null,null,null,null,null,null,null,null,null,null,null,null,null,null,""]
[null,{"$f":"IF(H1736<>\"\",\"N° de Documento\",\"\")","v":""},null,null,null,null,null,null,null,null,null,{"$f":"IF(H1736<>\"\",\"Fecha de Expedición\",\"\")","v":""},null,null,null,null,null,null,null,null,null,{"$f":"IF(H1736<>\"\",\"País de Expedición\",\"\")","v":""},null,null,null,null,null,null,null,null,null,null,null,""]
[null,null,null,null,null,null,null,null,null,null,null,null,null,null,null,null,null,null,null,null,null,null,null,null,null,null,null,null,null,null,null,null,null,""]
[null,{"$f":"IF(OR(H1736=\"NIT\",H1736=\"Fideicomiso/Fondo\",H1736=\"PJ No Residente\"),\"\",IF(H1736=\"\",\"\",\"Fecha de Nacimiento\"))","v":""},null,null,null,null,null,null,null,null,null,{"$f":"IF(OR(H1736=\"NIT\",H1736=\"Fideicomiso/Fondo\",H1736=\"PJ No Residente\"),\"\",IF(H1736=\"\",\"\",\"País de nacimiento\"))","v":""},null,null,null,null,null,null,null,null,null,{"$f":"IF(OR(H1736=\"NIT\",H1736=\"Fideicomiso/Fondo\",H1736=\"PJ No Residente\"),\"\",IF(H1736=\"\",\"\",\"Nacionalidad\"))","v":""},null,null,null,null,null,null,null,null,null,null,null,""]
[null,null,null,null,null,null,null,null,null,null,null,null,null,null,null,null,null,null,null,null,null,null,null,null,null,null,null,null,null,null,null,null,null,""]
[null,{"$f":"IF(OR(H1734=\"Socio o Accionista\",H1734=\"Controlante\"),\"Tipo de Participación\",IF(H1734=\"\",\"\",\"\"))","v":""},null,null,null,null,null,null,null,{"$f":"IF(B1759=\"Conjunta\",\"Tipo de Documento\",IF(B1759=\"\",\"\",\"\"))","v":""},null,null,null,null,null,null,{"$f":"IF(B1759=\"Conjunta\",\"N° de Documento\",IF(B1759=\"\",\"\",\"\"))","v":""},null,null,null,null,null,null,{"$f":"IF(B1759=\"Conjunta\",\"Parentesco\",IF(B1759=\"\",\"\",\"\"))","v":""},null,null,null,null,null,null,null,null,null,""]
["N2","Informe a cual de las Personas Jurídicas indicadas antes pertenece este relacionado",null,null,null,"Tipo de Documento",null,null,null,null,{"$f":"VLOOKUP(K1767,Hoja2!$A$485:$D$709,3,0)","v":{"$error":"#N/A"}},null,null,null,null,null,null,null,"Número de Documento",null,null,null,null,{"$f":"VLOOKUP(K1767,Hoja2!$A$485:$D$709,4,0)","v":{"$error":"#N/A"}},null,null,null,null,null,null,null,null,null,""]
[null,{"$f":"IF(OR(H1770=\"NIT\",H1770=\"Fideicomiso/Fondo\",H1770=\"PJ No Residente\",H1770=\"\"),\"\",\"Primer Nombre\")","v":""},null,null,null,null,null,null,null,{"$f":"IF(OR(H1770=\"NIT\",H1770=\"Fideicomiso/Fondo\",H1770=\"PJ No Residente\",H1770=\"\"),\"\",\"Segundo Nombre\")","v":""},null,null,null,null,null,null,{"$f":"IF(OR(H1770=\"NIT\",H1770=\"Fideicomiso/Fondo\",H1770=\"PJ No Residente\",H1770=\"\"),\"\",\"Primer Apellido\")","v":""},null,null,null,null,null,null,{"$f":"IF(OR(H1770=\"NIT\",H1770=\"Fideicomiso/Fondo\",H1770=\"PJ No Residente\",H1770=\"\"),\"\",\"Segundo Apellido\")","v":""},null,null,null,null,null,null,null,null,null,""]
[null,null,null,null,null,null,null,null,null,null,null,null,null,null,null,null,null,null,null,null,null,null,null,null,null,null,null,null,null,null,null,null,null,""]
[null,null,null,null,null,null,null,null,null,null,null,null,null,null,null,null,null,null,null,null,null,null,null,null,null,null,null,null,null,null,null,null,null,""]
[null,null,null,null,null,null,null,null,null,null,null,null,null,null,null,null,null,null,null,null,null,null,null,null,null,null,null,null,null,null,null,null,null,""]
[null,null,null,null,null,null,null,null,null,null,null,null,null,null,null,null,null,null,null,null,null,null,null,null,null,null,null,null,null,null,null,null,null,""]
[null,{"$f":"IF(H1804<>\"\",\"N° de Documento\",\"\")","v":""},null,null,null,null,null,null,null,null,null,{"$f":"IF(H1804<>\"\",\"Fecha de Expedición\",\"\")","v":""},null,null,null,null,null,null,null,null,null,{"$f":"IF(H1804<>\"\",\"País de Expedición\",\"\")","v":""},null,null,null,null,null,null,null,null,null,null,null,""]
[null,null,null,null,null,null,null,null,null,null,null,null,null,null,null,null,null,null,null,null,null,null,null,null,null,null,null,null,null,null,null,null,null,""]
[null,{"$f":"IF(H1804<>\"\",\"Dirección de residencia\",\"\")","v":""},null,null,null,null,null,null,null,null,null,null,null,null,null,null,{"$f":"IF(H1804<>\"\",\"Correo electrónico\",\"\")","v":""},null,null,null,null,null,null,null,null,null,null,null,null,null,null,null,null,""]
[null,null,null,null,null,null,null,null,null,null,null,null,null,null,null,null,null,null,null,null,null,null,null,null,null,null,null,null,null,null,null,null,null,""]
[null,{"$f":"IF(OR(H1802=\"Socio o Accionista\",H1802=\"Controlante\"),\"Tipo de Participación\",IF(H1802=\"\",\"\",\"\"))","v":""},null,null,null,null,null,null,null,{"$f":"IF(B1827=\"Conjunta\",\"Tipo de Documento\",IF(B1827=\"\",\"\",\"\"))","v":""},null,null,null,null,null,null,{"$f":"IF(B1827=\"Conjunta\",\"N° de Documento\",IF(B1827=\"\",\"\",\"\"))","v":""},null,null,null,null,null,null,{"$f":"IF(B1827=\"Conjunta\",\"Parentesco\",IF(B1827=\"\",\"\",\"\"))","v":""},null,null,null,null,null,null,null,null,null,""]
[7,"Tipo de Relación",null,null,null,null,null,null,null,null,null,null,null,null,null,null,null,null,null,null,null,null,null,null,null,null,null,null,null,null,null,null,null,""]
[null,{"$f":"IF(H1838<>\"\",\"N° de Documento\",\"\")","v":""},null,null,null,null,null,null,null,null,null,{"$f":"IF(H1838<>\"\",\"Fecha de Expedición\",\"\")","v":""},null,null,null,null,null,null,null,null,null,{"$f":"IF(H1838<>\"\",\"País de Expedición\",\"\")","v":""},null,null,null,null,null,null,null,null,null,null,null,""]
[null,null,null,null,null,null,null,null,null,null,null,null,null,null,null,null,null,null,null,null,null,null,null,null,null,null,null,null,null,null,null,null,null,""]
[null,null,null,null,null,null,null,null,null,null,null,null,null,null,null,null,null,null,null,null,null,null,null,null,null,null,null,null,null,null,null,null,null,""]
[null,null,null,null,null,null,null,null,null,null,null,null,null,null,null,null,null,null,null,null,null,null,null,null,null,null,null,null,null,null,null,null,null,""]
[null,null,null,null,null,null,null,null,null,null,null,null,null,null,null,null,null,null,null,null,null,null,null,null,null,null,null,null,null,null,null,null,null,""]
[null,{"$f":"IF(OR(H1872=\"NIT\",H1872=\"Fideicomiso/Fondo\",H1872=\"PJ No Residente\"),\"Razón Social\",\"\")","v":""},null,null,null,null,null,null,null,null,null,null,null,null,null,null,null,null,null,null,null,null,null,null,null,null,null,null,null,null,null,null,null,""]
[null,null,null,null,null,null,null,null,null,null,null,null,null,null,null,null,null,null,null,null,null,null,null,null,null,null,null,null,null,null,null,null,null,""]
[null,null,null,null,null,null,null,null,null,null,null,null,null,null,null,null,null,null,null,null,null,null,null,null,null,null,null,null,null,null,null,null,null,""]
[null,null,null,null,null,null,null,null,null,null,null,null,null,null,null,null,null,null,null,null,null,null,null,null,null,null,null,null,null,null,null,null,null,""]
[null,{"$f":"IF(H1872<>\"\",\"País de Expedición del NIT\",\"\")","v":""},null,null,null,null,null,null,null,null,null,null,null,null,null,null,{"$f":"IF(H1872<>\"\",\"N° de Identificación Tributario\",\"\")","v":""},null,null,null,null,null,null,null,null,null,null,null,null,null,null,null,null,""]
[null,"Tipo de Documento",null,null,null,null,null,null,null,null,null,null,null,null,null,null,null,null,null,null,null,null,null,null,null,null,null,null,null,null,null,null,null,""]
[null,{"$f":"IF(OR(H1904=\"Socio o Accionista\",H1904=\"Fideicomitente\",H1904=\"Inversionista\",H1904=\"Beneficiario de Activos/Rendimientos/Utilidades\"),\"Participación en %\",IF(H1904=\"\",\"\",\"\"))","v":""},null,null,null,null,null,{"$f":"IF(H1906<>\"\",\"¿Es Persona Expuesta Politicamente?\",\"\")","v":""},null,null,null,null,null,null,null,null,null,{"$f":"IF(OR(H1906=\"NIT\",H1906=\"Fideicomiso/Fondo\",H1906=\"PJ No Residente\"),\"¿Emite acciones al portador?\",IF(H1906=\"\",\"\",\"\"))","v":""},null,null,null,null,null,null,null,{"$f":"IF(OR(H1906=\"NIT\",H1906=\"Fideicomiso/Fondo\",H1906=\"PJ No Residente\"),\"\",IF(H1906=\"\",\"\",\"Género\"))","v":""},null,null,null,null,null,null,null,""]
[null,null,null,null,null,null,null,null,null,null,null,null,null,null,null,null,null,null,null,null,null,null,null,null,null,null,null,null,null,null,null,null,null,""]
[null,null,null,null,null,null,null,null,null,null,null,null,null,null,null,null,null,null,null,null,null,null,null,null,null,null,null,null,null,null,null,null,null,""]
[null,null,null,null,null,null,null,null,null,null,null,null,null,null,null,null,null,null,null,null,null,null,null,null,null,null,null,null,null,null,null,null,null,""]
[null,null,null,null,null,null,null,null,null,null,null,null,null,null,null,null,null,null,null,null,null,null,null,null,null,null,null,null,null,null,null,null,null,{"$f":"IF($H$1938=\"\",\"\",\"1\")","v":""}]
[null,null,null,null,null,null,null,null,null,null,null,null,null,null,null,null,null,null,null,null,null,null,null,null,null,null,null,null,null,null,null,null,null,""]
[null,{"$f":"IF(OR(H1938=\"Socio o Accionista\",H1938=\"Fideicomitente\",H1938=\"Inversionista\",H1938=\"Beneficiario de Activos/Rendimientos/Utilidades\"),\"Participación en %\",IF(H1938=\"\",\"\",\"\"))","v":""},null,null,null,null,null,{"$f":"IF(H1940<>\"\",\"¿Es Persona Expuesta Politicamente?\",\"\")","v":""},null,null,null,null,null,null,null,null,null,{"$f":"IF(OR(H1940=\"NIT\",H1940=\"Fideicomiso/Fondo\",H1940=\"PJ No Residente\"),\"¿Emite acciones al portador?\",IF(H1940=\"\",\"\",\"\"))","v":""},null,null,null,null,null,null,null,{"$f":"IF(OR(H1940=\"NIT\",H1940=\"Fideicomiso/Fondo\",H1940=\"PJ No Residente\"),\"\",IF(H1940=\"\",\"\",\"Género\"))","v":""},null,null,null,null,null,null,null,""]
[null,{"$f":"IF(OR(H1938=\"Socio o Accionista\",H1938=\"Controlante\"),\"Tipo de Participación\",IF(H1938=\"\",\"\",\"\"))","v":""},null,null,null,null,null,null,null,{"$f":"IF(B1957=\"Conjunta\",\"Tipo de Documento\",IF(B1957=\"\",\"\",\"\"))","v":""},null,null,null,null,null,null,{"$f":"IF(B1957=\"Conjunta\",\"N° de Documento\",IF(B1957=\"\",\"\",\"\"))","v":""},null,null,null,null,null,null,{"$f":"IF(B1957=\"Conjunta\",\"Parentesco\",IF(B1957=\"\",\"\",\"\"))","v":""},null,null,null,null,null,null,null,null,null,""]
[null,null,null,null,null,null,null,null,null,null,null,null,null,null,null,null,null,null,null,null,null,null,null,null,null,null,null,null,null,null,null,null,null,""]
[null,{"$f":"IF(H1940<>\"\",\"2 -\",\"\")","v":""},null,null,null,null,null,null,null,null,null,null,null,null,null,null,{"$f":"IF(H1940<>\"\",\"2 -\",\"\")","v":""},null,null,null,null,null,null,null,null,null,null,null,null,null,null,null,null,""]
[null,null,null,null,null,null,null,null,null,null,null,null,null,null,null,null,null,null,null,null,null,null,null,null,null,null,null,null,null,null,null,null,null,""]
[null,{"$f":"IF(OR(H1974=\"NIT\",H1974=\"Fideicomiso/Fondo\",H1974=\"PJ No Residente\"),\"Razón Social\",\"\")","v":""},null,null,null,null,null,null,null,null,null,null,null,null,null,null,null,null,null,null,null,null,null,null,null,null,null,null,null,null,null,null,null,""]
[null,null,null,null,null,null,null,null,null,null,null,null,null,null,null,null,null,null,null,null,null,null,null,null,null,null,null,null,null,null,null,null,null,""]
[null,{"$f":"IF(OR(H1972=\"Socio o Accionista\",H1972=\"Controlante\"),\"Tipo de Participación\",IF(H1972=\"\",\"\",\"\"))","v":""},null,null,null,null,null,null,null,{"$f":"IF(B1991=\"Conjunta\",\"Tipo de Documento\",IF(B1991=\"\",\"\",\"\"))","v":""},null,null,null,null,null,null,{"$f":"IF(B1991=\"Conjunta\",\"N° de Documento\",IF(B1991=\"\",\"\",\"\"))","v":""},null,null,null,null,null,null,{"$f":"IF(B1991=\"Conjunta\",\"Parentesco\",IF(B1991=\"\",\"\",\"\"))","v":""},null,null,null,null,null,null,null,null,null,""]
[null,null,null,null,null,null,null,null,null,null,null,null,null,null,null,null,null,null,null,null,null,null,null,null,null,null,null,null,null,null,null,null,null,""]
["N2","Informe a cual de las Personas Jurídicas indicadas antes pertenece este relacionado",null,null,null,"Tipo de Documento",null,null,null,null,{"$f":"VLOOKUP(K2005,Hoja2!$A$485:$D$709,3,0)","v":{"$error":"#N/A"}},null,null,null,null,null,null,null,"Número de Documento",null,null,null,null,{"$f":"VLOOKUP(K2005,Hoja2!$A$485:$D$709,4,0)","v":{"$error":"#N/A"}},null,null,null,null,null,null,null,null,null,{"$f":"IF($H$2006=\"\",\"\",\"1\")","v":""}]
[null,null,null,null,null,null,null,null,null,null,null,null,null,null,null,null,null,null,null,null,null,null,null,null,null,null,null,null,null,null,null,null,null,""]
[null,{"$f":"IF(OR(H2008=\"NIT\",H2008=\"Fideicomiso/Fondo\",H2008=\"PJ No Residente\"),\"\",IF(H2008=\"\",\"\",\"Fecha de Nacimiento\"))","v":""},null,null,null,null,null,null,null,null,null,{"$f":"IF(OR(H2008=\"NIT\",H2008=\"Fideicomiso/Fondo\",H2008=\"PJ No Residente\"),\"\",IF(H2008=\"\",\"\",\"País de nacimiento\"))","v":""},null,null,null,null,null,null,null,null,null,{"$f":"IF(OR(H2008=\"NIT\",H2008=\"Fideicomiso/Fondo\",H2008=\"PJ No Residente\"),\"\",IF(H2008=\"\",\"\",\"Nacionalidad\"))","v":""},null,null,null,null,null,null,null,null,null,null,null,""]
[null,null,null,null,null,null,null,null,null,null,null,null,null,null,null,null,null,null,null,null,null,null,null,null,null,null,null,null,null,null,null,null,null,""]
[null,null,null,null,null,null,null,null,null,null,null,null,null,null,null,null,null,null,null,null,null,null,null,null,null,null,null,null,null,null,null,null,null,""]
["N2","Informe a cual de las Personas Jurídicas indicadas antes pertenece este relacionado",null,null,null,"Tipo de Documento",null,null,null,null,{"$f":"VLOOKUP(K2039,Hoja2!$A$485:$D$709,3,0)","v":{"$error":"#N/A"}},null,null,null,null,null,null,null,"Número de Documento",null,null,null,null,{"$f":"VLOOKUP(K2039,Hoja2!$A$485:$D$709,4,0)","v":{"$error":"#N/A"}},null,null,null,null,null,null,null,null,null,""]
[null,null,null,null,null,null,null,null,null,null,null,null,null,null,null,null,null,null,null,null,null,null,null,null,null,null,null,null,null,null,null,null,null,""]
[null,null,null,null,null,null,null,null,null,null,null,null,null,null,null,null,null,null,null,null,null,null,null,null,null,null,null,null,null,null,null,null,null,""]
[null,null,null,null,null,null,null,null,null,null,null,null,null,null,null,null,null,null,null,null,null,null,null,null,null,null,null,null,null,null,null,null,null,""]
[null,{"$f":"IF(OR(H2040=\"Socio o Accionista\",H2040=\"Controlante\"),\"Tipo de Participación\",IF(H2040=\"\",\"\",\"\"))","v":""},null,null,null,null,null,null,null,{"$f":"IF(B2065=\"Conjunta\",\"Tipo de Documento\",IF(B2065=\"\",\"\",\"\"))","v":""},null,null,null,null,null,null,{"$f":"IF(B2065=\"Conjunta\",\"N° de Documento\",IF(B2065=\"\",\"\",\"\"))","v":""},null,null,null,null,null,null,{"$f":"IF(B2065=\"Conjunta\",\"Parentesco\",IF(B2065=\"\",\"\",\"\"))","v":""},null,null,null,null,null,null,null,null,null,""]
["N2","Informe a cual de las Personas Jurídicas indicadas antes pertenece este relacionado",null,null,null,"Tipo de Documento",null,null,null,null,{"$f":"VLOOKUP(K2073,Hoja2!$A$485:$D$709,3,0)","v":{"$error":"#N/A"}},null,null,null,null,null,null,null,"Número de Documento",null,null,null,null,{"$f":"VLOOKUP(K2073,Hoja2!$A$485:$D$709,4,0)","v":{"$error":"#N/A"}},null,null,null,null,null,null,null,null,null,{"$f":"IF($H$2074=\"\",\"\",\"1\")","v":""}]
[null,{"$f":"IF(H2076<>\"\",\"N° de Documento\",\"\")","v":""},null,null,null,null,null,null,null,null,null,{"$f":"IF(H2076<>\"\",\"Fecha de Expedición\",\"\")","v":""},null,null,null,null,null,null,null,null,null,{"$f":"IF(H2076<>\"\",\"País de Expedición\",\"\")","v":""},null,null,null,null,null,null,null,null,null,null,null,""]
[null,null,null,null,null,null,null,null,null,null,null,null,null,null,null,null,null,null,null,null,null,null,null,null,null,null,null,null,null,null,null,null,null,""]
[null,null,null,null,null,null,null,null,null,null,null,null,null,null,null,null,null,null,null,null,null,null,null,null,null,null,null,null,null,null,null,null,null,""]
[null,{"$f":"IF(OR(H2074=\"Socio o Accionista\",H2074=\"Controlante\"),\"Tipo de Participación\",IF(H2074=\"\",\"\",\"\"))","v":""},null,null,null,null,null,null,null,{"$f":"IF(B2096=\"Conjunta\",\"Tipo de Documento\",IF(B2096=\"\",\"\",\"\"))","v":""},null,null,null,null,null,null,{"$f":"IF(B2096=\"Conjunta\",\"N° de Documento\",IF(B2096=\"\",\"\",\"\"))","v":""},null,null,null,null,null,null,{"$f":"IF(B2096=\"Conjunta\",\"Parentesco\",IF(B2096=\"\",\"\",\"\"))","v":""},null,null,null,null,null,null,null,null,null,""]
[null,{"$f":"IF(OR(H2074=\"Socio o Accionista\",H2074=\"Controlante\"),\"Tipo de Participación\",IF(H2074=\"\",\"\",\"\"))","v":""},null,null,null,null,null,null,null,{"$f":"IF(B2099=\"Conjunta\",\"Tipo de Documento\",IF(B2099=\"\",\"\",\"\"))","v":""},null,null,null,null,null,null,{"$f":"IF(B2099=\"Conjunta\",\"N° de Documento\",IF(B2099=\"\",\"\",\"\"))","v":""},null,null,null,null,null,null,{"$f":"IF(B2099=\"Conjunta\",\"Parentesco\",IF(B2099=\"\",\"\",\"\"))","v":""},null,null,null,null,null,null,null,null,null,""]
[null,null,null,null,null,"Razón Social",null,null,null,null,null,null,null,null,null,null,null,null,null,null,null,null,null,null,null,null,null,null,null,null,null,null,null,""]
[null,{"$f":"IF(OR(H2110=\"NIT\",H2110=\"Fideicomiso/Fondo\",H2110=\"PJ No Residente\"),\"Razón Social\",\"\")","v":""},null,null,null,null,null,null,null,null,null,null,null,null,null,null,null,null,null,null,null,null,null,null,null,null,null,null,null,null,null,null,null,""]
[null,null,null,null,null,null,null,null,null,null,null,null,null,null,null,null,null,null,null,null,null,null,null,null,null,null,null,null,null,null,null,null,null,""]
[null,null,null,null,null,null,null,null,null,null,null,null,null,null,null,null,null,null,null,null,null,null,null,null,null,null,null,null,null,null,null,null,null,""]
[null,{"$f":"IF(OR(H2108=\"Socio o Accionista\",H2108=\"Controlante\"),\"Tipo de Participación\",IF(H2108=\"\",\"\",\"\"))","v":""},null,null,null,null,null,null,null,{"$f":"IF(B2133=\"Conjunta\",\"Tipo de Documento\",IF(B2133=\"\",\"\",\"\"))","v":""},null,null,null,null,null,null,{"$f":"IF(B2133=\"Conjunta\",\"N° de Documento\",IF(B2133=\"\",\"\",\"\"))","v":""},null,null,null,null,null,null,{"$f":"IF(B2133=\"Conjunta\",\"Parentesco\",IF(B2133=\"\",\"\",\"\"))","v":""},null,null,null,null,null,null,null,null,null,""]
[null,null,null,null,null,null,null,null,null,null,null,null,null,null,null,null,null,null,null,null,null,null,null,null,null,null,null,null,null,null,null,null,null,""]
[null,{"$f":"IF(H2144<>\"\",\"N° de Documento\",\"\")","v":""},null,null,null,null,null,null,null,null,null,{"$f":"IF(H2144<>\"\",\"Fecha de Expedición\",\"\")","v":""},null,null,null,null,null,null,null,null,null,{"$f":"IF(H2144<>\"\",\"País de Expedición\",\"\")","v":""},null,null,null,null,null,null,null,null,null,null,null,""]
[null,{"$f":"IF(OR(H2142=\"Socio o Accionista\",H2142=\"Fideicomitente\",H2142=\"Inversionista\",H2142=\"Beneficiario de Activos/Rendimientos/Utilidades\"),\"Participación en %\",IF(H2142=\"\",\"\",\"\"))","v":""},null,null,null,null,null,{"$f":"IF(H2144<>\"\",\"¿Es Persona Expuesta Politicamente?\",\"\")","v":""},null,null,null,null,null,null,null,null,null,{"$f":"IF(OR(H2144=\"NIT\",H2144=\"Fideicomiso/Fondo\",H2144=\"PJ No Residente\"),\"¿Emite acciones al portador?\",IF(H2144=\"\",\"\",\"\"))","v":""},null,null,null,null,null,null,null,{"$f":"IF(OR(H2144=\"NIT\",H2144=\"Fideicomiso/Fondo\",H2144=\"PJ No Residente\"),\"\",IF(H2144=\"\",\"\",\"Género\"))","v":""},null,null,null,null,null,null,null,""]
[null,null,null,null,null,null,null,null,null,null,null,null,null,null,null,null,null,null,null,null,null,null,null,null,null,null,null,null,null,null,null,null,null,""]
[null,null,null,null,null,null,null,null,null,null,null,null,null,null,null,null,null,null,null,null,null,null,null,null,null,null,null,null,null,null,null,null,null,""]
[null,null,null,null,null,null,null,null,null,null,null,null,null,null,null,null,null,null,null,null,null,null,null,null,null,null,null,null,null,null,null,null,null,""]
[null,null,null,null,null,null,null,null,null,null,null,null,null,null,null,null,null,null,null,null,null,null,null,null,null,null,null,null,null,null,null,null,null,""]
[null,{"$f":"IF(H2178<>\"\",\"N° de Documento\",\"\")","v":""},null,null,null,null,null,null,null,null,null,{"$f":"IF(H2178<>\"\",\"Fecha de Expedición\",\"\")","v":""},null,null,null,null,null,null,null,null,null,{"$f":"IF(H2178<>\"\",\"País de Expedición\",\"\")","v":""},null,null,null,null,null,null,null,null,null,null,null,""]
[null,null,null,null,null,null,null,null,null,null,null,null,null,null,null,null,null,null,null,null,null,null,null,null,null,null,null,null,null,null,null,null,null,""]
[null,null,null,null,null,null,null,null,null,null,null,null,null,null,null,null,null,null,null,null,null,null,null,null,null,null,null,null,null,null,null,null,null,""]
[null,null,null,null,null,null,null,null,null,null,null,null,null,null,null,null,null,null,null,null,null,null,null,null,null,null,null,null,null,null,null,null,null,""]
[null,null,null,null,null,null,null,null,null,null,null,null,null,null,null,null,null,null,null,null,null,null,null,null,null,null,null,null,null,null,null,null,null,{"$f":"IF($H$2210=\"\",\"\",\"1\")","v":""}]
[null,"Tipo de Documento",null,null,null,null,null,null,null,null,null,null,null,null,null,null,null,null,null,null,null,null,null,null,null,null,null,null,null,null,null,null,null,""]
[null,{"$f":"IF(OR(H2210=\"Socio o Accionista\",H2210=\"Fideicomitente\",H2210=\"Inversionista\",H2210=\"Beneficiario de Activos/Rendimientos/Utilidades\"),\"Participación en %\",IF(H2210=\"\",\"\",\"\"))","v":""},null,null,null,null,null,{"$f":"IF(H2212<>\"\",\"¿Es Persona Expuesta Politicamente?\",\"\")","v":""},null,null,null,null,null,null,null,null,null,{"$f":"IF(OR(H2212=\"NIT\",H2212=\"Fideicomiso/Fondo\",H2212=\"PJ No Residente\"),\"¿Emite acciones al portador?\",IF(H2212=\"\",\"\",\"\"))","v":""},null,null,null,null,null,null,null,{"$f":"IF(OR(H2212=\"NIT\",H2212=\"Fideicomiso/Fondo\",H2212=\"PJ No Residente\"),\"\",IF(H2212=\"\",\"\",\"Género\"))","v":""},null,null,null,null,null,null,null,""]
[null,null,null,null,null,null,null,null,null,null,null,null,null,null,null,null,null,null,null,null,null,null,null,null,null,null,null,null,null,null,null,null,null,""]
[null,null,null,null,null,null,null,null,null,null,null,null,null,null,null,null,null,null,null,null,null,null,null,null,null,null,null,null,null,null,null,null,null,""]
[null,{"$f":"IF(H2212<>\"\",\"1 -\",\"\")","v":""},null,null,null,null,null,null,null,null,null,null,null,null,null,null,{"$f":"IF(H2212<>\"\",\"1 -\",\"\")","v":""},null,null,null,null,null,null,null,null,null,null,null,null,null,null,null,null,""]
[null,"Tipo de Documento",null,null,null,null,null,null,null,null,null,null,null,null,null,null,null,null,null,null,null,null,null,null,null,null,null,null,null,null,null,null,null,""]
[null,{"$f":"IF(OR(H2246=\"NIT\",H2246=\"Fideicomiso/Fondo\",H2246=\"PJ No Residente\"),\"Razón Social\",\"\")","v":""},null,null,null,null,null,null,null,null,null,null,null,null,null,null,null,null,null,null,null,null,null,null,null,null,null,null,null,null,null,null,null,""]
[null,null,null,null,null,null,null,null,null,null,null,null,null,null,null,null,null,null,null,null,null,null,null,null,null,null,null,null,null,null,null,null,null,""]
[null,null,null,null,null,null,null,null,null,null,null,null,null,null,null,null,null,null,null,null,null,null,null,null,null,null,null,null,null,null,null,null,null,""]
[null,null,null,null,null,null,null,null,null,null,null,null,null,null,null,null,null,null,null,null,null,null,null,null,null,null,null,null,null,null,null,null,null,""]
[null,{"$f":"IF(H2246<>\"\",\"2 -\",\"\")","v":""},null,null,null,null,null,null,null,null,null,null,null,null,null,null,{"$f":"IF(H2246<>\"\",\"2 -\",\"\")","v":""},null,null,null,null,null,null,null,null,null,null,null,null,null,null,null,null,""]
[null,"Tipo de Documento",null,null,null,null,null,null,null,null,null,null,null,null,null,null,null,null,null,null,null,null,null,null,null,null,null,null,null,null,null,null,null,""]
[null,{"$f":"IF(OR(H2280=\"NIT\",H2280=\"Fideicomiso/Fondo\",H2280=\"PJ No Residente\"),\"\",IF(H2280=\"\",\"\",\"Fecha de Nacimiento\"))","v":""},null,null,null,null,null,null,null,null,null,{"$f":"IF(OR(H2280=\"NIT\",H2280=\"Fideicomiso/Fondo\",H2280=\"PJ No Residente\"),\"\",IF(H2280=\"\",\"\",\"País de nacimiento\"))","v":""},null,null,null,null,null,null,null,null,null,{"$f":"IF(OR(H2280=\"NIT\",H2280=\"Fideicomiso/Fondo\",H2280=\"PJ No Residente\"),\"\",IF(H2280=\"\",\"\",\"Nacionalidad\"))","v":""},null,null,null,null,null,null,null,null,null,null,null,""]
[null,null,null,null,null,null,null,null,null,null,null,null,null,null,null,null,null,null,null,null,null,null,null,null,null,null,null,null,null,null,null,null,null,""]
[null,null,null,null,null,null,null,null,null,null,null,null,null,null,null,null,null,null,null,null,null,null,null,null,null,null,null,null,null,null,null,null,null,""]
[null,{"$f":"IF(H2280<>\"\",\"2 -\",\"\")","v":""},null,null,null,null,null,null,null,null,null,null,null,null,null,null,{"$f":"IF(H2280<>\"\",\"2 -\",\"\")","v":""},null,null,null,null,null,null,null,null,null,null,null,null,null,null,null,null,""]
[null,null,null,null,null,null,null,null,null,null,null,null,null,null,null,null,null,null,null,null,null,null,null,null,null,null,null,null,null,null,null,null,null,""]
[null,null,null,null,null,null,null,null,null,null,null,null,null,null,null,null,null,null,null,null,null,null,null,null,null,null,null,null,null,null,null,null,null,""]
[null,{"$f":"IF(H2314<>\"\",\"Dirección de residencia\",\"\")","v":""},null,null,null,null,null,null,null,null,null,null,null,null,null,null,{"$f":"IF(H2314<>\"\",\"Correo electrónico\",\"\")","v":""},null,null,null,null,null,null,null,null,null,null,null,null,null,null,null,null,""]
[null,{"$f":"IF(OR(H2312=\"Socio o Accionista\",H2312=\"Controlante\"),\"Tipo de Participación\",IF(H2312=\"\",\"\",\"\"))","v":""},null,null,null,null,null,null,null,{"$f":"IF(B2331=\"Conjunta\",\"Tipo de Documento\",IF(B2331=\"\",\"\",\"\"))","v":""},null,null,null,null,null,null,{"$f":"IF(B2331=\"Conjunta\",\"N° de Documento\",IF(B2331=\"\",\"\",\"\"))","v":""},null,null,null,null,null,null,{"$f":"IF(B2331=\"Conjunta\",\"Parentesco\",IF(B2331=\"\",\"\",\"\"))","v":""},null,null,null,null,null,null,null,null,null,""]
[null,null,null,null,null,null,null,null,null,null,null,null,null,null,null,null,null,null,null,null,null,null,null,null,null,null,null,null,null,null,null,null,null,""]
[null,null,null,null,null,null,null,null,null,null,null,null,null,null,null,null,null,null,null,null,null,null,null,null,null,null,null,null,null,null,null,null,null,""]
[null,null,null,null,null,null,null,null,null,null,null,null,null,null,null,null,null,null,null,null,null,null,null,null,null,null,null,null,null,null,null,null,null,""]
[null,null,null,null,null,null,null,null,null,null,null,null,null,null,null,null,null,null,null,null,null,null,null,null,null,null,null,null,null,null,null,null,null,""]
[null,{"$f":"IF(OR(H2346=\"Socio o Accionista\",H2346=\"Controlante\"),\"Tipo de Participación\",IF(H2346=\"\",\"\",\"\"))","v":""},null,null,null,null,null,null,null,{"$f":"IF(B2368=\"Conjunta\",\"Tipo de Documento\",IF(B2368=\"\",\"\",\"\"))","v":""},null,null,null,null,null,null,{"$f":"IF(B2368=\"Conjunta\",\"N° de Documento\",IF(B2368=\"\",\"\",\"\"))","v":""},null,null,null,null,null,null,{"$f":"IF(B2368=\"Conjunta\",\"Parentesco\",IF(B2368=\"\",\"\",\"\"))","v":""},null,null,null,null,null,null,null,null,null,""]
[null,{"$f":"IF(OR(H2346=\"Socio o Accionista\",H2346=\"Controlante\"),\"Tipo de Participación\",IF(H2346=\"\",\"\",\"\"))","v":""},null,null,null,null,null,null,null,{"$f":"IF(B2371=\"Conjunta\",\"Tipo de Documento\",IF(B2371=\"\",\"\",\"\"))","v":""},null,null,null,null,null,null,{"$f":"IF(B2371=\"Conjunta\",\"N° de Documento\",IF(B2371=\"\",\"\",\"\"))","v":""},null,null,null,null,null,null,{"$f":"IF(B2371=\"Conjunta\",\"Parentesco\",IF(B2371=\"\",\"\",\"\"))","v":""},null,null,null,null,null,null,null,null,null,""]
["N2","Informe a cual de las Personas Jurídicas indicadas antes pertenece este relacionado",null,null,null,"Tipo de Documento",null,null,null,null,{"$f":"VLOOKUP(K2379,Hoja2!$A$485:$D$709,3,0)","v":{"$error":"#N/A"}},null,null,null,null,null,null,null,"Número de Documento",null,null,null,null,{"$f":"VLOOKUP(K2379,Hoja2!$A$485:$D$709,4,0)","v":{"$error":"#N/A"}},null,null,null,null,null,null,null,null,null,""]
[null,null,null,null,null,null,null,null,null,null,null,null,null,null,null,null,null,null,null,null,null,null,null,null,null,null,null,null,null,null,null,null,null,""]
[null,null,null,null,null,null,null,null,null,null,null,null,null,null,null,null,null,null,null,null,null,null,null,null,null,null,null,null,null,null,null,null,null,""]
[null,null,null,null,null,null,null,null,null,null,null,null,null,null,null,null,null,null,null,null,null,null,null,null,null,null,null,null,null,null,null,null,null,""]
[null,null,null,null,null,null,null,null,null,null,null,null,null,null,null,null,null,null,null,null,null,null,null,null,null,null,null,null,null,null,null,null,null,""]
[null,{"$f":"IF(H2382<>\"\",\"1 -\",\"\")","v":""},null,null,null,null,null,null,null,null,null,null,null,null,null,null,{"$f":"IF(H2382<>\"\",\"1 -\",\"\")","v":""},null,null,null,null,null,null,null,null,null,null,null,null,null,null,null,null,{"$f":"IF($H$2346=\"\",\"\",\"1\")","v":""}]
[null,{"$f":"IF(H2416<>\"\",\"N° de Documento\",\"\")","v":""},null,null,null,null,null,null,null,null,null,{"$f":"IF(H2416<>\"\",\"Fecha de Expedición\",\"\")","v":""},null,null,null,null,null,null,null,null,null,{"$f":"IF(H2416<>\"\",\"País de Expedición\",\"\")","v":""},null,null,null,null,null,null,null,null,null,null,null,""]
[null,null,null,null,null,null,null,null,null,null,null,null,null,null,null,null,null,null,null,null,null,null,null,null,null,null,null,null,null,null,null,null,null,""]
[null,null,null,null,null,null,null,null,null,null,null,null,null,null,null,null,null,null,null,null,null,null,null,null,null,null,null,null,null,null,null,null,null,""]
[null,null,null,null,null,null,null,null,null,null,null,null,null,null,null,null,null,null,null,null,null,null,null,null,null,null,null,null,null,null,null,null,null,""]
[null,{"$f":"IF(OR(H2414=\"Socio o Accionista\",H2414=\"Controlante\"),\"Tipo de Participación\",IF(H2414=\"\",\"\",\"\"))","v":""},null,null,null,null,null,null,null,{"$f":"IF(B2439=\"Conjunta\",\"Tipo de Documento\",IF(B2439=\"\",\"\",\"\"))","v":""},null,null,null,null,null,null,{"$f":"IF(B2439=\"Conjunta\",\"N° de Documento\",IF(B2439=\"\",\"\",\"\"))","v":""},null,null,null,null,null,null,{"$f":"IF(B2439=\"Conjunta\",\"Parentesco\",IF(B2439=\"\",\"\",\"\"))","v":""},null,null,null,null,null,null,null,null,null,""]
[null,null,null,null,null,"Razón Social",null,null,null,null,null,null,null,null,null,null,null,null,null,null,null,null,null,null,null,null,null,null,null,null,null,null,null,""]
[null,{"$f":"IF(H2450<>\"\",\"N° de Documento\",\"\")","v":""},null,null,null,null,null,null,null,null,null,{"$f":"IF(H2450<>\"\",\"Fecha de Expedición\",\"\")","v":""},null,null,null,null,null,null,null,null,null,{"$f":"IF(H2450<>\"\",\"País de Expedición\",\"\")","v":""},null,null,null,null,null,null,null,null,null,null,null,""]
[null,null,null,null,null,null,null,null,null,null,null,null,null,null,null,null,null,null,null,null,null,null,null,null,null,null,null,null,null,null,null,null,null,""]
[null,{"$f":"IF(OR(H2448=\"Socio o Accionista\",H2448=\"Controlante\"),\"Tipo de Participación\",IF(H2448=\"\",\"\",\"\"))","v":""},null,null,null,null,null,null,null,{"$f":"IF(B2467=\"Conjunta\",\"Tipo de Documento\",IF(B2467=\"\",\"\",\"\"))","v":""},null,null,null,null,null,null,{"$f":"IF(B2467=\"Conjunta\",\"N° de Documento\",IF(B2467=\"\",\"\",\"\"))","v":""},null,null,null,null,null,null,{"$f":"IF(B2467=\"Conjunta\",\"Parentesco\",IF(B2467=\"\",\"\",\"\"))","v":""},null,null,null,null,null,null,null,null,null,""]
[null,null,null,null,null,null,null,null,null,null,null,null,null,null,null,null,null,null,null,null,null,null,null,null,null,null,null,null,null,null,null,null,null,""]
[null,null,null,null,null,null,null,null,null,null,null,null,null,null,null,null,null,null,null,null,null,null,null,null,null,null,null,null,null,null,null,null,null,""]
[null,{"$f":"IF(H2484<>\"\",\"N° de Documento\",\"\")","v":""},null,null,null,null,null,null,null,null,null,{"$f":"IF(H2484<>\"\",\"Fecha de Expedición\",\"\")","v":""},null,null,null,null,null,null,null,null,null,{"$f":"IF(H2484<>\"\",\"País de Expedición\",\"\")","v":""},null,null,null,null,null,null,null,null,null,null,null,""]
[null,{"$f":"IF(OR(H2484=\"NIT\",H2484=\"Fideicomiso/Fondo\",H2484=\"PJ No Residente\",H2484=\"\"),\"\",\"Primer Nombre\")","v":""},null,null,null,null,null,null,null,{"$f":"IF(OR(H2484=\"NIT\",H2484=\"Fideicomiso/Fondo\",H2484=\"PJ No Residente\",H2484=\"\"),\"\",\"Segundo Nombre\")","v":""},null,null,null,null,null,null,{"$f":"IF(OR(H2484=\"NIT\",H2484=\"Fideicomiso/Fondo\",H2484=\"PJ No Residente\",H2484=\"\"),\"\",\"Primer Apellido\")","v":""},null,null,null,null,null,null,{"$f":"IF(OR(H2484=\"NIT\",H2484=\"Fideicomiso/Fondo\",H2484=\"PJ No Residente\",H2484=\"\"),\"\",\"Segundo Apellido\")","v":""},null,null,null,null,null,null,null,null,null,""]
[null,null,null,null,null,null,null,null,null,null,null,null,null,null,null,null,null,null,null,null,null,null,null,null,null,null,null,null,null,null,null,null,null,""]
[null,null,null,null,null,null,null,null,null,null,null,null,null,null,null,null,null,null,null,null,null,null,null,null,null,null,null,null,null,null,null,null,null,""]
[null,null,null,null,null,null,null,null,null,null,null,null,null,null,null,null,null,null,null,null,null,null,null,null,null,null,null,null,null,null,null,null,null,""]
[null,"Tipo de Documento",null,null,null,null,null,null,null,null,null,null,null,null,null,null,null,null,null,null,null,null,null,null,null,null,null,null,null,null,null,null,null,""]
[null,{"$f":"IF(H2518<>\"\",\"N° de Documento\",\"\")","v":""},null,null,null,null,null,null,null,null,null,{"$f":"IF(H2518<>\"\",\"Fecha de Expedición\",\"\")","v":""},null,null,null,null,null,null,null,null,null,{"$f":"IF(H2518<>\"\",\"País de Expedición\",\"\")","v":""},null,null,null,null,null,null,null,null,null,null,null,""]
[null,{"$f":"IF(OR(H2518=\"NIT\",H2518=\"Fideicomiso/Fondo\",H2518=\"PJ No Residente\"),\"\",IF(H2518=\"\",\"\",\"Fecha de Nacimiento\"))","v":""},null,null,null,null,null,null,null,null,null,{"$f":"IF(OR(H2518=\"NIT\",H2518=\"Fideicomiso/Fondo\",H2518=\"PJ No Residente\"),\"\",IF(H2518=\"\",\"\",\"País de nacimiento\"))","v":""},null,null,null,null,null,null,null,null,null,{"$f":"IF(OR(H2518=\"NIT\",H2518=\"Fideicomiso/Fondo\",H2518=\"PJ No Residente\"),\"\",IF(H2518=\"\",\"\",\"Nacionalidad\"))","v":""},null,null,null,null,null,null,null,null,null,null,null,""]
[null,null,null,null,null,null,null,null,null,null,null,null,null,null,null,null,null,null,null,null,null,null,null,null,null,null,null,null,null,null,null,null,null,""]
[null,null,null,null,null,null,null,null,null,null,null,null,null,null,null,null,null,null,null,null,null,null,null,null,null,null,null,null,null,null,null,null,null,""]
[null,null,null,null,null,null,null,null,null,null,null,null,null,null,null,null,null,null,null,null,null,null,null,null,null,null,null,null,null,null,null,null,null,""]
[null,"Tipo de Documento",null,null,null,null,null,null,null,null,null,null,null,null,null,null,null,null,null,null,null,null,null,null,null,null,null,null,null,null,null,null,null,""]
[null,{"$f":"IF(OR(H2550=\"Socio o Accionista\",H2550=\"Fideicomitente\",H2550=\"Inversionista\",H2550=\"Beneficiario de Activos/Rendimientos/Utilidades\"),\"Participación en %\",IF(H2550=\"\",\"\",\"\"))","v":""},null,null,null,null,null,{"$f":"IF(H2552<>\"\",\"¿Es Persona Expuesta Politicamente?\",\"\")","v":""},null,null,null,null,null,null,null,null,null,{"$f":"IF(OR(H2552=\"NIT\",H2552=\"Fideicomiso/Fondo\",H2552=\"PJ No Residente\"),\"¿Emite acciones al portador?\",IF(H2552=\"\",\"\",\"\"))","v":""},null,null,null,null,null,null,null,{"$f":"IF(OR(H2552=\"NIT\",H2552=\"Fideicomiso/Fondo\",H2552=\"PJ No Residente\"),\"\",IF(H2552=\"\",\"\",\"Género\"))","v":""},null,null,null,null,null,null,null,""]
[null,{"$f":"IF(OR(H2550=\"Socio o Accionista\",H2550=\"Controlante\"),\"Tipo de Participación\",IF(H2550=\"\",\"\",\"\"))","v":""},null,null,null,null,null,null,null,{"$f":"IF(B2569=\"Conjunta\",\"Tipo de Documento\",IF(B2569=\"\",\"\",\"\"))","v":""},null,null,null,null,null,null,{"$f":"IF(B2569=\"Conjunta\",\"N° de Documento\",IF(B2569=\"\",\"\",\"\"))","v":""},null,null,null,null,null,null,{"$f":"IF(B2569=\"Conjunta\",\"Parentesco\",IF(B2569=\"\",\"\",\"\"))","v":""},null,null,null,null,null,null,null,null,null,""]
[null,null,null,null,null,null,null,null,null,null,null,null,null,null,null,null,null,null,null,null,null,null,null,null,null,null,null,null,null,null,null,null,null,""]
[null,{"$f":"IF(H2552<>\"\",\"2 -\",\"\")","v":""},null,null,null,null,null,null,null,null,null,null,null,null,null,null,{"$f":"IF(H2552<>\"\",\"2 -\",\"\")","v":""},null,null,null,null,null,null,null,null,null,null,null,null,null,null,null,null,""]
[null,null,null,null,null,null,null,null,null,null,null,null,null,null,null,null,null,null,null,null,null,null,null,null,null,null,null,null,null,null,null,null,null,""]
[null,null,null,null,null,null,null,null,null,null,null,null,null,null,null,null,null,null,null,null,null,null,null,null,null,null,null,null,null,null,null,null,null,""]
[null,{"$f":"IF(H2586<>\"\",\"Dirección de residencia\",\"\")","v":""},null,null,null,null,null,null,null,null,null,null,null,null,null,null,{"$f":"IF(H2586<>\"\",\"Correo electrónico\",\"\")","v":""},null,null,null,null,null,null,null,null,null,null,null,null,null,null,null,null,""]
[null,null,null,null,null,null,null,null,null,null,null,null,null,null,null,null,null,null,null,null,null,null,null,null,null,null,null,null,null,null,null,null,null,""]
[null,null,null,null,null,null,null,null,null,null,null,null,null,null,null,null,null,null,null,null,null,null,null,null,null,null,null,null,null,null,null,null,null,""]
[null,null,null,null,null,null,null,null,null,null,null,null,null,null,null,null,null,null,null,null,null,null,null,null,null,null,null,null,null,null,null,null,null,""]
[null,"Tipo de Documento",null,null,null,null,null,null,null,null,null,null,null,null,null,null,null,null,null,null,null,null,null,null,null,null,null,null,null,null,null,null,null,""]
[null,{"$f":"IF(OR(H2620=\"NIT\",H2620=\"Fideicomiso/Fondo\",H2620=\"PJ No Residente\"),\"\",IF(H2620=\"\",\"\",\"Fecha de Nacimiento\"))","v":""},null,null,null,null,null,null,null,null,null,{"$f":"IF(OR(H2620=\"NIT\",H2620=\"Fideicomiso/Fondo\",H2620=\"PJ No Residente\"),\"\",IF(H2620=\"\",\"\",\"País de nacimiento\"))","v":""},null,null,null,null,null,null,null,null,null,{"$f":"IF(OR(H2620=\"NIT\",H2620=\"Fideicomiso/Fondo\",H2620=\"PJ No Residente\"),\"\",IF(H2620=\"\",\"\",\"Nacionalidad\"))","v":""},null,null,null,null,null,null,null,null,null,null,null,""]
[null,{"$f":"IF(H2620<>\"\",\"Dirección de residencia\",\"\")","v":""},null,null,null,null,null,null,null,null,null,null,null,null,null,null,{"$f":"IF(H2620<>\"\",\"Correo electrónico\",\"\")","v":""},null,null,null,null,null,null,null,null,null,null,null,null,null,null,null,null,""]
[null,null,null,null,null,null,null,null,null,null,null,null,null,null,null,null,null,null,null,null,null,null,null,null,null,null,null,null,null,null,null,null,null,""]
["N2","Informe a cual de las Personas Jurídicas indicadas antes pertenece este relacionado",null,null,null,"Tipo de Documento",null,null,null,null,{"$f":"VLOOKUP(K2651,Hoja2!$A$485:$D$709,3,0)","v":{"$error":"#N/A"}},null,null,null,null,null,null,null,"Número de Documento",null,null,null,null,{"$f":"VLOOKUP(K2651,Hoja2!$A$485:$D$709,4,0)","v":{"$error":"#N/A"}},null,null,null,null,null,null,null,null,null,""]
[null,null,null,null,null,null,null,null,null,null,null,null,null,null,null,null,null,null,null,null,null,null,null,null,null,null,null,null,null,null,null,null,null,""]
[null,null,null,null,null,null,null,null,null,null,null,null,null,null,null,null,null,null,null,null,null,null,null,null,null,null,null,null,null,null,null,null,null,""]
[null,null,null,null,null,null,null,null,null,null,null,null,null,null,null,null,null,null,null,null,null,null,null,null,null,null,null,null,null,null,null,null,null,""]
[null,null,null,null,null,null,null,null,null,null,null,null,null,null,null,null,null,null,null,null,null,null,null,null,null,null,null,null,null,null,null,null,null,""]
[null,{"$f":"IF(H2654<>\"\",\"1 -\",\"\")","v":""},null,null,null,null,null,null,null,null,null,null,null,null,null,null,{"$f":"IF(H2654<>\"\",\"1 -\",\"\")","v":""},null,null,null,null,null,null,null,null,null,null,null,null,null,null,null,null,{"$f":"IF($H$2618=\"\",\"\",\"1\")","v":""}]
["N2","Informe a cual de las Personas Jurídicas indicadas antes pertenece este relacionado",null,null,null,"Tipo de Documento",null,null,null,null,{"$f":"VLOOKUP(K2685,Hoja2!$A$485:$D$709,3,0)","v":{"$error":"#N/A"}},null,null,null,null,null,null,null,"Número de Documento",null,null,null,null,{"$f":"VLOOKUP(K2685,Hoja2!$A$485:$D$709,4,0)","v":{"$error":"#N/A"}},null,null,null,null,null,null,null,null,null,{"$f":"IF($H$2686=\"\",\"\",\"1\")","v":""}]
[null,null,null,null,null,null,null,null,null,null,null,null,null,null,null,null,null,null,null,null,null,null,null,null,null,null,null,null,null,null,null,null,null,""]
[null,{"$f":"IF(H2688<>\"\",\"Dirección de residencia\",\"\")","v":""},null,null,null,null,null,null,null,null,null,null,null,null,null,null,{"$f":"IF(H2688<>\"\",\"Correo electrónico\",\"\")","v":""},null,null,null,null,null,null,null,null,null,null,null,null,null,null,null,null,""]
[null,{"$f":"IF(OR(H2686=\"Socio o Accionista\",H2686=\"Controlante\"),\"Tipo de Participación\",IF(H2686=\"\",\"\",\"\"))","v":""},null,null,null,null,null,null,null,{"$f":"IF(B2708=\"Conjunta\",\"Tipo de Documento\",IF(B2708=\"\",\"\",\"\"))","v":""},null,null,null,null,null,null,{"$f":"IF(B2708=\"Conjunta\",\"N° de Documento\",IF(B2708=\"\",\"\",\"\"))","v":""},null,null,null,null,null,null,{"$f":"IF(B2708=\"Conjunta\",\"Parentesco\",IF(B2708=\"\",\"\",\"\"))","v":""},null,null,null,null,null,null,null,null,null,""]
[null,{"$f":"IF(OR(H2686=\"Socio o Accionista\",H2686=\"Controlante\"),\"Tipo de Participación\",IF(H2686=\"\",\"\",\"\"))","v":""},null,null,null,null,null,null,null,{"$f":"IF(B2711=\"Conjunta\",\"Tipo de Documento\",IF(B2711=\"\",\"\",\"\"))","v":""},null,null,null,null,null,null,{"$f":"IF(B2711=\"Conjunta\",\"N° de Documento\",IF(B2711=\"\",\"\",\"\"))","v":""},null,null,null,null,null,null,{"$f":"IF(B2711=\"Conjunta\",\"Parentesco\",IF(B2711=\"\",\"\",\"\"))","v":""},null,null,null,null,null,null,null,null,null,""]
[33,"Tipo de Relación",null,null,null,null,null,null,null,null,null,null,null,null,null,null,null,null,null,null,null,null,null,null,null,null,null,null,null,null,null,null,null,""]
[null,null,null,null,null,null,null,null,null,null,null,null,null,null,null,null,null,null,null,null,null,null,null,null,null,null,null,null,null,null,null,null,null,""]
[null,null,null,null,null,null,null,null,null,null,null,null,null,null,null,null,null,null,null,null,null,null,null,null,null,null,null,null,null,null,null,null,null,""]
[null,null,null,null,null,null,null,null,null,null,null,null,null,null,null,null,null,null,null,null,null,null,null,null,null,null,null,null,null,null,null,null,null,""]
[null,{"$f":"IF(OR(H2720=\"Socio o Accionista\",H2720=\"Controlante\"),\"Tipo de Participación\",IF(H2720=\"\",\"\",\"\"))","v":""},null,null,null,null,null,null,null,{"$f":"IF(B2742=\"Conjunta\",\"Tipo de Documento\",IF(B2742=\"\",\"\",\"\"))","v":""},null,null,null,null,null,null,{"$f":"IF(B2742=\"Conjunta\",\"N° de Documento\",IF(B2742=\"\",\"\",\"\"))","v":""},null,null,null,null,null,null,{"$f":"IF(B2742=\"Conjunta\",\"Parentesco\",IF(B2742=\"\",\"\",\"\"))","v":""},null,null,null,null,null,null,null,null,null,""]
[null,null,null,null,null,null,null,null,null,null,null,null,null,null,null,null,null,null,null,null,null,null,null,null,null,null,null,null,null,null,null,null,null,""]
[null,{"$f":"IF(H2756<>\"\",\"N° de Documento\",\"\")","v":""},null,null,null,null,null,null,null,null,null,{"$f":"IF(H2756<>\"\",\"Fecha de Expedición\",\"\")","v":""},null,null,null,null,null,null,null,null,null,{"$f":"IF(H2756<>\"\",\"País de Expedición\",\"\")","v":""},null,null,null,null,null,null,null,null,null,null,null,""]
[null,null,null,null,null,null,null,null,null,null,null,null,null,null,null,null,null,null,null,null,null,null,null,null,null,null,null,null,null,null,null,null,null,""]
[null,null,null,null,null,null,null,null,null,null,null,null,null,null,null,null,null,null,null,null,null,null,null,null,null,null,null,null,null,null,null,null,null,""]
[null,null,null,null,null,null,null,null,null,null,null,null,null,null,null,null,null,null,null,null,null,null,null,null,null,null,null,null,null,null,null,null,null,""]
[null,{"$f":"IF(H2756<>\"\",\"País de Expedición del NIT\",\"\")","v":""},null,null,null,null,null,null,null,null,null,null,null,null,null,null,{"$f":"IF(H2756<>\"\",\"N° de Identificación Tributario\",\"\")","v":""},null,null,null,null,null,null,null,null,null,null,null,null,null,null,null,null,""]
[35,"Tipo de Relación",null,null,null,null,null,null,null,null,null,null,null,null,null,null,null,null,null,null,null,null,null,null,null,null,null,null,null,null,null,null,null,""]
[null,{"$f":"IF(H2790<>\"\",\"N° de Documento\",\"\")","v":""},null,null,null,null,null,null,null,null,null,{"$f":"IF(H2790<>\"\",\"Fecha de Expedición\",\"\")","v":""},null,null,null,null,null,null,null,null,null,{"$f":"IF(H2790<>\"\",\"País de Expedición\",\"\")","v":""},null,null,null,null,null,null,null,null,null,null,null,""]
[null,null,null,null,null,null,null,null,null,null,null,null,null,null,null,null,null,null,null,null,null,null,null,null,null,null,null,null,null,null,null,null,null,""]
[null,null,null,null,null,null,null,null,null,null,null,null,null,null,null,null,null,null,null,null,null,null,null,null,null,null,null,null,null,null,null,null,null,""]
[null,null,null,null,null,null,null,null,null,null,null,null,null,null,null,null,null,null,null,null,null,null,null,null,null,null,null,null,null,null,null,null,null,""]
[null,null,null,null,null,null,null,null,null,null,null,null,null,null,null,null,null,null,null,null,null,null,null,null,null,null,null,null,null,null,null,null,null,""]
[null,null,null,null,null,null,null,null,null,null,null,null,null,null,null,null,null,null,null,null,null,null,null,null,null,null,null,null,null,null,null,null,null,""]
[null,{"$f":"IF(OR(H2822=\"Socio o Accionista\",H2822=\"Fideicomitente\",H2822=\"Inversionista\",H2822=\"Beneficiario de Activos/Rendimientos/Utilidades\"),\"Participación en %\",IF(H2822=\"\",\"\",\"\"))","v":""},null,null,null,null,null,{"$f":"IF(H2824<>\"\",\"¿Es Persona Expuesta Politicamente?\",\"\")","v":""},null,null,null,null,null,null,null,null,null,{"$f":"IF(OR(H2824=\"NIT\",H2824=\"Fideicomiso/Fondo\",H2824=\"PJ No Residente\"),\"¿Emite acciones al portador?\",IF(H2824=\"\",\"\",\"\"))","v":""},null,null,null,null,null,null,null,{"$f":"IF(OR(H2824=\"NIT\",H2824=\"Fideicomiso/Fondo\",H2824=\"PJ No Residente\"),\"\",IF(H2824=\"\",\"\",\"Género\"))","v":""},null,null,null,null,null,null,null,""]
[null,null,null,null,null,null,null,null,null,null,null,null,null,null,null,null,null,null,null,null,null,null,null,null,null,null,null,null,null,null,null,null,null,""]
[null,null,null,null,null,null,null,null,null,null,null,null,null,null,null,null,null,null,null,null,null,null,null,null,null,null,null,null,null,null,null,null,null,""]
[null,{"$f":"IF(H2824<>\"\",\"2 -\",\"\")","v":""},null,null,null,null,null,null,null,null,null,null,null,null,null,null,{"$f":"IF(H2824<>\"\",\"2 -\",\"\")","v":""},null,null,null,null,null,null,null,null,null,null,null,null,null,null,null,null,""]
[null,"Tipo de Documento",null,null,null,null,null,null,null,null,null,null,null,null,null,null,null,null,null,null,null,null,null,null,null,null,null,null,null,null,null,null,null,""]
[null,{"$f":"IF(OR(H2858=\"NIT\",H2858=\"Fideicomiso/Fondo\",H2858=\"PJ No Residente\"),\"Razón Social\",\"\")","v":""},null,null,null,null,null,null,null,null,null,null,null,null,null,null,null,null,null,null,null,null,null,null,null,null,null,null,null,null,null,null,null,""]
[null,{"$f":"IF(H2858<>\"\",\"Pais de Residencia\",\"\")","v":""},null,null,null,null,null,null,null,null,null,{"$f":"IF(H2858<>\"\",\"Departamento de Residencia\",\"\")","v":""},null,null,null,null,null,null,null,null,null,{"$f":"IF(H2858<>\"\",\"Ciudad de Residencia\",\"\")","v":""},null,null,null,null,null,null,null,null,null,null,null,""]
[null,null,null,null,null,null,null,null,null,null,null,null,null,null,null,null,null,null,null,null,null,null,null,null,null,null,null,null,null,null,null,null,null,""]
[null,null,null,null,null,null,null,null,null,null,null,null,null,null,null,null,null,null,null,null,null,null,null,null,null,null,null,null,null,null,null,null,null,""]
[null,{"$f":"IF(H2858<>\"\",\"1 -\",\"\")","v":""},null,null,null,null,null,null,null,null,null,null,null,null,null,null,{"$f":"IF(H2858<>\"\",\"1 -\",\"\")","v":""},null,null,null,null,null,null,null,null,null,null,null,null,null,null,null,null,{"$f":"IF($H$2822=\"\",\"\",\"1\")","v":""}]
[null,"Tipo de Documento",null,null,null,null,null,null,null,null,null,null,null,null,null,null,null,null,null,null,null,null,null,null,null,null,null,null,null,null,null,null,null,""]
[null,{"$f":"IF(OR(H2892=\"NIT\",H2892=\"Fideicomiso/Fondo\",H2892=\"PJ No Residente\"),\"\",IF(H2892=\"\",\"\",\"Fecha de Nacimiento\"))","v":""},null,null,null,null,null,null,null,null,null,{"$f":"IF(OR(H2892=\"NIT\",H2892=\"Fideicomiso/Fondo\",H2892=\"PJ No Residente\"),\"\",IF(H2892=\"\",\"\",\"País de nacimiento\"))","v":""},null,null,null,null,null,null,null,null,null,{"$f":"IF(OR(H2892=\"NIT\",H2892=\"Fideicomiso/Fondo\",H2892=\"PJ No Residente\"),\"\",IF(H2892=\"\",\"\",\"Nacionalidad\"))","v":""},null,null,null,null,null,null,null,null,null,null,null,""]
[null,{"$f":"IF(H2892<>\"\",\"Pais de Residencia\",\"\")","v":""},null,null,null,null,null,null,null,null,null,{"$f":"IF(H2892<>\"\",\"Departamento de Residencia\",\"\")","v":""},null,null,null,null,null,null,null,null,null,{"$f":"IF(H2892<>\"\",\"Ciudad de Residencia\",\"\")","v":""},null,null,null,null,null,null,null,null,null,null,null,""]
[null,null,null,null,null,null,null,null,null,null,null,null,null,null,null,null,null,null,null,null,null,null,null,null,null,null,null,null,null,null,null,null,null,""]
[null,{"$f":"IF(H2892<>\"\",\"2 -\",\"\")","v":""},null,null,null,null,null,null,null,null,null,null,null,null,null,null,{"$f":"IF(H2892<>\"\",\"2 -\",\"\")","v":""},null,null,null,null,null,null,null,null,null,null,null,null,null,null,null,null,""]
[null,null,null,null,null,null,null,null,null,null,null,null,null,null,null,null,null,null,null,null,null,null,null,null,null,null,null,null,null,null,null,null,null,""]
[null,null,null,null,null,null,null,null,null,null,null,null,null,null,null,null,null,null,null,null,null,null,null,null,null,null,null,null,null,null,null,null,null,""]
[null,{"$f":"IF(H2926<>\"\",\"Dirección de residencia\",\"\")","v":""},null,null,null,null,null,null,null,null,null,null,null,null,null,null,{"$f":"IF(H2926<>\"\",\"Correo electrónico\",\"\")","v":""},null,null,null,null,null,null,null,null,null,null,null,null,null,null,null,null,""]
[null,null,null,null,null,null,null,null,null,null,null,null,null,null,null,null,null,null,null,null,null,null,null,null,null,null,null,null,null,null,null,null,null,""]
[null,null,null,null,null,null,null,null,null,null,null,null,null,null,null,null,null,null,null,null,null,null,null,null,null,null,null,null,null,null,null,null,null,""]
[null,null,null,null,null,null,null,null,null,null,null,null,null,null,null,null,null,null,null,null,null,null,null,null,null,null,null,null,null,null,null,null,null,""]
[null,null,null,null,null,null,null,null,null,null,null,null,null,null,null,null,null,null,null,null,null,null,null,null,null,null,null,null,null,null,null,null,null,""]
[null,{"$f":"IF(H2960<>\"\",\"Pais de Residencia\",\"\")","v":""},null,null,null,null,null,null,null,null,null,{"$f":"IF(H2960<>\"\",\"Departamento de Residencia\",\"\")","v":""},null,null,null,null,null,null,null,null,null,{"$f":"IF(H2960<>\"\",\"Ciudad de Residencia\",\"\")","v":""},null,null,null,null,null,null,null,null,null,null,null,""]
[null,{"$f":"IF(H2960<>\"\",\"Dirección de residencia\",\"\")","v":""},null,null,null,null,null,null,null,null,null,null,null,null,null,null,{"$f":"IF(H2960<>\"\",\"Correo electrónico\",\"\")","v":""},null,null,null,null,null,null,null,null,null,null,null,null,null,null,null,null,""]
[null,{"$f":"IF(OR(H2958=\"Socio o Accionista\",H2958=\"Controlante\"),\"Tipo de Participación\",IF(H2958=\"\",\"\",\"\"))","v":""},null,null,null,null,null,null,null,{"$f":"IF(B2983=\"Conjunta\",\"Tipo de Documento\",IF(B2983=\"\",\"\",\"\"))","v":""},null,null,null,null,null,null,{"$f":"IF(B2983=\"Conjunta\",\"N° de Documento\",IF(B2983=\"\",\"\",\"\"))","v":""},null,null,null,null,null,null,{"$f":"IF(B2983=\"Conjunta\",\"Parentesco\",IF(B2983=\"\",\"\",\"\"))","v":""},null,null,null,null,null,null,null,null,null,""]
[null,null,null,null,null,null,null,null,null,null,null,null,null,null,null,null,null,null,null,null,null,null,null,null,null,null,null,null,null,null,null,null,null,""]
[null,null,null,null,null,null,null,null,null,null,null,null,null,null,null,null,null,null,null,null,null,null,null,null,null,null,null,null,null,null,null,null,null,""]
[null,null,null,null,null,null,null,null,null,null,null,null,null,null,null,null,null,null,null,null,null,null,null,null,null,null,null,null,null,null,null,null,null,""]
[null,null,null,null,null,null,null,null,null,null,null,null,null,null,null,null,null,null,null,null,null,null,null,null,null,null,null,null,null,null,null,null,null,""]
[null,{"$f":"IF(OR(H2992=\"Socio o Accionista\",H2992=\"Controlante\"),\"Tipo de Participación\",IF(H2992=\"\",\"\",\"\"))","v":""},null,null,null,null,null,null,null,{"$f":"IF(B3014=\"Conjunta\",\"Tipo de Documento\",IF(B3014=\"\",\"\",\"\"))","v":""},null,null,null,null,null,null,{"$f":"IF(B3014=\"Conjunta\",\"N° de Documento\",IF(B3014=\"\",\"\",\"\"))","v":""},null,null,null,null,null,null,{"$f":"IF(B3014=\"Conjunta\",\"Parentesco\",IF(B3014=\"\",\"\",\"\"))","v":""},null,null,null,null,null,null,null,null,null,""]
[null,{"$f":"IF(H2994<>\"\",\"1 -\",\"\")","v":""},null,null,null,null,null,null,null,null,null,null,null,null,null,null,{"$f":"IF(H2994<>\"\",\"1 -\",\"\")","v":""},null,null,null,null,null,null,null,null,null,null,null,null,null,null,null,null,{"$f":"IF($H$2958=\"\",\"\",\"1\")","v":""}]
["N2","Informe a cual de las Personas Jurídicas indicadas antes pertenece este relacionado",null,null,null,"Tipo de Documento",null,null,null,null,{"$f":"VLOOKUP(K3025,Hoja2!$A$485:$D$709,3,0)","v":{"$error":"#N/A"}},null,null,null,null,null,null,null,"Número de Documento",null,null,null,null,{"$f":"VLOOKUP(K3025,Hoja2!$A$485:$D$709,4,0)","v":{"$error":"#N/A"}},null,null,null,null,null,null,null,null,null,{"$f":"IF($H$3026=\"\",\"\",\"1\")","v":""}]
[null,{"$f":"IF(OR(H3026=\"Socio o Accionista\",H3026=\"Fideicomitente\",H3026=\"Inversionista\",H3026=\"Beneficiario de Activos/Rendimientos/Utilidades\"),\"Participación en %\",IF(H3026=\"\",\"\",\"\"))","v":""},null,null,null,null,null,{"$f":"IF(H3028<>\"\",\"¿Es Persona Expuesta Politicamente?\",\"\")","v":""},null,null,null,null,null,null,null,null,null,{"$f":"IF(OR(H3028=\"NIT\",H3028=\"Fideicomiso/Fondo\",H3028=\"PJ No Residente\"),\"¿Emite acciones al portador?\",IF(H3028=\"\",\"\",\"\"))","v":""},null,null,null,null,null,null,null,{"$f":"IF(OR(H3028=\"NIT\",H3028=\"Fideicomiso/Fondo\",H3028=\"PJ No Residente\"),\"\",IF(H3028=\"\",\"\",\"Género\"))","v":""},null,null,null,null,null,null,null,""]
[null,null,null,null,null,null,null,null,null,null,null,null,null,null,null,null,null,null,null,null,null,null,null,null,null,null,null,null,null,null,null,null,null,""]
[null,null,null,null,null,null,null,null,null,null,null,null,null,null,null,null,null,null,null,null,null,null,null,null,null,null,null,null,null,null,null,null,null,""]
[null,null,null,null,null,null,null,null,null,null,null,null,null,null,null,null,null,null,null,null,null,null,null,null,null,null,null,null,null,null,null,null,null,""]
[43,"Tipo de Relación",null,null,null,null,null,null,null,null,null,null,null,null,null,null,null,null,null,null,null,null,null,null,null,null,null,null,null,null,null,null,null,""]
[null,{"$f":"IF(H3062<>\"\",\"N° de Documento\",\"\")","v":""},null,null,null,null,null,null,null,null,null,{"$f":"IF(H3062<>\"\",\"Fecha de Expedición\",\"\")","v":""},null,null,null,null,null,null,null,null,null,{"$f":"IF(H3062<>\"\",\"País de Expedición\",\"\")","v":""},null,null,null,null,null,null,null,null,null,null,null,""]
[null,null,null,null,null,null,null,null,null,null,null,null,null,null,null,null,null,null,null,null,null,null,null,null,null,null,null,null,null,null,null,null,null,""]
[null,null,null,null,null,null,null,null,null,null,null,null,null,null,null,null,null,null,null,null,null,null,null,null,null,null,null,null,null,null,null,null,null,""]
[null,{"$f":"IF(OR(H3060=\"Socio o Accionista\",H3060=\"Controlante\"),\"Tipo de Participación\",IF(H3060=\"\",\"\",\"\"))","v":""},null,null,null,null,null,null,null,{"$f":"IF(B3082=\"Conjunta\",\"Tipo de Documento\",IF(B3082=\"\",\"\",\"\"))","v":""},null,null,null,null,null,null,{"$f":"IF(B3082=\"Conjunta\",\"N° de Documento\",IF(B3082=\"\",\"\",\"\"))","v":""},null,null,null,null,null,null,{"$f":"IF(B3082=\"Conjunta\",\"Parentesco\",IF(B3082=\"\",\"\",\"\"))","v":""},null,null,null,null,null,null,null,null,null,""]
[null,null,null,null,null,null,null,null,null,null,null,null,null,null,null,null,null,null,null,null,null,null,null,null,null,null,null,null,null,null,null,null,null,""]
[null,"Tipo de Documento",null,null,null,null,null,null,null,null,null,null,null,null,null,null,null,null,null,null,null,null,null,null,null,null,null,null,null,null,null,null,null,""]
[null,{"$f":"IF(OR(H3096=\"NIT\",H3096=\"Fideicomiso/Fondo\",H3096=\"PJ No Residente\",H3096=\"\"),\"\",\"Primer Nombre\")","v":""},null,null,null,null,null,null,null,{"$f":"IF(OR(H3096=\"NIT\",H3096=\"Fideicomiso/Fondo\",H3096=\"PJ No Residente\",H3096=\"\"),\"\",\"Segundo Nombre\")","v":""},null,null,null,null,null,null,{"$f":"IF(OR(H3096=\"NIT\",H3096=\"Fideicomiso/Fondo\",H3096=\"PJ No Residente\",H3096=\"\"),\"\",\"Primer Apellido\")","v":""},null,null,null,null,null,null,{"$f":"IF(OR(H3096=\"NIT\",H3096=\"Fideicomiso/Fondo\",H3096=\"PJ No Residente\",H3096=\"\"),\"\",\"Segundo Apellido\")","v":""},null,null,null,null,null,null,null,null,null,""]
[null,null,null,null,null,null,null,null,null,null,null,null,null,null,null,null,null,null,null,null,null,null,null,null,null,null,null,null,null,null,null,null,null,""]
[null,{"$f":"IF(OR(H3094=\"Socio o Accionista\",H3094=\"Controlante\"),\"Tipo de Participación\",IF(H3094=\"\",\"\",\"\"))","v":""},null,null,null,null,null,null,null,{"$f":"IF(B3116=\"Conjunta\",\"Tipo de Documento\",IF(B3116=\"\",\"\",\"\"))","v":""},null,null,null,null,null,null,{"$f":"IF(B3116=\"Conjunta\",\"N° de Documento\",IF(B3116=\"\",\"\",\"\"))","v":""},null,null,null,null,null,null,{"$f":"IF(B3116=\"Conjunta\",\"Parentesco\",IF(B3116=\"\",\"\",\"\"))","v":""},null,null,null,null,null,null,null,null,null,""]
[null,{"$f":"IF(H3096<>\"\",\"País de Expedición del NIT\",\"\")","v":""},null,null,null,null,null,null,null,null,null,null,null,null,null,null,{"$f":"IF(H3096<>\"\",\"N° de Identificación Tributario\",\"\")","v":""},null,null,null,null,null,null,null,null,null,null,null,null,null,null,null,null,""]
[null,null,null,null,null,null,null,null,null,null,null,null,null,null,null,null,null,null,null,null,null,null,null,null,null,null,null,null,null,null,null,null,null,""]
[null,{"$f":"IF(H3130<>\"\",\"N° de Documento\",\"\")","v":""},null,null,null,null,null,null,null,null,null,{"$f":"IF(H3130<>\"\",\"Fecha de Expedición\",\"\")","v":""},null,null,null,null,null,null,null,null,null,{"$f":"IF(H3130<>\"\",\"País de Expedición\",\"\")","v":""},null,null,null,null,null,null,null,null,null,null,null,""]
[null,{"$f":"IF(H3130<>\"\",\"Pais de Residencia\",\"\")","v":""},null,null,null,null,null,null,null,null,null,{"$f":"IF(H3130<>\"\",\"Departamento de Residencia\",\"\")","v":""},null,null,null,null,null,null,null,null,null,{"$f":"IF(H3130<>\"\",\"Ciudad de Residencia\",\"\")","v":""},null,null,null,null,null,null,null,null,null,null,null,""]
[null,null,null,null,null,null,null,null,null,null,null,null,null,null,null,null,null,null,null,null,null,null,null,null,null,null,null,null,null,null,null,null,null,""]
[null,null,null,null,null,null,null,null,null,null,null,null,null,null,null,null,null,null,null,null,null,null,null,null,null,null,null,null,null,null,null,null,null,""]
[null,{"$f":"IF(H3130<>\"\",\"2 -\",\"\")","v":""},null,null,null,null,null,null,null,null,null,null,null,null,null,null,{"$f":"IF(H3130<>\"\",\"2 -\",\"\")","v":""},null,null,null,null,null,null,null,null,null,null,null,null,null,null,null,null,""]
[46,"Tipo de Relación",null,null,null,null,null,null,null,null,null,null,null,null,null,null,null,null,null,null,null,null,null,null,null,null,null,null,null,null,null,null,null,""]
[null,{"$f":"IF(OR(H3162=\"Socio o Accionista\",H3162=\"Fideicomitente\",H3162=\"Inversionista\",H3162=\"Beneficiario de Activos/Rendimientos/Utilidades\"),\"Participación en %\",IF(H3162=\"\",\"\",\"\"))","v":""},null,null,null,null,null,{"$f":"IF(H3164<>\"\",\"¿Es Persona Expuesta Politicamente?\",\"\")","v":""},null,null,null,null,null,null,null,null,null,{"$f":"IF(OR(H3164=\"NIT\",H3164=\"Fideicomiso/Fondo\",H3164=\"PJ No Residente\"),\"¿Emite acciones al portador?\",IF(H3164=\"\",\"\",\"\"))","v":""},null,null,null,null,null,null,null,{"$f":"IF(OR(H3164=\"NIT\",H3164=\"Fideicomiso/Fondo\",H3164=\"PJ No Residente\"),\"\",IF(H3164=\"\",\"\",\"Género\"))","v":""},null,null,null,null,null,null,null,""]
[null,null,null,null,null,null,null,null,null,null,null,null,null,null,null,null,null,null,null,null,null,null,null,null,null,null,null,null,null,null,null,null,null,""]
[null,null,null,null,null,null,null,null,null,null,null,null,null,null,null,null,null,null,null,null,null,null,null,null,null,null,null,null,null,null,null,null,null,""]
[null,{"$f":"IF(H3164<>\"\",\"2 -\",\"\")","v":""},null,null,null,null,null,null,null,null,null,null,null,null,null,null,{"$f":"IF(H3164<>\"\",\"2 -\",\"\")","v":""},null,null,null,null,null,null,null,null,null,null,null,null,null,null,null,null,""]
[null,null,null,null,null,"Razón Social",null,null,null,null,null,null,null,null,null,null,null,null,null,null,null,null,null,null,null,null,null,null,null,null,null,null,null,""]
[null,null,null,null,null,null,null,null,null,null,null,null,null,null,null,null,null,null,null,null,null,null,null,null,null,null,null,null,null,null,null,null,null,""]
[null,{"$f":"IF(H3198<>\"\",\"Dirección de residencia\",\"\")","v":""},null,null,null,null,null,null,null,null,null,null,null,null,null,null,{"$f":"IF(H3198<>\"\",\"Correo electrónico\",\"\")","v":""},null,null,null,null,null,null,null,null,null,null,null,null,null,null,null,null,""]
[null,null,null,null,null,null,null,null,null,null,null,null,null,null,null,null,null,null,null,null,null,null,null,null,null,null,null,null,null,null,null,null,null,""]
[null,null,null,null,null,null,null,null,null,null,null,null,null,null,null,null,null,null,null,null,null,null,null,null,null,null,null,null,null,null,null,null,null,""]
[null,{"$f":"IF(H3198<>\"\",\"2 -\",\"\")","v":""},null,null,null,null,null,null,null,null,null,null,null,null,null,null,{"$f":"IF(H3198<>\"\",\"2 -\",\"\")","v":""},null,null,null,null,null,null,null,null,null,null,null,null,null,null,null,null,""]
[null,"Tipo de Documento",null,null,null,null,null,null,null,null,null,null,null,null,null,null,null,null,null,null,null,null,null,null,null,null,null,null,null,null,null,null,null,""]
[null,{"$f":"IF(OR(H3232=\"NIT\",H3232=\"Fideicomiso/Fondo\",H3232=\"PJ No Residente\",H3232=\"\"),\"\",\"Primer Nombre\")","v":""},null,null,null,null,null,null,null,{"$f":"IF(OR(H3232=\"NIT\",H3232=\"Fideicomiso/Fondo\",H3232=\"PJ No Residente\",H3232=\"\"),\"\",\"Segundo Nombre\")","v":""},null,null,null,null,null,null,{"$f":"IF(OR(H3232=\"NIT\",H3232=\"Fideicomiso/Fondo\",H3232=\"PJ No Residente\",H3232=\"\"),\"\",\"Primer Apellido\")","v":""},null,null,null,null,null,null,{"$f":"IF(OR(H3232=\"NIT\",H3232=\"Fideicomiso/Fondo\",H3232=\"PJ No Residente\",H3232=\"\"),\"\",\"Segundo Apellido\")","v":""},null,null,null,null,null,null,null,null,null,""]
[null,{"$f":"IF(H3232<>\"\",\"Dirección de residencia\",\"\")","v":""},null,null,null,null,null,null,null,null,null,null,null,null,null,null,{"$f":"IF(H3232<>\"\",\"Correo electrónico\",\"\")","v":""},null,null,null,null,null,null,null,null,null,null,null,null,null,null,null,null,""]
[null,null,null,null,null,null,null,null,null,null,null,null,null,null,null,null,null,null,null,null,null,null,null,null,null,null,null,null,null,null,null,null,null,""]
[null,null,null,null,null,null,null,null,null,null,null,null,null,null,null,null,null,null,null,null,null,null,null,null,null,null,null,null,null,null,null,null,null,""]
[null,null,null,null,null,"Razón Social",null,null,null,null,null,null,null,null,null,null,null,null,null,null,null,null,null,null,null,null,null,null,null,null,null,null,null,""]
[null,null,null,null,null,null,null,null,null,null,null,null,null,null,null,null,null,null,null,null,null,null,null,null,null,null,null,null,null,null,null,null,null,""]
[null,{"$f":"IF(OR(H3266=\"NIT\",H3266=\"Fideicomiso/Fondo\",H3266=\"PJ No Residente\"),\"\",IF(H3266=\"\",\"\",\"Fecha de Nacimiento\"))","v":""},null,null,null,null,null,null,null,null,null,{"$f":"IF(OR(H3266=\"NIT\",H3266=\"Fideicomiso/Fondo\",H3266=\"PJ No Residente\"),\"\",IF(H3266=\"\",\"\",\"País de nacimiento\"))","v":""},null,null,null,null,null,null,null,null,null,{"$f":"IF(OR(H3266=\"NIT\",H3266=\"Fideicomiso/Fondo\",H3266=\"PJ No Residente\"),\"\",IF(H3266=\"\",\"\",\"Nacionalidad\"))","v":""},null,null,null,null,null,null,null,null,null,null,null,""]
[null,null,null,null,null,null,null,null,null,null,null,null,null,null,null,null,null,null,null,null,null,null,null,null,null,null,null,null,null,null,null,null,null,""]
[null,{"$f":"IF(H3266<>\"\",\"1 -\",\"\")","v":""},null,null,null,null,null,null,null,null,null,null,null,null,null,null,{"$f":"IF(H3266<>\"\",\"1 -\",\"\")","v":""},null,null,null,null,null,null,null,null,null,null,null,null,null,null,null,null,{"$f":"IF($H$3230=\"\",\"\",\"1\")","v":""}]
[null,null,null,null,null,null,null,null,null,null,null,null,null,null,null,null,null,null,null,null,null,null,null,null,null,null,null,null,null,null,null,null,null,""]
[null,{"$f":"IF(OR(H3300=\"NIT\",H3300=\"Fideicomiso/Fondo\",H3300=\"PJ No Residente\",H3300=\"\"),\"\",\"Primer Nombre\")","v":""},null,null,null,null,null,null,null,{"$f":"IF(OR(H3300=\"NIT\",H3300=\"Fideicomiso/Fondo\",H3300=\"PJ No Residente\",H3300=\"\"),\"\",\"Segundo Nombre\")","v":""},null,null,null,null,null,null,{"$f":"IF(OR(H3300=\"NIT\",H3300=\"Fideicomiso/Fondo\",H3300=\"PJ No Residente\",H3300=\"\"),\"\",\"Primer Apellido\")","v":""},null,null,null,null,null,null,{"$f":"IF(OR(H3300=\"NIT\",H3300=\"Fideicomiso/Fondo\",H3300=\"PJ No Residente\",H3300=\"\"),\"\",\"Segundo Apellido\")","v":""},null,null,null,null,null,null,null,null,null,""]
[null,null,null,null,null,null,null,null,null,null,null,null,null,null,null,null,null,null,null,null,null,null,null,null,null,null,null,null,null,null,null,null,null,""]
[null,{"$f":"IF(H3300<>\"\",\"Dirección de residencia\",\"\")","v":""},null,null,null,null,null,null,null,null,null,null,null,null,null,null,{"$f":"IF(H3300<>\"\",\"Correo electrónico\",\"\")","v":""},null,null,null,null,null,null,null,null,null,null,null,null,null,null,null,null,""]
[null,null,null,null,null,null,null,null,null,null,null,null,null,null,null,null,null,null,null,null,null,null,null,null,null,null,null,null,null,null,null,null,null,""]
[null,{"$f":"IF(H3300<>\"\",\"1 -\",\"\")","v":""},null,null,null,null,null,null,null,null,null,null,null,null,null,null,{"$f":"IF(H3300<>\"\",\"1 -\",\"\")","v":""},null,null,null,null,null,null,null,null,null,null,null,null,null,null,null,null,""]
[null,null,null,null,null,null,null,null,null,null,null,null,null,null,null,null,null,null,null,null,null,null,null,null,null,null,null,null,null,null,null,null,null,""]
[null,null,null,null,null,null,null,null,null,null,null,null,null,null,null,null,null,null,null,null,null,null,null,null,null,null,null,null,null,null,null,null,null,""]
[null,{"$f":"IF(H3334<>\"\",\"Dirección de residencia\",\"\")","v":""},null,null,null,null,null,null,null,null,null,null,null,null,null,null,{"$f":"IF(H3334<>\"\",\"Correo electrónico\",\"\")","v":""},null,null,null,null,null,null,null,null,null,null,null,null,null,null,null,null,""]
[null,{"$f":"IF(OR(H3332=\"Socio o Accionista\",H3332=\"Controlante\"),\"Tipo de Participación\",IF(H3332=\"\",\"\",\"\"))","v":""},null,null,null,null,null,null,null,{"$f":"IF(B3354=\"Conjunta\",\"Tipo de Documento\",IF(B3354=\"\",\"\",\"\"))","v":""},null,null,null,null,null,null,{"$f":"IF(B3354=\"Conjunta\",\"N° de Documento\",IF(B3354=\"\",\"\",\"\"))","v":""},null,null,null,null,null,null,{"$f":"IF(B3354=\"Conjunta\",\"Parentesco\",IF(B3354=\"\",\"\",\"\"))","v":""},null,null,null,null,null,null,null,null,null,""]
[null,null,null,null,null,null,null,null,null,null,null,null,null,null,null,null,null,null,null,null,null,null,null,null,null,null,null,null,null,null,null,null,null,""]
[52,"Tipo de Relación",null,null,null,null,null,null,null,null,null,null,null,null,null,null,null,null,null,null,null,null,null,null,null,null,null,null,null,null,null,null,null,""]
[null,{"$f":"IF(OR(H3368=\"NIT\",H3368=\"Fideicomiso/Fondo\",H3368=\"PJ No Residente\",H3368=\"\"),\"\",\"Primer Nombre\")","v":""},null,null,null,null,null,null,null,{"$f":"IF(OR(H3368=\"NIT\",H3368=\"Fideicomiso/Fondo\",H3368=\"PJ No Residente\",H3368=\"\"),\"\",\"Segundo Nombre\")","v":""},null,null,null,null,null,null,{"$f":"IF(OR(H3368=\"NIT\",H3368=\"Fideicomiso/Fondo\",H3368=\"PJ No Residente\",H3368=\"\"),\"\",\"Primer Apellido\")","v":""},null,null,null,null,null,null,{"$f":"IF(OR(H3368=\"NIT\",H3368=\"Fideicomiso/Fondo\",H3368=\"PJ No Residente\",H3368=\"\"),\"\",\"Segundo Apellido\")","v":""},null,null,null,null,null,null,null,null,null,""]
[null,null,null,null,null,null,null,null,null,null,null,null,null,null,null,null,null,null,null,null,null,null,null,null,null,null,null,null,null,null,null,null,null,""]
[null,null,null,null,null,null,null,null,null,null,null,null,null,null,null,null,null,null,null,null,null,null,null,null,null,null,null,null,null,null,null,null,null,""]
[null,{"$f":"IF(H3368<>\"\",\"País de Expedición del NIT\",\"\")","v":""},null,null,null,null,null,null,null,null,null,null,null,null,null,null,{"$f":"IF(H3368<>\"\",\"N° de Identificación Tributario\",\"\")","v":""},null,null,null,null,null,null,null,null,null,null,null,null,null,null,null,null,""]
[53,"Tipo de Relación",null,null,null,null,null,null,null,null,null,null,null,null,null,null,null,null,null,null,null,null,null,null,null,null,null,null,null,null,null,null,null,""]
[null,{"$f":"IF(H3402<>\"\",\"N° de Documento\",\"\")","v":""},null,null,null,null,null,null,null,null,null,{"$f":"IF(H3402<>\"\",\"Fecha de Expedición\",\"\")","v":""},null,null,null,null,null,null,null,null,null,{"$f":"IF(H3402<>\"\",\"País de Expedición\",\"\")","v":""},null,null,null,null,null,null,null,null,null,null,null,""]
[null,{"$f":"IF(OR(H3402=\"NIT\",H3402=\"Fideicomiso/Fondo\",H3402=\"PJ No Residente\"),\"\",IF(H3402=\"\",\"\",\"Fecha de Nacimiento\"))","v":""},null,null,null,null,null,null,null,null,null,{"$f":"IF(OR(H3402=\"NIT\",H3402=\"Fideicomiso/Fondo\",H3402=\"PJ No Residente\"),\"\",IF(H3402=\"\",\"\",\"País de nacimiento\"))","v":""},null,null,null,null,null,null,null,null,null,{"$f":"IF(OR(H3402=\"NIT\",H3402=\"Fideicomiso/Fondo\",H3402=\"PJ No Residente\"),\"\",IF(H3402=\"\",\"\",\"Nacionalidad\"))","v":""},null,null,null,null,null,null,null,null,null,null,null,""]
[null,null,null,null,null,null,null,null,null,null,null,null,null,null,null,null,null,null,null,null,null,null,null,null,null,null,null,null,null,null,null,null,null,""]
[null,null,null,null,null,null,null,null,null,null,null,null,null,null,null,null,null,null,null,null,null,null,null,null,null,null,null,null,null,null,null,null,null,""]
[null,{"$f":"IF(H3402<>\"\",\"País de Expedición del NIT\",\"\")","v":""},null,null,null,null,null,null,null,null,null,null,null,null,null,null,{"$f":"IF(H3402<>\"\",\"N° de Identificación Tributario\",\"\")","v":""},null,null,null,null,null,null,null,null,null,null,null,null,null,null,null,null,""]
[54,"Tipo de Relación",null,null,null,null,null,null,null,null,null,null,null,null,null,null,null,null,null,null,null,null,null,null,null,null,null,null,null,null,null,null,null,""]
[null,{"$f":"IF(OR(H3434=\"Socio o Accionista\",H3434=\"Fideicomitente\",H3434=\"Inversionista\",H3434=\"Beneficiario de Activos/Rendimientos/Utilidades\"),\"Participación en %\",IF(H3434=\"\",\"\",\"\"))","v":""},null,null,null,null,null,{"$f":"IF(H3436<>\"\",\"¿Es Persona Expuesta Politicamente?\",\"\")","v":""},null,null,null,null,null,null,null,null,null,{"$f":"IF(OR(H3436=\"NIT\",H3436=\"Fideicomiso/Fondo\",H3436=\"PJ No Residente\"),\"¿Emite acciones al portador?\",IF(H3436=\"\",\"\",\"\"))","v":""},null,null,null,null,null,null,null,{"$f":"IF(OR(H3436=\"NIT\",H3436=\"Fideicomiso/Fondo\",H3436=\"PJ No Residente\"),\"\",IF(H3436=\"\",\"\",\"Género\"))","v":""},null,null,null,null,null,null,null,""]
[null,null,null,null,null,null,null,null,null,null,null,null,null,null,null,null,null,null,null,null,null,null,null,null,null,null,null,null,null,null,null,null,null,""]
[null,null,null,null,null,null,null,null,null,null,null,null,null,null,null,null,null,null,null,null,null,null,null,null,null,null,null,null,null,null,null,null,null,""]
[null,{"$f":"IF(H3436<>\"\",\"2 -\",\"\")","v":""},null,null,null,null,null,null,null,null,null,null,null,null,null,null,{"$f":"IF(H3436<>\"\",\"2 -\",\"\")","v":""},null,null,null,null,null,null,null,null,null,null,null,null,null,null,null,null,""]
[null,null,null,null,null,null,null,null,null,null,null,null,null,null,null,null,null,null,null,null,null,null,null,null,null,null,null,null,null,null,null,null,null,""]
[null,null,null,null,null,null,null,null,null,null,null,null,null,null,null,null,null,null,null,null,null,null,null,null,null,null,null,null,null,null,null,null,null,""]
[null,{"$f":"IF(H3470<>\"\",\"Pais de Residencia\",\"\")","v":""},null,null,null,null,null,null,null,null,null,{"$f":"IF(H3470<>\"\",\"Departamento de Residencia\",\"\")","v":""},null,null,null,null,null,null,null,null,null,{"$f":"IF(H3470<>\"\",\"Ciudad de Residencia\",\"\")","v":""},null,null,null,null,null,null,null,null,null,null,null,""]
[null,null,null,null,null,null,null,null,null,null,null,null,null,null,null,null,null,null,null,null,null,null,null,null,null,null,null,null,null,null,null,null,null,""]
[null,null,null,null,null,null,null,null,null,null,null,null,null,null,null,null,null,null,null,null,null,null,null,null,null,null,null,null,null,null,null,null,null,""]
[null,null,null,null,null,"Razón Social",null,null,null,null,null,null,null,null,null,null,null,null,null,null,null,null,null,null,null,null,null,null,null,null,null,null,null,""]
[null,"Tipo de Documento",null,null,null,null,null,null,null,null,null,null,null,null,null,null,null,null,null,null,null,null,null,null,null,null,null,null,null,null,null,null,null,""]
[null,null,null,null,null,null,null,null,null,null,null,null,null,null,null,null,null,null,null,null,null,null,null,null,null,null,null,null,null,null,null,null,null,""]
[null,{"$f":"IF(H3504<>\"\",\"Pais de Residencia\",\"\")","v":""},null,null,null,null,null,null,null,null,null,{"$f":"IF(H3504<>\"\",\"Departamento de Residencia\",\"\")","v":""},null,null,null,null,null,null,null,null,null,{"$f":"IF(H3504<>\"\",\"Ciudad de Residencia\",\"\")","v":""},null,null,null,null,null,null,null,null,null,null,null,""]
[null,null,null,null,null,null,null,null,null,null,null,null,null,null,null,null,null,null,null,null,null,null,null,null,null,null,null,null,null,null,null,null,null,""]
["N2","Informe a cual de las Personas Jurídicas indicadas antes pertenece este relacionado",null,null,null,"Tipo de Documento",null,null,null,null,{"$f":"VLOOKUP(K3535,Hoja2!$A$485:$D$709,3,0)","v":{"$error":"#N/A"}},null,null,null,null,null,null,null,"Número de Documento",null,null,null,null,{"$f":"VLOOKUP(K3535,Hoja2!$A$485:$D$709,4,0)","v":{"$error":"#N/A"}},null,null,null,null,null,null,null,null,null,""]
[null,null,null,null,null,"Razón Social",null,null,null,null,null,null,null,null,null,null,null,null,null,null,null,null,null,null,null,null,null,null,null,null,null,null,null,""]
[null,null,null,null,null,null,null,null,null,null,null,null,null,null,null,null,null,null,null,null,null,null,null,null,null,null,null,null,null,null,null,null,null,""]
[null,{"$f":"IF(H3538<>\"\",\"Dirección de residencia\",\"\")","v":""},null,null,null,null,null,null,null,null,null,null,null,null,null,null,{"$f":"IF(H3538<>\"\",\"Correo electrónico\",\"\")","v":""},null,null,null,null,null,null,null,null,null,null,null,null,null,null,null,null,""]
[null,null,null,null,null,null,null,null,null,null,null,null,null,null,null,null,null,null,null,null,null,null,null,null,null,null,null,null,null,null,null,null,null,""]
[null,null,null,null,null,null,null,null,null,null,null,null,null,null,null,null,null,null,null,null,null,null,null,null,null,null,null,null,null,null,null,null,null,""]
[null,{"$f":"IF(H3538<>\"\",\"2 -\",\"\")","v":""},null,null,null,null,null,null,null,null,null,null,null,null,null,null,{"$f":"IF(H3538<>\"\",\"2 -\",\"\")","v":""},null,null,null,null,null,null,null,null,null,null,null,null,null,null,null,null,""]
[null,null,null,null,null,null,null,null,null,null,null,null,null,null,null,null,null,null,null,null,null,null,null,null,null,null,null,null,null,null,null,null,null,""]
[null,null,null,null,null,null,null,null,null,null,null,null,null,null,null,null,null,null,null,null,null,null,null,null,null,null,null,null,null,null,null,null,null,""]
[null,{"$f":"IF(H3572<>\"\",\"Dirección de residencia\",\"\")","v":""},null,null,null,null,null,null,null,null,null,null,null,null,null,null,{"$f":"IF(H3572<>\"\",\"Correo electrónico\",\"\")","v":""},null,null,null,null,null,null,null,null,null,null,null,null,null,null,null,null,""]
[null,null,null,null,null,null,null,null,null,null,null,null,null,null,null,null,null,null,null,null,null,null,null,null,null,null,null,null,null,null,null,null,null,""]
[null,null,null,null,null,null,null,null,null,null,null,null,null,null,null,null,null,null,null,null,null,null,null,null,null,null,null,null,null,null,null,null,null,""]
[null,null,null,null,null,null,null,null,null,null,null,null,null,null,null,null,null,null,null,null,null,null,null,null,null,null,null,null,null,null,null,null,null,""]
[null,null,null,null,null,null,null,null,null,null,null,null,null,null,null,null,null,null,null,null,null,null,null,null,null,null,null,null,null,null,null,null,null,""]
[null,null,null,null,null,null,null,null,null,null,null,null,null,null,null,null,null,null,null,null,null,null,null,null,null,null,null,null,null,null,null,null,null,""]
[null,{"$f":"IF(OR(H3604=\"Socio o Accionista\",H3604=\"Controlante\"),\"Tipo de Participación\",IF(H3604=\"\",\"\",\"\"))","v":""},null,null,null,null,null,null,null,{"$f":"IF(B3626=\"Conjunta\",\"Tipo de Documento\",IF(B3626=\"\",\"\",\"\"))","v":""},null,null,null,null,null,null,{"$f":"IF(B3626=\"Conjunta\",\"N° de Documento\",IF(B3626=\"\",\"\",\"\"))","v":""},null,null,null,null,null,null,{"$f":"IF(B3626=\"Conjunta\",\"Parentesco\",IF(B3626=\"\",\"\",\"\"))","v":""},null,null,null,null,null,null,null,null,null,""]
[null,{"$f":"IF(H3606<>\"\",\"1 -\",\"\")","v":""},null,null,null,null,null,null,null,null,null,null,null,null,null,null,{"$f":"IF(H3606<>\"\",\"1 -\",\"\")","v":""},null,null,null,null,null,null,null,null,null,null,null,null,null,null,null,null,{"$f":"IF($H$3570=\"\",\"\",\"1\")","v":""}]
[null,null,null,null,null,null,null,null,null,null,null,null,null,null,null,null,null,null,null,null,null,null,null,null,null,null,null,null,null,null,null,null,null,""]
[null,{"$f":"IF(OR(H3640=\"NIT\",H3640=\"Fideicomiso/Fondo\",H3640=\"PJ No Residente\"),\"Razón Social\",\"\")","v":""},null,null,null,null,null,null,null,null,null,null,null,null,null,null,null,null,null,null,null,null,null,null,null,null,null,null,null,null,null,null,null,""]
[null,null,null,null,null,null,null,null,null,null,null,null,null,null,null,null,null,null,null,null,null,null,null,null,null,null,null,null,null,null,null,null,null,""]
[null,null,null,null,null,null,null,null,null,null,null,null,null,null,null,null,null,null,null,null,null,null,null,null,null,null,null,null,null,null,null,null,null,""]
[null,null,null,null,null,null,null,null,null,null,null,null,null,null,null,null,null,null,null,null,null,null,null,null,null,null,null,null,null,null,null,null,null,""]
[null,{"$f":"IF(H3640<>\"\",\"1 -\",\"\")","v":""},null,null,null,null,null,null,null,null,null,null,null,null,null,null,{"$f":"IF(H3640<>\"\",\"1 -\",\"\")","v":""},null,null,null,null,null,null,null,null,null,null,null,null,null,null,null,null,""]
[null,{"$f":"IF(H3674<>\"\",\"N° de Documento\",\"\")","v":""},null,null,null,null,null,null,null,null,null,{"$f":"IF(H3674<>\"\",\"Fecha de Expedición\",\"\")","v":""},null,null,null,null,null,null,null,null,null,{"$f":"IF(H3674<>\"\",\"País de Expedición\",\"\")","v":""},null,null,null,null,null,null,null,null,null,null,null,""]
[null,{"$f":"IF(OR(H3672=\"Socio o Accionista\",H3672=\"Fideicomitente\",H3672=\"Inversionista\",H3672=\"Beneficiario de Activos/Rendimientos/Utilidades\"),\"Participación en %\",IF(H3672=\"\",\"\",\"\"))","v":""},null,null,null,null,null,{"$f":"IF(H3674<>\"\",\"¿Es Persona Expuesta Politicamente?\",\"\")","v":""},null,null,null,null,null,null,null,null,null,{"$f":"IF(OR(H3674=\"NIT\",H3674=\"Fideicomiso/Fondo\",H3674=\"PJ No Residente\"),\"¿Emite acciones al portador?\",IF(H3674=\"\",\"\",\"\"))","v":""},null,null,null,null,null,null,null,{"$f":"IF(OR(H3674=\"NIT\",H3674=\"Fideicomiso/Fondo\",H3674=\"PJ No Residente\"),\"\",IF(H3674=\"\",\"\",\"Género\"))","v":""},null,null,null,null,null,null,null,""]
[null,null,null,null,null,null,null,null,null,null,null,null,null,null,null,null,null,null,null,null,null,null,null,null,null,null,null,null,null,null,null,null,null,""]
[null,{"$f":"IF(OR(H3672=\"Socio o Accionista\",H3672=\"Controlante\"),\"Tipo de Participación\",IF(H3672=\"\",\"\",\"\"))","v":""},null,null,null,null,null,null,null,{"$f":"IF(B3694=\"Conjunta\",\"Tipo de Documento\",IF(B3694=\"\",\"\",\"\"))","v":""},null,null,null,null,null,null,{"$f":"IF(B3694=\"Conjunta\",\"N° de Documento\",IF(B3694=\"\",\"\",\"\"))","v":""},null,null,null,null,null,null,{"$f":"IF(B3694=\"Conjunta\",\"Parentesco\",IF(B3694=\"\",\"\",\"\"))","v":""},null,null,null,null,null,null,null,null,null,""]
[null,{"$f":"IF(H3674<>\"\",\"1 -\",\"\")","v":""},null,null,null,null,null,null,null,null,null,null,null,null,null,null,{"$f":"IF(H3674<>\"\",\"1 -\",\"\")","v":""},null,null,null,null,null,null,null,null,null,null,null,null,null,null,null,null,{"$f":"IF($H$3638=\"\",\"\",\"1\")","v":""}]
[62,"Tipo de Relación",null,null,null,null,null,null,null,null,null,null,null,null,null,null,null,null,null,null,null,null,null,null,null,null,null,null,null,null,null,null,null,""]
[null,{"$f":"IF(OR(H3708=\"NIT\",H3708=\"Fideicomiso/Fondo\",H3708=\"PJ No Residente\",H3708=\"\"),\"\",\"Primer Nombre\")","v":""},null,null,null,null,null,null,null,{"$f":"IF(OR(H3708=\"NIT\",H3708=\"Fideicomiso/Fondo\",H3708=\"PJ No Residente\",H3708=\"\"),\"\",\"Segundo Nombre\")","v":""},null,null,null,null,null,null,{"$f":"IF(OR(H3708=\"NIT\",H3708=\"Fideicomiso/Fondo\",H3708=\"PJ No Residente\",H3708=\"\"),\"\",\"Primer Apellido\")","v":""},null,null,null,null,null,null,{"$f":"IF(OR(H3708=\"NIT\",H3708=\"Fideicomiso/Fondo\",H3708=\"PJ No Residente\",H3708=\"\"),\"\",\"Segundo Apellido\")","v":""},null,null,null,null,null,null,null,null,null,""]
[null,{"$f":"IF(H3708<>\"\",\"Pais de Residencia\",\"\")","v":""},null,null,null,null,null,null,null,null,null,{"$f":"IF(H3708<>\"\",\"Departamento de Residencia\",\"\")","v":""},null,null,null,null,null,null,null,null,null,{"$f":"IF(H3708<>\"\",\"Ciudad de Residencia\",\"\")","v":""},null,null,null,null,null,null,null,null,null,null,null,""]
[null,{"$f":"IF(OR(H3706=\"Socio o Accionista\",H3706=\"Controlante\"),\"Tipo de Participación\",IF(H3706=\"\",\"\",\"\"))","v":""},null,null,null,null,null,null,null,{"$f":"IF(B3725=\"Conjunta\",\"Tipo de Documento\",IF(B3725=\"\",\"\",\"\"))","v":""},null,null,null,null,null,null,{"$f":"IF(B3725=\"Conjunta\",\"N° de Documento\",IF(B3725=\"\",\"\",\"\"))","v":""},null,null,null,null,null,null,{"$f":"IF(B3725=\"Conjunta\",\"Parentesco\",IF(B3725=\"\",\"\",\"\"))","v":""},null,null,null,null,null,null,null,null,null,""]
[null,{"$f":"IF(H3708<>\"\",\"País de Expedición del NIT\",\"\")","v":""},null,null,null,null,null,null,null,null,null,null,null,null,null,null,{"$f":"IF(H3708<>\"\",\"N° de Identificación Tributario\",\"\")","v":""},null,null,null,null,null,null,null,null,null,null,null,null,null,null,null,null,""]
[null,null,null,null,null,null,null,null,null,null,null,null,null,null,null,null,null,null,null,null,null,null,null,null,null,null,null,null,null,null,null,null,null,""]
[null,"Tipo de Documento",null,null,null,null,null,null,null,null,null,null,null,null,null,null,null,null,null,null,null,null,null,null,null,null,null,null,null,null,null,null,null,""]
[null,{"$f":"IF(H3742<>\"\",\"Pais de Residencia\",\"\")","v":""},null,null,null,null,null,null,null,null,null,{"$f":"IF(H3742<>\"\",\"Departamento de Residencia\",\"\")","v":""},null,null,null,null,null,null,null,null,null,{"$f":"IF(H3742<>\"\",\"Ciudad de Residencia\",\"\")","v":""},null,null,null,null,null,null,null,null,null,null,null,""]
[null,null,null,null,null,null,null,null,null,null,null,null,null,null,null,null,null,null,null,null,null,null,null,null,null,null,null,null,null,null,null,null,null,""]
[null,{"$f":"IF(OR(H3740=\"Socio o Accionista\",H3740=\"Controlante\"),\"Tipo de Participación\",IF(H3740=\"\",\"\",\"\"))","v":""},null,null,null,null,null,null,null,{"$f":"IF(B3762=\"Conjunta\",\"Tipo de Documento\",IF(B3762=\"\",\"\",\"\"))","v":""},null,null,null,null,null,null,{"$f":"IF(B3762=\"Conjunta\",\"N° de Documento\",IF(B3762=\"\",\"\",\"\"))","v":""},null,null,null,null,null,null,{"$f":"IF(B3762=\"Conjunta\",\"Parentesco\",IF(B3762=\"\",\"\",\"\"))","v":""},null,null,null,null,null,null,null,null,null,""]
[null,{"$f":"IF(H3742<>\"\",\"País de Expedición del NIT\",\"\")","v":""},null,null,null,null,null,null,null,null,null,null,null,null,null,null,{"$f":"IF(H3742<>\"\",\"N° de Identificación Tributario\",\"\")","v":""},null,null,null,null,null,null,null,null,null,null,null,null,null,null,null,null,""]
[64,"Tipo de Relación",null,null,null,null,null,null,null,null,null,null,null,null,null,null,null,null,null,null,null,null,null,null,null,null,null,null,null,null,null,null,null,""]
[null,null,null,null,null,null,null,null,null,null,null,null,null,null,null,null,null,null,null,null,null,null,null,null,null,null,null,null,null,null,null,null,null,""]
[null,{"$f":"IF(H3776<>\"\",\"Pais de Residencia\",\"\")","v":""},null,null,null,null,null,null,null,null,null,{"$f":"IF(H3776<>\"\",\"Departamento de Residencia\",\"\")","v":""},null,null,null,null,null,null,null,null,null,{"$f":"IF(H3776<>\"\",\"Ciudad de Residencia\",\"\")","v":""},null,null,null,null,null,null,null,null,null,null,null,""]
[null,null,null,null,null,null,null,null,null,null,null,null,null,null,null,null,null,null,null,null,null,null,null,null,null,null,null,null,null,null,null,null,null,""]
[null,{"$f":"IF(H3776<>\"\",\"2 -\",\"\")","v":""},null,null,null,null,null,null,null,null,null,null,null,null,null,null,{"$f":"IF(H3776<>\"\",\"2 -\",\"\")","v":""},null,null,null,null,null,null,null,null,null,null,null,null,null,null,null,null,""]
[null,null,null,null,null,null,null,null,null,null,null,null,null,null,null,null,null,null,null,null,null,null,null,null,null,null,null,null,null,null,null,null,null,""]
[null,null,null,null,null,null,null,null,null,null,null,null,null,null,null,null,null,null,null,null,null,null,null,null,null,null,null,null,null,null,null,null,null,""]
[null,{"$f":"IF(OR(H3808=\"Socio o Accionista\",H3808=\"Fideicomitente\",H3808=\"Inversionista\",H3808=\"Beneficiario de Activos/Rendimientos/Utilidades\"),\"Participación en %\",IF(H3808=\"\",\"\",\"\"))","v":""},null,null,null,null,null,{"$f":"IF(H3810<>\"\",\"¿Es Persona Expuesta Politicamente?\",\"\")","v":""},null,null,null,null,null,null,null,null,null,{"$f":"IF(OR(H3810=\"NIT\",H3810=\"Fideicomiso/Fondo\",H3810=\"PJ No Residente\"),\"¿Emite acciones al portador?\",IF(H3810=\"\",\"\",\"\"))","v":""},null,null,null,null,null,null,null,{"$f":"IF(OR(H3810=\"NIT\",H3810=\"Fideicomiso/Fondo\",H3810=\"PJ No Residente\"),\"\",IF(H3810=\"\",\"\",\"Género\"))","v":""},null,null,null,null,null,null,null,""]
[null,{"$f":"IF(OR(H3808=\"Socio o Accionista\",H3808=\"Controlante\"),\"Tipo de Participación\",IF(H3808=\"\",\"\",\"\"))","v":""},null,null,null,null,null,null,null,{"$f":"IF(B3830=\"Conjunta\",\"Tipo de Documento\",IF(B3830=\"\",\"\",\"\"))","v":""},null,null,null,null,null,null,{"$f":"IF(B3830=\"Conjunta\",\"N° de Documento\",IF(B3830=\"\",\"\",\"\"))","v":""},null,null,null,null,null,null,{"$f":"IF(B3830=\"Conjunta\",\"Parentesco\",IF(B3830=\"\",\"\",\"\"))","v":""},null,null,null,null,null,null,null,null,null,""]
[null,null,null,null,null,null,null,null,null,null,null,null,null,null,null,null,null,null,null,null,null,null,null,null,null,null,null,null,null,null,null,null,null,""]
[null,{"$f":"IF(H3810<>\"\",\"2 -\",\"\")","v":""},null,null,null,null,null,null,null,null,null,null,null,null,null,null,{"$f":"IF(H3810<>\"\",\"2 -\",\"\")","v":""},null,null,null,null,null,null,null,null,null,null,null,null,null,null,null,null,""]
[null,null,null,null,null,null,null,null,null,null,null,null,null,null,null,null,null,null,null,null,null,null,null,null,null,null,null,null,null,null,null,null,null,""]
[null,null,null,null,null,null,null,null,null,null,null,null,null,null,null,null,null,null,null,null,null,null,null,null,null,null,null,null,null,null,null,null,null,""]
[null,{"$f":"IF(H3844<>\"\",\"Pais de Residencia\",\"\")","v":""},null,null,null,null,null,null,null,null,null,{"$f":"IF(H3844<>\"\",\"Departamento de Residencia\",\"\")","v":""},null,null,null,null,null,null,null,null,null,{"$f":"IF(H3844<>\"\",\"Ciudad de Residencia\",\"\")","v":""},null,null,null,null,null,null,null,null,null,null,null,""]
[null,null,null,null,null,null,null,null,null,null,null,null,null,null,null,null,null,null,null,null,null,null,null,null,null,null,null,null,null,null,null,null,null,""]
[null,null,null,null,null,null,null,null,null,null,null,null,null,null,null,null,null,null,null,null,null,null,null,null,null,null,null,null,null,null,null,null,null,""]
[null,null,null,null,null,"Razón Social",null,null,null,null,null,null,null,null,null,null,null,null,null,null,null,null,null,null,null,null,null,null,null,null,null,null,null,""]
[null,null,null,null,null,null,null,null,null,null,null,null,null,null,null,null,null,null,null,null,null,null,null,null,null,null,null,null,null,null,null,null,null,""]
[null,null,null,null,null,null,null,null,null,null,null,null,null,null,null,null,null,null,null,null,null,null,null,null,null,null,null,null,null,null,null,null,null,""]
[null,null,null,null,null,null,null,null,null,null,null,null,null,null,null,null,null,null,null,null,null,null,null,null,null,null,null,null,null,null,null,null,null,""]
[null,{"$f":"IF(H3878<>\"\",\"1 -\",\"\")","v":""},null,null,null,null,null,null,null,null,null,null,null,null,null,null,{"$f":"IF(H3878<>\"\",\"1 -\",\"\")","v":""},null,null,null,null,null,null,null,null,null,null,null,null,null,null,null,null,{"$f":"IF($H$3842=\"\",\"\",\"1\")","v":""}]
[null,null,null,null,null,"Razón Social",null,null,null,null,null,null,null,null,null,null,null,null,null,null,null,null,null,null,null,null,null,null,null,null,null,null,null,""]
[null,{"$f":"IF(OR(H3912=\"NIT\",H3912=\"Fideicomiso/Fondo\",H3912=\"PJ No Residente\"),\"Razón Social\",\"\")","v":""},null,null,null,null,null,null,null,null,null,null,null,null,null,null,null,null,null,null,null,null,null,null,null,null,null,null,null,null,null,null,null,""]
[null,null,null,null,null,null,null,null,null,null,null,null,null,null,null,null,null,null,null,null,null,null,null,null,null,null,null,null,null,null,null,null,null,""]
[null,{"$f":"IF(H3912<>\"\",\"Dirección de residencia\",\"\")","v":""},null,null,null,null,null,null,null,null,null,null,null,null,null,null,{"$f":"IF(H3912<>\"\",\"Correo electrónico\",\"\")","v":""},null,null,null,null,null,null,null,null,null,null,null,null,null,null,null,null,""]
[null,null,null,null,null,null,null,null,null,null,null,null,null,null,null,null,null,null,null,null,null,null,null,null,null,null,null,null,null,null,null,null,null,""]
[null,{"$f":"IF(H3912<>\"\",\"1 -\",\"\")","v":""},null,null,null,null,null,null,null,null,null,null,null,null,null,null,{"$f":"IF(H3912<>\"\",\"1 -\",\"\")","v":""},null,null,null,null,null,null,null,null,null,null,null,null,null,null,null,null,""]
[null,null,null,null,null,null,null,null,null,null,null,null,null,null,null,null,null,null,null,null,null,null,null,null,null,null,null,null,null,null,null,null,null,""]
[null,null,null,null,null,null,null,null,null,null,null,null,null,null,null,null,null,null,null,null,null,null,null,null,null,null,null,null,null,null,null,null,null,""]
[null,null,null,null,null,null,null,null,null,null,null,null,null,null,null,null,null,null,null,null,null,null,null,null,null,null,null,null,null,null,null,null,null,""]
[null,{"$f":"IF(OR(H3944=\"Socio o Accionista\",H3944=\"Controlante\"),\"Tipo de Participación\",IF(H3944=\"\",\"\",\"\"))","v":""},null,null,null,null,null,null,null,{"$f":"IF(B3966=\"Conjunta\",\"Tipo de Documento\",IF(B3966=\"\",\"\",\"\"))","v":""},null,null,null,null,null,null,{"$f":"IF(B3966=\"Conjunta\",\"N° de Documento\",IF(B3966=\"\",\"\",\"\"))","v":""},null,null,null,null,null,null,{"$f":"IF(B3966=\"Conjunta\",\"Parentesco\",IF(B3966=\"\",\"\",\"\"))","v":""},null,null,null,null,null,null,null,null,null,""]
[null,{"$f":"IF(H3946<>\"\",\"2 -\",\"\")","v":""},null,null,null,null,null,null,null,null,null,null,null,null,null,null,{"$f":"IF(H3946<>\"\",\"2 -\",\"\")","v":""},null,null,null,null,null,null,null,null,null,null,null,null,null,null,null,null,""]
[null,null,null,null,null,null,null,null,null,null,null,null,null,null,null,null,null,null,null,null,null,null,null,null,null,null,null,null,null,null,null,null,null,{"$f":"IF($H$3978=\"\",\"\",\"1\")","v":""}]
[null,{"$f":"IF(OR(H3980=\"NIT\",H3980=\"Fideicomiso/Fondo\",H3980=\"PJ No Residente\",H3980=\"\"),\"\",\"Primer Nombre\")","v":""},null,null,null,null,null,null,null,{"$f":"IF(OR(H3980=\"NIT\",H3980=\"Fideicomiso/Fondo\",H3980=\"PJ No Residente\",H3980=\"\"),\"\",\"Segundo Nombre\")","v":""},null,null,null,null,null,null,{"$f":"IF(OR(H3980=\"NIT\",H3980=\"Fideicomiso/Fondo\",H3980=\"PJ No Residente\",H3980=\"\"),\"\",\"Primer Apellido\")","v":""},null,null,null,null,null,null,{"$f":"IF(OR(H3980=\"NIT\",H3980=\"Fideicomiso/Fondo\",H3980=\"PJ No Residente\",H3980=\"\"),\"\",\"Segundo Apellido\")","v":""},null,null,null,null,null,null,null,null,null,""]
[null,null,null,null,null,null,null,null,null,null,null,null,null,null,null,null,null,null,null,null,null,null,null,null,null,null,null,null,null,null,null,null,null,""]
[null,{"$f":"IF(OR(H3978=\"Socio o Accionista\",H3978=\"Controlante\"),\"Tipo de Participación\",IF(H3978=\"\",\"\",\"\"))","v":""},null,null,null,null,null,null,null,{"$f":"IF(B3997=\"Conjunta\",\"Tipo de Documento\",IF(B3997=\"\",\"\",\"\"))","v":""},null,null,null,null,null,null,{"$f":"IF(B3997=\"Conjunta\",\"N° de Documento\",IF(B3997=\"\",\"\",\"\"))","v":""},null,null,null,null,null,null,{"$f":"IF(B3997=\"Conjunta\",\"Parentesco\",IF(B3997=\"\",\"\",\"\"))","v":""},null,null,null,null,null,null,null,null,null,""]
[null,{"$f":"IF(H3980<>\"\",\"País de Expedición del NIT\",\"\")","v":""},null,null,null,null,null,null,null,null,null,null,null,null,null,null,{"$f":"IF(H3980<>\"\",\"N° de Identificación Tributario\",\"\")","v":""},null,null,null,null,null,null,null,null,null,null,null,null,null,null,null,null,""]
[null,{"$f":"IF(H3980<>\"\",\"1 -\",\"\")","v":""},null,null,null,null,null,null,null,null,null,null,null,null,null,null,{"$f":"IF(H3980<>\"\",\"1 -\",\"\")","v":""},null,null,null,null,null,null,null,null,null,null,null,null,null,null,null,null,""]
[null,{"$f":"IF(H4014<>\"\",\"N° de Documento\",\"\")","v":""},null,null,null,null,null,null,null,null,null,{"$f":"IF(H4014<>\"\",\"Fecha de Expedición\",\"\")","v":""},null,null,null,null,null,null,null,null,null,{"$f":"IF(H4014<>\"\",\"País de Expedición\",\"\")","v":""},null,null,null,null,null,null,null,null,null,null,null,""]
[null,{"$f":"IF(OR(H4014=\"NIT\",H4014=\"Fideicomiso/Fondo\",H4014=\"PJ No Residente\",H4014=\"\"),\"\",\"Primer Nombre\")","v":""},null,null,null,null,null,null,null,{"$f":"IF(OR(H4014=\"NIT\",H4014=\"Fideicomiso/Fondo\",H4014=\"PJ No Residente\",H4014=\"\"),\"\",\"Segundo Nombre\")","v":""},null,null,null,null,null,null,{"$f":"IF(OR(H4014=\"NIT\",H4014=\"Fideicomiso/Fondo\",H4014=\"PJ No Residente\",H4014=\"\"),\"\",\"Primer Apellido\")","v":""},null,null,null,null,null,null,{"$f":"IF(OR(H4014=\"NIT\",H4014=\"Fideicomiso/Fondo\",H4014=\"PJ No Residente\",H4014=\"\"),\"\",\"Segundo Apellido\")","v":""},null,null,null,null,null,null,null,null,null,""]
[null,null,null,null,null,null,null,null,null,null,null,null,null,null,null,null,null,null,null,null,null,null,null,null,null,null,null,null,null,null,null,null,null,""]
[null,null,null,null,null,null,null,null,null,null,null,null,null,null,null,null,null,null,null,null,null,null,null,null,null,null,null,null,null,null,null,null,null,""]
["N2","Informe a cual de las Personas Jurídicas indicadas antes pertenece este relacionado",null,null,null,"Tipo de Documento",null,null,null,null,{"$f":"VLOOKUP(K4045,Hoja2!$A$485:$D$709,3,0)","v":{"$error":"#N/A"}},null,null,null,null,null,null,null,"Número de Documento",null,null,null,null,{"$f":"VLOOKUP(K4045,Hoja2!$A$485:$D$709,4,0)","v":{"$error":"#N/A"}},null,null,null,null,null,null,null,null,null,{"$f":"IF($H$4046=\"\",\"\",\"1\")","v":""}]
[72,"Tipo de Relación",null,null,null,null,null,null,null,null,null,null,null,null,null,null,null,null,null,null,null,null,null,null,null,null,null,null,null,null,null,null,null,""]
[null,{"$f":"IF(OR(H4046=\"Socio o Accionista\",H4046=\"Fideicomitente\",H4046=\"Inversionista\",H4046=\"Beneficiario de Activos/Rendimientos/Utilidades\"),\"Participación en %\",IF(H4046=\"\",\"\",\"\"))","v":""},null,null,null,null,null,{"$f":"IF(H4048<>\"\",\"¿Es Persona Expuesta Politicamente?\",\"\")","v":""},null,null,null,null,null,null,null,null,null,{"$f":"IF(OR(H4048=\"NIT\",H4048=\"Fideicomiso/Fondo\",H4048=\"PJ No Residente\"),\"¿Emite acciones al portador?\",IF(H4048=\"\",\"\",\"\"))","v":""},null,null,null,null,null,null,null,{"$f":"IF(OR(H4048=\"NIT\",H4048=\"Fideicomiso/Fondo\",H4048=\"PJ No Residente\"),\"\",IF(H4048=\"\",\"\",\"Género\"))","v":""},null,null,null,null,null,null,null,""]
[null,{"$f":"IF(OR(H4048=\"NIT\",H4048=\"Fideicomiso/Fondo\",H4048=\"PJ No Residente\"),\"\",IF(H4048=\"\",\"\",\"Fecha de Nacimiento\"))","v":""},null,null,null,null,null,null,null,null,null,{"$f":"IF(OR(H4048=\"NIT\",H4048=\"Fideicomiso/Fondo\",H4048=\"PJ No Residente\"),\"\",IF(H4048=\"\",\"\",\"País de nacimiento\"))","v":""},null,null,null,null,null,null,null,null,null,{"$f":"IF(OR(H4048=\"NIT\",H4048=\"Fideicomiso/Fondo\",H4048=\"PJ No Residente\"),\"\",IF(H4048=\"\",\"\",\"Nacionalidad\"))","v":""},null,null,null,null,null,null,null,null,null,null,null,""]
[null,null,null,null,null,null,null,null,null,null,null,null,null,null,null,null,null,null,null,null,null,null,null,null,null,null,null,null,null,null,null,null,null,""]
[null,{"$f":"IF(H4048<>\"\",\"País de Expedición del NIT\",\"\")","v":""},null,null,null,null,null,null,null,null,null,null,null,null,null,null,{"$f":"IF(H4048<>\"\",\"N° de Identificación Tributario\",\"\")","v":""},null,null,null,null,null,null,null,null,null,null,null,null,null,null,null,null,""]
[null,null,null,null,null,null,null,null,null,null,null,null,null,null,null,null,null,null,null,null,null,null,null,null,null,null,null,null,null,null,null,null,null,""]
[null,null,null,null,null,null,null,null,null,null,null,null,null,null,null,null,null,null,null,null,null,null,null,null,null,null,null,null,null,null,null,null,null,""]
[null,{"$f":"IF(H4082<>\"\",\"Pais de Residencia\",\"\")","v":""},null,null,null,null,null,null,null,null,null,{"$f":"IF(H4082<>\"\",\"Departamento de Residencia\",\"\")","v":""},null,null,null,null,null,null,null,null,null,{"$f":"IF(H4082<>\"\",\"Ciudad de Residencia\",\"\")","v":""},null,null,null,null,null,null,null,null,null,null,null,""]
[null,{"$f":"IF(H4082<>\"\",\"Dirección de residencia\",\"\")","v":""},null,null,null,null,null,null,null,null,null,null,null,null,null,null,{"$f":"IF(H4082<>\"\",\"Correo electrónico\",\"\")","v":""},null,null,null,null,null,null,null,null,null,null,null,null,null,null,null,null,""]
[null,null,null,null,null,null,null,null,null,null,null,null,null,null,null,null,null,null,null,null,null,null,null,null,null,null,null,null,null,null,null,null,null,""]
[null,{"$f":"IF(H4082<>\"\",\"País de Expedición del NIT\",\"\")","v":""},null,null,null,null,null,null,null,null,null,null,null,null,null,null,{"$f":"IF(H4082<>\"\",\"N° de Identificación Tributario\",\"\")","v":""},null,null,null,null,null,null,null,null,null,null,null,null,null,null,null,null,""]
[null,"Tipo de Documento",null,null,null,null,null,null,null,null,null,null,null,null,null,null,null,null,null,null,null,null,null,null,null,null,null,null,null,null,null,null,null,""]
[null,{"$f":"IF(OR(H4116=\"NIT\",H4116=\"Fideicomiso/Fondo\",H4116=\"PJ No Residente\"),\"\",IF(H4116=\"\",\"\",\"Fecha de Nacimiento\"))","v":""},null,null,null,null,null,null,null,null,null,{"$f":"IF(OR(H4116=\"NIT\",H4116=\"Fideicomiso/Fondo\",H4116=\"PJ No Residente\"),\"\",IF(H4116=\"\",\"\",\"País de nacimiento\"))","v":""},null,null,null,null,null,null,null,null,null,{"$f":"IF(OR(H4116=\"NIT\",H4116=\"Fideicomiso/Fondo\",H4116=\"PJ No Residente\"),\"\",IF(H4116=\"\",\"\",\"Nacionalidad\"))","v":""},null,null,null,null,null,null,null,null,null,null,null,""]
[null,{"$f":"IF(H4116<>\"\",\"Pais de Residencia\",\"\")","v":""},null,null,null,null,null,null,null,null,null,{"$f":"IF(H4116<>\"\",\"Departamento de Residencia\",\"\")","v":""},null,null,null,null,null,null,null,null,null,{"$f":"IF(H4116<>\"\",\"Ciudad de Residencia\",\"\")","v":""},null,null,null,null,null,null,null,null,null,null,null,""]
[null,null,null,null,null,null,null,null,null,null,null,null,null,null,null,null,null,null,null,null,null,null,null,null,null,null,null,null,null,null,null,null,null,""]
[null,null,null,null,null,null,null,null,null,null,null,null,null,null,null,null,null,null,null,null,null,null,null,null,null,null,null,null,null,null,null,null,null,""]
[null,null,null,null,null,"Razón Social",null,null,null,null,null,null,null,null,null,null,null,null,null,null,null,null,null,null,null,null,null,null,null,null,null,null,null,""]
[null,null,null,null,null,null,null,null,null,null,null,null,null,null,null,null,null,null,null,null,null,null,null,null,null,null,null,null,null,null,null,null,null,""]
[null,{"$f":"IF(H4150<>\"\",\"Dirección de residencia\",\"\")","v":""},null,null,null,null,null,null,null,null,null,null,null,null,null,null,{"$f":"IF(H4150<>\"\",\"Correo electrónico\",\"\")","v":""},null,null,null,null,null,null,null,null,null,null,null,null,null,null,null,null,""]
[null,null,null,null,null,null,null,null,null,null,null,null,null,null,null,null,null,null,null,null,null,null,null,null,null,null,null,null,null,null,null,null,null,""]
[null,null,null,null,null,null,null,null,null,null,null,null,null,null,null,null,null,null,null,null,null,null,null,null,null,null,null,null,null,null,null,null,null,""]
[76,"Tipo de Relación",null,null,null,null,null,null,null,null,null,null,null,null,null,null,null,null,null,null,null,null,null,null,null,null,null,null,null,null,null,null,null,""]
[null,{"$f":"IF(OR(H4184=\"NIT\",H4184=\"Fideicomiso/Fondo\",H4184=\"PJ No Residente\"),\"Razón Social\",\"\")","v":""},null,null,null,null,null,null,null,null,null,null,null,null,null,null,null,null,null,null,null,null,null,null,null,null,null,null,null,null,null,null,null,""]
[null,null,null,null,null,null,null,null,null,null,null,null,null,null,null,null,null,null,null,null,null,null,null,null,null,null,null,null,null,null,null,null,null,""]
[null,{"$f":"IF(H4184<>\"\",\"Dirección de residencia\",\"\")","v":""},null,null,null,null,null,null,null,null,null,null,null,null,null,null,{"$f":"IF(H4184<>\"\",\"Correo electrónico\",\"\")","v":""},null,null,null,null,null,null,null,null,null,null,null,null,null,null,null,null,""]
[null,null,null,null,null,null,null,null,null,null,null,null,null,null,null,null,null,null,null,null,null,null,null,null,null,null,null,null,null,null,null,null,null,""]
[null,null,null,null,null,null,null,null,null,null,null,null,null,null,null,null,null,null,null,null,null,null,null,null,null,null,null,null,null,null,null,null,null,""]
[null,null,null,null,null,null,null,null,null,null,null,null,null,null,null,null,null,null,null,null,null,null,null,null,null,null,null,null,null,null,null,null,null,""]
[null,null,null,null,null,null,null,null,null,null,null,null,null,null,null,null,null,null,null,null,null,null,null,null,null,null,null,null,null,null,null,null,null,""]
[null,null,null,null,null,null,null,null,null,null,null,null,null,null,null,null,null,null,null,null,null,null,null,null,null,null,null,null,null,null,null,null,null,""]
[null,{"$f":"IF(OR(H4216=\"Socio o Accionista\",H4216=\"Controlante\"),\"Tipo de Participación\",IF(H4216=\"\",\"\",\"\"))","v":""},null,null,null,null,null,null,null,{"$f":"IF(B4238=\"Conjunta\",\"Tipo de Documento\",IF(B4238=\"\",\"\",\"\"))","v":""},null,null,null,null,null,null,{"$f":"IF(B4238=\"Conjunta\",\"N° de Documento\",IF(B4238=\"\",\"\",\"\"))","v":""},null,null,null,null,null,null,{"$f":"IF(B4238=\"Conjunta\",\"Parentesco\",IF(B4238=\"\",\"\",\"\"))","v":""},null,null,null,null,null,null,null,null,null,""]
[null,{"$f":"IF(H4218<>\"\",\"País de Expedición del NIT\",\"\")","v":""},null,null,null,null,null,null,null,null,null,null,null,null,null,null,{"$f":"IF(H4218<>\"\",\"N° de Identificación Tributario\",\"\")","v":""},null,null,null,null,null,null,null,null,null,null,null,null,null,null,null,null,""]
[null,null,null,null,null,null,null,null,null,null,null,null,null,null,null,null,null,null,null,null,null,null,null,null,null,null,null,null,null,null,null,null,null,{"$f":"IF($H$4250=\"\",\"\",\"1\")","v":""}]
[null,{"$f":"IF(OR(H4252=\"NIT\",H4252=\"Fideicomiso/Fondo\",H4252=\"PJ No Residente\"),\"Razón Social\",\"\")","v":""},null,null,null,null,null,null,null,null,null,null,null,null,null,null,null,null,null,null,null,null,null,null,null,null,null,null,null,null,null,null,null,""]
[null,null,null,null,null,null,null,null,null,null,null,null,null,null,null,null,null,null,null,null,null,null,null,null,null,null,null,null,null,null,null,null,null,""]
[null,null,null,null,null,null,null,null,null,null,null,null,null,null,null,null,null,null,null,null,null,null,null,null,null,null,null,null,null,null,null,null,null,""]
[null,null,null,null,null,null,null,null,null,null,null,null,null,null,null,null,null,null,null,null,null,null,null,null,null,null,null,null,null,null,null,null,null,""]
[null,{"$f":"IF(H4252<>\"\",\"1 -\",\"\")","v":""},null,null,null,null,null,null,null,null,null,null,null,null,null,null,{"$f":"IF(H4252<>\"\",\"1 -\",\"\")","v":""},null,null,null,null,null,null,null,null,null,null,null,null,null,null,null,null,""]
[null,null,null,null,null,null,null,null,null,null,null,null,null,null,null,null,null,null,null,null,null,null,null,null,null,null,null,null,null,null,null,null,null,""]
[null,{"$f":"IF(OR(H4286=\"NIT\",H4286=\"Fideicomiso/Fondo\",H4286=\"PJ No Residente\"),\"\",IF(H4286=\"\",\"\",\"Fecha de Nacimiento\"))","v":""},null,null,null,null,null,null,null,null,null,{"$f":"IF(OR(H4286=\"NIT\",H4286=\"Fideicomiso/Fondo\",H4286=\"PJ No Residente\"),\"\",IF(H4286=\"\",\"\",\"País de nacimiento\"))","v":""},null,null,null,null,null,null,null,null,null,{"$f":"IF(OR(H4286=\"NIT\",H4286=\"Fideicomiso/Fondo\",H4286=\"PJ No Residente\"),\"\",IF(H4286=\"\",\"\",\"Nacionalidad\"))","v":""},null,null,null,null,null,null,null,null,null,null,null,""]
[null,null,null,null,null,null,null,null,null,null,null,null,null,null,null,null,null,null,null,null,null,null,null,null,null,null,null,null,null,null,null,null,null,""]
[null,null,null,null,null,null,null,null,null,null,null,null,null,null,null,null,null,null,null,null,null,null,null,null,null,null,null,null,null,null,null,null,null,""]
[null,null,null,null,null,null,null,null,null,null,null,null,null,null,null,null,null,null,null,null,null,null,null,null,null,null,null,null,null,null,null,null,null,""]
[80,"Tipo de Relación",null,null,null,null,null,null,null,null,null,null,null,null,null,null,null,null,null,null,null,null,null,null,null,null,null,null,null,null,null,null,null,""]
[null,{"$f":"IF(OR(H4320=\"NIT\",H4320=\"Fideicomiso/Fondo\",H4320=\"PJ No Residente\",H4320=\"\"),\"\",\"Primer Nombre\")","v":""},null,null,null,null,null,null,null,{"$f":"IF(OR(H4320=\"NIT\",H4320=\"Fideicomiso/Fondo\",H4320=\"PJ No Residente\",H4320=\"\"),\"\",\"Segundo Nombre\")","v":""},null,null,null,null,null,null,{"$f":"IF(OR(H4320=\"NIT\",H4320=\"Fideicomiso/Fondo\",H4320=\"PJ No Residente\",H4320=\"\"),\"\",\"Primer Apellido\")","v":""},null,null,null,null,null,null,{"$f":"IF(OR(H4320=\"NIT\",H4320=\"Fideicomiso/Fondo\",H4320=\"PJ No Residente\",H4320=\"\"),\"\",\"Segundo Apellido\")","v":""},null,null,null,null,null,null,null,null,null,""]
[null,null,null,null,null,null,null,null,null,null,null,null,null,null,null,null,null,null,null,null,null,null,null,null,null,null,null,null,null,null,null,null,null,""]
[null,{"$f":"IF(OR(H4318=\"Socio o Accionista\",H4318=\"Controlante\"),\"Tipo de Participación\",IF(H4318=\"\",\"\",\"\"))","v":""},null,null,null,null,null,null,null,{"$f":"IF(B4337=\"Conjunta\",\"Tipo de Documento\",IF(B4337=\"\",\"\",\"\"))","v":""},null,null,null,null,null,null,{"$f":"IF(B4337=\"Conjunta\",\"N° de Documento\",IF(B4337=\"\",\"\",\"\"))","v":""},null,null,null,null,null,null,{"$f":"IF(B4337=\"Conjunta\",\"Parentesco\",IF(B4337=\"\",\"\",\"\"))","v":""},null,null,null,null,null,null,null,null,null,""]
[null,{"$f":"IF(H4320<>\"\",\"País de Expedición del NIT\",\"\")","v":""},null,null,null,null,null,null,null,null,null,null,null,null,null,null,{"$f":"IF(H4320<>\"\",\"N° de Identificación Tributario\",\"\")","v":""},null,null,null,null,null,null,null,null,null,null,null,null,null,null,null,null,""]
["N2","Informe a cual de las Personas Jurídicas indicadas antes pertenece este relacionado",null,null,null,"Tipo de Documento",null,null,null,null,{"$f":"VLOOKUP(K4351,Hoja2!$A$485:$D$709,3,0)","v":{"$error":"#N/A"}},null,null,null,null,null,null,null,"Número de Documento",null,null,null,null,{"$f":"VLOOKUP(K4351,Hoja2!$A$485:$D$709,4,0)","v":{"$error":"#N/A"}},null,null,null,null,null,null,null,null,null,""]
[null,null,null,null,null,null,null,null,null,null,null,null,null,null,null,null,null,null,null,null,null,null,null,null,null,null,null,null,null,null,null,null,null,""]
[null,{"$f":"IF(OR(H4354=\"NIT\",H4354=\"Fideicomiso/Fondo\",H4354=\"PJ No Residente\",H4354=\"\"),\"\",\"Primer Nombre\")","v":""},null,null,null,null,null,null,null,{"$f":"IF(OR(H4354=\"NIT\",H4354=\"Fideicomiso/Fondo\",H4354=\"PJ No Residente\",H4354=\"\"),\"\",\"Segundo Nombre\")","v":""},null,null,null,null,null,null,{"$f":"IF(OR(H4354=\"NIT\",H4354=\"Fideicomiso/Fondo\",H4354=\"PJ No Residente\",H4354=\"\"),\"\",\"Primer Apellido\")","v":""},null,null,null,null,null,null,{"$f":"IF(OR(H4354=\"NIT\",H4354=\"Fideicomiso/Fondo\",H4354=\"PJ No Residente\",H4354=\"\"),\"\",\"Segundo Apellido\")","v":""},null,null,null,null,null,null,null,null,null,""]
[null,null,null,null,null,null,null,null,null,null,null,null,null,null,null,null,null,null,null,null,null,null,null,null,null,null,null,null,null,null,null,null,null,""]
[null,{"$f":"IF(OR(H4352=\"Socio o Accionista\",H4352=\"Controlante\"),\"Tipo de Participación\",IF(H4352=\"\",\"\",\"\"))","v":""},null,null,null,null,null,null,null,{"$f":"IF(B4377=\"Conjunta\",\"Tipo de Documento\",IF(B4377=\"\",\"\",\"\"))","v":""},null,null,null,null,null,null,{"$f":"IF(B4377=\"Conjunta\",\"N° de Documento\",IF(B4377=\"\",\"\",\"\"))","v":""},null,null,null,null,null,null,{"$f":"IF(B4377=\"Conjunta\",\"Parentesco\",IF(B4377=\"\",\"\",\"\"))","v":""},null,null,null,null,null,null,null,null,null,""]
[null,{"$f":"IF(H4354<>\"\",\"País de Expedición del NIT\",\"\")","v":""},null,null,null,null,null,null,null,null,null,null,null,null,null,null,{"$f":"IF(H4354<>\"\",\"N° de Identificación Tributario\",\"\")","v":""},null,null,null,null,null,null,null,null,null,null,null,null,null,null,null,null,""]
[82,"Tipo de Relación",null,null,null,null,null,null,null,null,null,null,null,null,null,null,null,null,null,null,null,null,null,null,null,null,null,null,null,null,null,null,null,""]
[null,{"$f":"IF(OR(H4388=\"NIT\",H4388=\"Fideicomiso/Fondo\",H4388=\"PJ No Residente\"),\"Razón Social\",\"\")","v":""},null,null,null,null,null,null,null,null,null,null,null,null,null,null,null,null,null,null,null,null,null,null,null,null,null,null,null,null,null,null,null,""]
[null,{"$f":"IF(H4388<>\"\",\"Pais de Residencia\",\"\")","v":""},null,null,null,null,null,null,null,null,null,{"$f":"IF(H4388<>\"\",\"Departamento de Residencia\",\"\")","v":""},null,null,null,null,null,null,null,null,null,{"$f":"IF(H4388<>\"\",\"Ciudad de Residencia\",\"\")","v":""},null,null,null,null,null,null,null,null,null,null,null,""]
[null,null,null,null,null,null,null,null,null,null,null,null,null,null,null,null,null,null,null,null,null,null,null,null,null,null,null,null,null,null,null,null,null,""]
[null,{"$f":"IF(OR(H4386=\"Socio o Accionista\",H4386=\"Controlante\"),\"Tipo de Participación\",IF(H4386=\"\",\"\",\"\"))","v":""},null,null,null,null,null,null,null,{"$f":"IF(B4411=\"Conjunta\",\"Tipo de Documento\",IF(B4411=\"\",\"\",\"\"))","v":""},null,null,null,null,null,null,{"$f":"IF(B4411=\"Conjunta\",\"N° de Documento\",IF(B4411=\"\",\"\",\"\"))","v":""},null,null,null,null,null,null,{"$f":"IF(B4411=\"Conjunta\",\"Parentesco\",IF(B4411=\"\",\"\",\"\"))","v":""},null,null,null,null,null,null,null,null,null,""]
["N2","Informe a cual de las Personas Jurídicas indicadas antes pertenece este relacionado",null,null,null,"Tipo de Documento",null,null,null,null,{"$f":"VLOOKUP(K4419,Hoja2!$A$485:$D$709,3,0)","v":{"$error":"#N/A"}},null,null,null,null,null,null,null,"Número de Documento",null,null,null,null,{"$f":"VLOOKUP(K4419,Hoja2!$A$485:$D$709,4,0)","v":{"$error":"#N/A"}},null,null,null,null,null,null,null,null,null,""]
[null,null,null,null,null,null,null,null,null,null,null,null,null,null,null,null,null,null,null,null,null,null,null,null,null,null,null,null,null,null,null,null,null,""]
[null,{"$f":"IF(OR(H4420=\"Socio o Accionista\",H4420=\"Fideicomitente\",H4420=\"Inversionista\",H4420=\"Beneficiario de Activos/Rendimientos/Utilidades\"),\"Participación en %\",IF(H4420=\"\",\"\",\"\"))","v":""},null,null,null,null,null,{"$f":"IF(H4422<>\"\",\"¿Es Persona Expuesta Politicamente?\",\"\")","v":""},null,null,null,null,null,null,null,null,null,{"$f":"IF(OR(H4422=\"NIT\",H4422=\"Fideicomiso/Fondo\",H4422=\"PJ No Residente\"),\"¿Emite acciones al portador?\",IF(H4422=\"\",\"\",\"\"))","v":""},null,null,null,null,null,null,null,{"$f":"IF(OR(H4422=\"NIT\",H4422=\"Fideicomiso/Fondo\",H4422=\"PJ No Residente\"),\"\",IF(H4422=\"\",\"\",\"Género\"))","v":""},null,null,null,null,null,null,null,""]
[null,null,null,null,null,null,null,null,null,null,null,null,null,null,null,null,null,null,null,null,null,null,null,null,null,null,null,null,null,null,null,null,null,""]
[null,null,null,null,null,null,null,null,null,null,null,null,null,null,null,null,null,null,null,null,null,null,null,null,null,null,null,null,null,null,null,null,null,""]
[null,{"$f":"IF(H4422<>\"\",\"2 -\",\"\")","v":""},null,null,null,null,null,null,null,null,null,null,null,null,null,null,{"$f":"IF(H4422<>\"\",\"2 -\",\"\")","v":""},null,null,null,null,null,null,null,null,null,null,null,null,null,null,null,null,""]
[null,{"$f":"IF(OR(H4456=\"NIT\",H4456=\"Fideicomiso/Fondo\",H4456=\"PJ No Residente\"),\"Razón Social\",\"\")","v":""},null,null,null,null,null,null,null,null,null,null,null,null,null,null,null,null,null,null,null,null,null,null,null,null,null,null,null,null,null,null,null,""]
[null,null,null,null,null,null,null,null,null,null,null,null,null,null,null,null,null,null,null,null,null,null,null,null,null,null,null,null,null,null,null,null,null,""]
[null,{"$f":"IF(H4456<>\"\",\"Pais de Residencia\",\"\")","v":""},null,null,null,null,null,null,null,null,null,{"$f":"IF(H4456<>\"\",\"Departamento de Residencia\",\"\")","v":""},null,null,null,null,null,null,null,null,null,{"$f":"IF(H4456<>\"\",\"Ciudad de Residencia\",\"\")","v":""},null,null,null,null,null,null,null,null,null,null,null,""]
[null,{"$f":"IF(OR(H4454=\"Socio o Accionista\",H4454=\"Controlante\"),\"Tipo de Participación\",IF(H4454=\"\",\"\",\"\"))","v":""},null,null,null,null,null,null,null,{"$f":"IF(B4479=\"Conjunta\",\"Tipo de Documento\",IF(B4479=\"\",\"\",\"\"))","v":""},null,null,null,null,null,null,{"$f":"IF(B4479=\"Conjunta\",\"N° de Documento\",IF(B4479=\"\",\"\",\"\"))","v":""},null,null,null,null,null,null,{"$f":"IF(B4479=\"Conjunta\",\"Parentesco\",IF(B4479=\"\",\"\",\"\"))","v":""},null,null,null,null,null,null,null,null,null,""]
[null,null,null,null,null,null,null,null,null,null,null,null,null,null,null,null,null,null,null,null,null,null,null,null,null,null,null,null,null,null,null,null,null,""]
[null,null,null,null,null,"Razón Social",null,null,null,null,null,null,null,null,null,null,null,null,null,null,null,null,null,null,null,null,null,null,null,null,null,null,null,""]
[null,{"$f":"IF(OR(H4488=\"Socio o Accionista\",H4488=\"Fideicomitente\",H4488=\"Inversionista\",H4488=\"Beneficiario de Activos/Rendimientos/Utilidades\"),\"Participación en %\",IF(H4488=\"\",\"\",\"\"))","v":""},null,null,null,null,null,{"$f":"IF(H4490<>\"\",\"¿Es Persona Expuesta Politicamente?\",\"\")","v":""},null,null,null,null,null,null,null,null,null,{"$f":"IF(OR(H4490=\"NIT\",H4490=\"Fideicomiso/Fondo\",H4490=\"PJ No Residente\"),\"¿Emite acciones al portador?\",IF(H4490=\"\",\"\",\"\"))","v":""},null,null,null,null,null,null,null,{"$f":"IF(OR(H4490=\"NIT\",H4490=\"Fideicomiso/Fondo\",H4490=\"PJ No Residente\"),\"\",IF(H4490=\"\",\"\",\"Género\"))","v":""},null,null,null,null,null,null,null,""]
[null,null,null,null,null,null,null,null,null,null,null,null,null,null,null,null,null,null,null,null,null,null,null,null,null,null,null,null,null,null,null,null,null,""]
[null,null,null,null,null,null,null,null,null,null,null,null,null,null,null,null,null,null,null,null,null,null,null,null,null,null,null,null,null,null,null,null,null,""]
[null,null,null,null,null,null,null,null,null,null,null,null,null,null,null,null,null,null,null,null,null,null,null,null,null,null,null,null,null,null,null,null,null,""]
[null,null,null,null,null,null,null,null,null,null,null,null,null,null,null,null,null,null,null,null,null,null,null,null,null,null,null,null,null,null,null,null,null,{"$f":"IF($H$4522=\"\",\"\",\"1\")","v":""}]
[null,{"$f":"IF(OR(H4524=\"NIT\",H4524=\"Fideicomiso/Fondo\",H4524=\"PJ No Residente\"),\"Razón Social\",\"\")","v":""},null,null,null,null,null,null,null,null,null,null,null,null,null,null,null,null,null,null,null,null,null,null,null,null,null,null,null,null,null,null,null,""]
[null,null,null,null,null,null,null,null,null,null,null,null,null,null,null,null,null,null,null,null,null,null,null,null,null,null,null,null,null,null,null,null,null,""]
[null,null,null,null,null,null,null,null,null,null,null,null,null,null,null,null,null,null,null,null,null,null,null,null,null,null,null,null,null,null,null,null,null,""]
[null,null,null,null,null,null,null,null,null,null,null,null,null,null,null,null,null,null,null,null,null,null,null,null,null,null,null,null,null,null,null,null,null,""]
[null,null,null,null,null,null,null,null,null,null,null,null,null,null,null,null,null,null,null,null,null,null,null,null,null,null,null,null,null,null,null,null,null,""]
[null,"Tipo de Documento",null,null,null,null,null,null,null,null,null,null,null,null,null,null,null,null,null,null,null,null,null,null,null,null,null,null,null,null,null,null,null,""]
[null,{"$f":"IF(OR(H4558=\"NIT\",H4558=\"Fideicomiso/Fondo\",H4558=\"PJ No Residente\"),\"Razón Social\",\"\")","v":""},null,null,null,null,null,null,null,null,null,null,null,null,null,null,null,null,null,null,null,null,null,null,null,null,null,null,null,null,null,null,null,""]
[null,null,null,null,null,null,null,null,null,null,null,null,null,null,null,null,null,null,null,null,null,null,null,null,null,null,null,null,null,null,null,null,null,""]
[null,{"$f":"IF(OR(H4556=\"Socio o Accionista\",H4556=\"Controlante\"),\"Tipo de Participación\",IF(H4556=\"\",\"\",\"\"))","v":""},null,null,null,null,null,null,null,{"$f":"IF(B4578=\"Conjunta\",\"Tipo de Documento\",IF(B4578=\"\",\"\",\"\"))","v":""},null,null,null,null,null,null,{"$f":"IF(B4578=\"Conjunta\",\"N° de Documento\",IF(B4578=\"\",\"\",\"\"))","v":""},null,null,null,null,null,null,{"$f":"IF(B4578=\"Conjunta\",\"Parentesco\",IF(B4578=\"\",\"\",\"\"))","v":""},null,null,null,null,null,null,null,null,null,""]
[null,{"$f":"IF(H4558<>\"\",\"1 -\",\"\")","v":""},null,null,null,null,null,null,null,null,null,null,null,null,null,null,{"$f":"IF(H4558<>\"\",\"1 -\",\"\")","v":""},null,null,null,null,null,null,null,null,null,null,null,null,null,null,null,null,{"$f":"IF($H$4522=\"\",\"\",\"1\")","v":""}]
[null,null,null,null,null,null,null,null,null,null,null,null,null,null,null,null,null,null,null,null,null,null,null,null,null,null,null,null,null,null,null,null,null,{"$f":"IF($H$4590=\"\",\"\",\"1\")","v":""}]
[null,{"$f":"IF(OR(H4592=\"NIT\",H4592=\"Fideicomiso/Fondo\",H4592=\"PJ No Residente\",H4592=\"\"),\"\",\"Primer Nombre\")","v":""},null,null,null,null,null,null,null,{"$f":"IF(OR(H4592=\"NIT\",H4592=\"Fideicomiso/Fondo\",H4592=\"PJ No Residente\",H4592=\"\"),\"\",\"Segundo Nombre\")","v":""},null,null,null,null,null,null,{"$f":"IF(OR(H4592=\"NIT\",H4592=\"Fideicomiso/Fondo\",H4592=\"PJ No Residente\",H4592=\"\"),\"\",\"Primer Apellido\")","v":""},null,null,null,null,null,null,{"$f":"IF(OR(H4592=\"NIT\",H4592=\"Fideicomiso/Fondo\",H4592=\"PJ No Residente\",H4592=\"\"),\"\",\"Segundo Apellido\")","v":""},null,null,null,null,null,null,null,null,null,""]
[null,null,null,null,null,null,null,null,null,null,null,null,null,null,null,null,null,null,null,null,null,null,null,null,null,null,null,null,null,null,null,null,null,""]
[null,{"$f":"IF(OR(H4590=\"Socio o Accionista\",H4590=\"Controlante\"),\"Tipo de Participación\",IF(H4590=\"\",\"\",\"\"))","v":""},null,null,null,null,null,null,null,{"$f":"IF(B4609=\"Conjunta\",\"Tipo de Documento\",IF(B4609=\"\",\"\",\"\"))","v":""},null,null,null,null,null,null,{"$f":"IF(B4609=\"Conjunta\",\"N° de Documento\",IF(B4609=\"\",\"\",\"\"))","v":""},null,null,null,null,null,null,{"$f":"IF(B4609=\"Conjunta\",\"Parentesco\",IF(B4609=\"\",\"\",\"\"))","v":""},null,null,null,null,null,null,null,null,null,""]
[null,{"$f":"IF(OR(H4590=\"Socio o Accionista\",H4590=\"Controlante\"),\"Tipo de Participación\",IF(H4590=\"\",\"\",\"\"))","v":""},null,null,null,null,null,null,null,{"$f":"IF(B4612=\"Conjunta\",\"Tipo de Documento\",IF(B4612=\"\",\"\",\"\"))","v":""},null,null,null,null,null,null,{"$f":"IF(B4612=\"Conjunta\",\"N° de Documento\",IF(B4612=\"\",\"\",\"\"))","v":""},null,null,null,null,null,null,{"$f":"IF(B4612=\"Conjunta\",\"Parentesco\",IF(B4612=\"\",\"\",\"\"))","v":""},null,null,null,null,null,null,null,null,null,""]
[null,{"$f":"IF(H4592<>\"\",\"2 -\",\"\")","v":""},null,null,null,null,null,null,null,null,null,null,null,null,null,null,{"$f":"IF(H4592<>\"\",\"2 -\",\"\")","v":""},null,null,null,null,null,null,null,null,null,null,null,null,null,null,null,null,""]
[null,null,null,null,null,null,null,null,null,null,null,null,null,null,null,null,null,null,null,null,null,null,null,null,null,null,null,null,null,null,null,null,null,""]
[null,{"$f":"IF(OR(H4626=\"NIT\",H4626=\"Fideicomiso/Fondo\",H4626=\"PJ No Residente\"),\"\",IF(H4626=\"\",\"\",\"Fecha de Nacimiento\"))","v":""},null,null,null,null,null,null,null,null,null,{"$f":"IF(OR(H4626=\"NIT\",H4626=\"Fideicomiso/Fondo\",H4626=\"PJ No Residente\"),\"\",IF(H4626=\"\",\"\",\"País de nacimiento\"))","v":""},null,null,null,null,null,null,null,null,null,{"$f":"IF(OR(H4626=\"NIT\",H4626=\"Fideicomiso/Fondo\",H4626=\"PJ No Residente\"),\"\",IF(H4626=\"\",\"\",\"Nacionalidad\"))","v":""},null,null,null,null,null,null,null,null,null,null,null,""]
[null,null,null,null,null,null,null,null,null,null,null,null,null,null,null,null,null,null,null,null,null,null,null,null,null,null,null,null,null,null,null,null,null,""]
[null,{"$f":"IF(OR(H4624=\"Socio o Accionista\",H4624=\"Controlante\"),\"Tipo de Participación\",IF(H4624=\"\",\"\",\"\"))","v":""},null,null,null,null,null,null,null,{"$f":"IF(B4646=\"Conjunta\",\"Tipo de Documento\",IF(B4646=\"\",\"\",\"\"))","v":""},null,null,null,null,null,null,{"$f":"IF(B4646=\"Conjunta\",\"N° de Documento\",IF(B4646=\"\",\"\",\"\"))","v":""},null,null,null,null,null,null,{"$f":"IF(B4646=\"Conjunta\",\"Parentesco\",IF(B4646=\"\",\"\",\"\"))","v":""},null,null,null,null,null,null,null,null,null,""]
[null,null,null,null,null,null,null,null,null,null,null,null,null,null,null,null,null,null,null,null,null,null,null,null,null,null,null,null,null,null,null,null,null,""]
[90,"Tipo de Relación",null,null,null,null,null,null,null,null,null,null,null,null,null,null,null,null,null,null,null,null,null,null,null,null,null,null,null,null,null,null,null,""]
[null,null,null,null,null,null,null,null,null,null,null,null,null,null,null,null,null,null,null,null,null,null,null,null,null,null,null,null,null,null,null,null,null,""]
[null,{"$f":"IF(OR(H4660=\"NIT\",H4660=\"Fideicomiso/Fondo\",H4660=\"PJ No Residente\"),\"\",IF(H4660=\"\",\"\",\"Fecha de Nacimiento\"))","v":""},null,null,null,null,null,null,null,null,null,{"$f":"IF(OR(H4660=\"NIT\",H4660=\"Fideicomiso/Fondo\",H4660=\"PJ No Residente\"),\"\",IF(H4660=\"\",\"\",\"País de nacimiento\"))","v":""},null,null,null,null,null,null,null,null,null,{"$f":"IF(OR(H4660=\"NIT\",H4660=\"Fideicomiso/Fondo\",H4660=\"PJ No Residente\"),\"\",IF(H4660=\"\",\"\",\"Nacionalidad\"))","v":""},null,null,null,null,null,null,null,null,null,null,null,""]
[null,null,null,null,null,null,null,null,null,null,null,null,null,null,null,null,null,null,null,null,null,null,null,null,null,null,null,null,null,null,null,null,null,""]
[null,null,null,null,null,null,null,null,null,null,null,null,null,null,null,null,null,null,null,null,null,null,null,null,null,null,null,null,null,null,null,null,null,""]
["N2","Informe a cual de las Personas Jurídicas indicadas antes pertenece este relacionado",null,null,null,"Tipo de Documento",null,null,null,null,{"$f":"VLOOKUP(K4691,Hoja2!$A$485:$D$709,3,0)","v":{"$error":"#N/A"}},null,null,null,null,null,null,null,"Número de Documento",null,null,null,null,{"$f":"VLOOKUP(K4691,Hoja2!$A$485:$D$709,4,0)","v":{"$error":"#N/A"}},null,null,null,null,null,null,null,null,null,""]
[null,null,null,null,null,null,null,null,null,null,null,null,null,null,null,null,null,null,null,null,null,null,null,null,null,null,null,null,null,null,null,null,null,""]
[null,{"$f":"IF(OR(H4694=\"NIT\",H4694=\"Fideicomiso/Fondo\",H4694=\"PJ No Residente\",H4694=\"\"),\"\",\"Primer Nombre\")","v":""},null,null,null,null,null,null,null,{"$f":"IF(OR(H4694=\"NIT\",H4694=\"Fideicomiso/Fondo\",H4694=\"PJ No Residente\",H4694=\"\"),\"\",\"Segundo Nombre\")","v":""},null,null,null,null,null,null,{"$f":"IF(OR(H4694=\"NIT\",H4694=\"Fideicomiso/Fondo\",H4694=\"PJ No Residente\",H4694=\"\"),\"\",\"Primer Apellido\")","v":""},null,null,null,null,null,null,{"$f":"IF(OR(H4694=\"NIT\",H4694=\"Fideicomiso/Fondo\",H4694=\"PJ No Residente\",H4694=\"\"),\"\",\"Segundo Apellido\")","v":""},null,null,null,null,null,null,null,null,null,""]
[null,null,null,null,null,null,null,null,null,null,null,null,null,null,null,null,null,null,null,null,null,null,null,null,null,null,null,null,null,null,null,null,null,""]
[null,null,null,null,null,null,null,null,null,null,null,null,null,null,null,null,null,null,null,null,null,null,null,null,null,null,null,null,null,null,null,null,null,""]
[null,{"$f":"IF(H4694<>\"\",\"País de Expedición del NIT\",\"\")","v":""},null,null,null,null,null,null,null,null,null,null,null,null,null,null,{"$f":"IF(H4694<>\"\",\"N° de Identificación Tributario\",\"\")","v":""},null,null,null,null,null,null,null,null,null,null,null,null,null,null,null,null,""]
[null,null,null,null,null,"Razón Social",null,null,null,null,null,null,null,null,null,null,null,null,null,null,null,null,null,null,null,null,null,null,null,null,null,null,null,""]
[null,null,null,null,null,null,null,null,null,null,null,null,null,null,null,null,null,null,null,null,null,null,null,null,null,null,null,null,null,null,null,null,null,""]
[null,{"$f":"IF(H4728<>\"\",\"Pais de Residencia\",\"\")","v":""},null,null,null,null,null,null,null,null,null,{"$f":"IF(H4728<>\"\",\"Departamento de Residencia\",\"\")","v":""},null,null,null,null,null,null,null,null,null,{"$f":"IF(H4728<>\"\",\"Ciudad de Residencia\",\"\")","v":""},null,null,null,null,null,null,null,null,null,null,null,""]
[null,{"$f":"IF(OR(H4726=\"Socio o Accionista\",H4726=\"Controlante\"),\"Tipo de Participación\",IF(H4726=\"\",\"\",\"\"))","v":""},null,null,null,null,null,null,null,{"$f":"IF(B4745=\"Conjunta\",\"Tipo de Documento\",IF(B4745=\"\",\"\",\"\"))","v":""},null,null,null,null,null,null,{"$f":"IF(B4745=\"Conjunta\",\"N° de Documento\",IF(B4745=\"\",\"\",\"\"))","v":""},null,null,null,null,null,null,{"$f":"IF(B4745=\"Conjunta\",\"Parentesco\",IF(B4745=\"\",\"\",\"\"))","v":""},null,null,null,null,null,null,null,null,null,""]
[null,{"$f":"IF(OR(H4726=\"Socio o Accionista\",H4726=\"Controlante\"),\"Tipo de Participación\",IF(H4726=\"\",\"\",\"\"))","v":""},null,null,null,null,null,null,null,{"$f":"IF(B4751=\"Conjunta\",\"Tipo de Documento\",IF(B4751=\"\",\"\",\"\"))","v":""},null,null,null,null,null,null,{"$f":"IF(B4751=\"Conjunta\",\"N° de Documento\",IF(B4751=\"\",\"\",\"\"))","v":""},null,null,null,null,null,null,{"$f":"IF(B4751=\"Conjunta\",\"Parentesco\",IF(B4751=\"\",\"\",\"\"))","v":""},null,null,null,null,null,null,null,null,null,""]
[null,null,null,null,null,"Razón Social",null,null,null,null,null,null,null,null,null,null,null,null,null,null,null,null,null,null,null,null,null,null,null,null,null,null,null,""]
[null,null,null,null,null,null,null,null,null,null,null,null,null,null,null,null,null,null,null,null,null,null,null,null,null,null,null,null,null,null,null,null,null,""]
[null,null,null,null,null,null,null,null,null,null,null,null,null,null,null,null,null,null,null,null,null,null,null,null,null,null,null,null,null,null,null,null,null,""]
[null,null,null,null,null,null,null,null,null,null,null,null,null,null,null,null,null,null,null,null,null,null,null,null,null,null,null,null,null,null,null,null,null,""]
[null,null,null,null,null,null,null,null,null,null,null,null,null,null,null,null,null,null,null,null,null,null,null,null,null,null,null,null,null,null,null,null,null,""]
[null,null,null,null,null,"Razón Social",null,null,null,null,null,null,null,null,null,null,null,null,null,null,null,null,null,null,null,null,null,null,null,null,null,null,null,""]
[null,{"$f":"IF(OR(H4796=\"NIT\",H4796=\"Fideicomiso/Fondo\",H4796=\"PJ No Residente\"),\"Razón Social\",\"\")","v":""},null,null,null,null,null,null,null,null,null,null,null,null,null,null,null,null,null,null,null,null,null,null,null,null,null,null,null,null,null,null,null,""]
[null,null,null,null,null,null,null,null,null,null,null,null,null,null,null,null,null,null,null,null,null,null,null,null,null,null,null,null,null,null,null,null,null,""]
[null,{"$f":"IF(OR(H4794=\"Socio o Accionista\",H4794=\"Controlante\"),\"Tipo de Participación\",IF(H4794=\"\",\"\",\"\"))","v":""},null,null,null,null,null,null,null,{"$f":"IF(B4813=\"Conjunta\",\"Tipo de Documento\",IF(B4813=\"\",\"\",\"\"))","v":""},null,null,null,null,null,null,{"$f":"IF(B4813=\"Conjunta\",\"N° de Documento\",IF(B4813=\"\",\"\",\"\"))","v":""},null,null,null,null,null,null,{"$f":"IF(B4813=\"Conjunta\",\"Parentesco\",IF(B4813=\"\",\"\",\"\"))","v":""},null,null,null,null,null,null,null,null,null,""]
[null,null,null,null,null,null,null,null,null,null,null,null,null,null,null,null,null,null,null,null,null,null,null,null,null,null,null,null,null,null,null,null,null,""]
[null,null,null,null,null,null,null,null,null,null,null,null,null,null,null,null,null,null,null,null,null,null,null,null,null,null,null,null,null,null,null,null,null,""]
[null,{"$f":"IF(H4830<>\"\",\"N° de Documento\",\"\")","v":""},null,null,null,null,null,null,null,null,null,{"$f":"IF(H4830<>\"\",\"Fecha de Expedición\",\"\")","v":""},null,null,null,null,null,null,null,null,null,{"$f":"IF(H4830<>\"\",\"País de Expedición\",\"\")","v":""},null,null,null,null,null,null,null,null,null,null,null,""]
[null,{"$f":"IF(OR(H4828=\"Socio o Accionista\",H4828=\"Fideicomitente\",H4828=\"Inversionista\",H4828=\"Beneficiario de Activos/Rendimientos/Utilidades\"),\"Participación en %\",IF(H4828=\"\",\"\",\"\"))","v":""},null,null,null,null,null,{"$f":"IF(H4830<>\"\",\"¿Es Persona Expuesta Politicamente?\",\"\")","v":""},null,null,null,null,null,null,null,null,null,{"$f":"IF(OR(H4830=\"NIT\",H4830=\"Fideicomiso/Fondo\",H4830=\"PJ No Residente\"),\"¿Emite acciones al portador?\",IF(H4830=\"\",\"\",\"\"))","v":""},null,null,null,null,null,null,null,{"$f":"IF(OR(H4830=\"NIT\",H4830=\"Fideicomiso/Fondo\",H4830=\"PJ No Residente\"),\"\",IF(H4830=\"\",\"\",\"Género\"))","v":""},null,null,null,null,null,null,null,""]
[null,null,null,null,null,null,null,null,null,null,null,null,null,null,null,null,null,null,null,null,null,null,null,null,null,null,null,null,null,null,null,null,null,""]
[null,{"$f":"IF(OR(H4828=\"Socio o Accionista\",H4828=\"Controlante\"),\"Tipo de Participación\",IF(H4828=\"\",\"\",\"\"))","v":""},null,null,null,null,null,null,null,{"$f":"IF(B4850=\"Conjunta\",\"Tipo de Documento\",IF(B4850=\"\",\"\",\"\"))","v":""},null,null,null,null,null,null,{"$f":"IF(B4850=\"Conjunta\",\"N° de Documento\",IF(B4850=\"\",\"\",\"\"))","v":""},null,null,null,null,null,null,{"$f":"IF(B4850=\"Conjunta\",\"Parentesco\",IF(B4850=\"\",\"\",\"\"))","v":""},null,null,null,null,null,null,null,null,null,""]
[null,null,null,null,null,null,null,null,null,null,null,null,null,null,null,null,null,null,null,null,null,null,null,null,null,null,null,null,null,null,null,null,null,""]
[null,null,null,null,null,null,null,null,null,null,null,null,null,null,null,null,null,null,null,null,null,null,null,null,null,null,null,null,null,null,null,null,null,{"$f":"IF($H$4862=\"\",\"\",\"1\")","v":""}]
[null,{"$f":"IF(OR(H4864=\"NIT\",H4864=\"Fideicomiso/Fondo\",H4864=\"PJ No Residente\"),\"Razón Social\",\"\")","v":""},null,null,null,null,null,null,null,null,null,null,null,null,null,null,null,null,null,null,null,null,null,null,null,null,null,null,null,null,null,null,null,""]
[null,{"$f":"IF(OR(H4864=\"NIT\",H4864=\"Fideicomiso/Fondo\",H4864=\"PJ No Residente\"),\"\",IF(H4864=\"\",\"\",\"Fecha de Nacimiento\"))","v":""},null,null,null,null,null,null,null,null,null,{"$f":"IF(OR(H4864=\"NIT\",H4864=\"Fideicomiso/Fondo\",H4864=\"PJ No Residente\"),\"\",IF(H4864=\"\",\"\",\"País de nacimiento\"))","v":""},null,null,null,null,null,null,null,null,null,{"$f":"IF(OR(H4864=\"NIT\",H4864=\"Fideicomiso/Fondo\",H4864=\"PJ No Residente\"),\"\",IF(H4864=\"\",\"\",\"Nacionalidad\"))","v":""},null,null,null,null,null,null,null,null,null,null,null,""]
[null,{"$f":"IF(OR(H4862=\"Socio o Accionista\",H4862=\"Controlante\"),\"Tipo de Participación\",IF(H4862=\"\",\"\",\"\"))","v":""},null,null,null,null,null,null,null,{"$f":"IF(B4881=\"Conjunta\",\"Tipo de Documento\",IF(B4881=\"\",\"\",\"\"))","v":""},null,null,null,null,null,null,{"$f":"IF(B4881=\"Conjunta\",\"N° de Documento\",IF(B4881=\"\",\"\",\"\"))","v":""},null,null,null,null,null,null,{"$f":"IF(B4881=\"Conjunta\",\"Parentesco\",IF(B4881=\"\",\"\",\"\"))","v":""},null,null,null,null,null,null,null,null,null,""]
[null,null,null,null,null,null,null,null,null,null,null,null,null,null,null,null,null,null,null,null,null,null,null,null,null,null,null,null,null,null,null,null,null,""]
[null,null,null,null,null,null,null,null,null,null,null,null,null,null,null,null,null,null,null,null,null,null,null,null,null,null,null,null,null,null,null,null,null,""]
[null,"Tipo de Documento",null,null,null,null,null,null,null,null,null,null,null,null,null,null,null,null,null,null,null,null,null,null,null,null,null,null,null,null,null,null,null,""]
[null,{"$f":"IF(OR(H4898=\"NIT\",H4898=\"Fideicomiso/Fondo\",H4898=\"PJ No Residente\"),\"Razón Social\",\"\")","v":""},null,null,null,null,null,null,null,null,null,null,null,null,null,null,null,null,null,null,null,null,null,null,null,null,null,null,null,null,null,null,null,""]
[null,null,null,null,null,null,null,null,null,null,null,null,null,null,null,null,null,null,null,null,null,null,null,null,null,null,null,null,null,null,null,null,null,""]
[null,null,null,null,null,null,null,null,null,null,null,null,null,null,null,null,null,null,null,null,null,null,null,null,null,null,null,null,null,null,null,null,null,""]
[null,null,null,null,null,null,null,null,null,null,null,null,null,null,null,null,null,null,null,null,null,null,null,null,null,null,null,null,null,null,null,null,null,""]
[98,"Tipo de Relación",null,null,null,null,null,null,null,null,null,null,null,null,null,null,null,null,null,null,null,null,null,null,null,null,null,null,null,null,null,null,null,""]
[null,null,null,null,null,null,null,null,null,null,null,null,null,null,null,null,null,null,null,null,null,null,null,null,null,null,null,null,null,null,null,null,null,""]
[null,{"$f":"IF(OR(H4932=\"NIT\",H4932=\"Fideicomiso/Fondo\",H4932=\"PJ No Residente\"),\"\",IF(H4932=\"\",\"\",\"Fecha de Nacimiento\"))","v":""},null,null,null,null,null,null,null,null,null,{"$f":"IF(OR(H4932=\"NIT\",H4932=\"Fideicomiso/Fondo\",H4932=\"PJ No Residente\"),\"\",IF(H4932=\"\",\"\",\"País de nacimiento\"))","v":""},null,null,null,null,null,null,null,null,null,{"$f":"IF(OR(H4932=\"NIT\",H4932=\"Fideicomiso/Fondo\",H4932=\"PJ No Residente\"),\"\",IF(H4932=\"\",\"\",\"Nacionalidad\"))","v":""},null,null,null,null,null,null,null,null,null,null,null,""]
[null,{"$f":"IF(OR(H4930=\"Socio o Accionista\",H4930=\"Controlante\"),\"Tipo de Participación\",IF(H4930=\"\",\"\",\"\"))","v":""},null,null,null,null,null,null,null,{"$f":"IF(B4949=\"Conjunta\",\"Tipo de Documento\",IF(B4949=\"\",\"\",\"\"))","v":""},null,null,null,null,null,null,{"$f":"IF(B4949=\"Conjunta\",\"N° de Documento\",IF(B4949=\"\",\"\",\"\"))","v":""},null,null,null,null,null,null,{"$f":"IF(B4949=\"Conjunta\",\"Parentesco\",IF(B4949=\"\",\"\",\"\"))","v":""},null,null,null,null,null,null,null,null,null,""]
[null,null,null,null,null,null,null,null,null,null,null,null,null,null,null,null,null,null,null,null,null,null,null,null,null,null,null,null,null,null,null,null,null,""]
["N2","Informe a cual de las Personas Jurídicas indicadas antes pertenece este relacionado",null,null,null,"Tipo de Documento",null,null,null,null,{"$f":"VLOOKUP(K4963,Hoja2!$A$485:$D$709,3,0)","v":{"$error":"#N/A"}},null,null,null,null,null,null,null,"Número de Documento",null,null,null,null,{"$f":"VLOOKUP(K4963,Hoja2!$A$485:$D$709,4,0)","v":{"$error":"#N/A"}},null,null,null,null,null,null,null,null,null,""]
[null,null,null,null,null,null,null,null,null,null,null,null,null,null,null,null,null,null,null,null,null,null,null,null,null,null,null,null,null,null,null,null,null,""]
[null,{"$f":"IF(OR(H4966=\"NIT\",H4966=\"Fideicomiso/Fondo\",H4966=\"PJ No Residente\",H4966=\"\"),\"\",\"Primer Nombre\")","v":""},null,null,null,null,null,null,null,{"$f":"IF(OR(H4966=\"NIT\",H4966=\"Fideicomiso/Fondo\",H4966=\"PJ No Residente\",H4966=\"\"),\"\",\"Segundo Nombre\")","v":""},null,null,null,null,null,null,{"$f":"IF(OR(H4966=\"NIT\",H4966=\"Fideicomiso/Fondo\",H4966=\"PJ No Residente\",H4966=\"\"),\"\",\"Primer Apellido\")","v":""},null,null,null,null,null,null,{"$f":"IF(OR(H4966=\"NIT\",H4966=\"Fideicomiso/Fondo\",H4966=\"PJ No Residente\",H4966=\"\"),\"\",\"Segundo Apellido\")","v":""},null,null,null,null,null,null,null,null,null,""]
[null,null,null,null,null,null,null,null,null,null,null,null,null,null,null,null,null,null,null,null,null,null,null,null,null,null,null,null,null,null,null,null,null,""]
[null,{"$f":"IF(OR(H4964=\"Socio o Accionista\",H4964=\"Controlante\"),\"Tipo de Participación\",IF(H4964=\"\",\"\",\"\"))","v":""},null,null,null,null,null,null,null,{"$f":"IF(B4989=\"Conjunta\",\"Tipo de Documento\",IF(B4989=\"\",\"\",\"\"))","v":""},null,null,null,null,null,null,{"$f":"IF(B4989=\"Conjunta\",\"N° de Documento\",IF(B4989=\"\",\"\",\"\"))","v":""},null,null,null,null,null,null,{"$f":"IF(B4989=\"Conjunta\",\"Parentesco\",IF(B4989=\"\",\"\",\"\"))","v":""},null,null,null,null,null,null,null,null,null,""]
[null,{"$f":"IF(H4966<>\"\",\"País de Expedición del NIT\",\"\")","v":""},null,null,null,null,null,null,null,null,null,null,null,null,null,null,{"$f":"IF(H4966<>\"\",\"N° de Identificación Tributario\",\"\")","v":""},null,null,null,null,null,null,null,null,null,null,null,null,null,null,null,null,""]
["N2","Informe a cual de las Personas Jurídicas indicadas antes pertenece este relacionado",null,null,null,"Tipo de Documento",null,null,null,null,{"$f":"VLOOKUP(K4997,Hoja2!$A$485:$D$709,3,0)","v":{"$error":"#N/A"}},null,null,null,null,null,null,null,"Número de Documento",null,null,null,null,{"$f":"VLOOKUP(K4997,Hoja2!$A$485:$D$709,4,0)","v":{"$error":"#N/A"}},null,null,null,null,null,null,null,null,null,{"$f":"IF($H$4998=\"\",\"\",\"1\")","v":""}]
[null,null,null,null,null,null,null,null,null,null,null,null,null,null,null,null,null,null,null,null,null,null,null,null,null,null,null,null,null,null,null,null,null,""]
[null,{"$f":"IF(H5000<>\"\",\"Pais de Residencia\",\"\")","v":""},null,null,null,null,null,null,null,null,null,{"$f":"IF(H5000<>\"\",\"Departamento de Residencia\",\"\")","v":""},null,null,null,null,null,null,null,null,null,{"$f":"IF(H5000<>\"\",\"Ciudad de Residencia\",\"\")","v":""},null,null,null,null,null,null,null,null,null,null,null,""]
[null,null,null,null,null,null,null,null,null,null,null,null,null,null,null,null,null,null,null,null,null,null,null,null,null,null,null,null,null,null,null,null,null,""]
[null,{"$f":"IF(OR(H4998=\"Socio o Accionista\",H4998=\"Controlante\"),\"Tipo de Participación\",IF(H4998=\"\",\"\",\"\"))","v":""},null,null,null,null,null,null,null,{"$f":"IF(B5023=\"Conjunta\",\"Tipo de Documento\",IF(B5023=\"\",\"\",\"\"))","v":""},null,null,null,null,null,null,{"$f":"IF(B5023=\"Conjunta\",\"N° de Documento\",IF(B5023=\"\",\"\",\"\"))","v":""},null,null,null,null,null,null,{"$f":"IF(B5023=\"Conjunta\",\"Parentesco\",IF(B5023=\"\",\"\",\"\"))","v":""},null,null,null,null,null,null,null,null,null,""]
["N2","Informe a cual de las Personas Jurídicas indicadas antes pertenece este relacionado",null,null,null,"Tipo de Documento",null,null,null,null,{"$f":"VLOOKUP(K5031,Hoja2!$A$485:$D$709,3,0)","v":{"$error":"#N/A"}},null,null,null,null,null,null,null,"Número de Documento",null,null,null,null,{"$f":"VLOOKUP(K5031,Hoja2!$A$485:$D$709,4,0)","v":{"$error":"#N/A"}},null,null,null,null,null,null,null,null,null,""]
[null,null,null,null,null,null,null,null,null,null,null,null,null,null,null,null,null,null,null,null,null,null,null,null,null,null,null,null,null,null,null,null,null,""]
[null,null,null,null,null,null,null,null,null,null,null,null,null,null,null,null,null,null,null,null,null,null,null,null,null,null,null,null,null,null,null,null,null,""]
[null,null,null,null,null,null,null,null,null,null,null,null,null,null,null,null,null,null,null,null,null,null,null,null,null,null,null,null,null,null,null,null,null,""]
[null,null,null,null,null,null,null,null,null,null,null,null,null,null,null,null,null,null,null,null,null,null,null,null,null,null,null,null,null,null,null,null,null,""]
[null,{"$f":"IF(H5034<>\"\",\"País de Expedición del NIT\",\"\")","v":""},null,null,null,null,null,null,null,null,null,null,null,null,null,null,{"$f":"IF(H5034<>\"\",\"N° de Identificación Tributario\",\"\")","v":""},null,null,null,null,null,null,null,null,null,null,null,null,null,null,null,null,""]
[null,{"$f":"IF(H5068<>\"\",\"N° de Documento\",\"\")","v":""},null,null,null,null,null,null,null,null,null,{"$f":"IF(H5068<>\"\",\"Fecha de Expedición\",\"\")","v":""},null,null,null,null,null,null,null,null,null,{"$f":"IF(H5068<>\"\",\"País de Expedición\",\"\")","v":""},null,null,null,null,null,null,null,null,null,null,null,""]
[null,null,null,null,null,null,null,null,null,null,null,null,null,null,null,null,null,null,null,null,null,null,null,null,null,null,null,null,null,null,null,null,null,""]
[null,null,null,null,null,null,null,null,null,null,null,null,null,null,null,null,null,null,null,null,null,null,null,null,null,null,null,null,null,null,null,null,null,""]
[null,null,null,null,null,null,null,null,null,null,null,null,null,null,null,null,null,null,null,null,null,null,null,null,null,null,null,null,null,null,null,null,null,""]
[null,null,null,null,null,null,null,null,null,null,null,null,null,null,null,null,null,null,null,null,null,null,null,null,null,null,null,null,null,null,null,null,null,""]
[null,null,null,null,null,"Razón Social",null,null,null,null,null,null,null,null,null,null,null,null,null,null,null,null,null,null,null,null,null,null,null,null,null,null,null,""]
[null,null,null,null,null,null,null,null,null,null,null,null,null,null,null,null,null,null,null,null,null,null,null,null,null,null,null,null,null,null,null,null,null,""]
[null,null,null,null,null,null,null,null,null,null,null,null,null,null,null,null,null,null,null,null,null,null,null,null,null,null,null,null,null,null,null,null,null,""]
[null,null,null,null,null,null,null,null,null,null,null,null,null,null,null,null,null,null,null,null,null,null,null,null,null,null,null,null,null,null,null,null,null,""]
[null,{"$f":"IF(H5102<>\"\",\"País de Expedición del NIT\",\"\")","v":""},null,null,null,null,null,null,null,null,null,null,null,null,null,null,{"$f":"IF(H5102<>\"\",\"N° de Identificación Tributario\",\"\")","v":""},null,null,null,null,null,null,null,null,null,null,null,null,null,null,null,null,""]
[null,null,null,null,null,null,null,null,null,null,null,null,null,null,null,null,null,null,null,null,null,null,null,null,null,null,null,null,null,null,null,null,null,""]
[null,{"$f":"IF(OR(H5136=\"NIT\",H5136=\"Fideicomiso/Fondo\",H5136=\"PJ No Residente\"),\"Razón Social\",\"\")","v":""},null,null,null,null,null,null,null,null,null,null,null,null,null,null,null,null,null,null,null,null,null,null,null,null,null,null,null,null,null,null,null,""]
[null,null,null,null,null,null,null,null,null,null,null,null,null,null,null,null,null,null,null,null,null,null,null,null,null,null,null,null,null,null,null,null,null,""]
[null,null,null,null,null,null,null,null,null,null,null,null,null,null,null,null,null,null,null,null,null,null,null,null,null,null,null,null,null,null,null,null,null,""]
[null,null,null,null,null,null,null,null,null,null,null,null,null,null,null,null,null,null,null,null,null,null,null,null,null,null,null,null,null,null,null,null,null,""]
[null,null,null,null,null,null,null,null,null,null,null,null,null,null,null,null,null,null,null,null,null,null,null,null,null,null,null,null,null,null,null,null,null,""]
[null,null,null,null,null,null,null,null,null,null,null,null,null,null,null,null,null,null,null,null,null,null,null,null,null,null,null,null,null,null,null,null,null,""]
[null,{"$f":"IF(OR(H5170=\"NIT\",H5170=\"Fideicomiso/Fondo\",H5170=\"PJ No Residente\"),\"Razón Social\",\"\")","v":""},null,null,null,null,null,null,null,null,null,null,null,null,null,null,null,null,null,null,null,null,null,null,null,null,null,null,null,null,null,null,null,""]
[null,null,null,null,null,null,null,null,null,null,null,null,null,null,null,null,null,null,null,null,null,null,null,null,null,null,null,null,null,null,null,null,null,""]
[null,null,null,null,null,null,null,null,null,null,null,null,null,null,null,null,null,null,null,null,null,null,null,null,null,null,null,null,null,null,null,null,null,""]
[null,null,null,null,null,null,null,null,null,null,null,null,null,null,null,null,null,null,null,null,null,null,null,null,null,null,null,null,null,null,null,null,null,""]
[null,null,null,null,null,null,null,null,null,null,null,null,null,null,null,null,null,null,null,null,null,null,null,null,null,null,null,null,null,null,null,null,null,{"$f":"IF($H$5202=\"\",\"\",\"1\")","v":""}]
[null,{"$f":"IF(OR(H5204=\"NIT\",H5204=\"Fideicomiso/Fondo\",H5204=\"PJ No Residente\"),\"Razón Social\",\"\")","v":""},null,null,null,null,null,null,null,null,null,null,null,null,null,null,null,null,null,null,null,null,null,null,null,null,null,null,null,null,null,null,null,""]
[null,{"$f":"IF(OR(H5202=\"Socio o Accionista\",H5202=\"Fideicomitente\",H5202=\"Inversionista\",H5202=\"Beneficiario de Activos/Rendimientos/Utilidades\"),\"Participación en %\",IF(H5202=\"\",\"\",\"\"))","v":""},null,null,null,null,null,{"$f":"IF(H5204<>\"\",\"¿Es Persona Expuesta Politicamente?\",\"\")","v":""},null,null,null,null,null,null,null,null,null,{"$f":"IF(OR(H5204=\"NIT\",H5204=\"Fideicomiso/Fondo\",H5204=\"PJ No Residente\"),\"¿Emite acciones al portador?\",IF(H5204=\"\",\"\",\"\"))","v":""},null,null,null,null,null,null,null,{"$f":"IF(OR(H5204=\"NIT\",H5204=\"Fideicomiso/Fondo\",H5204=\"PJ No Residente\"),\"\",IF(H5204=\"\",\"\",\"Género\"))","v":""},null,null,null,null,null,null,null,""]
[null,{"$f":"IF(OR(H5202=\"Socio o Accionista\",H5202=\"Controlante\"),\"Tipo de Participación\",IF(H5202=\"\",\"\",\"\"))","v":""},null,null,null,null,null,null,null,{"$f":"IF(B5221=\"Conjunta\",\"Tipo de Documento\",IF(B5221=\"\",\"\",\"\"))","v":""},null,null,null,null,null,null,{"$f":"IF(B5221=\"Conjunta\",\"N° de Documento\",IF(B5221=\"\",\"\",\"\"))","v":""},null,null,null,null,null,null,{"$f":"IF(B5221=\"Conjunta\",\"Parentesco\",IF(B5221=\"\",\"\",\"\"))","v":""},null,null,null,null,null,null,null,null,null,""]
[null,{"$f":"IF(OR(H5202=\"Socio o Accionista\",H5202=\"Controlante\"),\"Tipo de Participación\",IF(H5202=\"\",\"\",\"\"))","v":""},null,null,null,null,null,null,null,{"$f":"IF(B5224=\"Conjunta\",\"Tipo de Documento\",IF(B5224=\"\",\"\",\"\"))","v":""},null,null,null,null,null,null,{"$f":"IF(B5224=\"Conjunta\",\"N° de Documento\",IF(B5224=\"\",\"\",\"\"))","v":""},null,null,null,null,null,null,{"$f":"IF(B5224=\"Conjunta\",\"Parentesco\",IF(B5224=\"\",\"\",\"\"))","v":""},null,null,null,null,null,null,null,null,null,""]
[null,{"$f":"IF(H5204<>\"\",\"1 -\",\"\")","v":""},null,null,null,null,null,null,null,null,null,null,null,null,null,null,{"$f":"IF(H5204<>\"\",\"1 -\",\"\")","v":""},null,null,null,null,null,null,null,null,null,null,null,null,null,null,null,null,""]
[null,null,null,null,null,null,null,null,null,null,null,null,null,null,null,null,null,null,null,null,null,null,null,null,null,null,null,null,null,null,null,null,null,""]
[null,{"$f":"IF(OR(H5238=\"NIT\",H5238=\"Fideicomiso/Fondo\",H5238=\"PJ No Residente\"),\"Razón Social\",\"\")","v":""},null,null,null,null,null,null,null,null,null,null,null,null,null,null,null,null,null,null,null,null,null,null,null,null,null,null,null,null,null,null,null,""]
[null,{"$f":"IF(H5238<>\"\",\"Pais de Residencia\",\"\")","v":""},null,null,null,null,null,null,null,null,null,{"$f":"IF(H5238<>\"\",\"Departamento de Residencia\",\"\")","v":""},null,null,null,null,null,null,null,null,null,{"$f":"IF(H5238<>\"\",\"Ciudad de Residencia\",\"\")","v":""},null,null,null,null,null,null,null,null,null,null,null,""]
[null,{"$f":"IF(OR(H5236=\"Socio o Accionista\",H5236=\"Controlante\"),\"Tipo de Participación\",IF(H5236=\"\",\"\",\"\"))","v":""},null,null,null,null,null,null,null,{"$f":"IF(B5255=\"Conjunta\",\"Tipo de Documento\",IF(B5255=\"\",\"\",\"\"))","v":""},null,null,null,null,null,null,{"$f":"IF(B5255=\"Conjunta\",\"N° de Documento\",IF(B5255=\"\",\"\",\"\"))","v":""},null,null,null,null,null,null,{"$f":"IF(B5255=\"Conjunta\",\"Parentesco\",IF(B5255=\"\",\"\",\"\"))","v":""},null,null,null,null,null,null,null,null,null,""]
[null,null,null,null,null,null,null,null,null,null,null,null,null,null,null,null,null,null,null,null,null,null,null,null,null,null,null,null,null,null,null,null,null,""]
[null,null,null,null,null,null,null,null,null,null,null,null,null,null,null,null,null,null,null,null,null,null,null,null,null,null,null,null,null,null,null,null,null,{"$f":"IF($H$5270=\"\",\"\",\"1\")","v":""}]
[null,null,null,null,null,null,null,null,null,null,null,null,null,null,null,null,null,null,null,null,null,null,null,null,null,null,null,null,null,null,null,null,null,""]
[null,{"$f":"IF(OR(H5272=\"NIT\",H5272=\"Fideicomiso/Fondo\",H5272=\"PJ No Residente\"),\"\",IF(H5272=\"\",\"\",\"Fecha de Nacimiento\"))","v":""},null,null,null,null,null,null,null,null,null,{"$f":"IF(OR(H5272=\"NIT\",H5272=\"Fideicomiso/Fondo\",H5272=\"PJ No Residente\"),\"\",IF(H5272=\"\",\"\",\"País de nacimiento\"))","v":""},null,null,null,null,null,null,null,null,null,{"$f":"IF(OR(H5272=\"NIT\",H5272=\"Fideicomiso/Fondo\",H5272=\"PJ No Residente\"),\"\",IF(H5272=\"\",\"\",\"Nacionalidad\"))","v":""},null,null,null,null,null,null,null,null,null,null,null,""]
[null,null,null,null,null,null,null,null,null,null,null,null,null,null,null,null,null,null,null,null,null,null,null,null,null,null,null,null,null,null,null,null,null,""]
[null,{"$f":"IF(OR(H5270=\"Socio o Accionista\",H5270=\"Controlante\"),\"Tipo de Participación\",IF(H5270=\"\",\"\",\"\"))","v":""},null,null,null,null,null,null,null,{"$f":"IF(B5292=\"Conjunta\",\"Tipo de Documento\",IF(B5292=\"\",\"\",\"\"))","v":""},null,null,null,null,null,null,{"$f":"IF(B5292=\"Conjunta\",\"N° de Documento\",IF(B5292=\"\",\"\",\"\"))","v":""},null,null,null,null,null,null,{"$f":"IF(B5292=\"Conjunta\",\"Parentesco\",IF(B5292=\"\",\"\",\"\"))","v":""},null,null,null,null,null,null,null,null,null,""]
["N2","Informe a cual de las Personas Jurídicas indicadas antes pertenece este relacionado",null,null,null,"Tipo de Documento",null,null,null,null,{"$f":"VLOOKUP(K5303,Hoja2!$A$485:$D$709,3,0)","v":{"$error":"#N/A"}},null,null,null,null,null,null,null,"Número de Documento",null,null,null,null,{"$f":"VLOOKUP(K5303,Hoja2!$A$485:$D$709,4,0)","v":{"$error":"#N/A"}},null,null,null,null,null,null,null,null,null,""]
[109,"Tipo de Relación",null,null,null,null,null,null,null,null,null,null,null,null,null,null,null,null,null,null,null,null,null,null,null,null,null,null,null,null,null,null,null,""]
[null,null,null,null,null,null,null,null,null,null,null,null,null,null,null,null,null,null,null,null,null,null,null,null,null,null,null,null,null,null,null,null,null,""]
[null,null,null,null,null,null,null,null,null,null,null,null,null,null,null,null,null,null,null,null,null,null,null,null,null,null,null,null,null,null,null,null,null,""]
[null,{"$f":"IF(OR(H5304=\"Socio o Accionista\",H5304=\"Controlante\"),\"Tipo de Participación\",IF(H5304=\"\",\"\",\"\"))","v":""},null,null,null,null,null,null,null,{"$f":"IF(B5329=\"Conjunta\",\"Tipo de Documento\",IF(B5329=\"\",\"\",\"\"))","v":""},null,null,null,null,null,null,{"$f":"IF(B5329=\"Conjunta\",\"N° de Documento\",IF(B5329=\"\",\"\",\"\"))","v":""},null,null,null,null,null,null,{"$f":"IF(B5329=\"Conjunta\",\"Parentesco\",IF(B5329=\"\",\"\",\"\"))","v":""},null,null,null,null,null,null,null,null,null,""]
[null,null,null,null,null,null,null,null,null,null,null,null,null,null,null,null,null,null,null,null,null,null,null,null,null,null,null,null,null,null,null,null,null,""]
[null,{"$f":"IF(H5340<>\"\",\"N° de Documento\",\"\")","v":""},null,null,null,null,null,null,null,null,null,{"$f":"IF(H5340<>\"\",\"Fecha de Expedición\",\"\")","v":""},null,null,null,null,null,null,null,null,null,{"$f":"IF(H5340<>\"\",\"País de Expedición\",\"\")","v":""},null,null,null,null,null,null,null,null,null,null,null,""]
[null,null,null,null,null,null,null,null,null,null,null,null,null,null,null,null,null,null,null,null,null,null,null,null,null,null,null,null,null,null,null,null,null,""]
[null,{"$f":"IF(H5340<>\"\",\"Pais de Residencia\",\"\")","v":""},null,null,null,null,null,null,null,null,null,{"$f":"IF(H5340<>\"\",\"Departamento de Residencia\",\"\")","v":""},null,null,null,null,null,null,null,null,null,{"$f":"IF(H5340<>\"\",\"Ciudad de Residencia\",\"\")","v":""},null,null,null,null,null,null,null,null,null,null,null,""]
[null,null,null,null,null,null,null,null,null,null,null,null,null,null,null,null,null,null,null,null,null,null,null,null,null,null,null,null,null,null,null,null,null,""]
[null,{"$f":"IF(OR(H5338=\"Socio o Accionista\",H5338=\"Controlante\"),\"Tipo de Participación\",IF(H5338=\"\",\"\",\"\"))","v":""},null,null,null,null,null,null,null,{"$f":"IF(B5363=\"Conjunta\",\"Tipo de Documento\",IF(B5363=\"\",\"\",\"\"))","v":""},null,null,null,null,null,null,{"$f":"IF(B5363=\"Conjunta\",\"N° de Documento\",IF(B5363=\"\",\"\",\"\"))","v":""},null,null,null,null,null,null,{"$f":"IF(B5363=\"Conjunta\",\"Parentesco\",IF(B5363=\"\",\"\",\"\"))","v":""},null,null,null,null,null,null,null,null,null,""]
[null,null,null,null,null,"Razón Social",null,null,null,null,null,null,null,null,null,null,null,null,null,null,null,null,null,null,null,null,null,null,null,null,null,null,null,""]
[null,null,null,null,null,null,null,null,null,null,null,null,null,null,null,null,null,null,null,null,null,null,null,null,null,null,null,null,null,null,null,null,null,""]
[null,null,null,null,null,null,null,null,null,null,null,null,null,null,null,null,null,null,null,null,null,null,null,null,null,null,null,null,null,null,null,null,null,""]
[null,null,null,null,null,null,null,null,null,null,null,null,null,null,null,null,null,null,null,null,null,null,null,null,null,null,null,null,null,null,null,null,null,""]
[null,null,null,null,null,null,null,null,null,null,null,null,null,null,null,null,null,null,null,null,null,null,null,null,null,null,null,null,null,null,null,null,null,""]
[null,null,null,null,null,null,null,null,null,null,null,null,null,null,null,null,null,null,null,null,null,null,null,null,null,null,null,null,null,null,null,null,null,""]
[null,null,null,null,null,"Razón Social",null,null,null,null,null,null,null,null,null,null,null,null,null,null,null,null,null,null,null,null,null,null,null,null,null,null,null,""]
[null,null,null,null,null,null,null,null,null,null,null,null,null,null,null,null,null,null,null,null,null,null,null,null,null,null,null,null,null,null,null,null,null,""]
[null,null,null,null,null,null,null,null,null,null,null,null,null,null,null,null,null,null,null,null,null,null,null,null,null,null,null,null,null,null,null,null,null,""]
[null,null,null,null,null,null,null,null,null,null,null,null,null,null,null,null,null,null,null,null,null,null,null,null,null,null,null,null,null,null,null,null,null,""]
[null,null,null,null,null,null,null,null,null,null,null,null,null,null,null,null,null,null,null,null,null,null,null,null,null,null,null,null,null,null,null,null,null,""]
[null,"Tipo de Documento",null,null,null,null,null,null,null,null,null,null,null,null,null,null,null,null,null,null,null,null,null,null,null,null,null,null,null,null,null,null,null,""]
[null,{"$f":"IF(H5442<>\"\",\"N° de Documento\",\"\")","v":""},null,null,null,null,null,null,null,null,null,{"$f":"IF(H5442<>\"\",\"Fecha de Expedición\",\"\")","v":""},null,null,null,null,null,null,null,null,null,{"$f":"IF(H5442<>\"\",\"País de Expedición\",\"\")","v":""},null,null,null,null,null,null,null,null,null,null,null,""]
[null,null,null,null,null,null,null,null,null,null,null,null,null,null,null,null,null,null,null,null,null,null,null,null,null,null,null,null,null,null,null,null,null,""]
[null,{"$f":"IF(OR(H5440=\"Socio o Accionista\",H5440=\"Controlante\"),\"Tipo de Participación\",IF(H5440=\"\",\"\",\"\"))","v":""},null,null,null,null,null,null,null,{"$f":"IF(B5459=\"Conjunta\",\"Tipo de Documento\",IF(B5459=\"\",\"\",\"\"))","v":""},null,null,null,null,null,null,{"$f":"IF(B5459=\"Conjunta\",\"N° de Documento\",IF(B5459=\"\",\"\",\"\"))","v":""},null,null,null,null,null,null,{"$f":"IF(B5459=\"Conjunta\",\"Parentesco\",IF(B5459=\"\",\"\",\"\"))","v":""},null,null,null,null,null,null,null,null,null,""]
[null,null,null,null,null,null,null,null,null,null,null,null,null,null,null,null,null,null,null,null,null,null,null,null,null,null,null,null,null,null,null,null,null,""]
[null,null,null,null,null,null,null,null,null,null,null,null,null,null,null,null,null,null,null,null,null,null,null,null,null,null,null,null,null,null,null,null,null,{"$f":"IF($H$5474=\"\",\"\",\"1\")","v":""}]
[null,{"$f":"IF(H5476<>\"\",\"N° de Documento\",\"\")","v":""},null,null,null,null,null,null,null,null,null,{"$f":"IF(H5476<>\"\",\"Fecha de Expedición\",\"\")","v":""},null,null,null,null,null,null,null,null,null,{"$f":"IF(H5476<>\"\",\"País de Expedición\",\"\")","v":""},null,null,null,null,null,null,null,null,null,null,null,""]
[null,{"$f":"IF(OR(H5474=\"Socio o Accionista\",H5474=\"Fideicomitente\",H5474=\"Inversionista\",H5474=\"Beneficiario de Activos/Rendimientos/Utilidades\"),\"Participación en %\",IF(H5474=\"\",\"\",\"\"))","v":""},null,null,null,null,null,{"$f":"IF(H5476<>\"\",\"¿Es Persona Expuesta Politicamente?\",\"\")","v":""},null,null,null,null,null,null,null,null,null,{"$f":"IF(OR(H5476=\"NIT\",H5476=\"Fideicomiso/Fondo\",H5476=\"PJ No Residente\"),\"¿Emite acciones al portador?\",IF(H5476=\"\",\"\",\"\"))","v":""},null,null,null,null,null,null,null,{"$f":"IF(OR(H5476=\"NIT\",H5476=\"Fideicomiso/Fondo\",H5476=\"PJ No Residente\"),\"\",IF(H5476=\"\",\"\",\"Género\"))","v":""},null,null,null,null,null,null,null,""]
[null,{"$f":"IF(OR(H5474=\"Socio o Accionista\",H5474=\"Controlante\"),\"Tipo de Participación\",IF(H5474=\"\",\"\",\"\"))","v":""},null,null,null,null,null,null,null,{"$f":"IF(B5493=\"Conjunta\",\"Tipo de Documento\",IF(B5493=\"\",\"\",\"\"))","v":""},null,null,null,null,null,null,{"$f":"IF(B5493=\"Conjunta\",\"N° de Documento\",IF(B5493=\"\",\"\",\"\"))","v":""},null,null,null,null,null,null,{"$f":"IF(B5493=\"Conjunta\",\"Parentesco\",IF(B5493=\"\",\"\",\"\"))","v":""},null,null,null,null,null,null,null,null,null,""]
[null,null,null,null,null,null,null,null,null,null,null,null,null,null,null,null,null,null,null,null,null,null,null,null,null,null,null,null,null,null,null,null,null,""]
[null,{"$f":"IF(H5476<>\"\",\"2 -\",\"\")","v":""},null,null,null,null,null,null,null,null,null,null,null,null,null,null,{"$f":"IF(H5476<>\"\",\"2 -\",\"\")","v":""},null,null,null,null,null,null,null,null,null,null,null,null,null,null,null,null,""]
[null,"Tipo de Documento",null,null,null,null,null,null,null,null,null,null,null,null,null,null,null,null,null,null,null,null,null,null,null,null,null,null,null,null,null,null,null,""]
[null,{"$f":"IF(OR(H5510=\"NIT\",H5510=\"Fideicomiso/Fondo\",H5510=\"PJ No Residente\"),\"Razón Social\",\"\")","v":""},null,null,null,null,null,null,null,null,null,null,null,null,null,null,null,null,null,null,null,null,null,null,null,null,null,null,null,null,null,null,null,""]
[null,null,null,null,null,null,null,null,null,null,null,null,null,null,null,null,null,null,null,null,null,null,null,null,null,null,null,null,null,null,null,null,null,""]
[null,null,null,null,null,null,null,null,null,null,null,null,null,null,null,null,null,null,null,null,null,null,null,null,null,null,null,null,null,null,null,null,null,""]
[null,null,null,null,null,null,null,null,null,null,null,null,null,null,null,null,null,null,null,null,null,null,null,null,null,null,null,null,null,null,null,null,null,""]
[null,null,null,null,null,null,null,null,null,null,null,null,null,null,null,null,null,null,null,null,null,null,null,null,null,null,null,null,null,null,null,null,null,""]
[null,"Tipo de Documento",null,null,null,null,null,null,null,null,null,null,null,null,null,null,null,null,null,null,null,null,null,null,null,null,null,null,null,null,null,null,null,""]
[null,{"$f":"IF(OR(H5544=\"NIT\",H5544=\"Fideicomiso/Fondo\",H5544=\"PJ No Residente\"),\"\",IF(H5544=\"\",\"\",\"Fecha de Nacimiento\"))","v":""},null,null,null,null,null,null,null,null,null,{"$f":"IF(OR(H5544=\"NIT\",H5544=\"Fideicomiso/Fondo\",H5544=\"PJ No Residente\"),\"\",IF(H5544=\"\",\"\",\"País de nacimiento\"))","v":""},null,null,null,null,null,null,null,null,null,{"$f":"IF(OR(H5544=\"NIT\",H5544=\"Fideicomiso/Fondo\",H5544=\"PJ No Residente\"),\"\",IF(H5544=\"\",\"\",\"Nacionalidad\"))","v":""},null,null,null,null,null,null,null,null,null,null,null,""]
[null,{"$f":"IF(OR(H5542=\"Socio o Accionista\",H5542=\"Controlante\"),\"Tipo de Participación\",IF(H5542=\"\",\"\",\"\"))","v":""},null,null,null,null,null,null,null,{"$f":"IF(B5561=\"Conjunta\",\"Tipo de Documento\",IF(B5561=\"\",\"\",\"\"))","v":""},null,null,null,null,null,null,{"$f":"IF(B5561=\"Conjunta\",\"N° de Documento\",IF(B5561=\"\",\"\",\"\"))","v":""},null,null,null,null,null,null,{"$f":"IF(B5561=\"Conjunta\",\"Parentesco\",IF(B5561=\"\",\"\",\"\"))","v":""},null,null,null,null,null,null,null,null,null,""]
[null,null,null,null,null,null,null,null,null,null,null,null,null,null,null,null,null,null,null,null,null,null,null,null,null,null,null,null,null,null,null,null,null,""]
["N2","Informe a cual de las Personas Jurídicas indicadas antes pertenece este relacionado",null,null,null,"Tipo de Documento",null,null,null,null,{"$f":"VLOOKUP(K5575,Hoja2!$A$485:$D$709,3,0)","v":{"$error":"#N/A"}},null,null,null,null,null,null,null,"Número de Documento",null,null,null,null,{"$f":"VLOOKUP(K5575,Hoja2!$A$485:$D$709,4,0)","v":{"$error":"#N/A"}},null,null,null,null,null,null,null,null,null,""]
[null,null,null,null,null,null,null,null,null,null,null,null,null,null,null,null,null,null,null,null,null,null,null,null,null,null,null,null,null,null,null,null,null,""]
[null,{"$f":"IF(OR(H5578=\"NIT\",H5578=\"Fideicomiso/Fondo\",H5578=\"PJ No Residente\",H5578=\"\"),\"\",\"Primer Nombre\")","v":""},null,null,null,null,null,null,null,{"$f":"IF(OR(H5578=\"NIT\",H5578=\"Fideicomiso/Fondo\",H5578=\"PJ No Residente\",H5578=\"\"),\"\",\"Segundo Nombre\")","v":""},null,null,null,null,null,null,{"$f":"IF(OR(H5578=\"NIT\",H5578=\"Fideicomiso/Fondo\",H5578=\"PJ No Residente\",H5578=\"\"),\"\",\"Primer Apellido\")","v":""},null,null,null,null,null,null,{"$f":"IF(OR(H5578=\"NIT\",H5578=\"Fideicomiso/Fondo\",H5578=\"PJ No Residente\",H5578=\"\"),\"\",\"Segundo Apellido\")","v":""},null,null,null,null,null,null,null,null,null,""]
[null,{"$f":"IF(H5578<>\"\",\"Dirección de residencia\",\"\")","v":""},null,null,null,null,null,null,null,null,null,null,null,null,null,null,{"$f":"IF(H5578<>\"\",\"Correo electrónico\",\"\")","v":""},null,null,null,null,null,null,null,null,null,null,null,null,null,null,null,null,""]
[null,{"$f":"IF(OR(H5576=\"Socio o Accionista\",H5576=\"Controlante\"),\"Tipo de Participación\",IF(H5576=\"\",\"\",\"\"))","v":""},null,null,null,null,null,null,null,{"$f":"IF(B5595=\"Conjunta\",\"Tipo de Documento\",IF(B5595=\"\",\"\",\"\"))","v":""},null,null,null,null,null,null,{"$f":"IF(B5595=\"Conjunta\",\"N° de Documento\",IF(B5595=\"\",\"\",\"\"))","v":""},null,null,null,null,null,null,{"$f":"IF(B5595=\"Conjunta\",\"Parentesco\",IF(B5595=\"\",\"\",\"\"))","v":""},null,null,null,null,null,null,null,null,null,""]
[null,null,null,null,null,null,null,null,null,null,null,null,null,null,null,null,null,null,null,null,null,null,null,null,null,null,null,null,null,null,null,null,null,""]
[null,null,null,null,null,null,null,null,null,null,null,null,null,null,null,null,null,null,null,null,null,null,null,null,null,null,null,null,null,null,null,null,null,""]
[null,null,null,null,null,null,null,null,null,null,null,null,null,null,null,null,null,null,null,null,null,null,null,null,null,null,null,null,null,null,null,null,null,""]
[null,{"$f":"IF(H5612<>\"\",\"Pais de Residencia\",\"\")","v":""},null,null,null,null,null,null,null,null,null,{"$f":"IF(H5612<>\"\",\"Departamento de Residencia\",\"\")","v":""},null,null,null,null,null,null,null,null,null,{"$f":"IF(H5612<>\"\",\"Ciudad de Residencia\",\"\")","v":""},null,null,null,null,null,null,null,null,null,null,null,""]
[null,{"$f":"IF(H5612<>\"\",\"Dirección de residencia\",\"\")","v":""},null,null,null,null,null,null,null,null,null,null,null,null,null,null,{"$f":"IF(H5612<>\"\",\"Correo electrónico\",\"\")","v":""},null,null,null,null,null,null,null,null,null,null,null,null,null,null,null,null,""]
[null,{"$f":"IF(OR(H5610=\"Socio o Accionista\",H5610=\"Controlante\"),\"Tipo de Participación\",IF(H5610=\"\",\"\",\"\"))","v":""},null,null,null,null,null,null,null,{"$f":"IF(B5635=\"Conjunta\",\"Tipo de Documento\",IF(B5635=\"\",\"\",\"\"))","v":""},null,null,null,null,null,null,{"$f":"IF(B5635=\"Conjunta\",\"N° de Documento\",IF(B5635=\"\",\"\",\"\"))","v":""},null,null,null,null,null,null,{"$f":"IF(B5635=\"Conjunta\",\"Parentesco\",IF(B5635=\"\",\"\",\"\"))","v":""},null,null,null,null,null,null,null,null,null,""]
["N2","Informe a cual de las Personas Jurídicas indicadas antes pertenece este relacionado",null,null,null,"Tipo de Documento",null,null,null,null,{"$f":"VLOOKUP(K5643,Hoja2!$A$485:$D$709,3,0)","v":{"$error":"#N/A"}},null,null,null,null,null,null,null,"Número de Documento",null,null,null,null,{"$f":"VLOOKUP(K5643,Hoja2!$A$485:$D$709,4,0)","v":{"$error":"#N/A"}},null,null,null,null,null,null,null,null,null,""]
[119,"Tipo de Relación",null,null,null,null,null,null,null,null,null,null,null,null,null,null,null,null,null,null,null,null,null,null,null,null,null,null,null,null,null,null,null,""]
[null,null,null,null,null,null,null,null,null,null,null,null,null,null,null,null,null,null,null,null,null,null,null,null,null,null,null,null,null,null,null,null,null,""]
[null,null,null,null,null,null,null,null,null,null,null,null,null,null,null,null,null,null,null,null,null,null,null,null,null,null,null,null,null,null,null,null,null,""]
[null,null,null,null,null,null,null,null,null,null,null,null,null,null,null,null,null,null,null,null,null,null,null,null,null,null,null,null,null,null,null,null,null,""]
[null,{"$f":"IF(H5646<>\"\",\"1 -\",\"\")","v":""},null,null,null,null,null,null,null,null,null,null,null,null,null,null,{"$f":"IF(H5646<>\"\",\"1 -\",\"\")","v":""},null,null,null,null,null,null,null,null,null,null,null,null,null,null,null,null,{"$f":"IF($H$5610=\"\",\"\",\"1\")","v":""}]
[null,{"$f":"IF(H5680<>\"\",\"N° de Documento\",\"\")","v":""},null,null,null,null,null,null,null,null,null,{"$f":"IF(H5680<>\"\",\"Fecha de Expedición\",\"\")","v":""},null,null,null,null,null,null,null,null,null,{"$f":"IF(H5680<>\"\",\"País de Expedición\",\"\")","v":""},null,null,null,null,null,null,null,null,null,null,null,""]
[null,null,null,null,null,null,null,null,null,null,null,null,null,null,null,null,null,null,null,null,null,null,null,null,null,null,null,null,null,null,null,null,null,""]
[null,{"$f":"IF(H5680<>\"\",\"Dirección de residencia\",\"\")","v":""},null,null,null,null,null,null,null,null,null,null,null,null,null,null,{"$f":"IF(H5680<>\"\",\"Correo electrónico\",\"\")","v":""},null,null,null,null,null,null,null,null,null,null,null,null,null,null,null,null,""]
[null,null,null,null,null,null,null,null,null,null,null,null,null,null,null,null,null,null,null,null,null,null,null,null,null,null,null,null,null,null,null,null,null,""]
[null,null,null,null,null,null,null,null,null,null,null,null,null,null,null,null,null,null,null,null,null,null,null,null,null,null,null,null,null,null,null,null,null,""]
[121,"Tipo de Relación",null,null,null,null,null,null,null,null,null,null,null,null,null,null,null,null,null,null,null,null,null,null,null,null,null,null,null,null,null,null,null,""]
[null,{"$f":"IF(H5714<>\"\",\"N° de Documento\",\"\")","v":""},null,null,null,null,null,null,null,null,null,{"$f":"IF(H5714<>\"\",\"Fecha de Expedición\",\"\")","v":""},null,null,null,null,null,null,null,null,null,{"$f":"IF(H5714<>\"\",\"País de Expedición\",\"\")","v":""},null,null,null,null,null,null,null,null,null,null,null,""]
[null,null,null,null,null,null,null,null,null,null,null,null,null,null,null,null,null,null,null,null,null,null,null,null,null,null,null,null,null,null,null,null,null,""]
[null,null,null,null,null,null,null,null,null,null,null,null,null,null,null,null,null,null,null,null,null,null,null,null,null,null,null,null,null,null,null,null,null,""]
[null,null,null,null,null,null,null,null,null,null,null,null,null,null,null,null,null,null,null,null,null,null,null,null,null,null,null,null,null,null,null,null,null,""]
[null,null,null,null,null,null,null,null,null,null,null,null,null,null,null,null,null,null,null,null,null,null,null,null,null,null,null,null,null,null,null,null,null,""]
[null,null,null,null,null,"Razón Social",null,null,null,null,null,null,null,null,null,null,null,null,null,null,null,null,null,null,null,null,null,null,null,null,null,null,null,""]
[null,null,null,null,null,null,null,null,null,null,null,null,null,null,null,null,null,null,null,null,null,null,null,null,null,null,null,null,null,null,null,null,null,""]
[null,null,null,null,null,null,null,null,null,null,null,null,null,null,null,null,null,null,null,null,null,null,null,null,null,null,null,null,null,null,null,null,null,""]
[null,null,null,null,null,null,null,null,null,null,null,null,null,null,null,null,null,null,null,null,null,null,null,null,null,null,null,null,null,null,null,null,null,""]
[null,{"$f":"IF(H5748<>\"\",\"País de Expedición del NIT\",\"\")","v":""},null,null,null,null,null,null,null,null,null,null,null,null,null,null,{"$f":"IF(H5748<>\"\",\"N° de Identificación Tributario\",\"\")","v":""},null,null,null,null,null,null,null,null,null,null,null,null,null,null,null,null,""]
[null,"Tipo de Documento",null,null,null,null,null,null,null,null,null,null,null,null,null,null,null,null,null,null,null,null,null,null,null,null,null,null,null,null,null,null,null,""]
[null,{"$f":"IF(OR(H5782=\"NIT\",H5782=\"Fideicomiso/Fondo\",H5782=\"PJ No Residente\"),\"Razón Social\",\"\")","v":""},null,null,null,null,null,null,null,null,null,null,null,null,null,null,null,null,null,null,null,null,null,null,null,null,null,null,null,null,null,null,null,""]
[null,null,null,null,null,null,null,null,null,null,null,null,null,null,null,null,null,null,null,null,null,null,null,null,null,null,null,null,null,null,null,null,null,""]
[null,null,null,null,null,null,null,null,null,null,null,null,null,null,null,null,null,null,null,null,null,null,null,null,null,null,null,null,null,null,null,null,null,""]
[null,null,null,null,null,null,null,null,null,null,null,null,null,null,null,null,null,null,null,null,null,null,null,null,null,null,null,null,null,null,null,null,null,""]
[null,null,null,null,null,null,null,null,null,null,null,null,null,null,null,null,null,null,null,null,null,null,null,null,null,null,null,null,null,null,null,null,null,{"$f":"IF($H$5814=\"\",\"\",\"1\")","v":""}]
[null,null,null,null,null,null,null,null,null,null,null,null,null,null,null,null,null,null,null,null,null,null,null,null,null,null,null,null,null,null,null,null,null,""]
[null,{"$f":"IF(OR(H5814=\"Socio o Accionista\",H5814=\"Fideicomitente\",H5814=\"Inversionista\",H5814=\"Beneficiario de Activos/Rendimientos/Utilidades\"),\"Participación en %\",IF(H5814=\"\",\"\",\"\"))","v":""},null,null,null,null,null,{"$f":"IF(H5816<>\"\",\"¿Es Persona Expuesta Politicamente?\",\"\")","v":""},null,null,null,null,null,null,null,null,null,{"$f":"IF(OR(H5816=\"NIT\",H5816=\"Fideicomiso/Fondo\",H5816=\"PJ No Residente\"),\"¿Emite acciones al portador?\",IF(H5816=\"\",\"\",\"\"))","v":""},null,null,null,null,null,null,null,{"$f":"IF(OR(H5816=\"NIT\",H5816=\"Fideicomiso/Fondo\",H5816=\"PJ No Residente\"),\"\",IF(H5816=\"\",\"\",\"Género\"))","v":""},null,null,null,null,null,null,null,""]
[null,{"$f":"IF(OR(H5814=\"Socio o Accionista\",H5814=\"Controlante\"),\"Tipo de Participación\",IF(H5814=\"\",\"\",\"\"))","v":""},null,null,null,null,null,null,null,{"$f":"IF(B5833=\"Conjunta\",\"Tipo de Documento\",IF(B5833=\"\",\"\",\"\"))","v":""},null,null,null,null,null,null,{"$f":"IF(B5833=\"Conjunta\",\"N° de Documento\",IF(B5833=\"\",\"\",\"\"))","v":""},null,null,null,null,null,null,{"$f":"IF(B5833=\"Conjunta\",\"Parentesco\",IF(B5833=\"\",\"\",\"\"))","v":""},null,null,null,null,null,null,null,null,null,""]
[null,null,null,null,null,null,null,null,null,null,null,null,null,null,null,null,null,null,null,null,null,null,null,null,null,null,null,null,null,null,null,null,null,""]
[null,{"$f":"IF(H5816<>\"\",\"2 -\",\"\")","v":""},null,null,null,null,null,null,null,null,null,null,null,null,null,null,{"$f":"IF(H5816<>\"\",\"2 -\",\"\")","v":""},null,null,null,null,null,null,null,null,null,null,null,null,null,null,null,null,""]
[null,null,null,null,null,null,null,null,null,null,null,null,null,null,null,null,null,null,null,null,null,null,null,null,null,null,null,null,null,null,null,null,null,""]
[null,{"$f":"IF(OR(H5850=\"NIT\",H5850=\"Fideicomiso/Fondo\",H5850=\"PJ No Residente\"),\"Razón Social\",\"\")","v":""},null,null,null,null,null,null,null,null,null,null,null,null,null,null,null,null,null,null,null,null,null,null,null,null,null,null,null,null,null,null,null,""]
[null,{"$f":"IF(H5850<>\"\",\"Dirección de residencia\",\"\")","v":""},null,null,null,null,null,null,null,null,null,null,null,null,null,null,{"$f":"IF(H5850<>\"\",\"Correo electrónico\",\"\")","v":""},null,null,null,null,null,null,null,null,null,null,null,null,null,null,null,null,""]
[null,{"$f":"IF(OR(H5848=\"Socio o Accionista\",H5848=\"Controlante\"),\"Tipo de Participación\",IF(H5848=\"\",\"\",\"\"))","v":""},null,null,null,null,null,null,null,{"$f":"IF(B5867=\"Conjunta\",\"Tipo de Documento\",IF(B5867=\"\",\"\",\"\"))","v":""},null,null,null,null,null,null,{"$f":"IF(B5867=\"Conjunta\",\"N° de Documento\",IF(B5867=\"\",\"\",\"\"))","v":""},null,null,null,null,null,null,{"$f":"IF(B5867=\"Conjunta\",\"Parentesco\",IF(B5867=\"\",\"\",\"\"))","v":""},null,null,null,null,null,null,null,null,null,""]
[null,null,null,null,null,null,null,null,null,null,null,null,null,null,null,null,null,null,null,null,null,null,null,null,null,null,null,null,null,null,null,null,null,""]
["N2","Informe a cual de las Personas Jurídicas indicadas antes pertenece este relacionado",null,null,null,"Tipo de Documento",null,null,null,null,{"$f":"VLOOKUP(K5881,Hoja2!$A$485:$D$709,3,0)","v":{"$error":"#N/A"}},null,null,null,null,null,null,null,"Número de Documento",null,null,null,null,{"$f":"VLOOKUP(K5881,Hoja2!$A$485:$D$709,4,0)","v":{"$error":"#N/A"}},null,null,null,null,null,null,null,null,null,{"$f":"IF($H$5882=\"\",\"\",\"1\")","v":""}]
[null,"Tipo de Documento",null,null,null,null,null,null,null,null,null,null,null,null,null,null,null,null,null,null,null,null,null,null,null,null,null,null,null,null,null,null,null,""]
[null,{"$f":"IF(OR(H5884=\"NIT\",H5884=\"Fideicomiso/Fondo\",H5884=\"PJ No Residente\"),\"\",IF(H5884=\"\",\"\",\"Fecha de Nacimiento\"))","v":""},null,null,null,null,null,null,null,null,null,{"$f":"IF(OR(H5884=\"NIT\",H5884=\"Fideicomiso/Fondo\",H5884=\"PJ No Residente\"),\"\",IF(H5884=\"\",\"\",\"País de nacimiento\"))","v":""},null,null,null,null,null,null,null,null,null,{"$f":"IF(OR(H5884=\"NIT\",H5884=\"Fideicomiso/Fondo\",H5884=\"PJ No Residente\"),\"\",IF(H5884=\"\",\"\",\"Nacionalidad\"))","v":""},null,null,null,null,null,null,null,null,null,null,null,""]
[null,null,null,null,null,null,null,null,null,null,null,null,null,null,null,null,null,null,null,null,null,null,null,null,null,null,null,null,null,null,null,null,null,""]
[null,null,null,null,null,null,null,null,null,null,null,null,null,null,null,null,null,null,null,null,null,null,null,null,null,null,null,null,null,null,null,null,null,""]
["N2","Informe a cual de las Personas Jurídicas indicadas antes pertenece este relacionado",null,null,null,"Tipo de Documento",null,null,null,null,{"$f":"VLOOKUP(K5915,Hoja2!$A$485:$D$709,3,0)","v":{"$error":"#N/A"}},null,null,null,null,null,null,null,"Número de Documento",null,null,null,null,{"$f":"VLOOKUP(K5915,Hoja2!$A$485:$D$709,4,0)","v":{"$error":"#N/A"}},null,null,null,null,null,null,null,null,null,""]
[null,null,null,null,null,null,null,null,null,null,null,null,null,null,null,null,null,null,null,null,null,null,null,null,null,null,null,null,null,null,null,null,null,""]
[null,null,null,null,null,null,null,null,null,null,null,null,null,null,null,null,null,null,null,null,null,null,null,null,null,null,null,null,null,null,null,null,null,""]
[null,null,null,null,null,null,null,null,null,null,null,null,null,null,null,null,null,null,null,null,null,null,null,null,null,null,null,null,null,null,null,null,null,""]
[null,{"$f":"IF(OR(H5916=\"Socio o Accionista\",H5916=\"Controlante\"),\"Tipo de Participación\",IF(H5916=\"\",\"\",\"\"))","v":""},null,null,null,null,null,null,null,{"$f":"IF(B5935=\"Conjunta\",\"Tipo de Documento\",IF(B5935=\"\",\"\",\"\"))","v":""},null,null,null,null,null,null,{"$f":"IF(B5935=\"Conjunta\",\"N° de Documento\",IF(B5935=\"\",\"\",\"\"))","v":""},null,null,null,null,null,null,{"$f":"IF(B5935=\"Conjunta\",\"Parentesco\",IF(B5935=\"\",\"\",\"\"))","v":""},null,null,null,null,null,null,null,null,null,""]
[null,{"$f":"IF(OR(H5916=\"Socio o Accionista\",H5916=\"Controlante\"),\"Tipo de Participación\",IF(H5916=\"\",\"\",\"\"))","v":""},null,null,null,null,null,null,null,{"$f":"IF(B5941=\"Conjunta\",\"Tipo de Documento\",IF(B5941=\"\",\"\",\"\"))","v":""},null,null,null,null,null,null,{"$f":"IF(B5941=\"Conjunta\",\"N° de Documento\",IF(B5941=\"\",\"\",\"\"))","v":""},null,null,null,null,null,null,{"$f":"IF(B5941=\"Conjunta\",\"Parentesco\",IF(B5941=\"\",\"\",\"\"))","v":""},null,null,null,null,null,null,null,null,null,""]
["N2","Informe a cual de las Personas Jurídicas indicadas antes pertenece este relacionado",null,null,null,"Tipo de Documento",null,null,null,null,{"$f":"VLOOKUP(K5949,Hoja2!$A$485:$D$709,3,0)","v":{"$error":"#N/A"}},null,null,null,null,null,null,null,"Número de Documento",null,null,null,null,{"$f":"VLOOKUP(K5949,Hoja2!$A$485:$D$709,4,0)","v":{"$error":"#N/A"}},null,null,null,null,null,null,null,null,null,{"$f":"IF($H$5950=\"\",\"\",\"1\")","v":""}]
[null,null,null,null,null,null,null,null,null,null,null,null,null,null,null,null,null,null,null,null,null,null,null,null,null,null,null,null,null,null,null,null,null,""]
[null,{"$f":"IF(OR(H5950=\"Socio o Accionista\",H5950=\"Fideicomitente\",H5950=\"Inversionista\",H5950=\"Beneficiario de Activos/Rendimientos/Utilidades\"),\"Participación en %\",IF(H5950=\"\",\"\",\"\"))","v":""},null,null,null,null,null,{"$f":"IF(H5952<>\"\",\"¿Es Persona Expuesta Politicamente?\",\"\")","v":""},null,null,null,null,null,null,null,null,null,{"$f":"IF(OR(H5952=\"NIT\",H5952=\"Fideicomiso/Fondo\",H5952=\"PJ No Residente\"),\"¿Emite acciones al portador?\",IF(H5952=\"\",\"\",\"\"))","v":""},null,null,null,null,null,null,null,{"$f":"IF(OR(H5952=\"NIT\",H5952=\"Fideicomiso/Fondo\",H5952=\"PJ No Residente\"),\"\",IF(H5952=\"\",\"\",\"Género\"))","v":""},null,null,null,null,null,null,null,""]
[null,null,null,null,null,null,null,null,null,null,null,null,null,null,null,null,null,null,null,null,null,null,null,null,null,null,null,null,null,null,null,null,null,""]
[null,{"$f":"IF(OR(H5950=\"Socio o Accionista\",H5950=\"Controlante\"),\"Tipo de Participación\",IF(H5950=\"\",\"\",\"\"))","v":""},null,null,null,null,null,null,null,{"$f":"IF(B5975=\"Conjunta\",\"Tipo de Documento\",IF(B5975=\"\",\"\",\"\"))","v":""},null,null,null,null,null,null,{"$f":"IF(B5975=\"Conjunta\",\"N° de Documento\",IF(B5975=\"\",\"\",\"\"))","v":""},null,null,null,null,null,null,{"$f":"IF(B5975=\"Conjunta\",\"Parentesco\",IF(B5975=\"\",\"\",\"\"))","v":""},null,null,null,null,null,null,null,null,null,""]
[null,{"$f":"IF(H5952<>\"\",\"1 -\",\"\")","v":""},null,null,null,null,null,null,null,null,null,null,null,null,null,null,{"$f":"IF(H5952<>\"\",\"1 -\",\"\")","v":""},null,null,null,null,null,null,null,null,null,null,null,null,null,null,null,null,""]
[null,null,null,null,null,null,null,null,null,null,null,null,null,null,null,null,null,null,null,null,null,null,null,null,null,null,null,null,null,null,null,null,null,""]
[null,null,null,null,null,null,null,null,null,null,null,null,null,null,null,null,null,null,null,null,null,null,null,null,null,null,null,null,null,null,null,null,null,""]
[null,{"$f":"IF(H5986<>\"\",\"Pais de Residencia\",\"\")","v":""},null,null,null,null,null,null,null,null,null,{"$f":"IF(H5986<>\"\",\"Departamento de Residencia\",\"\")","v":""},null,null,null,null,null,null,null,null,null,{"$f":"IF(H5986<>\"\",\"Ciudad de Residencia\",\"\")","v":""},null,null,null,null,null,null,null,null,null,null,null,""]
[null,{"$f":"IF(OR(H5984=\"Socio o Accionista\",H5984=\"Controlante\"),\"Tipo de Participación\",IF(H5984=\"\",\"\",\"\"))","v":""},null,null,null,null,null,null,null,{"$f":"IF(B6009=\"Conjunta\",\"Tipo de Documento\",IF(B6009=\"\",\"\",\"\"))","v":""},null,null,null,null,null,null,{"$f":"IF(B6009=\"Conjunta\",\"N° de Documento\",IF(B6009=\"\",\"\",\"\"))","v":""},null,null,null,null,null,null,{"$f":"IF(B6009=\"Conjunta\",\"Parentesco\",IF(B6009=\"\",\"\",\"\"))","v":""},null,null,null,null,null,null,null,null,null,""]
[null,null,null,null,null,null,null,null,null,null,null,null,null,null,null,null,null,null,null,null,null,null,null,null,null,null,null,null,null,null,null,null,null,""]
[null,{"$f":"IF(H6020<>\"\",\"N° de Documento\",\"\")","v":""},null,null,null,null,null,null,null,null,null,{"$f":"IF(H6020<>\"\",\"Fecha de Expedición\",\"\")","v":""},null,null,null,null,null,null,null,null,null,{"$f":"IF(H6020<>\"\",\"País de Expedición\",\"\")","v":""},null,null,null,null,null,null,null,null,null,null,null,""]
[null,{"$f":"IF(OR(H6018=\"Socio o Accionista\",H6018=\"Fideicomitente\",H6018=\"Inversionista\",H6018=\"Beneficiario de Activos/Rendimientos/Utilidades\"),\"Participación en %\",IF(H6018=\"\",\"\",\"\"))","v":""},null,null,null,null,null,{"$f":"IF(H6020<>\"\",\"¿Es Persona Expuesta Politicamente?\",\"\")","v":""},null,null,null,null,null,null,null,null,null,{"$f":"IF(OR(H6020=\"NIT\",H6020=\"Fideicomiso/Fondo\",H6020=\"PJ No Residente\"),\"¿Emite acciones al portador?\",IF(H6020=\"\",\"\",\"\"))","v":""},null,null,null,null,null,null,null,{"$f":"IF(OR(H6020=\"NIT\",H6020=\"Fideicomiso/Fondo\",H6020=\"PJ No Residente\"),\"\",IF(H6020=\"\",\"\",\"Género\"))","v":""},null,null,null,null,null,null,null,""]
[null,null,null,null,null,null,null,null,null,null,null,null,null,null,null,null,null,null,null,null,null,null,null,null,null,null,null,null,null,null,null,null,null,""]
[null,null,null,null,null,null,null,null,null,null,null,null,null,null,null,null,null,null,null,null,null,null,null,null,null,null,null,null,null,null,null,null,null,""]
[null,{"$f":"IF(H6020<>\"\",\"1 -\",\"\")","v":""},null,null,null,null,null,null,null,null,null,null,null,null,null,null,{"$f":"IF(H6020<>\"\",\"1 -\",\"\")","v":""},null,null,null,null,null,null,null,null,null,null,null,null,null,null,null,null,""]
[null,null,null,null,null,null,null,null,null,null,null,null,null,null,null,null,null,null,null,null,null,null,null,null,null,null,null,null,null,null,null,null,null,""]
[null,{"$f":"IF(H6054<>\"\",\"N° de Documento\",\"\")","v":""},null,null,null,null,null,null,null,null,null,{"$f":"IF(H6054<>\"\",\"Fecha de Expedición\",\"\")","v":""},null,null,null,null,null,null,null,null,null,{"$f":"IF(H6054<>\"\",\"País de Expedición\",\"\")","v":""},null,null,null,null,null,null,null,null,null,null,null,""]
[null,{"$f":"IF(H6054<>\"\",\"Pais de Residencia\",\"\")","v":""},null,null,null,null,null,null,null,null,null,{"$f":"IF(H6054<>\"\",\"Departamento de Residencia\",\"\")","v":""},null,null,null,null,null,null,null,null,null,{"$f":"IF(H6054<>\"\",\"Ciudad de Residencia\",\"\")","v":""},null,null,null,null,null,null,null,null,null,null,null,""]
[null,null,null,null,null,null,null,null,null,null,null,null,null,null,null,null,null,null,null,null,null,null,null,null,null,null,null,null,null,null,null,null,null,""]
[null,null,null,null,null,null,null,null,null,null,null,null,null,null,null,null,null,null,null,null,null,null,null,null,null,null,null,null,null,null,null,null,null,""]
[null,null,null,null,null,null,null,null,null,null,null,null,null,null,null,null,null,null,null,null,null,null,null,null,null,null,null,null,null,null,null,null,null,{"$f":"IF($H$6086=\"\",\"\",\"1\")","v":""}]
[null,"Tipo de Documento",null,null,null,null,null,null,null,null,null,null,null,null,null,null,null,null,null,null,null,null,null,null,null,null,null,null,null,null,null,null,null,""]
[null,{"$f":"IF(OR(H6086=\"Socio o Accionista\",H6086=\"Fideicomitente\",H6086=\"Inversionista\",H6086=\"Beneficiario de Activos/Rendimientos/Utilidades\"),\"Participación en %\",IF(H6086=\"\",\"\",\"\"))","v":""},null,null,null,null,null,{"$f":"IF(H6088<>\"\",\"¿Es Persona Expuesta Politicamente?\",\"\")","v":""},null,null,null,null,null,null,null,null,null,{"$f":"IF(OR(H6088=\"NIT\",H6088=\"Fideicomiso/Fondo\",H6088=\"PJ No Residente\"),\"¿Emite acciones al portador?\",IF(H6088=\"\",\"\",\"\"))","v":""},null,null,null,null,null,null,null,{"$f":"IF(OR(H6088=\"NIT\",H6088=\"Fideicomiso/Fondo\",H6088=\"PJ No Residente\"),\"\",IF(H6088=\"\",\"\",\"Género\"))","v":""},null,null,null,null,null,null,null,""]
[null,null,null,null,null,null,null,null,null,null,null,null,null,null,null,null,null,null,null,null,null,null,null,null,null,null,null,null,null,null,null,null,null,""]
[null,{"$f":"IF(OR(H6086=\"Socio o Accionista\",H6086=\"Controlante\"),\"Tipo de Participación\",IF(H6086=\"\",\"\",\"\"))","v":""},null,null,null,null,null,null,null,{"$f":"IF(B6108=\"Conjunta\",\"Tipo de Documento\",IF(B6108=\"\",\"\",\"\"))","v":""},null,null,null,null,null,null,{"$f":"IF(B6108=\"Conjunta\",\"N° de Documento\",IF(B6108=\"\",\"\",\"\"))","v":""},null,null,null,null,null,null,{"$f":"IF(B6108=\"Conjunta\",\"Parentesco\",IF(B6108=\"\",\"\",\"\"))","v":""},null,null,null,null,null,null,null,null,null,""]
[null,{"$f":"IF(H6088<>\"\",\"2 -\",\"\")","v":""},null,null,null,null,null,null,null,null,null,null,null,null,null,null,{"$f":"IF(H6088<>\"\",\"2 -\",\"\")","v":""},null,null,null,null,null,null,null,null,null,null,null,null,null,null,null,null,""]
[null,"Tipo de Documento",null,null,null,null,null,null,null,null,null,null,null,null,null,null,null,null,null,null,null,null,null,null,null,null,null,null,null,null,null,null,null,""]
[null,null,null,null,null,null,null,null,null,null,null,null,null,null,null,null,null,null,null,null,null,null,null,null,null,null,null,null,null,null,null,null,null,""]
[null,{"$f":"IF(H6122<>\"\",\"Dirección de residencia\",\"\")","v":""},null,null,null,null,null,null,null,null,null,null,null,null,null,null,{"$f":"IF(H6122<>\"\",\"Correo electrónico\",\"\")","v":""},null,null,null,null,null,null,null,null,null,null,null,null,null,null,null,null,""]
[null,null,null,null,null,null,null,null,null,null,null,null,null,null,null,null,null,null,null,null,null,null,null,null,null,null,null,null,null,null,null,null,null,""]
[null,null,null,null,null,null,null,null,null,null,null,null,null,null,null,null,null,null,null,null,null,null,null,null,null,null,null,null,null,null,null,null,null,""]
[null,{"$f":"IF(H6122<>\"\",\"2 -\",\"\")","v":""},null,null,null,null,null,null,null,null,null,null,null,null,null,null,{"$f":"IF(H6122<>\"\",\"2 -\",\"\")","v":""},null,null,null,null,null,null,null,null,null,null,null,null,null,null,null,null,""]
[null,"Tipo de Documento",null,null,null,null,null,null,null,null,null,null,null,null,null,null,null,null,null,null,null,null,null,null,null,null,null,null,null,null,null,null,null,""]
[null,{"$f":"IF(OR(H6156=\"NIT\",H6156=\"Fideicomiso/Fondo\",H6156=\"PJ No Residente\"),\"\",IF(H6156=\"\",\"\",\"Fecha de Nacimiento\"))","v":""},null,null,null,null,null,null,null,null,null,{"$f":"IF(OR(H6156=\"NIT\",H6156=\"Fideicomiso/Fondo\",H6156=\"PJ No Residente\"),\"\",IF(H6156=\"\",\"\",\"País de nacimiento\"))","v":""},null,null,null,null,null,null,null,null,null,{"$f":"IF(OR(H6156=\"NIT\",H6156=\"Fideicomiso/Fondo\",H6156=\"PJ No Residente\"),\"\",IF(H6156=\"\",\"\",\"Nacionalidad\"))","v":""},null,null,null,null,null,null,null,null,null,null,null,""]
[null,null,null,null,null,null,null,null,null,null,null,null,null,null,null,null,null,null,null,null,null,null,null,null,null,null,null,null,null,null,null,null,null,""]
[null,null,null,null,null,null,null,null,null,null,null,null,null,null,null,null,null,null,null,null,null,null,null,null,null,null,null,null,null,null,null,null,null,""]
["N2","Informe a cual de las Personas Jurídicas indicadas antes pertenece este relacionado",null,null,null,"Tipo de Documento",null,null,null,null,{"$f":"VLOOKUP(K6187,Hoja2!$A$485:$D$709,3,0)","v":{"$error":"#N/A"}},null,null,null,null,null,null,null,"Número de Documento",null,null,null,null,{"$f":"VLOOKUP(K6187,Hoja2!$A$485:$D$709,4,0)","v":{"$error":"#N/A"}},null,null,null,null,null,null,null,null,null,""]
[null,null,null,null,null,"Razón Social",null,null,null,null,null,null,null,null,null,null,null,null,null,null,null,null,null,null,null,null,null,null,null,null,null,null,null,""]
[null,null,null,null,null,null,null,null,null,null,null,null,null,null,null,null,null,null,null,null,null,null,null,null,null,null,null,null,null,null,null,null,null,""]
[null,{"$f":"IF(H6190<>\"\",\"Dirección de residencia\",\"\")","v":""},null,null,null,null,null,null,null,null,null,null,null,null,null,null,{"$f":"IF(H6190<>\"\",\"Correo electrónico\",\"\")","v":""},null,null,null,null,null,null,null,null,null,null,null,null,null,null,null,null,""]
[null,{"$f":"IF(OR(H6188=\"Socio o Accionista\",H6188=\"Controlante\"),\"Tipo de Participación\",IF(H6188=\"\",\"\",\"\"))","v":""},null,null,null,null,null,null,null,{"$f":"IF(B6207=\"Conjunta\",\"Tipo de Documento\",IF(B6207=\"\",\"\",\"\"))","v":""},null,null,null,null,null,null,{"$f":"IF(B6207=\"Conjunta\",\"N° de Documento\",IF(B6207=\"\",\"\",\"\"))","v":""},null,null,null,null,null,null,{"$f":"IF(B6207=\"Conjunta\",\"Parentesco\",IF(B6207=\"\",\"\",\"\"))","v":""},null,null,null,null,null,null,null,null,null,""]
[null,null,null,null,null,null,null,null,null,null,null,null,null,null,null,null,null,null,null,null,null,null,null,null,null,null,null,null,null,null,null,null,null,""]
[null,null,null,null,null,null,null,null,null,null,null,null,null,null,null,null,null,null,null,null,null,null,null,null,null,null,null,null,null,null,null,null,null,""]
[null,null,null,null,null,null,null,null,null,null,null,null,null,null,null,null,null,null,null,null,null,null,null,null,null,null,null,null,null,null,null,null,null,""]
[null,null,null,null,null,null,null,null,null,null,null,null,null,null,null,null,null,null,null,null,null,null,null,null,null,null,null,null,null,null,null,null,null,""]
[null,{"$f":"IF(H6224<>\"\",\"Dirección de residencia\",\"\")","v":""},null,null,null,null,null,null,null,null,null,null,null,null,null,null,{"$f":"IF(H6224<>\"\",\"Correo electrónico\",\"\")","v":""},null,null,null,null,null,null,null,null,null,null,null,null,null,null,null,null,""]
[null,{"$f":"IF(OR(H6222=\"Socio o Accionista\",H6222=\"Controlante\"),\"Tipo de Participación\",IF(H6222=\"\",\"\",\"\"))","v":""},null,null,null,null,null,null,null,{"$f":"IF(B6247=\"Conjunta\",\"Tipo de Documento\",IF(B6247=\"\",\"\",\"\"))","v":""},null,null,null,null,null,null,{"$f":"IF(B6247=\"Conjunta\",\"N° de Documento\",IF(B6247=\"\",\"\",\"\"))","v":""},null,null,null,null,null,null,{"$f":"IF(B6247=\"Conjunta\",\"Parentesco\",IF(B6247=\"\",\"\",\"\"))","v":""},null,null,null,null,null,null,null,null,null,""]
[null,null,null,null,null,"Razón Social",null,null,null,null,null,null,null,null,null,null,null,null,null,null,null,null,null,null,null,null,null,null,null,null,null,null,null,""]
[null,null,null,null,null,null,null,null,null,null,null,null,null,null,null,null,null,null,null,null,null,null,null,null,null,null,null,null,null,null,null,null,null,""]
[null,null,null,null,null,null,null,null,null,null,null,null,null,null,null,null,null,null,null,null,null,null,null,null,null,null,null,null,null,null,null,null,null,""]
[null,null,null,null,null,null,null,null,null,null,null,null,null,null,null,null,null,null,null,null,null,null,null,null,null,null,null,null,null,null,null,null,null,""]
[null,{"$f":"IF(OR(H6256=\"Socio o Accionista\",H6256=\"Controlante\"),\"Tipo de Participación\",IF(H6256=\"\",\"\",\"\"))","v":""},null,null,null,null,null,null,null,{"$f":"IF(B6275=\"Conjunta\",\"Tipo de Documento\",IF(B6275=\"\",\"\",\"\"))","v":""},null,null,null,null,null,null,{"$f":"IF(B6275=\"Conjunta\",\"N° de Documento\",IF(B6275=\"\",\"\",\"\"))","v":""},null,null,null,null,null,null,{"$f":"IF(B6275=\"Conjunta\",\"Parentesco\",IF(B6275=\"\",\"\",\"\"))","v":""},null,null,null,null,null,null,null,null,null,""]
[null,{"$f":"IF(H6258<>\"\",\"1 -\",\"\")","v":""},null,null,null,null,null,null,null,null,null,null,null,null,null,null,{"$f":"IF(H6258<>\"\",\"1 -\",\"\")","v":""},null,null,null,null,null,null,null,null,null,null,null,null,null,null,null,null,{"$f":"IF($H$6222=\"\",\"\",\"1\")","v":""}]
["N2","Informe a cual de las Personas Jurídicas indicadas antes pertenece este relacionado",null,null,null,"Tipo de Documento",null,null,null,null,{"$f":"VLOOKUP(K6289,Hoja2!$A$485:$D$709,3,0)","v":{"$error":"#N/A"}},null,null,null,null,null,null,null,"Número de Documento",null,null,null,null,{"$f":"VLOOKUP(K6289,Hoja2!$A$485:$D$709,4,0)","v":{"$error":"#N/A"}},null,null,null,null,null,null,null,null,null,{"$f":"IF($H$6290=\"\",\"\",\"1\")","v":""}]
[null,{"$f":"IF(H6292<>\"\",\"N° de Documento\",\"\")","v":""},null,null,null,null,null,null,null,null,null,{"$f":"IF(H6292<>\"\",\"Fecha de Expedición\",\"\")","v":""},null,null,null,null,null,null,null,null,null,{"$f":"IF(H6292<>\"\",\"País de Expedición\",\"\")","v":""},null,null,null,null,null,null,null,null,null,null,null,""]
[null,null,null,null,null,null,null,null,null,null,null,null,null,null,null,null,null,null,null,null,null,null,null,null,null,null,null,null,null,null,null,null,null,""]
[null,null,null,null,null,null,null,null,null,null,null,null,null,null,null,null,null,null,null,null,null,null,null,null,null,null,null,null,null,null,null,null,null,""]
[null,null,null,null,null,null,null,null,null,null,null,null,null,null,null,null,null,null,null,null,null,null,null,null,null,null,null,null,null,null,null,null,null,""]
[139,"Tipo de Relación",null,null,null,null,null,null,null,null,null,null,null,null,null,null,null,null,null,null,null,null,null,null,null,null,null,null,null,null,null,null,null,""]
[null,{"$f":"IF(H6326<>\"\",\"N° de Documento\",\"\")","v":""},null,null,null,null,null,null,null,null,null,{"$f":"IF(H6326<>\"\",\"Fecha de Expedición\",\"\")","v":""},null,null,null,null,null,null,null,null,null,{"$f":"IF(H6326<>\"\",\"País de Expedición\",\"\")","v":""},null,null,null,null,null,null,null,null,null,null,null,""]
[null,null,null,null,null,null,null,null,null,null,null,null,null,null,null,null,null,null,null,null,null,null,null,null,null,null,null,null,null,null,null,null,null,""]
[null,{"$f":"IF(OR(H6324=\"Socio o Accionista\",H6324=\"Controlante\"),\"Tipo de Participación\",IF(H6324=\"\",\"\",\"\"))","v":""},null,null,null,null,null,null,null,{"$f":"IF(B6343=\"Conjunta\",\"Tipo de Documento\",IF(B6343=\"\",\"\",\"\"))","v":""},null,null,null,null,null,null,{"$f":"IF(B6343=\"Conjunta\",\"N° de Documento\",IF(B6343=\"\",\"\",\"\"))","v":""},null,null,null,null,null,null,{"$f":"IF(B6343=\"Conjunta\",\"Parentesco\",IF(B6343=\"\",\"\",\"\"))","v":""},null,null,null,null,null,null,null,null,null,""]
[null,null,null,null,null,null,null,null,null,null,null,null,null,null,null,null,null,null,null,null,null,null,null,null,null,null,null,null,null,null,null,null,null,""]
[null,null,null,null,null,null,null,null,null,null,null,null,null,null,null,null,null,null,null,null,null,null,null,null,null,null,null,null,null,null,null,null,null,""]
[null,{"$f":"IF(H6360<>\"\",\"N° de Documento\",\"\")","v":""},null,null,null,null,null,null,null,null,null,{"$f":"IF(H6360<>\"\",\"Fecha de Expedición\",\"\")","v":""},null,null,null,null,null,null,null,null,null,{"$f":"IF(H6360<>\"\",\"País de Expedición\",\"\")","v":""},null,null,null,null,null,null,null,null,null,null,null,""]
[null,{"$f":"IF(OR(H6360=\"NIT\",H6360=\"Fideicomiso/Fondo\",H6360=\"PJ No Residente\",H6360=\"\"),\"\",\"Primer Nombre\")","v":""},null,null,null,null,null,null,null,{"$f":"IF(OR(H6360=\"NIT\",H6360=\"Fideicomiso/Fondo\",H6360=\"PJ No Residente\",H6360=\"\"),\"\",\"Segundo Nombre\")","v":""},null,null,null,null,null,null,{"$f":"IF(OR(H6360=\"NIT\",H6360=\"Fideicomiso/Fondo\",H6360=\"PJ No Residente\",H6360=\"\"),\"\",\"Primer Apellido\")","v":""},null,null,null,null,null,null,{"$f":"IF(OR(H6360=\"NIT\",H6360=\"Fideicomiso/Fondo\",H6360=\"PJ No Residente\",H6360=\"\"),\"\",\"Segundo Apellido\")","v":""},null,null,null,null,null,null,null,null,null,""]
[null,null,null,null,null,null,null,null,null,null,null,null,null,null,null,null,null,null,null,null,null,null,null,null,null,null,null,null,null,null,null,null,null,""]
[null,null,null,null,null,null,null,null,null,null,null,null,null,null,null,null,null,null,null,null,null,null,null,null,null,null,null,null,null,null,null,null,null,""]
[null,{"$f":"IF(H6360<>\"\",\"País de Expedición del NIT\",\"\")","v":""},null,null,null,null,null,null,null,null,null,null,null,null,null,null,{"$f":"IF(H6360<>\"\",\"N° de Identificación Tributario\",\"\")","v":""},null,null,null,null,null,null,null,null,null,null,null,null,null,null,null,null,""]
[null,null,null,null,null,null,null,null,null,null,null,null,null,null,null,null,null,null,null,null,null,null,null,null,null,null,null,null,null,null,null,null,null,""]
[null,{"$f":"IF(OR(H6394=\"NIT\",H6394=\"Fideicomiso/Fondo\",H6394=\"PJ No Residente\"),\"Razón Social\",\"\")","v":""},null,null,null,null,null,null,null,null,null,null,null,null,null,null,null,null,null,null,null,null,null,null,null,null,null,null,null,null,null,null,null,""]
[null,{"$f":"IF(OR(H6394=\"NIT\",H6394=\"Fideicomiso/Fondo\",H6394=\"PJ No Residente\"),\"\",IF(H6394=\"\",\"\",\"Fecha de Nacimiento\"))","v":""},null,null,null,null,null,null,null,null,null,{"$f":"IF(OR(H6394=\"NIT\",H6394=\"Fideicomiso/Fondo\",H6394=\"PJ No Residente\"),\"\",IF(H6394=\"\",\"\",\"País de nacimiento\"))","v":""},null,null,null,null,null,null,null,null,null,{"$f":"IF(OR(H6394=\"NIT\",H6394=\"Fideicomiso/Fondo\",H6394=\"PJ No Residente\"),\"\",IF(H6394=\"\",\"\",\"Nacionalidad\"))","v":""},null,null,null,null,null,null,null,null,null,null,null,""]
[null,null,null,null,null,null,null,null,null,null,null,null,null,null,null,null,null,null,null,null,null,null,null,null,null,null,null,null,null,null,null,null,null,""]
[null,null,null,null,null,null,null,null,null,null,null,null,null,null,null,null,null,null,null,null,null,null,null,null,null,null,null,null,null,null,null,null,null,""]
[null,null,null,null,null,null,null,null,null,null,null,null,null,null,null,null,null,null,null,null,null,null,null,null,null,null,null,null,null,null,null,null,null,""]
[null,"Tipo de Documento",null,null,null,null,null,null,null,null,null,null,null,null,null,null,null,null,null,null,null,null,null,null,null,null,null,null,null,null,null,null,null,""]
[null,{"$f":"IF(OR(H6426=\"Socio o Accionista\",H6426=\"Fideicomitente\",H6426=\"Inversionista\",H6426=\"Beneficiario de Activos/Rendimientos/Utilidades\"),\"Participación en %\",IF(H6426=\"\",\"\",\"\"))","v":""},null,null,null,null,null,{"$f":"IF(H6428<>\"\",\"¿Es Persona Expuesta Politicamente?\",\"\")","v":""},null,null,null,null,null,null,null,null,null,{"$f":"IF(OR(H6428=\"NIT\",H6428=\"Fideicomiso/Fondo\",H6428=\"PJ No Residente\"),\"¿Emite acciones al portador?\",IF(H6428=\"\",\"\",\"\"))","v":""},null,null,null,null,null,null,null,{"$f":"IF(OR(H6428=\"NIT\",H6428=\"Fideicomiso/Fondo\",H6428=\"PJ No Residente\"),\"\",IF(H6428=\"\",\"\",\"Género\"))","v":""},null,null,null,null,null,null,null,""]
[null,{"$f":"IF(H6428<>\"\",\"Dirección de residencia\",\"\")","v":""},null,null,null,null,null,null,null,null,null,null,null,null,null,null,{"$f":"IF(H6428<>\"\",\"Correo electrónico\",\"\")","v":""},null,null,null,null,null,null,null,null,null,null,null,null,null,null,null,null,""]
[null,null,null,null,null,null,null,null,null,null,null,null,null,null,null,null,null,null,null,null,null,null,null,null,null,null,null,null,null,null,null,null,null,""]
[null,{"$f":"IF(H6428<>\"\",\"2 -\",\"\")","v":""},null,null,null,null,null,null,null,null,null,null,null,null,null,null,{"$f":"IF(H6428<>\"\",\"2 -\",\"\")","v":""},null,null,null,null,null,null,null,null,null,null,null,null,null,null,null,null,""]
[null,null,null,null,null,null,null,null,null,null,null,null,null,null,null,null,null,null,null,null,null,null,null,null,null,null,null,null,null,null,null,null,null,""]
[null,null,null,null,null,null,null,null,null,null,null,null,null,null,null,null,null,null,null,null,null,null,null,null,null,null,null,null,null,null,null,null,null,""]
[null,{"$f":"IF(H6462<>\"\",\"Dirección de residencia\",\"\")","v":""},null,null,null,null,null,null,null,null,null,null,null,null,null,null,{"$f":"IF(H6462<>\"\",\"Correo electrónico\",\"\")","v":""},null,null,null,null,null,null,null,null,null,null,null,null,null,null,null,null,""]
[null,{"$f":"IF(OR(H6460=\"Socio o Accionista\",H6460=\"Controlante\"),\"Tipo de Participación\",IF(H6460=\"\",\"\",\"\"))","v":""},null,null,null,null,null,null,null,{"$f":"IF(B6479=\"Conjunta\",\"Tipo de Documento\",IF(B6479=\"\",\"\",\"\"))","v":""},null,null,null,null,null,null,{"$f":"IF(B6479=\"Conjunta\",\"N° de Documento\",IF(B6479=\"\",\"\",\"\"))","v":""},null,null,null,null,null,null,{"$f":"IF(B6479=\"Conjunta\",\"Parentesco\",IF(B6479=\"\",\"\",\"\"))","v":""},null,null,null,null,null,null,null,null,null,""]
[null,null,null,null,null,null,null,null,null,null,null,null,null,null,null,null,null,null,null,null,null,null,null,null,null,null,null,null,null,null,null,null,null,""]
[null,{"$f":"IF(H6462<>\"\",\"2 -\",\"\")","v":""},null,null,null,null,null,null,null,null,null,null,null,null,null,null,{"$f":"IF(H6462<>\"\",\"2 -\",\"\")","v":""},null,null,null,null,null,null,null,null,null,null,null,null,null,null,null,null,""]
[null,"Tipo de Documento",null,null,null,null,null,null,null,null,null,null,null,null,null,null,null,null,null,null,null,null,null,null,null,null,null,null,null,null,null,null,null,""]
[null,null,null,null,null,null,null,null,null,null,null,null,null,null,null,null,null,null,null,null,null,null,null,null,null,null,null,null,null,null,null,null,null,""]
[null,{"$f":"IF(H6496<>\"\",\"Dirección de residencia\",\"\")","v":""},null,null,null,null,null,null,null,null,null,null,null,null,null,null,{"$f":"IF(H6496<>\"\",\"Correo electrónico\",\"\")","v":""},null,null,null,null,null,null,null,null,null,null,null,null,null,null,null,null,""]
[null,null,null,null,null,null,null,null,null,null,null,null,null,null,null,null,null,null,null,null,null,null,null,null,null,null,null,null,null,null,null,null,null,""]
["N2","Informe a cual de las Personas Jurídicas indicadas antes pertenece este relacionado",null,null,null,"Tipo de Documento",null,null,null,null,{"$f":"VLOOKUP(K6527,Hoja2!$A$485:$D$709,3,0)","v":{"$error":"#N/A"}},null,null,null,null,null,null,null,"Número de Documento",null,null,null,null,{"$f":"VLOOKUP(K6527,Hoja2!$A$485:$D$709,4,0)","v":{"$error":"#N/A"}},null,null,null,null,null,null,null,null,null,""]
[145,"Tipo de Relación",null,null,null,null,null,null,null,null,null,null,null,null,null,null,null,null,null,null,null,null,null,null,null,null,null,null,null,null,null,null,null,""]
[null,null,null,null,null,null,null,null,null,null,null,null,null,null,null,null,null,null,null,null,null,null,null,null,null,null,null,null,null,null,null,null,null,""]
[null,{"$f":"IF(OR(H6530=\"NIT\",H6530=\"Fideicomiso/Fondo\",H6530=\"PJ No Residente\"),\"\",IF(H6530=\"\",\"\",\"Fecha de Nacimiento\"))","v":""},null,null,null,null,null,null,null,null,null,{"$f":"IF(OR(H6530=\"NIT\",H6530=\"Fideicomiso/Fondo\",H6530=\"PJ No Residente\"),\"\",IF(H6530=\"\",\"\",\"País de nacimiento\"))","v":""},null,null,null,null,null,null,null,null,null,{"$f":"IF(OR(H6530=\"NIT\",H6530=\"Fideicomiso/Fondo\",H6530=\"PJ No Residente\"),\"\",IF(H6530=\"\",\"\",\"Nacionalidad\"))","v":""},null,null,null,null,null,null,null,null,null,null,null,""]
[null,null,null,null,null,null,null,null,null,null,null,null,null,null,null,null,null,null,null,null,null,null,null,null,null,null,null,null,null,null,null,null,null,""]
[null,{"$f":"IF(H6530<>\"\",\"1 -\",\"\")","v":""},null,null,null,null,null,null,null,null,null,null,null,null,null,null,{"$f":"IF(H6530<>\"\",\"1 -\",\"\")","v":""},null,null,null,null,null,null,null,null,null,null,null,null,null,null,null,null,{"$f":"IF($H$6494=\"\",\"\",\"1\")","v":""}]
["N2","Informe a cual de las Personas Jurídicas indicadas antes pertenece este relacionado",null,null,null,"Tipo de Documento",null,null,null,null,{"$f":"VLOOKUP(K6561,Hoja2!$A$485:$D$709,3,0)","v":{"$error":"#N/A"}},null,null,null,null,null,null,null,"Número de Documento",null,null,null,null,{"$f":"VLOOKUP(K6561,Hoja2!$A$485:$D$709,4,0)","v":{"$error":"#N/A"}},null,null,null,null,null,null,null,null,null,{"$f":"IF($H$6562=\"\",\"\",\"1\")","v":""}]
[null,null,null,null,null,null,null,null,null,null,null,null,null,null,null,null,null,null,null,null,null,null,null,null,null,null,null,null,null,null,null,null,null,""]
[null,null,null,null,null,null,null,null,null,null,null,null,null,null,null,null,null,null,null,null,null,null,null,null,null,null,null,null,null,null,null,null,null,""]
[null,{"$f":"IF(H6564<>\"\",\"Dirección de residencia\",\"\")","v":""},null,null,null,null,null,null,null,null,null,null,null,null,null,null,{"$f":"IF(H6564<>\"\",\"Correo electrónico\",\"\")","v":""},null,null,null,null,null,null,null,null,null,null,null,null,null,null,null,null,""]
[null,{"$f":"IF(OR(H6562=\"Socio o Accionista\",H6562=\"Controlante\"),\"Tipo de Participación\",IF(H6562=\"\",\"\",\"\"))","v":""},null,null,null,null,null,null,null,{"$f":"IF(B6587=\"Conjunta\",\"Tipo de Documento\",IF(B6587=\"\",\"\",\"\"))","v":""},null,null,null,null,null,null,{"$f":"IF(B6587=\"Conjunta\",\"N° de Documento\",IF(B6587=\"\",\"\",\"\"))","v":""},null,null,null,null,null,null,{"$f":"IF(B6587=\"Conjunta\",\"Parentesco\",IF(B6587=\"\",\"\",\"\"))","v":""},null,null,null,null,null,null,null,null,null,""]
[null,{"$f":"IF(H6564<>\"\",\"País de Expedición del NIT\",\"\")","v":""},null,null,null,null,null,null,null,null,null,null,null,null,null,null,{"$f":"IF(H6564<>\"\",\"N° de Identificación Tributario\",\"\")","v":""},null,null,null,null,null,null,null,null,null,null,null,null,null,null,null,null,""]
[null,null,null,null,null,null,null,null,null,null,null,null,null,null,null,null,null,null,null,null,null,null,null,null,null,null,null,null,null,null,null,null,null,""]
[null,null,null,null,null,null,null,null,null,null,null,null,null,null,null,null,null,null,null,null,null,null,null,null,null,null,null,null,null,null,null,null,null,""]
[null,null,null,null,null,null,null,null,null,null,null,null,null,null,null,null,null,null,null,null,null,null,null,null,null,null,null,null,null,null,null,null,null,""]
[null,{"$f":"IF(OR(H6596=\"Socio o Accionista\",H6596=\"Controlante\"),\"Tipo de Participación\",IF(H6596=\"\",\"\",\"\"))","v":""},null,null,null,null,null,null,null,{"$f":"IF(B6618=\"Conjunta\",\"Tipo de Documento\",IF(B6618=\"\",\"\",\"\"))","v":""},null,null,null,null,null,null,{"$f":"IF(B6618=\"Conjunta\",\"N° de Documento\",IF(B6618=\"\",\"\",\"\"))","v":""},null,null,null,null,null,null,{"$f":"IF(B6618=\"Conjunta\",\"Parentesco\",IF(B6618=\"\",\"\",\"\"))","v":""},null,null,null,null,null,null,null,null,null,""]
[null,null,null,null,null,null,null,null,null,null,null,null,null,null,null,null,null,null,null,null,null,null,null,null,null,null,null,null,null,null,null,null,null,""]
[null,null,null,null,null,null,null,null,null,null,null,null,null,null,null,null,null,null,null,null,null,null,null,null,null,null,null,null,null,null,null,null,null,""]
[null,{"$f":"IF(OR(H6632=\"NIT\",H6632=\"Fideicomiso/Fondo\",H6632=\"PJ No Residente\",H6632=\"\"),\"\",\"Primer Nombre\")","v":""},null,null,null,null,null,null,null,{"$f":"IF(OR(H6632=\"NIT\",H6632=\"Fideicomiso/Fondo\",H6632=\"PJ No Residente\",H6632=\"\"),\"\",\"Segundo Nombre\")","v":""},null,null,null,null,null,null,{"$f":"IF(OR(H6632=\"NIT\",H6632=\"Fideicomiso/Fondo\",H6632=\"PJ No Residente\",H6632=\"\"),\"\",\"Primer Apellido\")","v":""},null,null,null,null,null,null,{"$f":"IF(OR(H6632=\"NIT\",H6632=\"Fideicomiso/Fondo\",H6632=\"PJ No Residente\",H6632=\"\"),\"\",\"Segundo Apellido\")","v":""},null,null,null,null,null,null,null,null,null,""]
[null,null,null,null,null,null,null,null,null,null,null,null,null,null,null,null,null,null,null,null,null,null,null,null,null,null,null,null,null,null,null,null,null,""]
[null,null,null,null,null,null,null,null,null,null,null,null,null,null,null,null,null,null,null,null,null,null,null,null,null,null,null,null,null,null,null,null,null,""]
[null,{"$f":"IF(H6632<>\"\",\"País de Expedición del NIT\",\"\")","v":""},null,null,null,null,null,null,null,null,null,null,null,null,null,null,{"$f":"IF(H6632<>\"\",\"N° de Identificación Tributario\",\"\")","v":""},null,null,null,null,null,null,null,null,null,null,null,null,null,null,null,null,""]
[149,"Tipo de Relación",null,null,null,null,null,null,null,null,null,null,null,null,null,null,null,null,null,null,null,null,null,null,null,null,null,null,null,null,null,null,null,""]
[null,{"$f":"IF(H6666<>\"\",\"N° de Documento\",\"\")","v":""},null,null,null,null,null,null,null,null,null,{"$f":"IF(H6666<>\"\",\"Fecha de Expedición\",\"\")","v":""},null,null,null,null,null,null,null,null,null,{"$f":"IF(H6666<>\"\",\"País de Expedición\",\"\")","v":""},null,null,null,null,null,null,null,null,null,null,null,""]
[null,null,null,null,null,null,null,null,null,null,null,null,null,null,null,null,null,null,null,null,null,null,null,null,null,null,null,null,null,null,null,null,null,""]
[null,null,null,null,null,null,null,null,null,null,null,null,null,null,null,null,null,null,null,null,null,null,null,null,null,null,null,null,null,null,null,null,null,""]
[null,null,null,null,null,null,null,null,null,null,null,null,null,null,null,null,null,null,null,null,null,null,null,null,null,null,null,null,null,null,null,null,null,""]
["N2","Informe a cual de las Personas Jurídicas indicadas antes pertenece este relacionado",null,null,null,"Tipo de Documento",null,null,null,null,{"$f":"VLOOKUP(K6697,Hoja2!$A$485:$D$709,3,0)","v":{"$error":"#N/A"}},null,null,null,null,null,null,null,"Número de Documento",null,null,null,null,{"$f":"VLOOKUP(K6697,Hoja2!$A$485:$D$709,4,0)","v":{"$error":"#N/A"}},null,null,null,null,null,null,null,null,null,{"$f":"IF($H$6698=\"\",\"\",\"1\")","v":""}]
[150,"Tipo de Relación",null,null,null,null,null,null,null,null,null,null,null,null,null,null,null,null,null,null,null,null,null,null,null,null,null,null,null,null,null,null,null,""]
[null,{"$f":"IF(OR(H6698=\"Socio o Accionista\",H6698=\"Fideicomitente\",H6698=\"Inversionista\",H6698=\"Beneficiario de Activos/Rendimientos/Utilidades\"),\"Participación en %\",IF(H6698=\"\",\"\",\"\"))","v":""},null,null,null,null,null,{"$f":"IF(H6700<>\"\",\"¿Es Persona Expuesta Politicamente?\",\"\")","v":""},null,null,null,null,null,null,null,null,null,{"$f":"IF(OR(H6700=\"NIT\",H6700=\"Fideicomiso/Fondo\",H6700=\"PJ No Residente\"),\"¿Emite acciones al portador?\",IF(H6700=\"\",\"\",\"\"))","v":""},null,null,null,null,null,null,null,{"$f":"IF(OR(H6700=\"NIT\",H6700=\"Fideicomiso/Fondo\",H6700=\"PJ No Residente\"),\"\",IF(H6700=\"\",\"\",\"Género\"))","v":""},null,null,null,null,null,null,null,""]
[null,{"$f":"IF(H6700<>\"\",\"Pais de Residencia\",\"\")","v":""},null,null,null,null,null,null,null,null,null,{"$f":"IF(H6700<>\"\",\"Departamento de Residencia\",\"\")","v":""},null,null,null,null,null,null,null,null,null,{"$f":"IF(H6700<>\"\",\"Ciudad de Residencia\",\"\")","v":""},null,null,null,null,null,null,null,null,null,null,null,""]
[null,null,null,null,null,null,null,null,null,null,null,null,null,null,null,null,null,null,null,null,null,null,null,null,null,null,null,null,null,null,null,null,null,""]
[null,{"$f":"IF(H6700<>\"\",\"2 -\",\"\")","v":""},null,null,null,null,null,null,null,null,null,null,null,null,null,null,{"$f":"IF(H6700<>\"\",\"2 -\",\"\")","v":""},null,null,null,null,null,null,null,null,null,null,null,null,null,null,null,null,""]
[null,null,null,null,null,null,null,null,null,null,null,null,null,null,null,null,null,null,null,null,null,null,null,null,null,null,null,null,null,null,null,null,null,""]
[null,{"$f":"IF(OR(H6734=\"NIT\",H6734=\"Fideicomiso/Fondo\",H6734=\"PJ No Residente\"),\"Razón Social\",\"\")","v":""},null,null,null,null,null,null,null,null,null,null,null,null,null,null,null,null,null,null,null,null,null,null,null,null,null,null,null,null,null,null,null,""]
[null,{"$f":"IF(OR(H6732=\"Socio o Accionista\",H6732=\"Fideicomitente\",H6732=\"Inversionista\",H6732=\"Beneficiario de Activos/Rendimientos/Utilidades\"),\"Participación en %\",IF(H6732=\"\",\"\",\"\"))","v":""},null,null,null,null,null,{"$f":"IF(H6734<>\"\",\"¿Es Persona Expuesta Politicamente?\",\"\")","v":""},null,null,null,null,null,null,null,null,null,{"$f":"IF(OR(H6734=\"NIT\",H6734=\"Fideicomiso/Fondo\",H6734=\"PJ No Residente\"),\"¿Emite acciones al portador?\",IF(H6734=\"\",\"\",\"\"))","v":""},null,null,null,null,null,null,null,{"$f":"IF(OR(H6734=\"NIT\",H6734=\"Fideicomiso/Fondo\",H6734=\"PJ No Residente\"),\"\",IF(H6734=\"\",\"\",\"Género\"))","v":""},null,null,null,null,null,null,null,""]
[null,null,null,null,null,null,null,null,null,null,null,null,null,null,null,null,null,null,null,null,null,null,null,null,null,null,null,null,null,null,null,null,null,""]
[null,{"$f":"IF(OR(H6732=\"Socio o Accionista\",H6732=\"Controlante\"),\"Tipo de Participación\",IF(H6732=\"\",\"\",\"\"))","v":""},null,null,null,null,null,null,null,{"$f":"IF(B6757=\"Conjunta\",\"Tipo de Documento\",IF(B6757=\"\",\"\",\"\"))","v":""},null,null,null,null,null,null,{"$f":"IF(B6757=\"Conjunta\",\"N° de Documento\",IF(B6757=\"\",\"\",\"\"))","v":""},null,null,null,null,null,null,{"$f":"IF(B6757=\"Conjunta\",\"Parentesco\",IF(B6757=\"\",\"\",\"\"))","v":""},null,null,null,null,null,null,null,null,null,""]
[null,null,null,null,null,"Razón Social",null,null,null,null,null,null,null,null,null,null,null,null,null,null,null,null,null,null,null,null,null,null,null,null,null,null,null,""]
[null,"Tipo de Documento",null,null,null,null,null,null,null,null,null,null,null,null,null,null,null,null,null,null,null,null,null,null,null,null,null,null,null,null,null,null,null,""]
[null,{"$f":"IF(OR(H6766=\"Socio o Accionista\",H6766=\"Fideicomitente\",H6766=\"Inversionista\",H6766=\"Beneficiario de Activos/Rendimientos/Utilidades\"),\"Participación en %\",IF(H6766=\"\",\"\",\"\"))","v":""},null,null,null,null,null,{"$f":"IF(H6768<>\"\",\"¿Es Persona Expuesta Politicamente?\",\"\")","v":""},null,null,null,null,null,null,null,null,null,{"$f":"IF(OR(H6768=\"NIT\",H6768=\"Fideicomiso/Fondo\",H6768=\"PJ No Residente\"),\"¿Emite acciones al portador?\",IF(H6768=\"\",\"\",\"\"))","v":""},null,null,null,null,null,null,null,{"$f":"IF(OR(H6768=\"NIT\",H6768=\"Fideicomiso/Fondo\",H6768=\"PJ No Residente\"),\"\",IF(H6768=\"\",\"\",\"Género\"))","v":""},null,null,null,null,null,null,null,""]
[null,{"$f":"IF(H6768<>\"\",\"Pais de Residencia\",\"\")","v":""},null,null,null,null,null,null,null,null,null,{"$f":"IF(H6768<>\"\",\"Departamento de Residencia\",\"\")","v":""},null,null,null,null,null,null,null,null,null,{"$f":"IF(H6768<>\"\",\"Ciudad de Residencia\",\"\")","v":""},null,null,null,null,null,null,null,null,null,null,null,""]
[null,null,null,null,null,null,null,null,null,null,null,null,null,null,null,null,null,null,null,null,null,null,null,null,null,null,null,null,null,null,null,null,null,""]
[null,{"$f":"IF(H6768<>\"\",\"2 -\",\"\")","v":""},null,null,null,null,null,null,null,null,null,null,null,null,null,null,{"$f":"IF(H6768<>\"\",\"2 -\",\"\")","v":""},null,null,null,null,null,null,null,null,null,null,null,null,null,null,null,null,""]
[null,null,null,null,null,null,null,null,null,null,null,null,null,null,null,null,null,null,null,null,null,null,null,null,null,null,null,null,null,null,null,null,null,""]
[null,null,null,null,null,null,null,null,null,null,null,null,null,null,null,null,null,null,null,null,null,null,null,null,null,null,null,null,null,null,null,null,null,""]
[null,{"$f":"IF(H6802<>\"\",\"Dirección de residencia\",\"\")","v":""},null,null,null,null,null,null,null,null,null,null,null,null,null,null,{"$f":"IF(H6802<>\"\",\"Correo electrónico\",\"\")","v":""},null,null,null,null,null,null,null,null,null,null,null,null,null,null,null,null,""]
[null,null,null,null,null,null,null,null,null,null,null,null,null,null,null,null,null,null,null,null,null,null,null,null,null,null,null,null,null,null,null,null,null,""]
[null,{"$f":"IF(H6802<>\"\",\"1 -\",\"\")","v":""},null,null,null,null,null,null,null,null,null,null,null,null,null,null,{"$f":"IF(H6802<>\"\",\"1 -\",\"\")","v":""},null,null,null,null,null,null,null,null,null,null,null,null,null,null,null,null,{"$f":"IF($H$6766=\"\",\"\",\"1\")","v":""}]
[null,{"$f":"IF(H6802<>\"\",\"2 -\",\"\")","v":""},null,null,null,null,null,null,null,null,null,null,null,null,null,null,{"$f":"IF(H6802<>\"\",\"2 -\",\"\")","v":""},null,null,null,null,null,null,null,null,null,null,null,null,null,null,null,null,""]
[null,"Tipo de Documento",null,null,null,null,null,null,null,null,null,null,null,null,null,null,null,null,null,null,null,null,null,null,null,null,null,null,null,null,null,null,null,""]
[null,null,null,null,null,null,null,null,null,null,null,null,null,null,null,null,null,null,null,null,null,null,null,null,null,null,null,null,null,null,null,null,null,""]
[null,{"$f":"IF(H6836<>\"\",\"Dirección de residencia\",\"\")","v":""},null,null,null,null,null,null,null,null,null,null,null,null,null,null,{"$f":"IF(H6836<>\"\",\"Correo electrónico\",\"\")","v":""},null,null,null,null,null,null,null,null,null,null,null,null,null,null,null,null,""]
[null,{"$f":"IF(OR(H6834=\"Socio o Accionista\",H6834=\"Controlante\"),\"Tipo de Participación\",IF(H6834=\"\",\"\",\"\"))","v":""},null,null,null,null,null,null,null,{"$f":"IF(B6859=\"Conjunta\",\"Tipo de Documento\",IF(B6859=\"\",\"\",\"\"))","v":""},null,null,null,null,null,null,{"$f":"IF(B6859=\"Conjunta\",\"N° de Documento\",IF(B6859=\"\",\"\",\"\"))","v":""},null,null,null,null,null,null,{"$f":"IF(B6859=\"Conjunta\",\"Parentesco\",IF(B6859=\"\",\"\",\"\"))","v":""},null,null,null,null,null,null,null,null,null,""]
[null,null,null,null,null,null,null,null,null,null,null,null,null,null,null,null,null,null,null,null,null,null,null,null,null,null,null,null,null,null,null,null,null,""]
[null,null,null,null,null,null,null,null,null,null,null,null,null,null,null,null,null,null,null,null,null,null,null,null,null,null,null,null,null,null,null,null,null,""]
[null,null,null,null,null,null,null,null,null,null,null,null,null,null,null,null,null,null,null,null,null,null,null,null,null,null,null,null,null,null,null,null,null,""]
[null,null,null,null,null,null,null,null,null,null,null,null,null,null,null,null,null,null,null,null,null,null,null,null,null,null,null,null,null,null,null,null,null,""]
[null,{"$f":"IF(OR(H6868=\"Socio o Accionista\",H6868=\"Controlante\"),\"Tipo de Participación\",IF(H6868=\"\",\"\",\"\"))","v":""},null,null,null,null,null,null,null,{"$f":"IF(B6890=\"Conjunta\",\"Tipo de Documento\",IF(B6890=\"\",\"\",\"\"))","v":""},null,null,null,null,null,null,{"$f":"IF(B6890=\"Conjunta\",\"N° de Documento\",IF(B6890=\"\",\"\",\"\"))","v":""},null,null,null,null,null,null,{"$f":"IF(B6890=\"Conjunta\",\"Parentesco\",IF(B6890=\"\",\"\",\"\"))","v":""},null,null,null,null,null,null,null,null,null,""]
[null,{"$f":"IF(H6870<>\"\",\"1 -\",\"\")","v":""},null,null,null,null,null,null,null,null,null,null,null,null,null,null,{"$f":"IF(H6870<>\"\",\"1 -\",\"\")","v":""},null,null,null,null,null,null,null,null,null,null,null,null,null,null,null,null,{"$f":"IF($H$6834=\"\",\"\",\"1\")","v":""}]
[null,"Tipo de Documento",null,null,null,null,null,null,null,null,null,null,null,null,null,null,null,null,null,null,null,null,null,null,null,null,null,null,null,null,null,null,null,""]
[null,{"$f":"IF(OR(H6904=\"NIT\",H6904=\"Fideicomiso/Fondo\",H6904=\"PJ No Residente\",H6904=\"\"),\"\",\"Primer Nombre\")","v":""},null,null,null,null,null,null,null,{"$f":"IF(OR(H6904=\"NIT\",H6904=\"Fideicomiso/Fondo\",H6904=\"PJ No Residente\",H6904=\"\"),\"\",\"Segundo Nombre\")","v":""},null,null,null,null,null,null,{"$f":"IF(OR(H6904=\"NIT\",H6904=\"Fideicomiso/Fondo\",H6904=\"PJ No Residente\",H6904=\"\"),\"\",\"Primer Apellido\")","v":""},null,null,null,null,null,null,{"$f":"IF(OR(H6904=\"NIT\",H6904=\"Fideicomiso/Fondo\",H6904=\"PJ No Residente\",H6904=\"\"),\"\",\"Segundo Apellido\")","v":""},null,null,null,null,null,null,null,null,null,""]
[null,null,null,null,null,null,null,null,null,null,null,null,null,null,null,null,null,null,null,null,null,null,null,null,null,null,null,null,null,null,null,null,null,""]
[null,null,null,null,null,null,null,null,null,null,null,null,null,null,null,null,null,null,null,null,null,null,null,null,null,null,null,null,null,null,null,null,null,""]
[null,null,null,null,null,null,null,null,null,null,null,null,null,null,null,null,null,null,null,null,null,null,null,null,null,null,null,null,null,null,null,null,null,""]
[null,{"$f":"IF(H6904<>\"\",\"1 -\",\"\")","v":""},null,null,null,null,null,null,null,null,null,null,null,null,null,null,{"$f":"IF(H6904<>\"\",\"1 -\",\"\")","v":""},null,null,null,null,null,null,null,null,null,null,null,null,null,null,null,null,""]
[null,{"$f":"IF(H6938<>\"\",\"N° de Documento\",\"\")","v":""},null,null,null,null,null,null,null,null,null,{"$f":"IF(H6938<>\"\",\"Fecha de Expedición\",\"\")","v":""},null,null,null,null,null,null,null,null,null,{"$f":"IF(H6938<>\"\",\"País de Expedición\",\"\")","v":""},null,null,null,null,null,null,null,null,null,null,null,""]
[null,null,null,null,null,null,null,null,null,null,null,null,null,null,null,null,null,null,null,null,null,null,null,null,null,null,null,null,null,null,null,null,null,""]
[null,null,null,null,null,null,null,null,null,null,null,null,null,null,null,null,null,null,null,null,null,null,null,null,null,null,null,null,null,null,null,null,null,""]
[null,null,null,null,null,null,null,null,null,null,null,null,null,null,null,null,null,null,null,null,null,null,null,null,null,null,null,null,null,null,null,null,null,""]
[null,{"$f":"IF(H6938<>\"\",\"2 -\",\"\")","v":""},null,null,null,null,null,null,null,null,null,null,null,null,null,null,{"$f":"IF(H6938<>\"\",\"2 -\",\"\")","v":""},null,null,null,null,null,null,null,null,null,null,null,null,null,null,null,null,""]
[158,"Tipo de Relación",null,null,null,null,null,null,null,null,null,null,null,null,null,null,null,null,null,null,null,null,null,null,null,null,null,null,null,null,null,null,null,""]
[null,{"$f":"IF(OR(H6972=\"NIT\",H6972=\"Fideicomiso/Fondo\",H6972=\"PJ No Residente\",H6972=\"\"),\"\",\"Primer Nombre\")","v":""},null,null,null,null,null,null,null,{"$f":"IF(OR(H6972=\"NIT\",H6972=\"Fideicomiso/Fondo\",H6972=\"PJ No Residente\",H6972=\"\"),\"\",\"Segundo Nombre\")","v":""},null,null,null,null,null,null,{"$f":"IF(OR(H6972=\"NIT\",H6972=\"Fideicomiso/Fondo\",H6972=\"PJ No Residente\",H6972=\"\"),\"\",\"Primer Apellido\")","v":""},null,null,null,null,null,null,{"$f":"IF(OR(H6972=\"NIT\",H6972=\"Fideicomiso/Fondo\",H6972=\"PJ No Residente\",H6972=\"\"),\"\",\"Segundo Apellido\")","v":""},null,null,null,null,null,null,null,null,null,""]
[null,null,null,null,null,null,null,null,null,null,null,null,null,null,null,null,null,null,null,null,null,null,null,null,null,null,null,null,null,null,null,null,null,""]
[null,{"$f":"IF(OR(H6970=\"Socio o Accionista\",H6970=\"Controlante\"),\"Tipo de Participación\",IF(H6970=\"\",\"\",\"\"))","v":""},null,null,null,null,null,null,null,{"$f":"IF(B6992=\"Conjunta\",\"Tipo de Documento\",IF(B6992=\"\",\"\",\"\"))","v":""},null,null,null,null,null,null,{"$f":"IF(B6992=\"Conjunta\",\"N° de Documento\",IF(B6992=\"\",\"\",\"\"))","v":""},null,null,null,null,null,null,{"$f":"IF(B6992=\"Conjunta\",\"Parentesco\",IF(B6992=\"\",\"\",\"\"))","v":""},null,null,null,null,null,null,null,null,null,""]
[null,{"$f":"IF(H6972<>\"\",\"País de Expedición del NIT\",\"\")","v":""},null,null,null,null,null,null,null,null,null,null,null,null,null,null,{"$f":"IF(H6972<>\"\",\"N° de Identificación Tributario\",\"\")","v":""},null,null,null,null,null,null,null,null,null,null,null,null,null,null,null,null,""]
[null,null,null,null,null,null,null,null,null,null,null,null,null,null,null,null,null,null,null,null,null,null,null,null,null,null,null,null,null,null,null,null,null,""]
[null,{"$f":"IF(H7006<>\"\",\"N° de Documento\",\"\")","v":""},null,null,null,null,null,null,null,null,null,{"$f":"IF(H7006<>\"\",\"Fecha de Expedición\",\"\")","v":""},null,null,null,null,null,null,null,null,null,{"$f":"IF(H7006<>\"\",\"País de Expedición\",\"\")","v":""},null,null,null,null,null,null,null,null,null,null,null,""]
[null,{"$f":"IF(H7006<>\"\",\"Pais de Residencia\",\"\")","v":""},null,null,null,null,null,null,null,null,null,{"$f":"IF(H7006<>\"\",\"Departamento de Residencia\",\"\")","v":""},null,null,null,null,null,null,null,null,null,{"$f":"IF(H7006<>\"\",\"Ciudad de Residencia\",\"\")","v":""},null,null,null,null,null,null,null,null,null,null,null,""]
[null,null,null,null,null,null,null,null,null,null,null,null,null,null,null,null,null,null,null,null,null,null,null,null,null,null,null,null,null,null,null,null,null,""]
[null,null,null,null,null,null,null,null,null,null,null,null,null,null,null,null,null,null,null,null,null,null,null,null,null,null,null,null,null,null,null,null,null,""]
[null,{"$f":"IF(H7006<>\"\",\"País de Expedición del NIT\",\"\")","v":""},null,null,null,null,null,null,null,null,null,null,null,null,null,null,{"$f":"IF(H7006<>\"\",\"N° de Identificación Tributario\",\"\")","v":""},null,null,null,null,null,null,null,null,null,null,null,null,null,null,null,null,""]
[null,"Tipo de Documento",null,null,null,null,null,null,null,null,null,null,null,null,null,null,null,null,null,null,null,null,null,null,null,null,null,null,null,null,null,null,null,""]
[null,{"$f":"IF(OR(H7038=\"Socio o Accionista\",H7038=\"Fideicomitente\",H7038=\"Inversionista\",H7038=\"Beneficiario de Activos/Rendimientos/Utilidades\"),\"Participación en %\",IF(H7038=\"\",\"\",\"\"))","v":""},null,null,null,null,null,{"$f":"IF(H7040<>\"\",\"¿Es Persona Expuesta Politicamente?\",\"\")","v":""},null,null,null,null,null,null,null,null,null,{"$f":"IF(OR(H7040=\"NIT\",H7040=\"Fideicomiso/Fondo\",H7040=\"PJ No Residente\"),\"¿Emite acciones al portador?\",IF(H7040=\"\",\"\",\"\"))","v":""},null,null,null,null,null,null,null,{"$f":"IF(OR(H7040=\"NIT\",H7040=\"Fideicomiso/Fondo\",H7040=\"PJ No Residente\"),\"\",IF(H7040=\"\",\"\",\"Género\"))","v":""},null,null,null,null,null,null,null,""]
[null,null,null,null,null,null,null,null,null,null,null,null,null,null,null,null,null,null,null,null,null,null,null,null,null,null,null,null,null,null,null,null,null,""]
[null,null,null,null,null,null,null,null,null,null,null,null,null,null,null,null,null,null,null,null,null,null,null,null,null,null,null,null,null,null,null,null,null,""]
[null,{"$f":"IF(H7040<>\"\",\"2 -\",\"\")","v":""},null,null,null,null,null,null,null,null,null,null,null,null,null,null,{"$f":"IF(H7040<>\"\",\"2 -\",\"\")","v":""},null,null,null,null,null,null,null,null,null,null,null,null,null,null,null,null,""]
[null,null,null,null,null,"Razón Social",null,null,null,null,null,null,null,null,null,null,null,null,null,null,null,null,null,null,null,null,null,null,null,null,null,null,null,""]
[null,null,null,null,null,null,null,null,null,null,null,null,null,null,null,null,null,null,null,null,null,null,null,null,null,null,null,null,null,null,null,null,null,""]
[null,{"$f":"IF(OR(H7072=\"Socio o Accionista\",H7072=\"Fideicomitente\",H7072=\"Inversionista\",H7072=\"Beneficiario de Activos/Rendimientos/Utilidades\"),\"Participación en %\",IF(H7072=\"\",\"\",\"\"))","v":""},null,null,null,null,null,{"$f":"IF(H7074<>\"\",\"¿Es Persona Expuesta Politicamente?\",\"\")","v":""},null,null,null,null,null,null,null,null,null,{"$f":"IF(OR(H7074=\"NIT\",H7074=\"Fideicomiso/Fondo\",H7074=\"PJ No Residente\"),\"¿Emite acciones al portador?\",IF(H7074=\"\",\"\",\"\"))","v":""},null,null,null,null,null,null,null,{"$f":"IF(OR(H7074=\"NIT\",H7074=\"Fideicomiso/Fondo\",H7074=\"PJ No Residente\"),\"\",IF(H7074=\"\",\"\",\"Género\"))","v":""},null,null,null,null,null,null,null,""]
[null,{"$f":"IF(OR(H7072=\"Socio o Accionista\",H7072=\"Controlante\"),\"Tipo de Participación\",IF(H7072=\"\",\"\",\"\"))","v":""},null,null,null,null,null,null,null,{"$f":"IF(B7091=\"Conjunta\",\"Tipo de Documento\",IF(B7091=\"\",\"\",\"\"))","v":""},null,null,null,null,null,null,{"$f":"IF(B7091=\"Conjunta\",\"N° de Documento\",IF(B7091=\"\",\"\",\"\"))","v":""},null,null,null,null,null,null,{"$f":"IF(B7091=\"Conjunta\",\"Parentesco\",IF(B7091=\"\",\"\",\"\"))","v":""},null,null,null,null,null,null,null,null,null,""]
[null,null,null,null,null,null,null,null,null,null,null,null,null,null,null,null,null,null,null,null,null,null,null,null,null,null,null,null,null,null,null,null,null,""]
[null,{"$f":"IF(H7074<>\"\",\"2 -\",\"\")","v":""},null,null,null,null,null,null,null,null,null,null,null,null,null,null,{"$f":"IF(H7074<>\"\",\"2 -\",\"\")","v":""},null,null,null,null,null,null,null,null,null,null,null,null,null,null,null,null,""]
[null,"Tipo de Documento",null,null,null,null,null,null,null,null,null,null,null,null,null,null,null,null,null,null,null,null,null,null,null,null,null,null,null,null,null,null,null,""]
[null,{"$f":"IF(OR(H7108=\"NIT\",H7108=\"Fideicomiso/Fondo\",H7108=\"PJ No Residente\",H7108=\"\"),\"\",\"Primer Nombre\")","v":""},null,null,null,null,null,null,null,{"$f":"IF(OR(H7108=\"NIT\",H7108=\"Fideicomiso/Fondo\",H7108=\"PJ No Residente\",H7108=\"\"),\"\",\"Segundo Nombre\")","v":""},null,null,null,null,null,null,{"$f":"IF(OR(H7108=\"NIT\",H7108=\"Fideicomiso/Fondo\",H7108=\"PJ No Residente\",H7108=\"\"),\"\",\"Primer Apellido\")","v":""},null,null,null,null,null,null,{"$f":"IF(OR(H7108=\"NIT\",H7108=\"Fideicomiso/Fondo\",H7108=\"PJ No Residente\",H7108=\"\"),\"\",\"Segundo Apellido\")","v":""},null,null,null,null,null,null,null,null,null,""]
[null,{"$f":"IF(H7108<>\"\",\"Dirección de residencia\",\"\")","v":""},null,null,null,null,null,null,null,null,null,null,null,null,null,null,{"$f":"IF(H7108<>\"\",\"Correo electrónico\",\"\")","v":""},null,null,null,null,null,null,null,null,null,null,null,null,null,null,null,null,""]
[null,null,null,null,null,null,null,null,null,null,null,null,null,null,null,null,null,null,null,null,null,null,null,null,null,null,null,null,null,null,null,null,null,""]
[null,null,null,null,null,null,null,null,null,null,null,null,null,null,null,null,null,null,null,null,null,null,null,null,null,null,null,null,null,null,null,null,null,""]
[null,null,null,null,null,"Razón Social",null,null,null,null,null,null,null,null,null,null,null,null,null,null,null,null,null,null,null,null,null,null,null,null,null,null,null,""]
[null,null,null,null,null,null,null,null,null,null,null,null,null,null,null,null,null,null,null,null,null,null,null,null,null,null,null,null,null,null,null,null,null,""]
[null,{"$f":"IF(OR(H7142=\"NIT\",H7142=\"Fideicomiso/Fondo\",H7142=\"PJ No Residente\"),\"\",IF(H7142=\"\",\"\",\"Fecha de Nacimiento\"))","v":""},null,null,null,null,null,null,null,null,null,{"$f":"IF(OR(H7142=\"NIT\",H7142=\"Fideicomiso/Fondo\",H7142=\"PJ No Residente\"),\"\",IF(H7142=\"\",\"\",\"País de nacimiento\"))","v":""},null,null,null,null,null,null,null,null,null,{"$f":"IF(OR(H7142=\"NIT\",H7142=\"Fideicomiso/Fondo\",H7142=\"PJ No Residente\"),\"\",IF(H7142=\"\",\"\",\"Nacionalidad\"))","v":""},null,null,null,null,null,null,null,null,null,null,null,""]
[null,null,null,null,null,null,null,null,null,null,null,null,null,null,null,null,null,null,null,null,null,null,null,null,null,null,null,null,null,null,null,null,null,""]
[null,{"$f":"IF(H7142<>\"\",\"1 -\",\"\")","v":""},null,null,null,null,null,null,null,null,null,null,null,null,null,null,{"$f":"IF(H7142<>\"\",\"1 -\",\"\")","v":""},null,null,null,null,null,null,null,null,null,null,null,null,null,null,null,null,{"$f":"IF($H$7106=\"\",\"\",\"1\")","v":""}]
["N2","Informe a cual de las Personas Jurídicas indicadas antes pertenece este relacionado",null,null,null,"Tipo de Documento",null,null,null,null,{"$f":"VLOOKUP(K7173,Hoja2!$A$485:$D$709,3,0)","v":{"$error":"#N/A"}},null,null,null,null,null,null,null,"Número de Documento",null,null,null,null,{"$f":"VLOOKUP(K7173,Hoja2!$A$485:$D$709,4,0)","v":{"$error":"#N/A"}},null,null,null,null,null,null,null,null,null,{"$f":"IF($H$7174=\"\",\"\",\"1\")","v":""}]
[null,{"$f":"IF(OR(H7176=\"NIT\",H7176=\"Fideicomiso/Fondo\",H7176=\"PJ No Residente\",H7176=\"\"),\"\",\"Primer Nombre\")","v":""},null,null,null,null,null,null,null,{"$f":"IF(OR(H7176=\"NIT\",H7176=\"Fideicomiso/Fondo\",H7176=\"PJ No Residente\",H7176=\"\"),\"\",\"Segundo Nombre\")","v":""},null,null,null,null,null,null,{"$f":"IF(OR(H7176=\"NIT\",H7176=\"Fideicomiso/Fondo\",H7176=\"PJ No Residente\",H7176=\"\"),\"\",\"Primer Apellido\")","v":""},null,null,null,null,null,null,{"$f":"IF(OR(H7176=\"NIT\",H7176=\"Fideicomiso/Fondo\",H7176=\"PJ No Residente\",H7176=\"\"),\"\",\"Segundo Apellido\")","v":""},null,null,null,null,null,null,null,null,null,""]
[null,null,null,null,null,null,null,null,null,null,null,null,null,null,null,null,null,null,null,null,null,null,null,null,null,null,null,null,null,null,null,null,null,""]
[null,{"$f":"IF(H7176<>\"\",\"Dirección de residencia\",\"\")","v":""},null,null,null,null,null,null,null,null,null,null,null,null,null,null,{"$f":"IF(H7176<>\"\",\"Correo electrónico\",\"\")","v":""},null,null,null,null,null,null,null,null,null,null,null,null,null,null,null,null,""]
[null,null,null,null,null,null,null,null,null,null,null,null,null,null,null,null,null,null,null,null,null,null,null,null,null,null,null,null,null,null,null,null,null,""]
[null,{"$f":"IF(H7176<>\"\",\"1 -\",\"\")","v":""},null,null,null,null,null,null,null,null,null,null,null,null,null,null,{"$f":"IF(H7176<>\"\",\"1 -\",\"\")","v":""},null,null,null,null,null,null,null,null,null,null,null,null,null,null,null,null,""]
[null,null,null,null,null,null,null,null,null,null,null,null,null,null,null,null,null,null,null,null,null,null,null,null,null,null,null,null,null,null,null,null,null,""]
[null,{"$f":"IF(OR(H7210=\"NIT\",H7210=\"Fideicomiso/Fondo\",H7210=\"PJ No Residente\"),\"\",IF(H7210=\"\",\"\",\"Fecha de Nacimiento\"))","v":""},null,null,null,null,null,null,null,null,null,{"$f":"IF(OR(H7210=\"NIT\",H7210=\"Fideicomiso/Fondo\",H7210=\"PJ No Residente\"),\"\",IF(H7210=\"\",\"\",\"País de nacimiento\"))","v":""},null,null,null,null,null,null,null,null,null,{"$f":"IF(OR(H7210=\"NIT\",H7210=\"Fideicomiso/Fondo\",H7210=\"PJ No Residente\"),\"\",IF(H7210=\"\",\"\",\"Nacionalidad\"))","v":""},null,null,null,null,null,null,null,null,null,null,null,""]
[null,null,null,null,null,null,null,null,null,null,null,null,null,null,null,null,null,null,null,null,null,null,null,null,null,null,null,null,null,null,null,null,null,""]
[null,{"$f":"IF(OR(H7208=\"Socio o Accionista\",H7208=\"Controlante\"),\"Tipo de Participación\",IF(H7208=\"\",\"\",\"\"))","v":""},null,null,null,null,null,null,null,{"$f":"IF(B7230=\"Conjunta\",\"Tipo de Documento\",IF(B7230=\"\",\"\",\"\"))","v":""},null,null,null,null,null,null,{"$f":"IF(B7230=\"Conjunta\",\"N° de Documento\",IF(B7230=\"\",\"\",\"\"))","v":""},null,null,null,null,null,null,{"$f":"IF(B7230=\"Conjunta\",\"Parentesco\",IF(B7230=\"\",\"\",\"\"))","v":""},null,null,null,null,null,null,null,null,null,""]
[null,{"$f":"IF(OR(H7208=\"Socio o Accionista\",H7208=\"Controlante\"),\"Tipo de Participación\",IF(H7208=\"\",\"\",\"\"))","v":""},null,null,null,null,null,null,null,{"$f":"IF(B7233=\"Conjunta\",\"Tipo de Documento\",IF(B7233=\"\",\"\",\"\"))","v":""},null,null,null,null,null,null,{"$f":"IF(B7233=\"Conjunta\",\"N° de Documento\",IF(B7233=\"\",\"\",\"\"))","v":""},null,null,null,null,null,null,{"$f":"IF(B7233=\"Conjunta\",\"Parentesco\",IF(B7233=\"\",\"\",\"\"))","v":""},null,null,null,null,null,null,null,null,null,""]
[166,"Tipo de Relación",null,null,null,null,null,null,null,null,null,null,null,null,null,null,null,null,null,null,null,null,null,null,null,null,null,null,null,null,null,null,null,""]
[null,{"$f":"IF(OR(H7244=\"NIT\",H7244=\"Fideicomiso/Fondo\",H7244=\"PJ No Residente\",H7244=\"\"),\"\",\"Primer Nombre\")","v":""},null,null,null,null,null,null,null,{"$f":"IF(OR(H7244=\"NIT\",H7244=\"Fideicomiso/Fondo\",H7244=\"PJ No Residente\",H7244=\"\"),\"\",\"Segundo Nombre\")","v":""},null,null,null,null,null,null,{"$f":"IF(OR(H7244=\"NIT\",H7244=\"Fideicomiso/Fondo\",H7244=\"PJ No Residente\",H7244=\"\"),\"\",\"Primer Apellido\")","v":""},null,null,null,null,null,null,{"$f":"IF(OR(H7244=\"NIT\",H7244=\"Fideicomiso/Fondo\",H7244=\"PJ No Residente\",H7244=\"\"),\"\",\"Segundo Apellido\")","v":""},null,null,null,null,null,null,null,null,null,""]
[null,null,null,null,null,null,null,null,null,null,null,null,null,null,null,null,null,null,null,null,null,null,null,null,null,null,null,null,null,null,null,null,null,""]
[null,null,null,null,null,null,null,null,null,null,null,null,null,null,null,null,null,null,null,null,null,null,null,null,null,null,null,null,null,null,null,null,null,""]
[null,{"$f":"IF(H7244<>\"\",\"País de Expedición del NIT\",\"\")","v":""},null,null,null,null,null,null,null,null,null,null,null,null,null,null,{"$f":"IF(H7244<>\"\",\"N° de Identificación Tributario\",\"\")","v":""},null,null,null,null,null,null,null,null,null,null,null,null,null,null,null,null,""]
[null,{"$f":"IF(H7244<>\"\",\"1 -\",\"\")","v":""},null,null,null,null,null,null,null,null,null,null,null,null,null,null,{"$f":"IF(H7244<>\"\",\"1 -\",\"\")","v":""},null,null,null,null,null,null,null,null,null,null,null,null,null,null,null,null,""]
[null,null,null,null,null,null,null,null,null,null,null,null,null,null,null,null,null,null,null,null,null,null,null,null,null,null,null,null,null,null,null,null,null,""]
[null,{"$f":"IF(OR(H7278=\"NIT\",H7278=\"Fideicomiso/Fondo\",H7278=\"PJ No Residente\",H7278=\"\"),\"\",\"Primer Nombre\")","v":""},null,null,null,null,null,null,null,{"$f":"IF(OR(H7278=\"NIT\",H7278=\"Fideicomiso/Fondo\",H7278=\"PJ No Residente\",H7278=\"\"),\"\",\"Segundo Nombre\")","v":""},null,null,null,null,null,null,{"$f":"IF(OR(H7278=\"NIT\",H7278=\"Fideicomiso/Fondo\",H7278=\"PJ No Residente\",H7278=\"\"),\"\",\"Primer Apellido\")","v":""},null,null,null,null,null,null,{"$f":"IF(OR(H7278=\"NIT\",H7278=\"Fideicomiso/Fondo\",H7278=\"PJ No Residente\",H7278=\"\"),\"\",\"Segundo Apellido\")","v":""},null,null,null,null,null,null,null,null,null,""]
[null,null,null,null,null,null,null,null,null,null,null,null,null,null,null,null,null,null,null,null,null,null,null,null,null,null,null,null,null,null,null,null,null,""]
[null,null,null,null,null,null,null,null,null,null,null,null,null,null,null,null,null,null,null,null,null,null,null,null,null,null,null,null,null,null,null,null,null,""]
[null,null,null,null,null,null,null,null,null,null,null,null,null,null,null,null,null,null,null,null,null,null,null,null,null,null,null,null,null,null,null,null,null,""]
[null,{"$f":"IF(H7278<>\"\",\"País de Expedición del NIT\",\"\")","v":""},null,null,null,null,null,null,null,null,null,null,null,null,null,null,{"$f":"IF(H7278<>\"\",\"N° de Identificación Tributario\",\"\")","v":""},null,null,null,null,null,null,null,null,null,null,null,null,null,null,null,null,""]
[null,{"$f":"IF(H7278<>\"\",\"1 -\",\"\")","v":""},null,null,null,null,null,null,null,null,null,null,null,null,null,null,{"$f":"IF(H7278<>\"\",\"1 -\",\"\")","v":""},null,null,null,null,null,null,null,null,null,null,null,null,null,null,null,null,{"$f":"IF($H$7242=\"\",\"\",\"1\")","v":""}]
[null,{"$f":"IF(H7278<>\"\",\"2 -\",\"\")","v":""},null,null,null,null,null,null,null,null,null,null,null,null,null,null,{"$f":"IF(H7278<>\"\",\"2 -\",\"\")","v":""},null,null,null,null,null,null,null,null,null,null,null,null,null,null,null,null,""]
[null,null,null,null,null,null,null,null,null,null,null,null,null,null,null,null,null,null,null,null,null,null,null,null,null,null,null,null,null,null,null,null,null,""]
["N2","Informe a cual de las Personas Jurídicas indicadas antes pertenece este relacionado",null,null,null,"Tipo de Documento",null,null,null,null,{"$f":"VLOOKUP(K7309,Hoja2!$A$485:$D$709,3,0)","v":{"$error":"#N/A"}},null,null,null,null,null,null,null,"Número de Documento",null,null,null,null,{"$f":"VLOOKUP(K7309,Hoja2!$A$485:$D$709,4,0)","v":{"$error":"#N/A"}},null,null,null,null,null,null,null,null,null,{"$f":"IF($H$7310=\"\",\"\",\"1\")","v":""}]
[null,null,null,null,null,null,null,null,null,null,null,null,null,null,null,null,null,null,null,null,null,null,null,null,null,null,null,null,null,null,null,null,null,{"$f":"IF($H$7310=\"\",\"\",\"1\")","v":""}]
[null,null,null,null,null,"Razón Social",null,null,null,null,null,null,null,null,null,null,null,null,null,null,null,null,null,null,null,null,null,null,null,null,null,null,null,""]
[168,"Tipo de Relación",null,null,null,null,null,null,null,null,null,null,null,null,null,null,null,null,null,null,null,null,null,null,null,null,null,null,null,null,null,null,null,""]
[null,null,null,null,null,null,null,null,null,null,null,null,null,null,null,null,null,null,null,null,null,null,null,null,null,null,null,null,null,null,null,null,null,""]
[null,"Tipo de Documento",null,null,null,null,null,null,null,null,null,null,null,null,null,null,null,null,null,null,null,null,null,null,null,null,null,null,null,null,null,null,null,""]
[null,{"$f":"IF(H7312<>\"\",\"N° de Documento\",\"\")","v":""},null,null,null,null,null,null,null,null,null,{"$f":"IF(H7312<>\"\",\"Fecha de Expedición\",\"\")","v":""},null,null,null,null,null,null,null,null,null,{"$f":"IF(H7312<>\"\",\"País de Expedición\",\"\")","v":""},null,null,null,null,null,null,null,null,null,null,null,""]
[null,null,null,null,null,null,null,null,null,null,null,null,null,null,null,null,null,null,null,null,null,null,null,null,null,null,null,null,null,null,null,null,null,""]
[null,{"$f":"IF(OR(H7312=\"NIT\",H7312=\"Fideicomiso/Fondo\",H7312=\"PJ No Residente\"),\"Razón Social\",\"\")","v":""},null,null,null,null,null,null,null,null,null,null,null,null,null,null,null,null,null,null,null,null,null,null,null,null,null,null,null,null,null,null,null,""]
[null,null,null,null,null,null,null,null,null,null,null,null,null,null,null,null,null,null,null,null,null,null,null,null,null,null,null,null,null,null,null,null,null,""]
[null,{"$f":"IF(OR(H7312=\"NIT\",H7312=\"Fideicomiso/Fondo\",H7312=\"PJ No Residente\",H7312=\"\"),\"\",\"Primer Nombre\")","v":""},null,null,null,null,null,null,null,{"$f":"IF(OR(H7312=\"NIT\",H7312=\"Fideicomiso/Fondo\",H7312=\"PJ No Residente\",H7312=\"\"),\"\",\"Segundo Nombre\")","v":""},null,null,null,null,null,null,{"$f":"IF(OR(H7312=\"NIT\",H7312=\"Fideicomiso/Fondo\",H7312=\"PJ No Residente\",H7312=\"\"),\"\",\"Primer Apellido\")","v":""},null,null,null,null,null,null,{"$f":"IF(OR(H7312=\"NIT\",H7312=\"Fideicomiso/Fondo\",H7312=\"PJ No Residente\",H7312=\"\"),\"\",\"Segundo Apellido\")","v":""},null,null,null,null,null,null,null,null,null,""]
[null,null,null,null,null,null,null,null,null,null,null,null,null,null,null,null,null,null,null,null,null,null,null,null,null,null,null,null,null,null,null,null,null,""]
[null,{"$f":"IF(OR(H7310=\"Socio o Accionista\",H7310=\"Fideicomitente\",H7310=\"Inversionista\",H7310=\"Beneficiario de Activos/Rendimientos/Utilidades\"),\"Participación en %\",IF(H7310=\"\",\"\",\"\"))","v":""},null,null,null,null,null,{"$f":"IF(H7312<>\"\",\"¿Es Persona Expuesta Politicamente?\",\"\")","v":""},null,null,null,null,null,null,null,null,null,{"$f":"IF(OR(H7312=\"NIT\",H7312=\"Fideicomiso/Fondo\",H7312=\"PJ No Residente\"),\"¿Emite acciones al portador?\",IF(H7312=\"\",\"\",\"\"))","v":""},null,null,null,null,null,null,null,{"$f":"IF(OR(H7312=\"NIT\",H7312=\"Fideicomiso/Fondo\",H7312=\"PJ No Residente\"),\"\",IF(H7312=\"\",\"\",\"Género\"))","v":""},null,null,null,null,null,null,null,""]
[null,null,null,null,null,null,null,null,null,null,null,null,null,null,null,null,null,null,null,null,null,null,null,null,null,null,null,null,null,null,null,null,null,""]
[null,{"$f":"IF(OR(H7312=\"NIT\",H7312=\"Fideicomiso/Fondo\",H7312=\"PJ No Residente\"),\"\",IF(H7312=\"\",\"\",\"Fecha de Nacimiento\"))","v":""},null,null,null,null,null,null,null,null,null,{"$f":"IF(OR(H7312=\"NIT\",H7312=\"Fideicomiso/Fondo\",H7312=\"PJ No Residente\"),\"\",IF(H7312=\"\",\"\",\"País de nacimiento\"))","v":""},null,null,null,null,null,null,null,null,null,{"$f":"IF(OR(H7312=\"NIT\",H7312=\"Fideicomiso/Fondo\",H7312=\"PJ No Residente\"),\"\",IF(H7312=\"\",\"\",\"Nacionalidad\"))","v":""},null,null,null,null,null,null,null,null,null,null,null,""]
[null,null,null,null,null,null,null,null,null,null,null,null,null,null,null,null,null,null,null,null,null,null,null,null,null,null,null,null,null,null,null,null,null,""]
[null,{"$f":"IF(H7312<>\"\",\"Pais de Residencia\",\"\")","v":""},null,null,null,null,null,null,null,null,null,{"$f":"IF(H7312<>\"\",\"Departamento de Residencia\",\"\")","v":""},null,null,null,null,null,null,null,null,null,{"$f":"IF(H7312<>\"\",\"Ciudad de Residencia\",\"\")","v":""},null,null,null,null,null,null,null,null,null,null,null,""]
[null,null,null,null,null,null,null,null,null,null,null,null,null,null,null,null,null,null,null,null,null,null,null,null,null,null,null,null,null,null,null,null,null,""]
[null,{"$f":"IF(H7312<>\"\",\"Dirección de residencia\",\"\")","v":""},null,null,null,null,null,null,null,null,null,null,null,null,null,null,{"$f":"IF(H7312<>\"\",\"Correo electrónico\",\"\")","v":""},null,null,null,null,null,null,null,null,null,null,null,null,null,null,null,null,""]
[null,null,null,null,null,null,null,null,null,null,null,null,null,null,null,null,null,null,null,null,null,null,null,null,null,null,null,null,null,null,null,null,null,""]
[null,null,null,null,null,null,null,null,null,null,null,null,null,null,null,null,null,null,null,null,null,null,null,null,null,null,null,null,null,null,null,null,null,""]
[null,{"$f":"IF(OR(H7310=\"Socio o Accionista\",H7310=\"Controlante\"),\"Tipo de Participación\",IF(H7310=\"\",\"\",\"\"))","v":""},null,null,null,null,null,null,null,{"$f":"IF(B7329=\"Conjunta\",\"Tipo de Documento\",IF(B7329=\"\",\"\",\"\"))","v":""},null,null,null,null,null,null,{"$f":"IF(B7329=\"Conjunta\",\"N° de Documento\",IF(B7329=\"\",\"\",\"\"))","v":""},null,null,null,null,null,null,{"$f":"IF(B7329=\"Conjunta\",\"Parentesco\",IF(B7329=\"\",\"\",\"\"))","v":""},null,null,null,null,null,null,null,null,null,""]
[null,null,null,null,null,null,null,null,null,null,null,null,null,null,null,null,null,null,null,null,null,null,null,null,null,null,null,null,null,null,null,null,null,""]
[null,null,null,null,null,null,null,null,null,null,null,null,null,null,null,null,null,null,null,null,null,null,null,null,null,null,null,null,null,null,null,null,null,""]
[null,{"$f":"IF(OR(H7310=\"Socio o Accionista\",H7310=\"Controlante\"),\"Tipo de Participación\",IF(H7310=\"\",\"\",\"\"))","v":""},null,null,null,null,null,null,null,{"$f":"IF(B7332=\"Conjunta\",\"Tipo de Documento\",IF(B7332=\"\",\"\",\"\"))","v":""},null,null,null,null,null,null,{"$f":"IF(B7332=\"Conjunta\",\"N° de Documento\",IF(B7332=\"\",\"\",\"\"))","v":""},null,null,null,null,null,null,{"$f":"IF(B7332=\"Conjunta\",\"Parentesco\",IF(B7332=\"\",\"\",\"\"))","v":""},null,null,null,null,null,null,null,null,null,""]
[null,null,null,null,null,null,null,null,null,null,null,null,null,null,null,null,null,null,null,null,null,null,null,null,null,null,null,null,null,null,null,null,null,""]
[null,null,null,null,null,null,null,null,null,null,null,null,null,null,null,null,null,null,null,null,null,null,null,null,null,null,null,null,null,null,null,null,null,""]
[null,{"$f":"IF(OR(H7310=\"Socio o Accionista\",H7310=\"Controlante\"),\"Tipo de Participación\",IF(H7310=\"\",\"\",\"\"))","v":""},null,null,null,null,null,null,null,{"$f":"IF(B7335=\"Conjunta\",\"Tipo de Documento\",IF(B7335=\"\",\"\",\"\"))","v":""},null,null,null,null,null,null,{"$f":"IF(B7335=\"Conjunta\",\"N° de Documento\",IF(B7335=\"\",\"\",\"\"))","v":""},null,null,null,null,null,null,{"$f":"IF(B7335=\"Conjunta\",\"Parentesco\",IF(B7335=\"\",\"\",\"\"))","v":""},null,null,null,null,null,null,null,null,null,""]
[null,null,null,null,null,null,null,null,null,null,null,null,null,null,null,null,null,null,null,null,null,null,null,null,null,null,null,null,null,null,null,null,null,""]
[null,null,null,null,null,null,null,null,null,null,null,null,null,null,null,null,null,null,null,null,null,null,null,null,null,null,null,null,null,null,null,null,null,""]
[null,{"$f":"IF(H7312<>\"\",\"País de Expedición del NIT\",\"\")","v":""},null,null,null,null,null,null,null,null,null,null,null,null,null,null,{"$f":"IF(H7312<>\"\",\"N° de Identificación Tributario\",\"\")","v":""},null,null,null,null,null,null,null,null,null,null,null,null,null,null,null,null,""]
[null,{"$f":"IF(H7312<>\"\",\"1 -\",\"\")","v":""},null,null,null,null,null,null,null,null,null,null,null,null,null,null,{"$f":"IF(H7312<>\"\",\"1 -\",\"\")","v":""},null,null,null,null,null,null,null,null,null,null,null,null,null,null,null,null,""]
[null,{"$f":"IF(H7312<>\"\",\"2 -\",\"\")","v":""},null,null,null,null,null,null,null,null,null,null,null,null,null,null,{"$f":"IF(H7312<>\"\",\"2 -\",\"\")","v":""},null,null,null,null,null,null,null,null,null,null,null,null,null,null,null,null,""]
[null,null,null,null,null,null,null,null,null,null,null,null,null,null,null,null,null,null,null,null,null,null,null,null,null,null,null,null,null,null,null,null,null,""]
["N2","Informe a cual de las Personas Jurídicas indicadas antes pertenece este relacionado",null,null,null,"Tipo de Documento",null,null,null,null,{"$f":"VLOOKUP(K7343,Hoja2!$A$485:$D$709,3,0)","v":{"$error":"#N/A"}},null,null,null,null,null,null,null,"Número de Documento",null,null,null,null,{"$f":"VLOOKUP(K7343,Hoja2!$A$485:$D$709,4,0)","v":{"$error":"#N/A"}},null,null,null,null,null,null,null,null,null,""]
[null,null,null,null,null,null,null,null,null,null,null,null,null,null,null,null,null,null,null,null,null,null,null,null,null,null,null,null,null,null,null,null,null,""]
[null,null,null,null,null,"Razón Social",null,null,null,null,null,null,null,null,null,null,null,null,null,null,null,null,null,null,null,null,null,null,null,null,null,null,null,""]
[169,"Tipo de Relación",null,null,null,null,null,null,null,null,null,null,null,null,null,null,null,null,null,null,null,null,null,null,null,null,null,null,null,null,null,null,null,""]
[null,null,null,null,null,null,null,null,null,null,null,null,null,null,null,null,null,null,null,null,null,null,null,null,null,null,null,null,null,null,null,null,null,""]
[null,"Tipo de Documento",null,null,null,null,null,null,null,null,null,null,null,null,null,null,null,null,null,null,null,null,null,null,null,null,null,null,null,null,null,null,null,""]
[null,{"$f":"IF(H7346<>\"\",\"N° de Documento\",\"\")","v":""},null,null,null,null,null,null,null,null,null,{"$f":"IF(H7346<>\"\",\"Fecha de Expedición\",\"\")","v":""},null,null,null,null,null,null,null,null,null,{"$f":"IF(H7346<>\"\",\"País de Expedición\",\"\")","v":""},null,null,null,null,null,null,null,null,null,null,null,""]
[null,null,null,null,null,null,null,null,null,null,null,null,null,null,null,null,null,null,null,null,null,null,null,null,null,null,null,null,null,null,null,null,null,""]
[null,{"$f":"IF(OR(H7346=\"NIT\",H7346=\"Fideicomiso/Fondo\",H7346=\"PJ No Residente\"),\"Razón Social\",\"\")","v":""},null,null,null,null,null,null,null,null,null,null,null,null,null,null,null,null,null,null,null,null,null,null,null,null,null,null,null,null,null,null,null,""]
[null,null,null,null,null,null,null,null,null,null,null,null,null,null,null,null,null,null,null,null,null,null,null,null,null,null,null,null,null,null,null,null,null,""]
[null,{"$f":"IF(OR(H7346=\"NIT\",H7346=\"Fideicomiso/Fondo\",H7346=\"PJ No Residente\",H7346=\"\"),\"\",\"Primer Nombre\")","v":""},null,null,null,null,null,null,null,{"$f":"IF(OR(H7346=\"NIT\",H7346=\"Fideicomiso/Fondo\",H7346=\"PJ No Residente\",H7346=\"\"),\"\",\"Segundo Nombre\")","v":""},null,null,null,null,null,null,{"$f":"IF(OR(H7346=\"NIT\",H7346=\"Fideicomiso/Fondo\",H7346=\"PJ No Residente\",H7346=\"\"),\"\",\"Primer Apellido\")","v":""},null,null,null,null,null,null,{"$f":"IF(OR(H7346=\"NIT\",H7346=\"Fideicomiso/Fondo\",H7346=\"PJ No Residente\",H7346=\"\"),\"\",\"Segundo Apellido\")","v":""},null,null,null,null,null,null,null,null,null,""]
[null,null,null,null,null,null,null,null,null,null,null,null,null,null,null,null,null,null,null,null,null,null,null,null,null,null,null,null,null,null,null,null,null,""]
[null,{"$f":"IF(OR(H7344=\"Socio o Accionista\",H7344=\"Fideicomitente\",H7344=\"Inversionista\",H7344=\"Beneficiario de Activos/Rendimientos/Utilidades\"),\"Participación en %\",IF(H7344=\"\",\"\",\"\"))","v":""},null,null,null,null,null,{"$f":"IF(H7346<>\"\",\"¿Es Persona Expuesta Politicamente?\",\"\")","v":""},null,null,null,null,null,null,null,null,null,{"$f":"IF(OR(H7346=\"NIT\",H7346=\"Fideicomiso/Fondo\",H7346=\"PJ No Residente\"),\"¿Emite acciones al portador?\",IF(H7346=\"\",\"\",\"\"))","v":""},null,null,null,null,null,null,null,{"$f":"IF(OR(H7346=\"NIT\",H7346=\"Fideicomiso/Fondo\",H7346=\"PJ No Residente\"),\"\",IF(H7346=\"\",\"\",\"Género\"))","v":""},null,null,null,null,null,null,null,""]
[null,null,null,null,null,null,null,null,null,null,null,null,null,null,null,null,null,null,null,null,null,null,null,null,null,null,null,null,null,null,null,null,null,""]
[null,{"$f":"IF(OR(H7346=\"NIT\",H7346=\"Fideicomiso/Fondo\",H7346=\"PJ No Residente\"),\"\",IF(H7346=\"\",\"\",\"Fecha de Nacimiento\"))","v":""},null,null,null,null,null,null,null,null,null,{"$f":"IF(OR(H7346=\"NIT\",H7346=\"Fideicomiso/Fondo\",H7346=\"PJ No Residente\"),\"\",IF(H7346=\"\",\"\",\"País de nacimiento\"))","v":""},null,null,null,null,null,null,null,null,null,{"$f":"IF(OR(H7346=\"NIT\",H7346=\"Fideicomiso/Fondo\",H7346=\"PJ No Residente\"),\"\",IF(H7346=\"\",\"\",\"Nacionalidad\"))","v":""},null,null,null,null,null,null,null,null,null,null,null,""]
[null,null,null,null,null,null,null,null,null,null,null,null,null,null,null,null,null,null,null,null,null,null,null,null,null,null,null,null,null,null,null,null,null,""]
[null,{"$f":"IF(H7346<>\"\",\"Pais de Residencia\",\"\")","v":""},null,null,null,null,null,null,null,null,null,{"$f":"IF(H7346<>\"\",\"Departamento de Residencia\",\"\")","v":""},null,null,null,null,null,null,null,null,null,{"$f":"IF(H7346<>\"\",\"Ciudad de Residencia\",\"\")","v":""},null,null,null,null,null,null,null,null,null,null,null,""]
[null,null,null,null,null,null,null,null,null,null,null,null,null,null,null,null,null,null,null,null,null,null,null,null,null,null,null,null,null,null,null,null,null,""]
[null,{"$f":"IF(H7346<>\"\",\"Dirección de residencia\",\"\")","v":""},null,null,null,null,null,null,null,null,null,null,null,null,null,null,{"$f":"IF(H7346<>\"\",\"Correo electrónico\",\"\")","v":""},null,null,null,null,null,null,null,null,null,null,null,null,null,null,null,null,""]
[null,null,null,null,null,null,null,null,null,null,null,null,null,null,null,null,null,null,null,null,null,null,null,null,null,null,null,null,null,null,null,null,null,""]
[null,null,null,null,null,null,null,null,null,null,null,null,null,null,null,null,null,null,null,null,null,null,null,null,null,null,null,null,null,null,null,null,null,""]
[null,{"$f":"IF(OR(H7344=\"Socio o Accionista\",H7344=\"Controlante\"),\"Tipo de Participación\",IF(H7344=\"\",\"\",\"\"))","v":""},null,null,null,null,null,null,null,{"$f":"IF(B7363=\"Conjunta\",\"Tipo de Documento\",IF(B7363=\"\",\"\",\"\"))","v":""},null,null,null,null,null,null,{"$f":"IF(B7363=\"Conjunta\",\"N° de Documento\",IF(B7363=\"\",\"\",\"\"))","v":""},null,null,null,null,null,null,{"$f":"IF(B7363=\"Conjunta\",\"Parentesco\",IF(B7363=\"\",\"\",\"\"))","v":""},null,null,null,null,null,null,null,null,null,""]
[null,null,null,null,null,null,null,null,null,null,null,null,null,null,null,null,null,null,null,null,null,null,null,null,null,null,null,null,null,null,null,null,null,""]
[null,null,null,null,null,null,null,null,null,null,null,null,null,null,null,null,null,null,null,null,null,null,null,null,null,null,null,null,null,null,null,null,null,""]
[null,{"$f":"IF(OR(H7344=\"Socio o Accionista\",H7344=\"Controlante\"),\"Tipo de Participación\",IF(H7344=\"\",\"\",\"\"))","v":""},null,null,null,null,null,null,null,{"$f":"IF(B7366=\"Conjunta\",\"Tipo de Documento\",IF(B7366=\"\",\"\",\"\"))","v":""},null,null,null,null,null,null,{"$f":"IF(B7366=\"Conjunta\",\"N° de Documento\",IF(B7366=\"\",\"\",\"\"))","v":""},null,null,null,null,null,null,{"$f":"IF(B7366=\"Conjunta\",\"Parentesco\",IF(B7366=\"\",\"\",\"\"))","v":""},null,null,null,null,null,null,null,null,null,""]
[null,null,null,null,null,null,null,null,null,null,null,null,null,null,null,null,null,null,null,null,null,null,null,null,null,null,null,null,null,null,null,null,null,""]
[null,null,null,null,null,null,null,null,null,null,null,null,null,null,null,null,null,null,null,null,null,null,null,null,null,null,null,null,null,null,null,null,null,""]
[null,{"$f":"IF(OR(H7344=\"Socio o Accionista\",H7344=\"Controlante\"),\"Tipo de Participación\",IF(H7344=\"\",\"\",\"\"))","v":""},null,null,null,null,null,null,null,{"$f":"IF(B7369=\"Conjunta\",\"Tipo de Documento\",IF(B7369=\"\",\"\",\"\"))","v":""},null,null,null,null,null,null,{"$f":"IF(B7369=\"Conjunta\",\"N° de Documento\",IF(B7369=\"\",\"\",\"\"))","v":""},null,null,null,null,null,null,{"$f":"IF(B7369=\"Conjunta\",\"Parentesco\",IF(B7369=\"\",\"\",\"\"))","v":""},null,null,null,null,null,null,null,null,null,""]
[null,null,null,null,null,null,null,null,null,null,null,null,null,null,null,null,null,null,null,null,null,null,null,null,null,null,null,null,null,null,null,null,null,""]
[null,null,null,null,null,null,null,null,null,null,null,null,null,null,null,null,null,null,null,null,null,null,null,null,null,null,null,null,null,null,null,null,null,""]
[null,{"$f":"IF(H7346<>\"\",\"País de Expedición del NIT\",\"\")","v":""},null,null,null,null,null,null,null,null,null,null,null,null,null,null,{"$f":"IF(H7346<>\"\",\"N° de Identificación Tributario\",\"\")","v":""},null,null,null,null,null,null,null,null,null,null,null,null,null,null,null,null,""]
[null,{"$f":"IF(H7346<>\"\",\"1 -\",\"\")","v":""},null,null,null,null,null,null,null,null,null,null,null,null,null,null,{"$f":"IF(H7346<>\"\",\"1 -\",\"\")","v":""},null,null,null,null,null,null,null,null,null,null,null,null,null,null,null,null,{"$f":"IF($H$7310=\"\",\"\",\"1\")","v":""}]
[null,{"$f":"IF(H7346<>\"\",\"2 -\",\"\")","v":""},null,null,null,null,null,null,null,null,null,null,null,null,null,null,{"$f":"IF(H7346<>\"\",\"2 -\",\"\")","v":""},null,null,null,null,null,null,null,null,null,null,null,null,null,null,null,null,""]
[null,null,null,null,null,null,null,null,null,null,null,null,null,null,null,null,null,null,null,null,null,null,null,null,null,null,null,null,null,null,null,null,null,""]
["N2","Informe a cual de las Personas Jurídicas indicadas antes pertenece este relacionado",null,null,null,"Tipo de Documento",null,null,null,null,{"$f":"VLOOKUP(K7377,Hoja2!$A$485:$D$709,3,0)","v":{"$error":"#N/A"}},null,null,null,null,null,null,null,"Número de Documento",null,null,null,null,{"$f":"VLOOKUP(K7377,Hoja2!$A$485:$D$709,4,0)","v":{"$error":"#N/A"}},null,null,null,null,null,null,null,null,null,{"$f":"IF($H$7378=\"\",\"\",\"1\")","v":""}]
[null,null,null,null,null,null,null,null,null,null,null,null,null,null,null,null,null,null,null,null,null,null,null,null,null,null,null,null,null,null,null,null,null,{"$f":"IF($H$7378=\"\",\"\",\"1\")","v":""}]
[null,null,null,null,null,"Razón Social",null,null,null,null,null,null,null,null,null,null,null,null,null,null,null,null,null,null,null,null,null,null,null,null,null,null,null,""]
[170,"Tipo de Relación",null,null,null,null,null,null,null,null,null,null,null,null,null,null,null,null,null,null,null,null,null,null,null,null,null,null,null,null,null,null,null,""]
[null,null,null,null,null,null,null,null,null,null,null,null,null,null,null,null,null,null,null,null,null,null,null,null,null,null,null,null,null,null,null,null,null,""]
[null,"Tipo de Documento",null,null,null,null,null,null,null,null,null,null,null,null,null,null,null,null,null,null,null,null,null,null,null,null,null,null,null,null,null,null,null,""]
[null,{"$f":"IF(H7380<>\"\",\"N° de Documento\",\"\")","v":""},null,null,null,null,null,null,null,null,null,{"$f":"IF(H7380<>\"\",\"Fecha de Expedición\",\"\")","v":""},null,null,null,null,null,null,null,null,null,{"$f":"IF(H7380<>\"\",\"País de Expedición\",\"\")","v":""},null,null,null,null,null,null,null,null,null,null,null,""]
[null,null,null,null,null,null,null,null,null,null,null,null,null,null,null,null,null,null,null,null,null,null,null,null,null,null,null,null,null,null,null,null,null,""]
[null,{"$f":"IF(OR(H7380=\"NIT\",H7380=\"Fideicomiso/Fondo\",H7380=\"PJ No Residente\"),\"Razón Social\",\"\")","v":""},null,null,null,null,null,null,null,null,null,null,null,null,null,null,null,null,null,null,null,null,null,null,null,null,null,null,null,null,null,null,null,""]
[null,null,null,null,null,null,null,null,null,null,null,null,null,null,null,null,null,null,null,null,null,null,null,null,null,null,null,null,null,null,null,null,null,""]
[null,{"$f":"IF(OR(H7380=\"NIT\",H7380=\"Fideicomiso/Fondo\",H7380=\"PJ No Residente\",H7380=\"\"),\"\",\"Primer Nombre\")","v":""},null,null,null,null,null,null,null,{"$f":"IF(OR(H7380=\"NIT\",H7380=\"Fideicomiso/Fondo\",H7380=\"PJ No Residente\",H7380=\"\"),\"\",\"Segundo Nombre\")","v":""},null,null,null,null,null,null,{"$f":"IF(OR(H7380=\"NIT\",H7380=\"Fideicomiso/Fondo\",H7380=\"PJ No Residente\",H7380=\"\"),\"\",\"Primer Apellido\")","v":""},null,null,null,null,null,null,{"$f":"IF(OR(H7380=\"NIT\",H7380=\"Fideicomiso/Fondo\",H7380=\"PJ No Residente\",H7380=\"\"),\"\",\"Segundo Apellido\")","v":""},null,null,null,null,null,null,null,null,null,""]
[null,null,null,null,null,null,null,null,null,null,null,null,null,null,null,null,null,null,null,null,null,null,null,null,null,null,null,null,null,null,null,null,null,""]
[null,{"$f":"IF(OR(H7378=\"Socio o Accionista\",H7378=\"Fideicomitente\",H7378=\"Inversionista\",H7378=\"Beneficiario de Activos/Rendimientos/Utilidades\"),\"Participación en %\",IF(H7378=\"\",\"\",\"\"))","v":""},null,null,null,null,null,{"$f":"IF(H7380<>\"\",\"¿Es Persona Expuesta Politicamente?\",\"\")","v":""},null,null,null,null,null,null,null,null,null,{"$f":"IF(OR(H7380=\"NIT\",H7380=\"Fideicomiso/Fondo\",H7380=\"PJ No Residente\"),\"¿Emite acciones al portador?\",IF(H7380=\"\",\"\",\"\"))","v":""},null,null,null,null,null,null,null,{"$f":"IF(OR(H7380=\"NIT\",H7380=\"Fideicomiso/Fondo\",H7380=\"PJ No Residente\"),\"\",IF(H7380=\"\",\"\",\"Género\"))","v":""},null,null,null,null,null,null,null,""]
[null,null,null,null,null,null,null,null,null,null,null,null,null,null,null,null,null,null,null,null,null,null,null,null,null,null,null,null,null,null,null,null,null,""]
[null,{"$f":"IF(OR(H7380=\"NIT\",H7380=\"Fideicomiso/Fondo\",H7380=\"PJ No Residente\"),\"\",IF(H7380=\"\",\"\",\"Fecha de Nacimiento\"))","v":""},null,null,null,null,null,null,null,null,null,{"$f":"IF(OR(H7380=\"NIT\",H7380=\"Fideicomiso/Fondo\",H7380=\"PJ No Residente\"),\"\",IF(H7380=\"\",\"\",\"País de nacimiento\"))","v":""},null,null,null,null,null,null,null,null,null,{"$f":"IF(OR(H7380=\"NIT\",H7380=\"Fideicomiso/Fondo\",H7380=\"PJ No Residente\"),\"\",IF(H7380=\"\",\"\",\"Nacionalidad\"))","v":""},null,null,null,null,null,null,null,null,null,null,null,""]
[null,null,null,null,null,null,null,null,null,null,null,null,null,null,null,null,null,null,null,null,null,null,null,null,null,null,null,null,null,null,null,null,null,""]
[null,{"$f":"IF(H7380<>\"\",\"Pais de Residencia\",\"\")","v":""},null,null,null,null,null,null,null,null,null,{"$f":"IF(H7380<>\"\",\"Departamento de Residencia\",\"\")","v":""},null,null,null,null,null,null,null,null,null,{"$f":"IF(H7380<>\"\",\"Ciudad de Residencia\",\"\")","v":""},null,null,null,null,null,null,null,null,null,null,null,""]
[null,null,null,null,null,null,null,null,null,null,null,null,null,null,null,null,null,null,null,null,null,null,null,null,null,null,null,null,null,null,null,null,null,""]
[null,{"$f":"IF(H7380<>\"\",\"Dirección de residencia\",\"\")","v":""},null,null,null,null,null,null,null,null,null,null,null,null,null,null,{"$f":"IF(H7380<>\"\",\"Correo electrónico\",\"\")","v":""},null,null,null,null,null,null,null,null,null,null,null,null,null,null,null,null,""]
[null,null,null,null,null,null,null,null,null,null,null,null,null,null,null,null,null,null,null,null,null,null,null,null,null,null,null,null,null,null,null,null,null,""]
[null,null,null,null,null,null,null,null,null,null,null,null,null,null,null,null,null,null,null,null,null,null,null,null,null,null,null,null,null,null,null,null,null,""]
[null,{"$f":"IF(OR(H7378=\"Socio o Accionista\",H7378=\"Controlante\"),\"Tipo de Participación\",IF(H7378=\"\",\"\",\"\"))","v":""},null,null,null,null,null,null,null,{"$f":"IF(B7397=\"Conjunta\",\"Tipo de Documento\",IF(B7397=\"\",\"\",\"\"))","v":""},null,null,null,null,null,null,{"$f":"IF(B7397=\"Conjunta\",\"N° de Documento\",IF(B7397=\"\",\"\",\"\"))","v":""},null,null,null,null,null,null,{"$f":"IF(B7397=\"Conjunta\",\"Parentesco\",IF(B7397=\"\",\"\",\"\"))","v":""},null,null,null,null,null,null,null,null,null,""]
[null,null,null,null,null,null,null,null,null,null,null,null,null,null,null,null,null,null,null,null,null,null,null,null,null,null,null,null,null,null,null,null,null,""]
[null,null,null,null,null,null,null,null,null,null,null,null,null,null,null,null,null,null,null,null,null,null,null,null,null,null,null,null,null,null,null,null,null,""]
[null,{"$f":"IF(OR(H7378=\"Socio o Accionista\",H7378=\"Controlante\"),\"Tipo de Participación\",IF(H7378=\"\",\"\",\"\"))","v":""},null,null,null,null,null,null,null,{"$f":"IF(B7400=\"Conjunta\",\"Tipo de Documento\",IF(B7400=\"\",\"\",\"\"))","v":""},null,null,null,null,null,null,{"$f":"IF(B7400=\"Conjunta\",\"N° de Documento\",IF(B7400=\"\",\"\",\"\"))","v":""},null,null,null,null,null,null,{"$f":"IF(B7400=\"Conjunta\",\"Parentesco\",IF(B7400=\"\",\"\",\"\"))","v":""},null,null,null,null,null,null,null,null,null,""]
[null,null,null,null,null,null,null,null,null,null,null,null,null,null,null,null,null,null,null,null,null,null,null,null,null,null,null,null,null,null,null,null,null,""]
[null,null,null,null,null,null,null,null,null,null,null,null,null,null,null,null,null,null,null,null,null,null,null,null,null,null,null,null,null,null,null,null,null,""]
[null,{"$f":"IF(OR(H7378=\"Socio o Accionista\",H7378=\"Controlante\"),\"Tipo de Participación\",IF(H7378=\"\",\"\",\"\"))","v":""},null,null,null,null,null,null,null,{"$f":"IF(B7403=\"Conjunta\",\"Tipo de Documento\",IF(B7403=\"\",\"\",\"\"))","v":""},null,null,null,null,null,null,{"$f":"IF(B7403=\"Conjunta\",\"N° de Documento\",IF(B7403=\"\",\"\",\"\"))","v":""},null,null,null,null,null,null,{"$f":"IF(B7403=\"Conjunta\",\"Parentesco\",IF(B7403=\"\",\"\",\"\"))","v":""},null,null,null,null,null,null,null,null,null,""]
[null,null,null,null,null,null,null,null,null,null,null,null,null,null,null,null,null,null,null,null,null,null,null,null,null,null,null,null,null,null,null,null,null,""]
[null,null,null,null,null,null,null,null,null,null,null,null,null,null,null,null,null,null,null,null,null,null,null,null,null,null,null,null,null,null,null,null,null,""]
[null,{"$f":"IF(H7380<>\"\",\"País de Expedición del NIT\",\"\")","v":""},null,null,null,null,null,null,null,null,null,null,null,null,null,null,{"$f":"IF(H7380<>\"\",\"N° de Identificación Tributario\",\"\")","v":""},null,null,null,null,null,null,null,null,null,null,null,null,null,null,null,null,""]
[null,{"$f":"IF(H7380<>\"\",\"1 -\",\"\")","v":""},null,null,null,null,null,null,null,null,null,null,null,null,null,null,{"$f":"IF(H7380<>\"\",\"1 -\",\"\")","v":""},null,null,null,null,null,null,null,null,null,null,null,null,null,null,null,null,""]
[null,{"$f":"IF(H7380<>\"\",\"2 -\",\"\")","v":""},null,null,null,null,null,null,null,null,null,null,null,null,null,null,{"$f":"IF(H7380<>\"\",\"2 -\",\"\")","v":""},null,null,null,null,null,null,null,null,null,null,null,null,null,null,null,null,""]
[null,null,null,null,null,null,null,null,null,null,null,null,null,null,null,null,null,null,null,null,null,null,null,null,null,null,null,null,null,null,null,null,null,""]
["N2","Informe a cual de las Personas Jurídicas indicadas antes pertenece este relacionado",null,null,null,"Tipo de Documento",null,null,null,null,{"$f":"VLOOKUP(K7411,Hoja2!$A$485:$D$709,3,0)","v":{"$error":"#N/A"}},null,null,null,null,null,null,null,"Número de Documento",null,null,null,null,{"$f":"VLOOKUP(K7411,Hoja2!$A$485:$D$709,4,0)","v":{"$error":"#N/A"}},null,null,null,null,null,null,null,null,null,""]
[null,null,null,null,null,null,null,null,null,null,null,null,null,null,null,null,null,null,null,null,null,null,null,null,null,null,null,null,null,null,null,null,null,""]
[null,null,null,null,null,"Razón Social",null,null,null,null,null,null,null,null,null,null,null,null,null,null,null,null,null,null,null,null,null,null,null,null,null,null,null,""]
[171,"Tipo de Relación",null,null,null,null,null,null,null,null,null,null,null,null,null,null,null,null,null,null,null,null,null,null,null,null,null,null,null,null,null,null,null,""]
[null,null,null,null,null,null,null,null,null,null,null,null,null,null,null,null,null,null,null,null,null,null,null,null,null,null,null,null,null,null,null,null,null,""]
[null,"Tipo de Documento",null,null,null,null,null,null,null,null,null,null,null,null,null,null,null,null,null,null,null,null,null,null,null,null,null,null,null,null,null,null,null,""]
[null,{"$f":"IF(H7414<>\"\",\"N° de Documento\",\"\")","v":""},null,null,null,null,null,null,null,null,null,{"$f":"IF(H7414<>\"\",\"Fecha de Expedición\",\"\")","v":""},null,null,null,null,null,null,null,null,null,{"$f":"IF(H7414<>\"\",\"País de Expedición\",\"\")","v":""},null,null,null,null,null,null,null,null,null,null,null,""]
[null,null,null,null,null,null,null,null,null,null,null,null,null,null,null,null,null,null,null,null,null,null,null,null,null,null,null,null,null,null,null,null,null,""]
[null,{"$f":"IF(OR(H7414=\"NIT\",H7414=\"Fideicomiso/Fondo\",H7414=\"PJ No Residente\"),\"Razón Social\",\"\")","v":""},null,null,null,null,null,null,null,null,null,null,null,null,null,null,null,null,null,null,null,null,null,null,null,null,null,null,null,null,null,null,null,""]
[null,null,null,null,null,null,null,null,null,null,null,null,null,null,null,null,null,null,null,null,null,null,null,null,null,null,null,null,null,null,null,null,null,""]
[null,{"$f":"IF(OR(H7414=\"NIT\",H7414=\"Fideicomiso/Fondo\",H7414=\"PJ No Residente\",H7414=\"\"),\"\",\"Primer Nombre\")","v":""},null,null,null,null,null,null,null,{"$f":"IF(OR(H7414=\"NIT\",H7414=\"Fideicomiso/Fondo\",H7414=\"PJ No Residente\",H7414=\"\"),\"\",\"Segundo Nombre\")","v":""},null,null,null,null,null,null,{"$f":"IF(OR(H7414=\"NIT\",H7414=\"Fideicomiso/Fondo\",H7414=\"PJ No Residente\",H7414=\"\"),\"\",\"Primer Apellido\")","v":""},null,null,null,null,null,null,{"$f":"IF(OR(H7414=\"NIT\",H7414=\"Fideicomiso/Fondo\",H7414=\"PJ No Residente\",H7414=\"\"),\"\",\"Segundo Apellido\")","v":""},null,null,null,null,null,null,null,null,null,""]
[null,null,null,null,null,null,null,null,null,null,null,null,null,null,null,null,null,null,null,null,null,null,null,null,null,null,null,null,null,null,null,null,null,""]
[null,{"$f":"IF(OR(H7412=\"Socio o Accionista\",H7412=\"Fideicomitente\",H7412=\"Inversionista\",H7412=\"Beneficiario de Activos/Rendimientos/Utilidades\"),\"Participación en %\",IF(H7412=\"\",\"\",\"\"))","v":""},null,null,null,null,null,{"$f":"IF(H7414<>\"\",\"¿Es Persona Expuesta Politicamente?\",\"\")","v":""},null,null,null,null,null,null,null,null,null,{"$f":"IF(OR(H7414=\"NIT\",H7414=\"Fideicomiso/Fondo\",H7414=\"PJ No Residente\"),\"¿Emite acciones al portador?\",IF(H7414=\"\",\"\",\"\"))","v":""},null,null,null,null,null,null,null,{"$f":"IF(OR(H7414=\"NIT\",H7414=\"Fideicomiso/Fondo\",H7414=\"PJ No Residente\"),\"\",IF(H7414=\"\",\"\",\"Género\"))","v":""},null,null,null,null,null,null,null,""]
[null,null,null,null,null,null,null,null,null,null,null,null,null,null,null,null,null,null,null,null,null,null,null,null,null,null,null,null,null,null,null,null,null,""]
[null,{"$f":"IF(OR(H7414=\"NIT\",H7414=\"Fideicomiso/Fondo\",H7414=\"PJ No Residente\"),\"\",IF(H7414=\"\",\"\",\"Fecha de Nacimiento\"))","v":""},null,null,null,null,null,null,null,null,null,{"$f":"IF(OR(H7414=\"NIT\",H7414=\"Fideicomiso/Fondo\",H7414=\"PJ No Residente\"),\"\",IF(H7414=\"\",\"\",\"País de nacimiento\"))","v":""},null,null,null,null,null,null,null,null,null,{"$f":"IF(OR(H7414=\"NIT\",H7414=\"Fideicomiso/Fondo\",H7414=\"PJ No Residente\"),\"\",IF(H7414=\"\",\"\",\"Nacionalidad\"))","v":""},null,null,null,null,null,null,null,null,null,null,null,""]
[null,null,null,null,null,null,null,null,null,null,null,null,null,null,null,null,null,null,null,null,null,null,null,null,null,null,null,null,null,null,null,null,null,""]
[null,{"$f":"IF(H7414<>\"\",\"Pais de Residencia\",\"\")","v":""},null,null,null,null,null,null,null,null,null,{"$f":"IF(H7414<>\"\",\"Departamento de Residencia\",\"\")","v":""},null,null,null,null,null,null,null,null,null,{"$f":"IF(H7414<>\"\",\"Ciudad de Residencia\",\"\")","v":""},null,null,null,null,null,null,null,null,null,null,null,""]
[null,null,null,null,null,null,null,null,null,null,null,null,null,null,null,null,null,null,null,null,null,null,null,null,null,null,null,null,null,null,null,null,null,""]
[null,{"$f":"IF(H7414<>\"\",\"Dirección de residencia\",\"\")","v":""},null,null,null,null,null,null,null,null,null,null,null,null,null,null,{"$f":"IF(H7414<>\"\",\"Correo electrónico\",\"\")","v":""},null,null,null,null,null,null,null,null,null,null,null,null,null,null,null,null,""]
[null,null,null,null,null,null,null,null,null,null,null,null,null,null,null,null,null,null,null,null,null,null,null,null,null,null,null,null,null,null,null,null,null,""]
[null,null,null,null,null,null,null,null,null,null,null,null,null,null,null,null,null,null,null,null,null,null,null,null,null,null,null,null,null,null,null,null,null,""]
[null,{"$f":"IF(OR(H7412=\"Socio o Accionista\",H7412=\"Controlante\"),\"Tipo de Participación\",IF(H7412=\"\",\"\",\"\"))","v":""},null,null,null,null,null,null,null,{"$f":"IF(B7431=\"Conjunta\",\"Tipo de Documento\",IF(B7431=\"\",\"\",\"\"))","v":""},null,null,null,null,null,null,{"$f":"IF(B7431=\"Conjunta\",\"N° de Documento\",IF(B7431=\"\",\"\",\"\"))","v":""},null,null,null,null,null,null,{"$f":"IF(B7431=\"Conjunta\",\"Parentesco\",IF(B7431=\"\",\"\",\"\"))","v":""},null,null,null,null,null,null,null,null,null,""]
[null,null,null,null,null,null,null,null,null,null,null,null,null,null,null,null,null,null,null,null,null,null,null,null,null,null,null,null,null,null,null,null,null,""]
[null,null,null,null,null,null,null,null,null,null,null,null,null,null,null,null,null,null,null,null,null,null,null,null,null,null,null,null,null,null,null,null,null,""]
[null,{"$f":"IF(OR(H7412=\"Socio o Accionista\",H7412=\"Controlante\"),\"Tipo de Participación\",IF(H7412=\"\",\"\",\"\"))","v":""},null,null,null,null,null,null,null,{"$f":"IF(B7434=\"Conjunta\",\"Tipo de Documento\",IF(B7434=\"\",\"\",\"\"))","v":""},null,null,null,null,null,null,{"$f":"IF(B7434=\"Conjunta\",\"N° de Documento\",IF(B7434=\"\",\"\",\"\"))","v":""},null,null,null,null,null,null,{"$f":"IF(B7434=\"Conjunta\",\"Parentesco\",IF(B7434=\"\",\"\",\"\"))","v":""},null,null,null,null,null,null,null,null,null,""]
[null,null,null,null,null,null,null,null,null,null,null,null,null,null,null,null,null,null,null,null,null,null,null,null,null,null,null,null,null,null,null,null,null,""]
[null,null,null,null,null,null,null,null,null,null,null,null,null,null,null,null,null,null,null,null,null,null,null,null,null,null,null,null,null,null,null,null,null,""]
[null,{"$f":"IF(OR(H7412=\"Socio o Accionista\",H7412=\"Controlante\"),\"Tipo de Participación\",IF(H7412=\"\",\"\",\"\"))","v":""},null,null,null,null,null,null,null,{"$f":"IF(B7437=\"Conjunta\",\"Tipo de Documento\",IF(B7437=\"\",\"\",\"\"))","v":""},null,null,null,null,null,null,{"$f":"IF(B7437=\"Conjunta\",\"N° de Documento\",IF(B7437=\"\",\"\",\"\"))","v":""},null,null,null,null,null,null,{"$f":"IF(B7437=\"Conjunta\",\"Parentesco\",IF(B7437=\"\",\"\",\"\"))","v":""},null,null,null,null,null,null,null,null,null,""]
[null,null,null,null,null,null,null,null,null,null,null,null,null,null,null,null,null,null,null,null,null,null,null,null,null,null,null,null,null,null,null,null,null,""]
[null,null,null,null,null,null,null,null,null,null,null,null,null,null,null,null,null,null,null,null,null,null,null,null,null,null,null,null,null,null,null,null,null,""]
[null,{"$f":"IF(H7414<>\"\",\"País de Expedición del NIT\",\"\")","v":""},null,null,null,null,null,null,null,null,null,null,null,null,null,null,{"$f":"IF(H7414<>\"\",\"N° de Identificación Tributario\",\"\")","v":""},null,null,null,null,null,null,null,null,null,null,null,null,null,null,null,null,""]
[null,{"$f":"IF(H7414<>\"\",\"1 -\",\"\")","v":""},null,null,null,null,null,null,null,null,null,null,null,null,null,null,{"$f":"IF(H7414<>\"\",\"1 -\",\"\")","v":""},null,null,null,null,null,null,null,null,null,null,null,null,null,null,null,null,{"$f":"IF($H$7378=\"\",\"\",\"1\")","v":""}]
[null,{"$f":"IF(H7414<>\"\",\"2 -\",\"\")","v":""},null,null,null,null,null,null,null,null,null,null,null,null,null,null,{"$f":"IF(H7414<>\"\",\"2 -\",\"\")","v":""},null,null,null,null,null,null,null,null,null,null,null,null,null,null,null,null,""]
[null,null,null,null,null,null,null,null,null,null,null,null,null,null,null,null,null,null,null,null,null,null,null,null,null,null,null,null,null,null,null,null,null,""]
["N2","Informe a cual de las Personas Jurídicas indicadas antes pertenece este relacionado",null,null,null,"Tipo de Documento",null,null,null,null,{"$f":"VLOOKUP(K7445,Hoja2!$A$485:$D$709,3,0)","v":{"$error":"#N/A"}},null,null,null,null,null,null,null,"Número de Documento",null,null,null,null,{"$f":"VLOOKUP(K7445,Hoja2!$A$485:$D$709,4,0)","v":{"$error":"#N/A"}},null,null,null,null,null,null,null,null,null,{"$f":"IF($H$7446=\"\",\"\",\"1\")","v":""}]
[null,null,null,null,null,null,null,null,null,null,null,null,null,null,null,null,null,null,null,null,null,null,null,null,null,null,null,null,null,null,null,null,null,{"$f":"IF($H$7446=\"\",\"\",\"1\")","v":""}]
[null,null,null,null,null,"Razón Social",null,null,null,null,null,null,null,null,null,null,null,null,null,null,null,null,null,null,null,null,null,null,null,null,null,null,null,""]
[172,"Tipo de Relación",null,null,null,null,null,null,null,null,null,null,null,null,null,null,null,null,null,null,null,null,null,null,null,null,null,null,null,null,null,null,null,""]
[null,null,null,null,null,null,null,null,null,null,null,null,null,null,null,null,null,null,null,null,null,null,null,null,null,null,null,null,null,null,null,null,null,""]
[null,"Tipo de Documento",null,null,null,null,null,null,null,null,null,null,null,null,null,null,null,null,null,null,null,null,null,null,null,null,null,null,null,null,null,null,null,""]
[null,{"$f":"IF(H7448<>\"\",\"N° de Documento\",\"\")","v":""},null,null,null,null,null,null,null,null,null,{"$f":"IF(H7448<>\"\",\"Fecha de Expedición\",\"\")","v":""},null,null,null,null,null,null,null,null,null,{"$f":"IF(H7448<>\"\",\"País de Expedición\",\"\")","v":""},null,null,null,null,null,null,null,null,null,null,null,""]
[null,null,null,null,null,null,null,null,null,null,null,null,null,null,null,null,null,null,null,null,null,null,null,null,null,null,null,null,null,null,null,null,null,""]
[null,{"$f":"IF(OR(H7448=\"NIT\",H7448=\"Fideicomiso/Fondo\",H7448=\"PJ No Residente\"),\"Razón Social\",\"\")","v":""},null,null,null,null,null,null,null,null,null,null,null,null,null,null,null,null,null,null,null,null,null,null,null,null,null,null,null,null,null,null,null,""]
[null,null,null,null,null,null,null,null,null,null,null,null,null,null,null,null,null,null,null,null,null,null,null,null,null,null,null,null,null,null,null,null,null,""]
[null,{"$f":"IF(OR(H7448=\"NIT\",H7448=\"Fideicomiso/Fondo\",H7448=\"PJ No Residente\",H7448=\"\"),\"\",\"Primer Nombre\")","v":""},null,null,null,null,null,null,null,{"$f":"IF(OR(H7448=\"NIT\",H7448=\"Fideicomiso/Fondo\",H7448=\"PJ No Residente\",H7448=\"\"),\"\",\"Segundo Nombre\")","v":""},null,null,null,null,null,null,{"$f":"IF(OR(H7448=\"NIT\",H7448=\"Fideicomiso/Fondo\",H7448=\"PJ No Residente\",H7448=\"\"),\"\",\"Primer Apellido\")","v":""},null,null,null,null,null,null,{"$f":"IF(OR(H7448=\"NIT\",H7448=\"Fideicomiso/Fondo\",H7448=\"PJ No Residente\",H7448=\"\"),\"\",\"Segundo Apellido\")","v":""},null,null,null,null,null,null,null,null,null,""]
[null,null,null,null,null,null,null,null,null,null,null,null,null,null,null,null,null,null,null,null,null,null,null,null,null,null,null,null,null,null,null,null,null,""]
[null,{"$f":"IF(OR(H7446=\"Socio o Accionista\",H7446=\"Fideicomitente\",H7446=\"Inversionista\",H7446=\"Beneficiario de Activos/Rendimientos/Utilidades\"),\"Participación en %\",IF(H7446=\"\",\"\",\"\"))","v":""},null,null,null,null,null,{"$f":"IF(H7448<>\"\",\"¿Es Persona Expuesta Politicamente?\",\"\")","v":""},null,null,null,null,null,null,null,null,null,{"$f":"IF(OR(H7448=\"NIT\",H7448=\"Fideicomiso/Fondo\",H7448=\"PJ No Residente\"),\"¿Emite acciones al portador?\",IF(H7448=\"\",\"\",\"\"))","v":""},null,null,null,null,null,null,null,{"$f":"IF(OR(H7448=\"NIT\",H7448=\"Fideicomiso/Fondo\",H7448=\"PJ No Residente\"),\"\",IF(H7448=\"\",\"\",\"Género\"))","v":""},null,null,null,null,null,null,null,""]
[null,null,null,null,null,null,null,null,null,null,null,null,null,null,null,null,null,null,null,null,null,null,null,null,null,null,null,null,null,null,null,null,null,""]
[null,{"$f":"IF(OR(H7448=\"NIT\",H7448=\"Fideicomiso/Fondo\",H7448=\"PJ No Residente\"),\"\",IF(H7448=\"\",\"\",\"Fecha de Nacimiento\"))","v":""},null,null,null,null,null,null,null,null,null,{"$f":"IF(OR(H7448=\"NIT\",H7448=\"Fideicomiso/Fondo\",H7448=\"PJ No Residente\"),\"\",IF(H7448=\"\",\"\",\"País de nacimiento\"))","v":""},null,null,null,null,null,null,null,null,null,{"$f":"IF(OR(H7448=\"NIT\",H7448=\"Fideicomiso/Fondo\",H7448=\"PJ No Residente\"),\"\",IF(H7448=\"\",\"\",\"Nacionalidad\"))","v":""},null,null,null,null,null,null,null,null,null,null,null,""]
[null,null,null,null,null,null,null,null,null,null,null,null,null,null,null,null,null,null,null,null,null,null,null,null,null,null,null,null,null,null,null,null,null,""]
[null,{"$f":"IF(H7448<>\"\",\"Pais de Residencia\",\"\")","v":""},null,null,null,null,null,null,null,null,null,{"$f":"IF(H7448<>\"\",\"Departamento de Residencia\",\"\")","v":""},null,null,null,null,null,null,null,null,null,{"$f":"IF(H7448<>\"\",\"Ciudad de Residencia\",\"\")","v":""},null,null,null,null,null,null,null,null,null,null,null,""]
[null,null,null,null,null,null,null,null,null,null,null,null,null,null,null,null,null,null,null,null,null,null,null,null,null,null,null,null,null,null,null,null,null,""]
[null,{"$f":"IF(H7448<>\"\",\"Dirección de residencia\",\"\")","v":""},null,null,null,null,null,null,null,null,null,null,null,null,null,null,{"$f":"IF(H7448<>\"\",\"Correo electrónico\",\"\")","v":""},null,null,null,null,null,null,null,null,null,null,null,null,null,null,null,null,""]
[null,null,null,null,null,null,null,null,null,null,null,null,null,null,null,null,null,null,null,null,null,null,null,null,null,null,null,null,null,null,null,null,null,""]
[null,null,null,null,null,null,null,null,null,null,null,null,null,null,null,null,null,null,null,null,null,null,null,null,null,null,null,null,null,null,null,null,null,""]
[null,{"$f":"IF(OR(H7446=\"Socio o Accionista\",H7446=\"Controlante\"),\"Tipo de Participación\",IF(H7446=\"\",\"\",\"\"))","v":""},null,null,null,null,null,null,null,{"$f":"IF(B7465=\"Conjunta\",\"Tipo de Documento\",IF(B7465=\"\",\"\",\"\"))","v":""},null,null,null,null,null,null,{"$f":"IF(B7465=\"Conjunta\",\"N° de Documento\",IF(B7465=\"\",\"\",\"\"))","v":""},null,null,null,null,null,null,{"$f":"IF(B7465=\"Conjunta\",\"Parentesco\",IF(B7465=\"\",\"\",\"\"))","v":""},null,null,null,null,null,null,null,null,null,""]
[null,null,null,null,null,null,null,null,null,null,null,null,null,null,null,null,null,null,null,null,null,null,null,null,null,null,null,null,null,null,null,null,null,""]
[null,null,null,null,null,null,null,null,null,null,null,null,null,null,null,null,null,null,null,null,null,null,null,null,null,null,null,null,null,null,null,null,null,""]
[null,{"$f":"IF(OR(H7446=\"Socio o Accionista\",H7446=\"Controlante\"),\"Tipo de Participación\",IF(H7446=\"\",\"\",\"\"))","v":""},null,null,null,null,null,null,null,{"$f":"IF(B7468=\"Conjunta\",\"Tipo de Documento\",IF(B7468=\"\",\"\",\"\"))","v":""},null,null,null,null,null,null,{"$f":"IF(B7468=\"Conjunta\",\"N° de Documento\",IF(B7468=\"\",\"\",\"\"))","v":""},null,null,null,null,null,null,{"$f":"IF(B7468=\"Conjunta\",\"Parentesco\",IF(B7468=\"\",\"\",\"\"))","v":""},null,null,null,null,null,null,null,null,null,""]
[null,null,null,null,null,null,null,null,null,null,null,null,null,null,null,null,null,null,null,null,null,null,null,null,null,null,null,null,null,null,null,null,null,""]
[null,null,null,null,null,null,null,null,null,null,null,null,null,null,null,null,null,null,null,null,null,null,null,null,null,null,null,null,null,null,null,null,null,""]
[null,{"$f":"IF(OR(H7446=\"Socio o Accionista\",H7446=\"Controlante\"),\"Tipo de Participación\",IF(H7446=\"\",\"\",\"\"))","v":""},null,null,null,null,null,null,null,{"$f":"IF(B7471=\"Conjunta\",\"Tipo de Documento\",IF(B7471=\"\",\"\",\"\"))","v":""},null,null,null,null,null,null,{"$f":"IF(B7471=\"Conjunta\",\"N° de Documento\",IF(B7471=\"\",\"\",\"\"))","v":""},null,null,null,null,null,null,{"$f":"IF(B7471=\"Conjunta\",\"Parentesco\",IF(B7471=\"\",\"\",\"\"))","v":""},null,null,null,null,null,null,null,null,null,""]
[null,null,null,null,null,null,null,null,null,null,null,null,null,null,null,null,null,null,null,null,null,null,null,null,null,null,null,null,null,null,null,null,null,""]
[null,null,null,null,null,null,null,null,null,null,null,null,null,null,null,null,null,null,null,null,null,null,null,null,null,null,null,null,null,null,null,null,null,""]
[null,{"$f":"IF(H7448<>\"\",\"País de Expedición del NIT\",\"\")","v":""},null,null,null,null,null,null,null,null,null,null,null,null,null,null,{"$f":"IF(H7448<>\"\",\"N° de Identificación Tributario\",\"\")","v":""},null,null,null,null,null,null,null,null,null,null,null,null,null,null,null,null,""]
[null,{"$f":"IF(H7448<>\"\",\"1 -\",\"\")","v":""},null,null,null,null,null,null,null,null,null,null,null,null,null,null,{"$f":"IF(H7448<>\"\",\"1 -\",\"\")","v":""},null,null,null,null,null,null,null,null,null,null,null,null,null,null,null,null,""]
[null,{"$f":"IF(H7448<>\"\",\"2 -\",\"\")","v":""},null,null,null,null,null,null,null,null,null,null,null,null,null,null,{"$f":"IF(H7448<>\"\",\"2 -\",\"\")","v":""},null,null,null,null,null,null,null,null,null,null,null,null,null,null,null,null,""]
[null,null,null,null,null,null,null,null,null,null,null,null,null,null,null,null,null,null,null,null,null,null,null,null,null,null,null,null,null,null,null,null,null,""]
["N2","Informe a cual de las Personas Jurídicas indicadas antes pertenece este relacionado",null,null,null,"Tipo de Documento",null,null,null,null,{"$f":"VLOOKUP(K7479,Hoja2!$A$485:$D$709,3,0)","v":{"$error":"#N/A"}},null,null,null,null,null,null,null,"Número de Documento",null,null,null,null,{"$f":"VLOOKUP(K7479,Hoja2!$A$485:$D$709,4,0)","v":{"$error":"#N/A"}},null,null,null,null,null,null,null,null,null,""]
[null,null,null,null,null,null,null,null,null,null,null,null,null,null,null,null,null,null,null,null,null,null,null,null,null,null,null,null,null,null,null,null,null,""]
[null,null,null,null,null,"Razón Social",null,null,null,null,null,null,null,null,null,null,null,null,null,null,null,null,null,null,null,null,null,null,null,null,null,null,null,""]
[173,"Tipo de Relación",null,null,null,null,null,null,null,null,null,null,null,null,null,null,null,null,null,null,null,null,null,null,null,null,null,null,null,null,null,null,null,""]
[null,null,null,null,null,null,null,null,null,null,null,null,null,null,null,null,null,null,null,null,null,null,null,null,null,null,null,null,null,null,null,null,null,""]
[null,"Tipo de Documento",null,null,null,null,null,null,null,null,null,null,null,null,null,null,null,null,null,null,null,null,null,null,null,null,null,null,null,null,null,null,null,""]
[null,{"$f":"IF(H7482<>\"\",\"N° de Documento\",\"\")","v":""},null,null,null,null,null,null,null,null,null,{"$f":"IF(H7482<>\"\",\"Fecha de Expedición\",\"\")","v":""},null,null,null,null,null,null,null,null,null,{"$f":"IF(H7482<>\"\",\"País de Expedición\",\"\")","v":""},null,null,null,null,null,null,null,null,null,null,null,""]
[null,null,null,null,null,null,null,null,null,null,null,null,null,null,null,null,null,null,null,null,null,null,null,null,null,null,null,null,null,null,null,null,null,""]
[null,{"$f":"IF(OR(H7482=\"NIT\",H7482=\"Fideicomiso/Fondo\",H7482=\"PJ No Residente\"),\"Razón Social\",\"\")","v":""},null,null,null,null,null,null,null,null,null,null,null,null,null,null,null,null,null,null,null,null,null,null,null,null,null,null,null,null,null,null,null,""]
[null,null,null,null,null,null,null,null,null,null,null,null,null,null,null,null,null,null,null,null,null,null,null,null,null,null,null,null,null,null,null,null,null,""]
[null,{"$f":"IF(OR(H7482=\"NIT\",H7482=\"Fideicomiso/Fondo\",H7482=\"PJ No Residente\",H7482=\"\"),\"\",\"Primer Nombre\")","v":""},null,null,null,null,null,null,null,{"$f":"IF(OR(H7482=\"NIT\",H7482=\"Fideicomiso/Fondo\",H7482=\"PJ No Residente\",H7482=\"\"),\"\",\"Segundo Nombre\")","v":""},null,null,null,null,null,null,{"$f":"IF(OR(H7482=\"NIT\",H7482=\"Fideicomiso/Fondo\",H7482=\"PJ No Residente\",H7482=\"\"),\"\",\"Primer Apellido\")","v":""},null,null,null,null,null,null,{"$f":"IF(OR(H7482=\"NIT\",H7482=\"Fideicomiso/Fondo\",H7482=\"PJ No Residente\",H7482=\"\"),\"\",\"Segundo Apellido\")","v":""},null,null,null,null,null,null,null,null,null,""]
[null,null,null,null,null,null,null,null,null,null,null,null,null,null,null,null,null,null,null,null,null,null,null,null,null,null,null,null,null,null,null,null,null,""]
[null,{"$f":"IF(OR(H7480=\"Socio o Accionista\",H7480=\"Fideicomitente\",H7480=\"Inversionista\",H7480=\"Beneficiario de Activos/Rendimientos/Utilidades\"),\"Participación en %\",IF(H7480=\"\",\"\",\"\"))","v":""},null,null,null,null,null,{"$f":"IF(H7482<>\"\",\"¿Es Persona Expuesta Politicamente?\",\"\")","v":""},null,null,null,null,null,null,null,null,null,{"$f":"IF(OR(H7482=\"NIT\",H7482=\"Fideicomiso/Fondo\",H7482=\"PJ No Residente\"),\"¿Emite acciones al portador?\",IF(H7482=\"\",\"\",\"\"))","v":""},null,null,null,null,null,null,null,{"$f":"IF(OR(H7482=\"NIT\",H7482=\"Fideicomiso/Fondo\",H7482=\"PJ No Residente\"),\"\",IF(H7482=\"\",\"\",\"Género\"))","v":""},null,null,null,null,null,null,null,""]
[null,null,null,null,null,null,null,null,null,null,null,null,null,null,null,null,null,null,null,null,null,null,null,null,null,null,null,null,null,null,null,null,null,""]
[null,{"$f":"IF(OR(H7482=\"NIT\",H7482=\"Fideicomiso/Fondo\",H7482=\"PJ No Residente\"),\"\",IF(H7482=\"\",\"\",\"Fecha de Nacimiento\"))","v":""},null,null,null,null,null,null,null,null,null,{"$f":"IF(OR(H7482=\"NIT\",H7482=\"Fideicomiso/Fondo\",H7482=\"PJ No Residente\"),\"\",IF(H7482=\"\",\"\",\"País de nacimiento\"))","v":""},null,null,null,null,null,null,null,null,null,{"$f":"IF(OR(H7482=\"NIT\",H7482=\"Fideicomiso/Fondo\",H7482=\"PJ No Residente\"),\"\",IF(H7482=\"\",\"\",\"Nacionalidad\"))","v":""},null,null,null,null,null,null,null,null,null,null,null,""]
[null,null,null,null,null,null,null,null,null,null,null,null,null,null,null,null,null,null,null,null,null,null,null,null,null,null,null,null,null,null,null,null,null,""]
[null,{"$f":"IF(H7482<>\"\",\"Pais de Residencia\",\"\")","v":""},null,null,null,null,null,null,null,null,null,{"$f":"IF(H7482<>\"\",\"Departamento de Residencia\",\"\")","v":""},null,null,null,null,null,null,null,null,null,{"$f":"IF(H7482<>\"\",\"Ciudad de Residencia\",\"\")","v":""},null,null,null,null,null,null,null,null,null,null,null,""]
[null,null,null,null,null,null,null,null,null,null,null,null,null,null,null,null,null,null,null,null,null,null,null,null,null,null,null,null,null,null,null,null,null,""]
[null,{"$f":"IF(H7482<>\"\",\"Dirección de residencia\",\"\")","v":""},null,null,null,null,null,null,null,null,null,null,null,null,null,null,{"$f":"IF(H7482<>\"\",\"Correo electrónico\",\"\")","v":""},null,null,null,null,null,null,null,null,null,null,null,null,null,null,null,null,""]
[null,null,null,null,null,null,null,null,null,null,null,null,null,null,null,null,null,null,null,null,null,null,null,null,null,null,null,null,null,null,null,null,null,""]
[null,null,null,null,null,null,null,null,null,null,null,null,null,null,null,null,null,null,null,null,null,null,null,null,null,null,null,null,null,null,null,null,null,""]
[null,{"$f":"IF(OR(H7480=\"Socio o Accionista\",H7480=\"Controlante\"),\"Tipo de Participación\",IF(H7480=\"\",\"\",\"\"))","v":""},null,null,null,null,null,null,null,{"$f":"IF(B7499=\"Conjunta\",\"Tipo de Documento\",IF(B7499=\"\",\"\",\"\"))","v":""},null,null,null,null,null,null,{"$f":"IF(B7499=\"Conjunta\",\"N° de Documento\",IF(B7499=\"\",\"\",\"\"))","v":""},null,null,null,null,null,null,{"$f":"IF(B7499=\"Conjunta\",\"Parentesco\",IF(B7499=\"\",\"\",\"\"))","v":""},null,null,null,null,null,null,null,null,null,""]
[null,null,null,null,null,null,null,null,null,null,null,null,null,null,null,null,null,null,null,null,null,null,null,null,null,null,null,null,null,null,null,null,null,""]
[null,null,null,null,null,null,null,null,null,null,null,null,null,null,null,null,null,null,null,null,null,null,null,null,null,null,null,null,null,null,null,null,null,""]
[null,{"$f":"IF(OR(H7480=\"Socio o Accionista\",H7480=\"Controlante\"),\"Tipo de Participación\",IF(H7480=\"\",\"\",\"\"))","v":""},null,null,null,null,null,null,null,{"$f":"IF(B7502=\"Conjunta\",\"Tipo de Documento\",IF(B7502=\"\",\"\",\"\"))","v":""},null,null,null,null,null,null,{"$f":"IF(B7502=\"Conjunta\",\"N° de Documento\",IF(B7502=\"\",\"\",\"\"))","v":""},null,null,null,null,null,null,{"$f":"IF(B7502=\"Conjunta\",\"Parentesco\",IF(B7502=\"\",\"\",\"\"))","v":""},null,null,null,null,null,null,null,null,null,""]
[null,null,null,null,null,null,null,null,null,null,null,null,null,null,null,null,null,null,null,null,null,null,null,null,null,null,null,null,null,null,null,null,null,""]
[null,null,null,null,null,null,null,null,null,null,null,null,null,null,null,null,null,null,null,null,null,null,null,null,null,null,null,null,null,null,null,null,null,""]
[null,{"$f":"IF(OR(H7480=\"Socio o Accionista\",H7480=\"Controlante\"),\"Tipo de Participación\",IF(H7480=\"\",\"\",\"\"))","v":""},null,null,null,null,null,null,null,{"$f":"IF(B7505=\"Conjunta\",\"Tipo de Documento\",IF(B7505=\"\",\"\",\"\"))","v":""},null,null,null,null,null,null,{"$f":"IF(B7505=\"Conjunta\",\"N° de Documento\",IF(B7505=\"\",\"\",\"\"))","v":""},null,null,null,null,null,null,{"$f":"IF(B7505=\"Conjunta\",\"Parentesco\",IF(B7505=\"\",\"\",\"\"))","v":""},null,null,null,null,null,null,null,null,null,""]
[null,null,null,null,null,null,null,null,null,null,null,null,null,null,null,null,null,null,null,null,null,null,null,null,null,null,null,null,null,null,null,null,null,""]
[null,null,null,null,null,null,null,null,null,null,null,null,null,null,null,null,null,null,null,null,null,null,null,null,null,null,null,null,null,null,null,null,null,""]
[null,{"$f":"IF(H7482<>\"\",\"País de Expedición del NIT\",\"\")","v":""},null,null,null,null,null,null,null,null,null,null,null,null,null,null,{"$f":"IF(H7482<>\"\",\"N° de Identificación Tributario\",\"\")","v":""},null,null,null,null,null,null,null,null,null,null,null,null,null,null,null,null,""]
[null,{"$f":"IF(H7482<>\"\",\"1 -\",\"\")","v":""},null,null,null,null,null,null,null,null,null,null,null,null,null,null,{"$f":"IF(H7482<>\"\",\"1 -\",\"\")","v":""},null,null,null,null,null,null,null,null,null,null,null,null,null,null,null,null,{"$f":"IF($H$7446=\"\",\"\",\"1\")","v":""}]
[null,{"$f":"IF(H7482<>\"\",\"2 -\",\"\")","v":""},null,null,null,null,null,null,null,null,null,null,null,null,null,null,{"$f":"IF(H7482<>\"\",\"2 -\",\"\")","v":""},null,null,null,null,null,null,null,null,null,null,null,null,null,null,null,null,""]
[null,null,null,null,null,null,null,null,null,null,null,null,null,null,null,null,null,null,null,null,null,null,null,null,null,null,null,null,null,null,null,null,null,""]
["N2","Informe a cual de las Personas Jurídicas indicadas antes pertenece este relacionado",null,null,null,"Tipo de Documento",null,null,null,null,{"$f":"VLOOKUP(K7513,Hoja2!$A$485:$D$709,3,0)","v":{"$error":"#N/A"}},null,null,null,null,null,null,null,"Número de Documento",null,null,null,null,{"$f":"VLOOKUP(K7513,Hoja2!$A$485:$D$709,4,0)","v":{"$error":"#N/A"}},null,null,null,null,null,null,null,null,null,""]
[null,null,null,null,null,null,null,null,null,null,null,null,null,null,null,null,null,null,null,null,null,null,null,null,null,null,null,null,null,null,null,null,null,""]
[null,null,null,null,null,"Razón Social",null,null,null,null,null,null,null,null,null,null,null,null,null,null,null,null,null,null,null,null,null,null,null,null,null,null,null,""]
[174,"Tipo de Relación",null,null,null,null,null,null,null,null,null,null,null,null,null,null,null,null,null,null,null,null,null,null,null,null,null,null,null,null,null,null,null,""]
[null,null,null,null,null,null,null,null,null,null,null,null,null,null,null,null,null,null,null,null,null,null,null,null,null,null,null,null,null,null,null,null,null,""]
[null,"Tipo de Documento",null,null,null,null,null,null,null,null,null,null,null,null,null,null,null,null,null,null,null,null,null,null,null,null,null,null,null,null,null,null,null,""]
[null,{"$f":"IF(H7516<>\"\",\"N° de Documento\",\"\")","v":""},null,null,null,null,null,null,null,null,null,{"$f":"IF(H7516<>\"\",\"Fecha de Expedición\",\"\")","v":""},null,null,null,null,null,null,null,null,null,{"$f":"IF(H7516<>\"\",\"País de Expedición\",\"\")","v":""},null,null,null,null,null,null,null,null,null,null,null,""]
[null,null,null,null,null,null,null,null,null,null,null,null,null,null,null,null,null,null,null,null,null,null,null,null,null,null,null,null,null,null,null,null,null,""]
[null,{"$f":"IF(OR(H7516=\"NIT\",H7516=\"Fideicomiso/Fondo\",H7516=\"PJ No Residente\"),\"Razón Social\",\"\")","v":""},null,null,null,null,null,null,null,null,null,null,null,null,null,null,null,null,null,null,null,null,null,null,null,null,null,null,null,null,null,null,null,""]
[null,null,null,null,null,null,null,null,null,null,null,null,null,null,null,null,null,null,null,null,null,null,null,null,null,null,null,null,null,null,null,null,null,""]
[null,{"$f":"IF(OR(H7516=\"NIT\",H7516=\"Fideicomiso/Fondo\",H7516=\"PJ No Residente\",H7516=\"\"),\"\",\"Primer Nombre\")","v":""},null,null,null,null,null,null,null,{"$f":"IF(OR(H7516=\"NIT\",H7516=\"Fideicomiso/Fondo\",H7516=\"PJ No Residente\",H7516=\"\"),\"\",\"Segundo Nombre\")","v":""},null,null,null,null,null,null,{"$f":"IF(OR(H7516=\"NIT\",H7516=\"Fideicomiso/Fondo\",H7516=\"PJ No Residente\",H7516=\"\"),\"\",\"Primer Apellido\")","v":""},null,null,null,null,null,null,{"$f":"IF(OR(H7516=\"NIT\",H7516=\"Fideicomiso/Fondo\",H7516=\"PJ No Residente\",H7516=\"\"),\"\",\"Segundo Apellido\")","v":""},null,null,null,null,null,null,null,null,null,""]
[null,null,null,null,null,null,null,null,null,null,null,null,null,null,null,null,null,null,null,null,null,null,null,null,null,null,null,null,null,null,null,null,null,""]
[null,{"$f":"IF(OR(H7514=\"Socio o Accionista\",H7514=\"Fideicomitente\",H7514=\"Inversionista\",H7514=\"Beneficiario de Activos/Rendimientos/Utilidades\"),\"Participación en %\",IF(H7514=\"\",\"\",\"\"))","v":""},null,null,null,null,null,{"$f":"IF(H7516<>\"\",\"¿Es Persona Expuesta Politicamente?\",\"\")","v":""},null,null,null,null,null,null,null,null,null,{"$f":"IF(OR(H7516=\"NIT\",H7516=\"Fideicomiso/Fondo\",H7516=\"PJ No Residente\"),\"¿Emite acciones al portador?\",IF(H7516=\"\",\"\",\"\"))","v":""},null,null,null,null,null,null,null,{"$f":"IF(OR(H7516=\"NIT\",H7516=\"Fideicomiso/Fondo\",H7516=\"PJ No Residente\"),\"\",IF(H7516=\"\",\"\",\"Género\"))","v":""},null,null,null,null,null,null,null,""]
[null,null,null,null,null,null,null,null,null,null,null,null,null,null,null,null,null,null,null,null,null,null,null,null,null,null,null,null,null,null,null,null,null,""]
[null,{"$f":"IF(OR(H7516=\"NIT\",H7516=\"Fideicomiso/Fondo\",H7516=\"PJ No Residente\"),\"\",IF(H7516=\"\",\"\",\"Fecha de Nacimiento\"))","v":""},null,null,null,null,null,null,null,null,null,{"$f":"IF(OR(H7516=\"NIT\",H7516=\"Fideicomiso/Fondo\",H7516=\"PJ No Residente\"),\"\",IF(H7516=\"\",\"\",\"País de nacimiento\"))","v":""},null,null,null,null,null,null,null,null,null,{"$f":"IF(OR(H7516=\"NIT\",H7516=\"Fideicomiso/Fondo\",H7516=\"PJ No Residente\"),\"\",IF(H7516=\"\",\"\",\"Nacionalidad\"))","v":""},null,null,null,null,null,null,null,null,null,null,null,""]
[null,null,null,null,null,null,null,null,null,null,null,null,null,null,null,null,null,null,null,null,null,null,null,null,null,null,null,null,null,null,null,null,null,""]
[null,{"$f":"IF(H7516<>\"\",\"Pais de Residencia\",\"\")","v":""},null,null,null,null,null,null,null,null,null,{"$f":"IF(H7516<>\"\",\"Departamento de Residencia\",\"\")","v":""},null,null,null,null,null,null,null,null,null,{"$f":"IF(H7516<>\"\",\"Ciudad de Residencia\",\"\")","v":""},null,null,null,null,null,null,null,null,null,null,null,""]
[null,null,null,null,null,null,null,null,null,null,null,null,null,null,null,null,null,null,null,null,null,null,null,null,null,null,null,null,null,null,null,null,null,""]
[null,{"$f":"IF(H7516<>\"\",\"Dirección de residencia\",\"\")","v":""},null,null,null,null,null,null,null,null,null,null,null,null,null,null,{"$f":"IF(H7516<>\"\",\"Correo electrónico\",\"\")","v":""},null,null,null,null,null,null,null,null,null,null,null,null,null,null,null,null,""]
[null,null,null,null,null,null,null,null,null,null,null,null,null,null,null,null,null,null,null,null,null,null,null,null,null,null,null,null,null,null,null,null,null,""]
[null,null,null,null,null,null,null,null,null,null,null,null,null,null,null,null,null,null,null,null,null,null,null,null,null,null,null,null,null,null,null,null,null,""]
[null,{"$f":"IF(OR(H7514=\"Socio o Accionista\",H7514=\"Controlante\"),\"Tipo de Participación\",IF(H7514=\"\",\"\",\"\"))","v":""},null,null,null,null,null,null,null,{"$f":"IF(B7533=\"Conjunta\",\"Tipo de Documento\",IF(B7533=\"\",\"\",\"\"))","v":""},null,null,null,null,null,null,{"$f":"IF(B7533=\"Conjunta\",\"N° de Documento\",IF(B7533=\"\",\"\",\"\"))","v":""},null,null,null,null,null,null,{"$f":"IF(B7533=\"Conjunta\",\"Parentesco\",IF(B7533=\"\",\"\",\"\"))","v":""},null,null,null,null,null,null,null,null,null,""]
[null,null,null,null,null,null,null,null,null,null,null,null,null,null,null,null,null,null,null,null,null,null,null,null,null,null,null,null,null,null,null,null,null,""]
[null,null,null,null,null,null,null,null,null,null,null,null,null,null,null,null,null,null,null,null,null,null,null,null,null,null,null,null,null,null,null,null,null,""]
[null,{"$f":"IF(OR(H7514=\"Socio o Accionista\",H7514=\"Controlante\"),\"Tipo de Participación\",IF(H7514=\"\",\"\",\"\"))","v":""},null,null,null,null,null,null,null,{"$f":"IF(B7536=\"Conjunta\",\"Tipo de Documento\",IF(B7536=\"\",\"\",\"\"))","v":""},null,null,null,null,null,null,{"$f":"IF(B7536=\"Conjunta\",\"N° de Documento\",IF(B7536=\"\",\"\",\"\"))","v":""},null,null,null,null,null,null,{"$f":"IF(B7536=\"Conjunta\",\"Parentesco\",IF(B7536=\"\",\"\",\"\"))","v":""},null,null,null,null,null,null,null,null,null,""]
[null,null,null,null,null,null,null,null,null,null,null,null,null,null,null,null,null,null,null,null,null,null,null,null,null,null,null,null,null,null,null,null,null,""]
[null,null,null,null,null,null,null,null,null,null,null,null,null,null,null,null,null,null,null,null,null,null,null,null,null,null,null,null,null,null,null,null,null,""]
[null,{"$f":"IF(OR(H7514=\"Socio o Accionista\",H7514=\"Controlante\"),\"Tipo de Participación\",IF(H7514=\"\",\"\",\"\"))","v":""},null,null,null,null,null,null,null,{"$f":"IF(B7539=\"Conjunta\",\"Tipo de Documento\",IF(B7539=\"\",\"\",\"\"))","v":""},null,null,null,null,null,null,{"$f":"IF(B7539=\"Conjunta\",\"N° de Documento\",IF(B7539=\"\",\"\",\"\"))","v":""},null,null,null,null,null,null,{"$f":"IF(B7539=\"Conjunta\",\"Parentesco\",IF(B7539=\"\",\"\",\"\"))","v":""},null,null,null,null,null,null,null,null,null,""]
[null,null,null,null,null,null,null,null,null,null,null,null,null,null,null,null,null,null,null,null,null,null,null,null,null,null,null,null,null,null,null,null,null,""]
[null,null,null,null,null,null,null,null,null,null,null,null,null,null,null,null,null,null,null,null,null,null,null,null,null,null,null,null,null,null,null,null,null,""]
[null,{"$f":"IF(H7516<>\"\",\"País de Expedición del NIT\",\"\")","v":""},null,null,null,null,null,null,null,null,null,null,null,null,null,null,{"$f":"IF(H7516<>\"\",\"N° de Identificación Tributario\",\"\")","v":""},null,null,null,null,null,null,null,null,null,null,null,null,null,null,null,null,""]
[null,{"$f":"IF(H7516<>\"\",\"1 -\",\"\")","v":""},null,null,null,null,null,null,null,null,null,null,null,null,null,null,{"$f":"IF(H7516<>\"\",\"1 -\",\"\")","v":""},null,null,null,null,null,null,null,null,null,null,null,null,null,null,null,null,""]
[null,{"$f":"IF(H7516<>\"\",\"2 -\",\"\")","v":""},null,null,null,null,null,null,null,null,null,null,null,null,null,null,{"$f":"IF(H7516<>\"\",\"2 -\",\"\")","v":""},null,null,null,null,null,null,null,null,null,null,null,null,null,null,null,null,""]
[null,null,null,null,null,null,null,null,null,null,null,null,null,null,null,null,null,null,null,null,null,null,null,null,null,null,null,null,null,null,null,null,null,1]
["Bloque de firma",null,null,null,null,null,null,null,null,null,null,null,null,null,null,null,null,null,null,null,null,null,null,null,null,null,null,null,null,null,null,null,null,1]
["Certifico que la información suministrada es veraz y completa y declaro que no existen socios/accionistas, controlantes o cualquier otro relacionado a la entidad, diferentes a los registrados en este formulario.",null,null,null,null,null,null,null,null,null,null,null,null,null,null,null,null,null,null,null,null,null,null,null,null,null,null,null,null,null,null,null,null,1]
[null,null,null,null,null,null,null,null,null,null,null,null,null,null,null,null,null,null,null,null,null,null,null,null,null,null,null,null,null,null,null,null,null,1]
[null,null,null,null,null,null,null,null,null,null,null,null,null,null,null,null,"Firma en calidad de",null,null,null,null,null,null,null,null,null,null,null,null,null,null,null,null,1]
[null,null,null,null,null,null,null,null,null,null,null,null,null,null,null,null,"Nombre",null,null,null,null,null,null,null,null,null,null,null,null,null,null,null,null,1]
[null,null,"Firma del Solicitante",null,null,null,null,null,null,null,null,null,null,null,null,null,"N° de Identificación",null,null,null,null,null,null,null,null,null,null,null,null,null,null,null,null,1]
["Observaciones:",null,null,null,null,null,null,null,null,null,null,null,null,null,null,null,null,null,null,null,null,null,null,null,null,null,null,null,null,null,null,null,null,1]

{"sheet":"Hoja2","index":1,"n_rows":709,"n_cols":9,"rows_kept":709,"cut":false,"hidden":false,"merged":[]}
["TipodeDocumentoPJ","RelacionesPJ","TipodeDocumentoPN","Respuestas","Género","Participación","RelacionesPN","Codigo del Pais ","Paises"]
["NIT","Administrador","Carne Diplomatico","Sí","Masculino","Individual","Abuelos","CO","Colombia"]
["Fideicomiso/Fondo","Miembro de comité","Cédula de ciudadanía","No","Femenino","Conjunta","Compañero Permanente","AF","Afganistan"]
["PJ no residente","Controlante","Cédula de extranjería",null,null,null,"Conyuge","AX","Aland"]
[null,"Fideicomisario","Fideicomiso/Fondo",null,null,null,"Hermanos","AL","Albania"]
[null,"Fideicomitente","NIT",null,null,null,"Hijos","DE","Alemania"]
[null,"Fiduciario","Pasaporte",null,null,null,"Nietos","AD","Andorra"]
[null,"Inversionista","Tarjeta de Identidad",null,null,null,"Ninguna","AO","Angola"]
[null,"Miembro de Junta","PJ No Residente",null,null,null,"Padres","AI","Anguila"]
[null,"Persona de Mayor Rango",null,null,null,null,"Suegros","AQ","Antartida"]
[null,"Socio o Accionista","Representante Legal",null,null,null,null,"AG","Antigua Y Barbuda"]
[null,"Beneficiario de Activos/Rendimientos/Utilidades","Apoderado",null,null,null,null,"SA","Arabia Saudita"]
[null,null,null,null,null,null,null,"DZ","Argelia"]
["Fecha Inicio",{"$f":"DATE(1900,1,1)","v":"1900-01-01"},null,null,null,null,null,"AR","Argentina"]
["Fecha Fin",{"$f":"TODAY()","v":"2023-02-16"},null,null,null,null,null,"AM","Armenia"]
[null,null,null,null,null,null,null,"AW","Aruba"]
[null,null,null,null,null,null,null,"AU","Australia"]
[null,null,null,null,null,null,null,"AT","Austria"]
[null,null,null,null,null,null,null,"AZ","Azerbaiyán"]
[null,null,null,null,null,null,null,"BS","Bahamas"]
[null,null,null,null,null,null,null,"BH","Bahrein"]
[null,null,null,null,null,null,null,"BD","Bangladesh"]
[null,null,null,null,null,null,null,"BB","Barbados"]
[null,null,null,null,null,null,null,"BE","Bélgica"]
[null,null,null,null,null,null,null,"BZ","Belice"]
[null,null,null,null,null,null,null,"BJ","Benín"]
[null,null,null,null,null,null,null,"BM","Bermudas"]
[null,null,null,null,null,null,null,"BY","Bielorrusia"]
[null,null,null,null,null,null,null,"BO","Bolivia"]
[null,null,null,null,null,null,null,"BA","Bosnia Y Herzegovina"]
[null,null,null,null,null,null,null,"BW","Botsuana"]
[null,null,null,null,null,null,null,"BR","Brasil"]
[null,null,null,null,null,null,null,"BN","Brunei"]
[null,null,null,null,null,null,null,"BG","Bulgaria"]
[null,null,null,null,null,null,null,"BF","Burkina Faso"]
[null,null,null,null,null,null,null,"BI","Burundi"]
[null,null,null,null,null,null,null,"BT","Bután"]
[null,null,null,null,null,null,null,"CV","Cabo Verde"]
[null,null,null,null,null,null,null,"KH","Camboya"]
[null,null,null,null,null,null,null,"CM","Camerún"]
[null,null,null,null,null,null,null,"CA","Canadá"]
[null,null,null,null,null,null,null,"BQ","Caribe Holandes"]
[null,null,null,null,null,null,null,"TD","Chad"]
[null,null,null,null,null,null,null,"CL","Chile"]
[null,null,null,null,null,null,null,"CN","China"]
[null,null,null,null,null,null,null,"CY","Chipre"]
[null,null,null,null,null,null,null,"VA","Ciudad Vaticano"]
[null,null,null,null,null,null,null,"KM","Comoras"]
[null,null,null,null,null,null,null,"KP","Corea Del Norte"]
[null,null,null,null,null,null,null,"KR","Corea Del Sur"]
[null,null,null,null,null,null,null,"CI","Costa De Marfil"]
[null,null,null,null,null,null,null,"CR","Costa Rica"]
[null,null,null,null,null,null,null,"HR","Croacia"]
[null,null,null,null,null,null,null,"CU","Cuba"]
[null,null,null,null,null,null,null,"CW","Curazao"]
[null,null,null,null,null,null,null,"DK","Dinamarca"]
[null,null,null,null,null,null,null,"DM","Dominica"]
[null,null,null,null,null,null,null,"EC","Ecuador"]
[null,null,null,null,null,null,null,"EG","Egipto"]
[null,null,null,null,null,null,null,"SV","El Salvador"]
[null,null,null,null,null,null,null,"AE","Emiratos Árabes Unidos"]
[null,null,null,null,null,null,null,"ER","Eritrea"]
[null,null,null,null,null,null,null,"SK","Eslovaquia"]
[null,null,null,null,null,null,null,"SI","Eslovenia"]
[null,null,null,null,null,null,null,"ES","España"]
[null,null,null,null,null,null,null,"US","Estados Unidos"]
[null,null,null,null,null,null,null,"EE","Estonia"]
[null,null,null,null,null,null,null,"ET","Etiopía"]
[null,null,null,null,null,null,null,"PH","Filipinas"]
[null,null,null,null,null,null,null,"FI","Finlandia"]
[null,null,null,null,null,null,null,"FJ","Fiyi"]
[null,null,null,null,null,null,null,"FR","Francia"]
[null,null,null,null,null,null,null,"GA","Gabon"]
[null,null,null,null,null,null,null,"GM","Gambia"]
[null,null,null,null,null,null,null,"GE","Georgia"]
[null,null,null,null,null,null,null,"GH","Ghana"]
[null,null,null,null,null,null,null,"GI","Gibraltar"]
[null,null,null,null,null,null,null,"GD","Granada"]
[null,null,null,null,null,null,null,"GR","Grecia"]
[null,null,null,null,null,null,null,"GL","Groenlandia"]
[null,null,null,null,null,null,null,"GP","Guadalupe"]
[null,null,null,null,null,null,null,"GU","Guam"]
[null,null,null,null,null,null,null,"GT","Guatemala"]
[null,null,null,null,null,null,null,"GF","Guayana Francesa"]
[null,null,null,null,null,null,null,"GG","Guernsey"]
[null,null,null,null,null,null,null,"GN","Guinea"]
[null,null,null,null,null,null,null,"GW","Guinea Bissau"]
[null,null,null,null,null,null,null,"GQ","Guinea Ecuatorial"]
[null,null,null,null,null,null,null,"GY","Guyana"]
[null,null,null,null,null,null,null,"HT","Haiti"]
[null,null,null,null,null,null,null,"NL","Holanda"]
[null,null,null,null,null,null,null,"HN","Honduras"]
[null,null,null,null,null,null,null,"HK","Hong Kong"]
[null,null,null,null,null,null,null,"HU","Hungría"]
[null,null,null,null,null,null,null,"GS","Islas Georgias Y Sandwich Del Sur"]
[null,null,null,null,null,null,null,"HM","Islas Heard Y Mcdonald"]
[null,null,null,null,null,null,null,"TC","Islas Turcas Y Caicos"]
[null,null,null,null,null,null,null,"VG","Islas Vírgenes Británicas"]
[null,null,null,null,null,null,null,"VI","Islas Vírgenes Eeuu"]
[null,null,null,null,null,null,null,"IN","India"]
[null,null,null,null,null,null,null,"ID","Indonesia"]
[null,null,null,null,null,null,null,"IR","Iran"]
[null,null,null,null,null,null,null,"IQ","Iraq"]
[null,null,null,null,null,null,null,"IE","Irlanda"]
[null,null,null,null,null,null,null,"BV","Isla Bouvet"]
[null,null,null,null,null,null,null,"IM","Isla De Man"]
[null,null,null,null,null,null,null,"CX","Isla De Navidad"]
[null,null,null,null,null,null,null,"IS","Islandia"]
[null,null,null,null,null,null,null,"KY","Islas Caiman"]
[null,null,null,null,null,null,null,"CC","Islas Cocos"]
[null,null,null,null,null,null,null,"CK","Islas Cook"]
[null,null,null,null,null,null,null,"FO","Islas Feroe"]
[null,null,null,null,null,null,null,"FK","Islas Malvinas"]
[null,null,null,null,null,null,null,"MP","Islas Marianas"]
[null,null,null,null,null,null,null,"MH","Islas Marshall"]
[null,null,null,null,null,null,null,"PN","Islas Pitcairn"]
[null,null,null,null,null,null,null,"SB","Islas Salomon"]
[null,null,null,null,null,null,null,"UM","Islas Um (Ultramarinas Menores) Eeuu"]
[null,null,null,null,null,null,null,"IL","Israel"]
[null,null,null,null,null,null,null,"IT","Italia"]
[null,null,null,null,null,null,null,"JM","Jamaica"]
[null,null,null,null,null,null,null,"JP","Japón"]
[null,null,null,null,null,null,null,"JE","Jersey"]
[null,null,null,null,null,null,null,"JO","Jordania"]
[null,null,null,null,null,null,null,"KZ","Kazajistán"]
[null,null,null,null,null,null,null,"KE","Kenia"]
[null,null,null,null,null,null,null,"KG","Kirguistán"]
[null,null,null,null,null,null,null,"KI","Kiribati"]
[null,null,null,null,null,null,null,"KW","Kuwait"]
[null,null,null,null,null,null,null,"LA","Laos"]
[null,null,null,null,null,null,null,"LS","Lesoto"]
[null,null,null,null,null,null,null,"LV","Letonia"]
[null,null,null,null,null,null,null,"LB","Libano"]
[null,null,null,null,null,null,null,"LR","Liberia"]
[null,null,null,null,null,null,null,"LY","Libia"]
[null,null,null,null,null,null,null,"LI","Liechtenstein"]
[null,null,null,null,null,null,null,"LT","Lituania"]
[null,null,null,null,null,null,null,"LU","Luxemburgo"]
[null,null,null,null,null,null,null,"MO","Macao"]
[null,null,null,null,null,null,null,"MK","Macedonia"]
[null,null,null,null,null,null,null,"MG","Madagascar"]
[null,null,null,null,null,null,null,"MY","Malasia"]
[null,null,null,null,null,null,null,"MW","Malawi"]
[null,null,null,null,null,null,null,"MV","Maldivas"]
[null,null,null,null,null,null,null,"ML","Mali"]
[null,null,null,null,null,null,null,"MT","Malta"]
[null,null,null,null,null,null,null,"MA","Marruecos"]
[null,null,null,null,null,null,null,"MQ","Martinica"]
[null,null,null,null,null,null,null,"MU","Mauricio"]
[null,null,null,null,null,null,null,"MR","Mauritania"]
[null,null,null,null,null,null,null,"YT","Mayotte"]
[null,null,null,null,null,null,null,"MX","México"]
[null,null,null,null,null,null,null,"FM","Micronesia"]
[null,null,null,null,null,null,null,"MD","Moldavia"]
[null,null,null,null,null,null,null,"MC","Monaco"]
[null,null,null,null,null,null,null,"MN","Mongolia"]
[null,null,null,null,null,null,null,"ME","Montenegro"]
[null,null,null,null,null,null,null,"MS","Montserrat"]
[null,null,null,null,null,null,null,"MZ","Mozambique"]
[null,null,null,null,null,null,null,"MM","Myanmar"]
[null,null,null,null,null,null,null,"NA","Namibia"]
[null,null,null,null,null,null,null,"NR","Nauru"]
[null,null,null,null,null,null,null,"NP","Nepal"]
[null,null,null,null,null,null,null,"NI","Nicaragua"]
[null,null,null,null,null,null,null,"NE","Níger"]
[null,null,null,null,null,null,null,"NG","Nigeria"]
[null,null,null,null,null,null,null,"NU","Niue"]
[null,null,null,null,null,null,null,"NF","Norfolk"]
[null,null,null,null,null,null,null,"NO","Noruega"]
[null,null,null,null,null,null,null,"NC","Nueva Caledonia"]
[null,null,null,null,null,null,null,"NZ","Nueva Zelanda"]
[null,null,null,null,null,null,null,"OM","Oman"]
[null,null,null,null,null,null,null,"PK","Pakistan"]
[null,null,null,null,null,null,null,"PW","Palaos"]
[null,null,null,null,null,null,null,"PS","Palestina"]
[null,null,null,null,null,null,null,"PA","Panamá"]
[null,null,null,null,null,null,null,"PG","Papúa Nueva Guinea"]
[null,null,null,null,null,null,null,"PY","Paraguay"]
[null,null,null,null,null,null,null,"PE","Perú"]
[null,null,null,null,null,null,null,"PF","Poline Francesa"]
[null,null,null,null,null,null,null,"PL","Polonia"]
[null,null,null,null,null,null,null,"PT","Portugal"]
[null,null,null,null,null,null,null,"PR","Puerto Rico"]
[null,null,null,null,null,null,null,"QA","Qatar"]
[null,null,null,null,null,null,null,"CF","República Centroafricana"]
[null,null,null,null,null,null,null,"CD","República Democrática Del Congo"]
[null,null,null,null,null,null,null,"GB","Reino Unido"]
[null,null,null,null,null,null,null,"CG","República Del Congo"]
[null,null,null,null,null,null,null,"DO","República Dominicana"]
[null,null,null,null,null,null,null,"CZ","Republica Checa"]
[null,null,null,null,null,null,null,"RE","Reunion"]
[null,null,null,null,null,null,null,"RW","Ruanda"]
[null,null,null,null,null,null,null,"RO","Rumania"]
[null,null,null,null,null,null,null,"RU","Rusia"]
[null,null,null,null,null,null,null,"KN","San Cristóbal Y Nieves"]
[null,null,null,null,null,null,null,"PM","San Pedro Y Miquelón"]
[null,null,null,null,null,null,null,"VC","San Vicente Y Las Granadinas"]
[null,null,null,null,null,null,null,"EH","Sahara Occidental"]
[null,null,null,null,null,null,null,"WS","Samoa"]
[null,null,null,null,null,null,null,"AS","Samoa Americana"]
[null,null,null,null,null,null,null,"BL","San Bartolome"]
[null,null,null,null,null,null,null,"SM","San Marino"]
[null,null,null,null,null,null,null,"SX","San Martin Alemania"]
[null,null,null,null,null,null,null,"MF","San Martin Francia"]
[null,null,null,null,null,null,null,"SH","Santa Helena"]
[null,null,null,null,null,null,null,"LC","Santa Lucía"]
[null,null,null,null,null,null,null,"SN","Senegal"]
[null,null,null,null,null,null,null,"RS","Serbia"]
[null,null,null,null,null,null,null,"SC","Seychelles"]
[null,null,null,null,null,null,null,"SL","Sierra Leona"]
[null,null,null,null,null,null,null,"SG","Singapur"]
[null,null,null,null,null,null,null,"SY","Siria"]
[null,null,null,null,null,null,null,"SO","Somalia"]
[null,null,null,null,null,null,null,"LK","Sri Lanka"]
[null,null,null,null,null,null,null,"ST","Santo Tomé Y Príncipe"]
[null,null,null,null,null,null,null,"SZ","Suazilandia"]
[null,null,null,null,null,null,null,"ZA","Sudáfrica"]
[null,null,null,null,null,null,null,"SD","Sudán"]
[null,null,null,null,null,null,null,"SS","Sudán Del Sur"]
[null,null,null,null,null,null,null,"SE","Suecia"]
[null,null,null,null,null,null,null,"CH","Suiza"]
[null,null,null,null,null,null,null,"SR","Surinam"]
[null,null,null,null,null,null,null,"SJ","Svalbard Y Jan Mayen"]
[null,null,null,null,null,null,null,"TF","Tierras Australes Y Antárticas Francesas"]
[null,null,null,null,null,null,null,"IO","Territorio Británico Del Océano Índico"]
[null,null,null,null,null,null,null,"TH","Tailandia"]
[null,null,null,null,null,null,null,"TW","Taiwan"]
[null,null,null,null,null,null,null,"TZ","Tanzania"]
[null,null,null,null,null,null,null,"TJ","Tayikistán"]
[null,null,null,null,null,null,null,"TL","Timor Oriental"]
[null,null,null,null,null,null,null,"TG","Togo"]
[null,null,null,null,null,null,null,"TK","Tokelau"]
[null,null,null,null,null,null,null,"TO","Tonga"]
[null,null,null,null,null,null,null,"TT","Trinidad Y Tobago"]
[null,null,null,null,null,null,null,"TN","Túnez"]
[null,null,null,null,null,null,null,"TM","Turkmenistán"]
[null,null,null,null,null,null,null,"TR","Turquía"]
[null,null,null,null,null,null,null,"TV","Tuvalu"]
[null,null,null,null,null,null,null,"UA","Ucrania"]
[null,null,null,null,null,null,null,"UG","Uganda"]
[null,null,null,null,null,null,null,"UY","Uruguay"]
[null,null,null,null,null,null,null,"UZ","Uzbekistán"]
[null,null,null,null,null,null,null,"VU","Vanuatu"]
[null,null,null,null,null,null,null,"VE","Venezuela"]
[null,null,null,null,null,null,null,"VN","Vietnam"]
[null,null,null,null,null,null,null,"WF","Wallis Y Futuna"]
[null,null,null,null,null,null,null,"YE","Yemen"]
[null,null,null,null,null,null,null,"DJ","Yibuti"]
[null,null,null,null,null,null,null,"ZM","Zambia"]
[null,null,null,null,null,null,null,"ZW","Zimbabue"]
[]
[]
["PJNivelUno","AuxUno","TipoDocUno","AuxTDUno","NumeroDocUno2","AuxNDUno",null,"Quitar Valores en Blanco"]
["SI(O(Hoja1!H24=\"NIT\",Hoja1!H24=\"Fideicomiso/Fondo\",Hoja1!H24=\"PJ No Residente\"),Hoja1!B28,\"\")",{"$f":"IFERROR(INDEX(TablaNivelUNO[PJNivelUno],_xlfn.AGGREGATE(15,6,(ROW(TablaNivelUNO[PJNivelUno])-ROW(TablaNivelUNO[#Headers]))/(TablaNivelUNO[PJNivelUno]<>\"\"),ROWS($B$254:TablaNivelUNO[[#This Row],[AuxUno]]))),\"\")","v":"SI(O(Hoja1!H24=\"NIT\",Hoja1!H24=\"Fideicomiso/Fondo\",Hoja1!H24=\"PJ No Residente\"),Hoja1!B28,\"\")"},"SI(O(Hoja1!H24=\"NIT\",Hoja1!H24=\"Fideicomiso/Fondo\",Hoja1!H24=\"PJ No Residente\"),Hoja1!H24,\"\")",{"$f":"IFERROR(INDEX(TablaNivelUNO[TipoDocUno],_xlfn.AGGREGATE(15,6,(ROW(TablaNivelUNO[TipoDocUno])-ROW(TablaNivelUNO[#Headers]))/(TablaNivelUNO[TipoDocUno]<>\"\"),ROWS($D$254:TablaNivelUNO[[#This Row],[AuxTDUno]]))),\"\")","v":"SI(O(Hoja1!H24=\"NIT\",Hoja1!H24=\"Fideicomiso/Fondo\",Hoja1!H24=\"PJ No Residente\"),Hoja1!H24,\"\")"},"SI(O(Hoja1!H24=\"NIT\",Hoja1!H24=\"Fideicomiso/Fondo\",Hoja1!H24=\"PJ No Residente\"),Hoja1!B26,\"\")",{"$f":"IFERROR(INDEX(TablaNivelUNO[NumeroDocUno2],_xlfn.AGGREGATE(15,6,(ROW(TablaNivelUNO[NumeroDocUno2])-ROW(TablaNivelUNO[#Headers]))/(TablaNivelUNO[NumeroDocUno2]<>\"\"),ROWS($F$254:TablaNivelUNO[[#This Row],[AuxNDUno]]))),\"\")","v":"SI(O(Hoja1!H24=\"NIT\",Hoja1!H24=\"Fideicomiso/Fondo\",Hoja1!H24=\"PJ No Residente\"),Hoja1!B26,\"\")"},null," =$b$254:INDICE(TablaNivelUNO[AuxUno],SUMAPRODUCTO((TablaNivelUNO[AuxUno]<>\"\")*1))"]
["SI(O(Hoja1!H60=\"NIT\",Hoja1!H60=\"Fideicomiso/Fondo\",Hoja1!H60=\"PJ No Residente\"),Hoja1!B64,\"\")",{"$f":"IFERROR(INDEX(TablaNivelUNO[PJNivelUno],_xlfn.AGGREGATE(15,6,(ROW(TablaNivelUNO[PJNivelUno])-ROW(TablaNivelUNO[#Headers]))/(TablaNivelUNO[PJNivelUno]<>\"\"),ROWS($B$254:TablaNivelUNO[[#This Row],[AuxUno]]))),\"\")","v":"SI(O(Hoja1!H60=\"NIT\",Hoja1!H60=\"Fideicomiso/Fondo\",Hoja1!H60=\"PJ No Residente\"),Hoja1!B64,\"\")"},"SI(O(Hoja1!H60=\"NIT\",Hoja1!H60=\"Fideicomiso/Fondo\",Hoja1!H60=\"PJ No Residente\"),Hoja1!H60,\"\")",{"$f":"IFERROR(INDEX(TablaNivelUNO[TipoDocUno],_xlfn.AGGREGATE(15,6,(ROW(TablaNivelUNO[TipoDocUno])-ROW(TablaNivelUNO[#Headers]))/(TablaNivelUNO[TipoDocUno]<>\"\"),ROWS($D$254:TablaNivelUNO[[#This Row],[AuxTDUno]]))),\"\")","v":"SI(O(Hoja1!H60=\"NIT\",Hoja1!H60=\"Fideicomiso/Fondo\",Hoja1!H60=\"PJ No Residente\"),Hoja1!H60,\"\")"},"SI(O(Hoja1!H60=\"NIT\",Hoja1!H60=\"Fideicomiso/Fondo\",Hoja1!H60=\"PJ No Residente\"),Hoja1!B62,\"\")",{"$f":"IFERROR(INDEX(TablaNivelUNO[NumeroDocUno2],_xlfn.AGGREGATE(15,6,(ROW(TablaNivelUNO[NumeroDocUno2])-ROW(TablaNivelUNO[#Headers]))/(TablaNivelUNO[NumeroDocUno2]<>\"\"),ROWS($F$254:TablaNivelUNO[[#This Row],[AuxNDUno]]))),\"\")","v":"SI(O(Hoja1!H60=\"NIT\",Hoja1!H60=\"Fideicomiso/Fondo\",Hoja1!H60=\"PJ No Residente\"),Hoja1!B62,\"\")"}]
["SI(O(Hoja1!H91=\"NIT\",Hoja1!H91=\"Fideicomiso/Fondo\",Hoja1!H91=\"PJ No Residente\"),Hoja1!B95,\"\")",{"$f":"IFERROR(INDEX(TablaNivelUNO[PJNivelUno],_xlfn.AGGREGATE(15,6,(ROW(TablaNivelUNO[PJNivelUno])-ROW(TablaNivelUNO[#Headers]))/(TablaNivelUNO[PJNivelUno]<>\"\"),ROWS($B$254:TablaNivelUNO[[#This Row],[AuxUno]]))),\"\")","v":"SI(O(Hoja1!H91=\"NIT\",Hoja1!H91=\"Fideicomiso/Fondo\",Hoja1!H91=\"PJ No Residente\"),Hoja1!B95,\"\")"},"SI(O(Hoja1!H91=\"NIT\",Hoja1!H91=\"Fideicomiso/Fondo\",Hoja1!H91=\"PJ No Residente\"),Hoja1!H91,\"\")",{"$f":"IFERROR(INDEX(TablaNivelUNO[TipoDocUno],_xlfn.AGGREGATE(15,6,(ROW(TablaNivelUNO[TipoDocUno])-ROW(TablaNivelUNO[#Headers]))/(TablaNivelUNO[TipoDocUno]<>\"\"),ROWS($D$254:TablaNivelUNO[[#This Row],[AuxTDUno]]))),\"\")","v":"SI(O(Hoja1!H91=\"NIT\",Hoja1!H91=\"Fideicomiso/Fondo\",Hoja1!H91=\"PJ No Residente\"),Hoja1!H91,\"\")"},"SI(O(Hoja1!H91=\"NIT\",Hoja1!H91=\"Fideicomiso/Fondo\",Hoja1!H91=\"PJ No Residente\"),Hoja1!B93,\"\")",{"$f":"IFERROR(INDEX(TablaNivelUNO[NumeroDocUno2],_xlfn.AGGREGATE(15,6,(ROW(TablaNivelUNO[NumeroDocUno2])-ROW(TablaNivelUNO[#Headers]))/(TablaNivelUNO[NumeroDocUno2]<>\"\"),ROWS($F$254:TablaNivelUNO[[#This Row],[AuxNDUno]]))),\"\")","v":"SI(O(Hoja1!H91=\"NIT\",Hoja1!H91=\"Fideicomiso/Fondo\",Hoja1!H91=\"PJ No Residente\"),Hoja1!B93,\"\")"},null,"NIT",{"$f":"LEN(H256)","v":3}]
["SI(O(Hoja1!H122=\"NIT\",Hoja1!H122=\"Fideicomiso/Fondo\",Hoja1!H122=\"PJ No Residente\"),Hoja1!B126,\"\")",{"$f":"IFERROR(INDEX(TablaNivelUNO[PJNivelUno],_xlfn.AGGREGATE(15,6,(ROW(TablaNivelUNO[PJNivelUno])-ROW(TablaNivelUNO[#Headers]))/(TablaNivelUNO[PJNivelUno]<>\"\"),ROWS($B$254:TablaNivelUNO[[#This Row],[AuxUno]]))),\"\")","v":"SI(O(Hoja1!H122=\"NIT\",Hoja1!H122=\"Fideicomiso/Fondo\",Hoja1!H122=\"PJ No Residente\"),Hoja1!B126,\"\")"},"SI(O(Hoja1!H122=\"NIT\",Hoja1!H122=\"Fideicomiso/Fondo\",Hoja1!H122=\"PJ No Residente\"),Hoja1!H122,\"\")",{"$f":"IFERROR(INDEX(TablaNivelUNO[TipoDocUno],_xlfn.AGGREGATE(15,6,(ROW(TablaNivelUNO[TipoDocUno])-ROW(TablaNivelUNO[#Headers]))/(TablaNivelUNO[TipoDocUno]<>\"\"),ROWS($D$254:TablaNivelUNO[[#This Row],[AuxTDUno]]))),\"\")","v":"SI(O(Hoja1!H122=\"NIT\",Hoja1!H122=\"Fideicomiso/Fondo\",Hoja1!H122=\"PJ No Residente\"),Hoja1!H122,\"\")"},"SI(O(Hoja1!H122=\"NIT\",Hoja1!H122=\"Fideicomiso/Fondo\",Hoja1!H122=\"PJ No Residente\"),Hoja1!B124,\"\")",{"$f":"IFERROR(INDEX(TablaNivelUNO[NumeroDocUno2],_xlfn.AGGREGATE(15,6,(ROW(TablaNivelUNO[NumeroDocUno2])-ROW(TablaNivelUNO[#Headers]))/(TablaNivelUNO[NumeroDocUno2]<>\"\"),ROWS($F$254:TablaNivelUNO[[#This Row],[AuxNDUno]]))),\"\")","v":"SI(O(Hoja1!H122=\"NIT\",Hoja1!H122=\"Fideicomiso/Fondo\",Hoja1!H122=\"PJ No Residente\"),Hoja1!B124,\"\")"},null,"Fideicomiso/Fondo",{"$f":"LEN(H257)","v":17}]
["SI(O(Hoja1!H153=\"NIT\",Hoja1!H153=\"Fideicomiso/Fondo\",Hoja1!H153=\"PJ No Residente\"),Hoja1!B157,\"\")",{"$f":"IFERROR(INDEX(TablaNivelUNO[PJNivelUno],_xlfn.AGGREGATE(15,6,(ROW(TablaNivelUNO[PJNivelUno])-ROW(TablaNivelUNO[#Headers]))/(TablaNivelUNO[PJNivelUno]<>\"\"),ROWS($B$254:TablaNivelUNO[[#This Row],[AuxUno]]))),\"\")","v":"SI(O(Hoja1!H153=\"NIT\",Hoja1!H153=\"Fideicomiso/Fondo\",Hoja1!H153=\"PJ No Residente\"),Hoja1!B157,\"\")"},"SI(O(Hoja1!H153=\"NIT\",Hoja1!H153=\"Fideicomiso/Fondo\",Hoja1!H153=\"PJ No Residente\"),Hoja1!H153,\"\")",{"$f":"IFERROR(INDEX(TablaNivelUNO[TipoDocUno],_xlfn.AGGREGATE(15,6,(ROW(TablaNivelUNO[TipoDocUno])-ROW(TablaNivelUNO[#Headers]))/(TablaNivelUNO[TipoDocUno]<>\"\"),ROWS($D$254:TablaNivelUNO[[#This Row],[AuxTDUno]]))),\"\")","v":"SI(O(Hoja1!H153=\"NIT\",Hoja1!H153=\"Fideicomiso/Fondo\",Hoja1!H153=\"PJ No Residente\"),Hoja1!H153,\"\")"},"SI(O(Hoja1!H153=\"NIT\",Hoja1!H153=\"Fideicomiso/Fondo\",Hoja1!H153=\"PJ No Residente\"),Hoja1!B155,\"\")",{"$f":"IFERROR(INDEX(TablaNivelUNO[NumeroDocUno2],_xlfn.AGGREGATE(15,6,(ROW(TablaNivelUNO[NumeroDocUno2])-ROW(TablaNivelUNO[#Headers]))/(TablaNivelUNO[NumeroDocUno2]<>\"\"),ROWS($F$254:TablaNivelUNO[[#This Row],[AuxNDUno]]))),\"\")","v":"SI(O(Hoja1!H153=\"NIT\",Hoja1!H153=\"Fideicomiso/Fondo\",Hoja1!H153=\"PJ No Residente\"),Hoja1!B155,\"\")"},null,"PJ no residente",15]
["SI(O(Hoja1!H184=\"NIT\",Hoja1!H184=\"Fideicomiso/Fondo\",Hoja1!H184=\"PJ No Residente\"),Hoja1!B188,\"\")",{"$f":"IFERROR(INDEX(TablaNivelUNO[PJNivelUno],_xlfn.AGGREGATE(15,6,(ROW(TablaNivelUNO[PJNivelUno])-ROW(TablaNivelUNO[#Headers]))/(TablaNivelUNO[PJNivelUno]<>\"\"),ROWS($B$254:TablaNivelUNO[[#This Row],[AuxUno]]))),\"\")","v":"SI(O(Hoja1!H184=\"NIT\",Hoja1!H184=\"Fideicomiso/Fondo\",Hoja1!H184=\"PJ No Residente\"),Hoja1!B188,\"\")"},"SI(O(Hoja1!H184=\"NIT\",Hoja1!H184=\"Fideicomiso/Fondo\",Hoja1!H184=\"PJ No Residente\"),Hoja1!H184,\"\")",{"$f":"IFERROR(INDEX(TablaNivelUNO[TipoDocUno],_xlfn.AGGREGATE(15,6,(ROW(TablaNivelUNO[TipoDocUno])-ROW(TablaNivelUNO[#Headers]))/(TablaNivelUNO[TipoDocUno]<>\"\"),ROWS($D$254:TablaNivelUNO[[#This Row],[AuxTDUno]]))),\"\")","v":"SI(O(Hoja1!H184=\"NIT\",Hoja1!H184=\"Fideicomiso/Fondo\",Hoja1!H184=\"PJ No Residente\"),Hoja1!H184,\"\")"},"SI(O(Hoja1!H184=\"NIT\",Hoja1!H184=\"Fideicomiso/Fondo\",Hoja1!H184=\"PJ No Residente\"),Hoja1!B186,\"\")",{"$f":"IFERROR(INDEX(TablaNivelUNO[NumeroDocUno2],_xlfn.AGGREGATE(15,6,(ROW(TablaNivelUNO[NumeroDocUno2])-ROW(TablaNivelUNO[#Headers]))/(TablaNivelUNO[NumeroDocUno2]<>\"\"),ROWS($F$254:TablaNivelUNO[[#This Row],[AuxNDUno]]))),\"\")","v":"SI(O(Hoja1!H184=\"NIT\",Hoja1!H184=\"Fideicomiso/Fondo\",Hoja1!H184=\"PJ No Residente\"),Hoja1!B186,\"\")"}]
["SI(O(Hoja1!H215=\"NIT\",Hoja1!H215=\"Fideicomiso/Fondo\",Hoja1!H215=\"PJ No Residente\"),Hoja1!B219,\"\")",{"$f":"IFERROR(INDEX(TablaNivelUNO[PJNivelUno],_xlfn.AGGREGATE(15,6,(ROW(TablaNivelUNO[PJNivelUno])-ROW(TablaNivelUNO[#Headers]))/(TablaNivelUNO[PJNivelUno]<>\"\"),ROWS($B$254:TablaNivelUNO[[#This Row],[AuxUno]]))),\"\")","v":"SI(O(Hoja1!H215=\"NIT\",Hoja1!H215=\"Fideicomiso/Fondo\",Hoja1!H215=\"PJ No Residente\"),Hoja1!B219,\"\")"},"SI(O(Hoja1!H215=\"NIT\",Hoja1!H215=\"Fideicomiso/Fondo\",Hoja1!H215=\"PJ No Residente\"),Hoja1!H215,\"\")",{"$f":"IFERROR(INDEX(TablaNivelUNO[TipoDocUno],_xlfn.AGGREGATE(15,6,(ROW(TablaNivelUNO[TipoDocUno])-ROW(TablaNivelUNO[#Headers]))/(TablaNivelUNO[TipoDocUno]<>\"\"),ROWS($D$254:TablaNivelUNO[[#This Row],[AuxTDUno]]))),\"\")","v":"SI(O(Hoja1!H215=\"NIT\",Hoja1!H215=\"Fideicomiso/Fondo\",Hoja1!H215=\"PJ No Residente\"),Hoja1!H215,\"\")"},"SI(O(Hoja1!H215=\"NIT\",Hoja1!H215=\"Fideicomiso/Fondo\",Hoja1!H215=\"PJ No Residente\"),Hoja1!B217,\"\")",{"$f":"IFERROR(INDEX(TablaNivelUNO[NumeroDocUno2],_xlfn.AGGREGATE(15,6,(ROW(TablaNivelUNO[NumeroDocUno2])-ROW(TablaNivelUNO[#Headers]))/(TablaNivelUNO[NumeroDocUno2]<>\"\"),ROWS($F$254:TablaNivelUNO[[#This Row],[AuxNDUno]]))),\"\")","v":"SI(O(Hoja1!H215=\"NIT\",Hoja1!H215=\"Fideicomiso/Fondo\",Hoja1!H215=\"PJ No Residente\"),Hoja1!B217,\"\")"}]
["SI(O(Hoja1!H246=\"NIT\",Hoja1!H246=\"Fideicomiso/Fondo\",Hoja1!H246=\"PJ No Residente\"),Hoja1!B250,\"\")",{"$f":"IFERROR(INDEX(TablaNivelUNO[PJNivelUno],_xlfn.AGGREGATE(15,6,(ROW(TablaNivelUNO[PJNivelUno])-ROW(TablaNivelUNO[#Headers]))/(TablaNivelUNO[PJNivelUno]<>\"\"),ROWS($B$254:TablaNivelUNO[[#This Row],[AuxUno]]))),\"\")","v":"SI(O(Hoja1!H246=\"NIT\",Hoja1!H246=\"Fideicomiso/Fondo\",Hoja1!H246=\"PJ No Residente\"),Hoja1!B250,\"\")"},"SI(O(Hoja1!H246=\"NIT\",Hoja1!H246=\"Fideicomiso/Fondo\",Hoja1!H246=\"PJ No Residente\"),Hoja1!H246,\"\")",{"$f":"IFERROR(INDEX(TablaNivelUNO[TipoDocUno],_xlfn.AGGREGATE(15,6,(ROW(TablaNivelUNO[TipoDocUno])-ROW(TablaNivelUNO[#Headers]))/(TablaNivelUNO[TipoDocUno]<>\"\"),ROWS($D$254:TablaNivelUNO[[#This Row],[AuxTDUno]]))),\"\")","v":"SI(O(Hoja1!H246=\"NIT\",Hoja1!H246=\"Fideicomiso/Fondo\",Hoja1!H246=\"PJ No Residente\"),Hoja1!H246,\"\")"},"SI(O(Hoja1!H246=\"NIT\",Hoja1!H246=\"Fideicomiso/Fondo\",Hoja1!H246=\"PJ No Residente\"),Hoja1!B248,\"\")",{"$f":"IFERROR(INDEX(TablaNivelUNO[NumeroDocUno2],_xlfn.AGGREGATE(15,6,(ROW(TablaNivelUNO[NumeroDocUno2])-ROW(TablaNivelUNO[#Headers]))/(TablaNivelUNO[NumeroDocUno2]<>\"\"),ROWS($F$254:TablaNivelUNO[[#This Row],[AuxNDUno]]))),\"\")","v":"SI(O(Hoja1!H246=\"NIT\",Hoja1!H246=\"Fideicomiso/Fondo\",Hoja1!H246=\"PJ No Residente\"),Hoja1!B248,\"\")"}]
["SI(O(Hoja1!H277=\"NIT\",Hoja1!H277=\"Fideicomiso/Fondo\",Hoja1!H277=\"PJ No Residente\"),Hoja1!B281,\"\")",{"$f":"IFERROR(INDEX(TablaNivelUNO[PJNivelUno],_xlfn.AGGREGATE(15,6,(ROW(TablaNivelUNO[PJNivelUno])-ROW(TablaNivelUNO[#Headers]))/(TablaNivelUNO[PJNivelUno]<>\"\"),ROWS($B$254:TablaNivelUNO[[#This Row],[AuxUno]]))),\"\")","v":"SI(O(Hoja1!H277=\"NIT\",Hoja1!H277=\"Fideicomiso/Fondo\",Hoja1!H277=\"PJ No Residente\"),Hoja1!B281,\"\")"},"SI(O(Hoja1!H277=\"NIT\",Hoja1!H277=\"Fideicomiso/Fondo\",Hoja1!H277=\"PJ No Residente\"),Hoja1!H277,\"\")",{"$f":"IFERROR(INDEX(TablaNivelUNO[TipoDocUno],_xlfn.AGGREGATE(15,6,(ROW(TablaNivelUNO[TipoDocUno])-ROW(TablaNivelUNO[#Headers]))/(TablaNivelUNO[TipoDocUno]<>\"\"),ROWS($D$254:TablaNivelUNO[[#This Row],[AuxTDUno]]))),\"\")","v":"SI(O(Hoja1!H277=\"NIT\",Hoja1!H277=\"Fideicomiso/Fondo\",Hoja1!H277=\"PJ No Residente\"),Hoja1!H277,\"\")"},"SI(O(Hoja1!H277=\"NIT\",Hoja1!H277=\"Fideicomiso/Fondo\",Hoja1!H277=\"PJ No Residente\"),Hoja1!B279,\"\")",{"$f":"IFERROR(INDEX(TablaNivelUNO[NumeroDocUno2],_xlfn.AGGREGATE(15,6,(ROW(TablaNivelUNO[NumeroDocUno2])-ROW(TablaNivelUNO[#Headers]))/(TablaNivelUNO[NumeroDocUno2]<>\"\"),ROWS($F$254:TablaNivelUNO[[#This Row],[AuxNDUno]]))),\"\")","v":"SI(O(Hoja1!H277=\"NIT\",Hoja1!H277=\"Fideicomiso/Fondo\",Hoja1!H277=\"PJ No Residente\"),Hoja1!B279,\"\")"}]
["SI(O(Hoja1!H308=\"NIT\",Hoja1!H308=\"Fideicomiso/Fondo\",Hoja1!H308=\"PJ No Residente\"),Hoja1!B312,\"\")",{"$f":"IFERROR(INDEX(TablaNivelUNO[PJNivelUno],_xlfn.AGGREGATE(15,6,(ROW(TablaNivelUNO[PJNivelUno])-ROW(TablaNivelUNO[#Headers]))/(TablaNivelUNO[PJNivelUno]<>\"\"),ROWS($B$254:TablaNivelUNO[[#This Row],[AuxUno]]))),\"\")","v":"SI(O(Hoja1!H308=\"NIT\",Hoja1!H308=\"Fideicomiso/Fondo\",Hoja1!H308=\"PJ No Residente\"),Hoja1!B312,\"\")"},"SI(O(Hoja1!H308=\"NIT\",Hoja1!H308=\"Fideicomiso/Fondo\",Hoja1!H308=\"PJ No Residente\"),Hoja1!H308,\"\")",{"$f":"IFERROR(INDEX(TablaNivelUNO[TipoDocUno],_xlfn.AGGREGATE(15,6,(ROW(TablaNivelUNO[TipoDocUno])-ROW(TablaNivelUNO[#Headers]))/(TablaNivelUNO[TipoDocUno]<>\"\"),ROWS($D$254:TablaNivelUNO[[#This Row],[AuxTDUno]]))),\"\")","v":"SI(O(Hoja1!H308=\"NIT\",Hoja1!H308=\"Fideicomiso/Fondo\",Hoja1!H308=\"PJ No Residente\"),Hoja1!H308,\"\")"},"SI(O(Hoja1!H308=\"NIT\",Hoja1!H308=\"Fideicomiso/Fondo\",Hoja1!H308=\"PJ No Residente\"),Hoja1!B310,\"\")",{"$f":"IFERROR(INDEX(TablaNivelUNO[NumeroDocUno2],_xlfn.AGGREGATE(15,6,(ROW(TablaNivelUNO[NumeroDocUno2])-ROW(TablaNivelUNO[#Headers]))/(TablaNivelUNO[NumeroDocUno2]<>\"\"),ROWS($F$254:TablaNivelUNO[[#This Row],[AuxNDUno]]))),\"\")","v":"SI(O(Hoja1!H308=\"NIT\",Hoja1!H308=\"Fideicomiso/Fondo\",Hoja1!H308=\"PJ No Residente\"),Hoja1!B310,\"\")"}]
["SI(O(Hoja1!H339=\"NIT\",Hoja1!H339=\"Fideicomiso/Fondo\",Hoja1!H339=\"PJ No Residente\"),Hoja1!B343,\"\")",{"$f":"IFERROR(INDEX(TablaNivelUNO[PJNivelUno],_xlfn.AGGREGATE(15,6,(ROW(TablaNivelUNO[PJNivelUno])-ROW(TablaNivelUNO[#Headers]))/(TablaNivelUNO[PJNivelUno]<>\"\"),ROWS($B$254:TablaNivelUNO[[#This Row],[AuxUno]]))),\"\")","v":"SI(O(Hoja1!H339=\"NIT\",Hoja1!H339=\"Fideicomiso/Fondo\",Hoja1!H339=\"PJ No Residente\"),Hoja1!B343,\"\")"},"SI(O(Hoja1!H339=\"NIT\",Hoja1!H339=\"Fideicomiso/Fondo\",Hoja1!H339=\"PJ No Residente\"),Hoja1!H339,\"\")",{"$f":"IFERROR(INDEX(TablaNivelUNO[TipoDocUno],_xlfn.AGGREGATE(15,6,(ROW(TablaNivelUNO[TipoDocUno])-ROW(TablaNivelUNO[#Headers]))/(TablaNivelUNO[TipoDocUno]<>\"\"),ROWS($D$254:TablaNivelUNO[[#This Row],[AuxTDUno]]))),\"\")","v":"SI(O(Hoja1!H339=\"NIT\",Hoja1!H339=\"Fideicomiso/Fondo\",Hoja1!H339=\"PJ No Residente\"),Hoja1!H339,\"\")"},"SI(O(Hoja1!H339=\"NIT\",Hoja1!H339=\"Fideicomiso/Fondo\",Hoja1!H339=\"PJ No Residente\"),Hoja1!B341,\"\")",{"$f":"IFERROR(INDEX(TablaNivelUNO[NumeroDocUno2],_xlfn.AGGREGATE(15,6,(ROW(TablaNivelUNO[NumeroDocUno2])-ROW(TablaNivelUNO[#Headers]))/(TablaNivelUNO[NumeroDocUno2]<>\"\"),ROWS($F$254:TablaNivelUNO[[#This Row],[AuxNDUno]]))),\"\")","v":"SI(O(Hoja1!H339=\"NIT\",Hoja1!H339=\"Fideicomiso/Fondo\",Hoja1!H339=\"PJ No Residente\"),Hoja1!B341,\"\")"}]
["SI(O(Hoja1!H401=\"NIT\",Hoja1!H401=\"Fideicomiso/Fondo\",Hoja1!H401=\"PJ No Residente\"),Hoja1!B405,\"\")",{"$f":"IFERROR(INDEX(TablaNivelUNO[PJNivelUno],_xlfn.AGGREGATE(15,6,(ROW(TablaNivelUNO[PJNivelUno])-ROW(TablaNivelUNO[#Headers]))/(TablaNivelUNO[PJNivelUno]<>\"\"),ROWS($B$254:TablaNivelUNO[[#This Row],[AuxUno]]))),\"\")","v":"SI(O(Hoja1!H401=\"NIT\",Hoja1!H401=\"Fideicomiso/Fondo\",Hoja1!H401=\"PJ No Residente\"),Hoja1!B405,\"\")"},"SI(O(Hoja1!H401=\"NIT\",Hoja1!H401=\"Fideicomiso/Fondo\",Hoja1!H401=\"PJ No Residente\"),Hoja1!H401,\"\")",{"$f":"IFERROR(INDEX(TablaNivelUNO[TipoDocUno],_xlfn.AGGREGATE(15,6,(ROW(TablaNivelUNO[TipoDocUno])-ROW(TablaNivelUNO[#Headers]))/(TablaNivelUNO[TipoDocUno]<>\"\"),ROWS($D$254:TablaNivelUNO[[#This Row],[AuxTDUno]]))),\"\")","v":"SI(O(Hoja1!H401=\"NIT\",Hoja1!H401=\"Fideicomiso/Fondo\",Hoja1!H401=\"PJ No Residente\"),Hoja1!H401,\"\")"},"SI(O(Hoja1!H401=\"NIT\",Hoja1!H401=\"Fideicomiso/Fondo\",Hoja1!H401=\"PJ No Residente\"),Hoja1!B403,\"\")",{"$f":"IFERROR(INDEX(TablaNivelUNO[NumeroDocUno2],_xlfn.AGGREGATE(15,6,(ROW(TablaNivelUNO[NumeroDocUno2])-ROW(TablaNivelUNO[#Headers]))/(TablaNivelUNO[NumeroDocUno2]<>\"\"),ROWS($F$254:TablaNivelUNO[[#This Row],[AuxNDUno]]))),\"\")","v":"SI(O(Hoja1!H401=\"NIT\",Hoja1!H401=\"Fideicomiso/Fondo\",Hoja1!H401=\"PJ No Residente\"),Hoja1!B403,\"\")"}]
["SI(O(Hoja1!H432=\"NIT\",Hoja1!H432=\"Fideicomiso/Fondo\",Hoja1!H432=\"PJ No Residente\"),Hoja1!B436,\"\")",{"$f":"IFERROR(INDEX(TablaNivelUNO[PJNivelUno],_xlfn.AGGREGATE(15,6,(ROW(TablaNivelUNO[PJNivelUno])-ROW(TablaNivelUNO[#Headers]))/(TablaNivelUNO[PJNivelUno]<>\"\"),ROWS($B$254:TablaNivelUNO[[#This Row],[AuxUno]]))),\"\")","v":"SI(O(Hoja1!H432=\"NIT\",Hoja1!H432=\"Fideicomiso/Fondo\",Hoja1!H432=\"PJ No Residente\"),Hoja1!B436,\"\")"},"SI(O(Hoja1!H432=\"NIT\",Hoja1!H432=\"Fideicomiso/Fondo\",Hoja1!H432=\"PJ No Residente\"),Hoja1!H432,\"\")",{"$f":"IFERROR(INDEX(TablaNivelUNO[TipoDocUno],_xlfn.AGGREGATE(15,6,(ROW(TablaNivelUNO[TipoDocUno])-ROW(TablaNivelUNO[#Headers]))/(TablaNivelUNO[TipoDocUno]<>\"\"),ROWS($D$254:TablaNivelUNO[[#This Row],[AuxTDUno]]))),\"\")","v":"SI(O(Hoja1!H432=\"NIT\",Hoja1!H432=\"Fideicomiso/Fondo\",Hoja1!H432=\"PJ No Residente\"),Hoja1!H432,\"\")"},"SI(O(Hoja1!H432=\"NIT\",Hoja1!H432=\"Fideicomiso/Fondo\",Hoja1!H432=\"PJ No Residente\"),Hoja1!B434,\"\")",{"$f":"IFERROR(INDEX(TablaNivelUNO[NumeroDocUno2],_xlfn.AGGREGATE(15,6,(ROW(TablaNivelUNO[NumeroDocUno2])-ROW(TablaNivelUNO[#Headers]))/(TablaNivelUNO[NumeroDocUno2]<>\"\"),ROWS($F$254:TablaNivelUNO[[#This Row],[AuxNDUno]]))),\"\")","v":"SI(O(Hoja1!H432=\"NIT\",Hoja1!H432=\"Fideicomiso/Fondo\",Hoja1!H432=\"PJ No Residente\"),Hoja1!B434,\"\")"}]
["SI(O(Hoja1!H463=\"NIT\",Hoja1!H463=\"Fideicomiso/Fondo\",Hoja1!H463=\"PJ No Residente\"),Hoja1!B467,\"\")",{"$f":"IFERROR(INDEX(TablaNivelUNO[PJNivelUno],_xlfn.AGGREGATE(15,6,(ROW(TablaNivelUNO[PJNivelUno])-ROW(TablaNivelUNO[#Headers]))/(TablaNivelUNO[PJNivelUno]<>\"\"),ROWS($B$254:TablaNivelUNO[[#This Row],[AuxUno]]))),\"\")","v":"SI(O(Hoja1!H463=\"NIT\",Hoja1!H463=\"Fideicomiso/Fondo\",Hoja1!H463=\"PJ No Residente\"),Hoja1!B467,\"\")"},"SI(O(Hoja1!H463=\"NIT\",Hoja1!H463=\"Fideicomiso/Fondo\",Hoja1!H463=\"PJ No Residente\"),Hoja1!H463,\"\")",{"$f":"IFERROR(INDEX(TablaNivelUNO[TipoDocUno],_xlfn.AGGREGATE(15,6,(ROW(TablaNivelUNO[TipoDocUno])-ROW(TablaNivelUNO[#Headers]))/(TablaNivelUNO[TipoDocUno]<>\"\"),ROWS($D$254:TablaNivelUNO[[#This Row],[AuxTDUno]]))),\"\")","v":"SI(O(Hoja1!H463=\"NIT\",Hoja1!H463=\"Fideicomiso/Fondo\",Hoja1!H463=\"PJ No Residente\"),Hoja1!H463,\"\")"},"SI(O(Hoja1!H463=\"NIT\",Hoja1!H463=\"Fideicomiso/Fondo\",Hoja1!H463=\"PJ No Residente\"),Hoja1!B465,\"\")",{"$f":"IFERROR(INDEX(TablaNivelUNO[NumeroDocUno2],_xlfn.AGGREGATE(15,6,(ROW(TablaNivelUNO[NumeroDocUno2])-ROW(TablaNivelUNO[#Headers]))/(TablaNivelUNO[NumeroDocUno2]<>\"\"),ROWS($F$254:TablaNivelUNO[[#This Row],[AuxNDUno]]))),\"\")","v":"SI(O(Hoja1!H463=\"NIT\",Hoja1!H463=\"Fideicomiso/Fondo\",Hoja1!H463=\"PJ No Residente\"),Hoja1!B465,\"\")"}]
["SI(O(Hoja1!H494=\"NIT\",Hoja1!H494=\"Fideicomiso/Fondo\",Hoja1!H494=\"PJ No Residente\"),Hoja1!B498,\"\")",{"$f":"IFERROR(INDEX(TablaNivelUNO[PJNivelUno],_xlfn.AGGREGATE(15,6,(ROW(TablaNivelUNO[PJNivelUno])-ROW(TablaNivelUNO[#Headers]))/(TablaNivelUNO[PJNivelUno]<>\"\"),ROWS($B$254:TablaNivelUNO[[#This Row],[AuxUno]]))),\"\")","v":"SI(O(Hoja1!H494=\"NIT\",Hoja1!H494=\"Fideicomiso/Fondo\",Hoja1!H494=\"PJ No Residente\"),Hoja1!B498,\"\")"},"SI(O(Hoja1!H494=\"NIT\",Hoja1!H494=\"Fideicomiso/Fondo\",Hoja1!H494=\"PJ No Residente\"),Hoja1!H494,\"\")",{"$f":"IFERROR(INDEX(TablaNivelUNO[TipoDocUno],_xlfn.AGGREGATE(15,6,(ROW(TablaNivelUNO[TipoDocUno])-ROW(TablaNivelUNO[#Headers]))/(TablaNivelUNO[TipoDocUno]<>\"\"),ROWS($D$254:TablaNivelUNO[[#This Row],[AuxTDUno]]))),\"\")","v":"SI(O(Hoja1!H494=\"NIT\",Hoja1!H494=\"Fideicomiso/Fondo\",Hoja1!H494=\"PJ No Residente\"),Hoja1!H494,\"\")"},"SI(O(Hoja1!H494=\"NIT\",Hoja1!H494=\"Fideicomiso/Fondo\",Hoja1!H494=\"PJ No Residente\"),Hoja1!B496,\"\")",{"$f":"IFERROR(INDEX(TablaNivelUNO[NumeroDocUno2],_xlfn.AGGREGATE(15,6,(ROW(TablaNivelUNO[NumeroDocUno2])-ROW(TablaNivelUNO[#Headers]))/(TablaNivelUNO[NumeroDocUno2]<>\"\"),ROWS($F$254:TablaNivelUNO[[#This Row],[AuxNDUno]]))),\"\")","v":"SI(O(Hoja1!H494=\"NIT\",Hoja1!H494=\"Fideicomiso/Fondo\",Hoja1!H494=\"PJ No Residente\"),Hoja1!B496,\"\")"}]
["SI(O(Hoja1!H525=\"NIT\",Hoja1!H525=\"Fideicomiso/Fondo\",Hoja1!H525=\"PJ No Residente\"),Hoja1!B529,\"\")",{"$f":"IFERROR(INDEX(TablaNivelUNO[PJNivelUno],_xlfn.AGGREGATE(15,6,(ROW(TablaNivelUNO[PJNivelUno])-ROW(TablaNivelUNO[#Headers]))/(TablaNivelUNO[PJNivelUno]<>\"\"),ROWS($B$254:TablaNivelUNO[[#This Row],[AuxUno]]))),\"\")","v":"SI(O(Hoja1!H525=\"NIT\",Hoja1!H525=\"Fideicomiso/Fondo\",Hoja1!H525=\"PJ No Residente\"),Hoja1!B529,\"\")"},"SI(O(Hoja1!H525=\"NIT\",Hoja1!H525=\"Fideicomiso/Fondo\",Hoja1!H525=\"PJ No Residente\"),Hoja1!H525,\"\")",{"$f":"IFERROR(INDEX(TablaNivelUNO[TipoDocUno],_xlfn.AGGREGATE(15,6,(ROW(TablaNivelUNO[TipoDocUno])-ROW(TablaNivelUNO[#Headers]))/(TablaNivelUNO[TipoDocUno]<>\"\"),ROWS($D$254:TablaNivelUNO[[#This Row],[AuxTDUno]]))),\"\")","v":"SI(O(Hoja1!H525=\"NIT\",Hoja1!H525=\"Fideicomiso/Fondo\",Hoja1!H525=\"PJ No Residente\"),Hoja1!H525,\"\")"},"SI(O(Hoja1!H525=\"NIT\",Hoja1!H525=\"Fideicomiso/Fondo\",Hoja1!H525=\"PJ No Residente\"),Hoja1!B527,\"\")",{"$f":"IFERROR(INDEX(TablaNivelUNO[NumeroDocUno2],_xlfn.AGGREGATE(15,6,(ROW(TablaNivelUNO[NumeroDocUno2])-ROW(TablaNivelUNO[#Headers]))/(TablaNivelUNO[NumeroDocUno2]<>\"\"),ROWS($F$254:TablaNivelUNO[[#This Row],[AuxNDUno]]))),\"\")","v":"SI(O(Hoja1!H525=\"NIT\",Hoja1!H525=\"Fideicomiso/Fondo\",Hoja1!H525=\"PJ No Residente\"),Hoja1!B527,\"\")"}]
["SI(O(Hoja1!H556=\"NIT\",Hoja1!H556=\"Fideicomiso/Fondo\",Hoja1!H556=\"PJ No Residente\"),Hoja1!B560,\"\")",{"$f":"IFERROR(INDEX(TablaNivelUNO[PJNivelUno],_xlfn.AGGREGATE(15,6,(ROW(TablaNivelUNO[PJNivelUno])-ROW(TablaNivelUNO[#Headers]))/(TablaNivelUNO[PJNivelUno]<>\"\"),ROWS($B$254:TablaNivelUNO[[#This Row],[AuxUno]]))),\"\")","v":"SI(O(Hoja1!H556=\"NIT\",Hoja1!H556=\"Fideicomiso/Fondo\",Hoja1!H556=\"PJ No Residente\"),Hoja1!B560,\"\")"},"SI(O(Hoja1!H556=\"NIT\",Hoja1!H556=\"Fideicomiso/Fondo\",Hoja1!H556=\"PJ No Residente\"),Hoja1!H556,\"\")",{"$f":"IFERROR(INDEX(TablaNivelUNO[TipoDocUno],_xlfn.AGGREGATE(15,6,(ROW(TablaNivelUNO[TipoDocUno])-ROW(TablaNivelUNO[#Headers]))/(TablaNivelUNO[TipoDocUno]<>\"\"),ROWS($D$254:TablaNivelUNO[[#This Row],[AuxTDUno]]))),\"\")","v":"SI(O(Hoja1!H556=\"NIT\",Hoja1!H556=\"Fideicomiso/Fondo\",Hoja1!H556=\"PJ No Residente\"),Hoja1!H556,\"\")"},"SI(O(Hoja1!H556=\"NIT\",Hoja1!H556=\"Fideicomiso/Fondo\",Hoja1!H556=\"PJ No Residente\"),Hoja1!B558,\"\")",{"$f":"IFERROR(INDEX(TablaNivelUNO[NumeroDocUno2],_xlfn.AGGREGATE(15,6,(ROW(TablaNivelUNO[NumeroDocUno2])-ROW(TablaNivelUNO[#Headers]))/(TablaNivelUNO[NumeroDocUno2]<>\"\"),ROWS($F$254:TablaNivelUNO[[#This Row],[AuxNDUno]]))),\"\")","v":"SI(O(Hoja1!H556=\"NIT\",Hoja1!H556=\"Fideicomiso/Fondo\",Hoja1!H556=\"PJ No Residente\"),Hoja1!B558,\"\")"}]
["SI(O(Hoja1!H587=\"NIT\",Hoja1!H587=\"Fideicomiso/Fondo\",Hoja1!H587=\"PJ No Residente\"),Hoja1!B591,\"\")",{"$f":"IFERROR(INDEX(TablaNivelUNO[PJNivelUno],_xlfn.AGGREGATE(15,6,(ROW(TablaNivelUNO[PJNivelUno])-ROW(TablaNivelUNO[#Headers]))/(TablaNivelUNO[PJNivelUno]<>\"\"),ROWS($B$254:TablaNivelUNO[[#This Row],[AuxUno]]))),\"\")","v":"SI(O(Hoja1!H587=\"NIT\",Hoja1!H587=\"Fideicomiso/Fondo\",Hoja1!H587=\"PJ No Residente\"),Hoja1!B591,\"\")"},"SI(O(Hoja1!H587=\"NIT\",Hoja1!H587=\"Fideicomiso/Fondo\",Hoja1!H587=\"PJ No Residente\"),Hoja1!H587,\"\")",{"$f":"IFERROR(INDEX(TablaNivelUNO[TipoDocUno],_xlfn.AGGREGATE(15,6,(ROW(TablaNivelUNO[TipoDocUno])-ROW(TablaNivelUNO[#Headers]))/(TablaNivelUNO[TipoDocUno]<>\"\"),ROWS($D$254:TablaNivelUNO[[#This Row],[AuxTDUno]]))),\"\")","v":"SI(O(Hoja1!H587=\"NIT\",Hoja1!H587=\"Fideicomiso/Fondo\",Hoja1!H587=\"PJ No Residente\"),Hoja1!H587,\"\")"},"SI(O(Hoja1!H587=\"NIT\",Hoja1!H587=\"Fideicomiso/Fondo\",Hoja1!H587=\"PJ No Residente\"),Hoja1!B589,\"\")",{"$f":"IFERROR(INDEX(TablaNivelUNO[NumeroDocUno2],_xlfn.AGGREGATE(15,6,(ROW(TablaNivelUNO[NumeroDocUno2])-ROW(TablaNivelUNO[#Headers]))/(TablaNivelUNO[NumeroDocUno2]<>\"\"),ROWS($F$254:TablaNivelUNO[[#This Row],[AuxNDUno]]))),\"\")","v":"SI(O(Hoja1!H587=\"NIT\",Hoja1!H587=\"Fideicomiso/Fondo\",Hoja1!H587=\"PJ No Residente\"),Hoja1!B589,\"\")"}]
["SI(O(Hoja1!H618=\"NIT\",Hoja1!H618=\"Fideicomiso/Fondo\",Hoja1!H618=\"PJ No Residente\"),Hoja1!B622,\"\")",{"$f":"IFERROR(INDEX(TablaNivelUNO[PJNivelUno],_xlfn.AGGREGATE(15,6,(ROW(TablaNivelUNO[PJNivelUno])-ROW(TablaNivelUNO[#Headers]))/(TablaNivelUNO[PJNivelUno]<>\"\"),ROWS($B$254:TablaNivelUNO[[#This Row],[AuxUno]]))),\"\")","v":"SI(O(Hoja1!H618=\"NIT\",Hoja1!H618=\"Fideicomiso/Fondo\",Hoja1!H618=\"PJ No Residente\"),Hoja1!B622,\"\")"},"SI(O(Hoja1!H618=\"NIT\",Hoja1!H618=\"Fideicomiso/Fondo\",Hoja1!H618=\"PJ No Residente\"),Hoja1!H618,\"\")",{"$f":"IFERROR(INDEX(TablaNivelUNO[TipoDocUno],_xlfn.AGGREGATE(15,6,(ROW(TablaNivelUNO[TipoDocUno])-ROW(TablaNivelUNO[#Headers]))/(TablaNivelUNO[TipoDocUno]<>\"\"),ROWS($D$254:TablaNivelUNO[[#This Row],[AuxTDUno]]))),\"\")","v":"SI(O(Hoja1!H618=\"NIT\",Hoja1!H618=\"Fideicomiso/Fondo\",Hoja1!H618=\"PJ No Residente\"),Hoja1!H618,\"\")"},"SI(O(Hoja1!H618=\"NIT\",Hoja1!H618=\"Fideicomiso/Fondo\",Hoja1!H618=\"PJ No Residente\"),Hoja1!B620,\"\")",{"$f":"IFERROR(INDEX(TablaNivelUNO[NumeroDocUno2],_xlfn.AGGREGATE(15,6,(ROW(TablaNivelUNO[NumeroDocUno2])-ROW(TablaNivelUNO[#Headers]))/(TablaNivelUNO[NumeroDocUno2]<>\"\"),ROWS($F$254:TablaNivelUNO[[#This Row],[AuxNDUno]]))),\"\")","v":"SI(O(Hoja1!H618=\"NIT\",Hoja1!H618=\"Fideicomiso/Fondo\",Hoja1!H618=\"PJ No Residente\"),Hoja1!B620,\"\")"}]
["SI(O(Hoja1!H649=\"NIT\",Hoja1!H649=\"Fideicomiso/Fondo\",Hoja1!H649=\"PJ No Residente\"),Hoja1!B653,\"\")",{"$f":"IFERROR(INDEX(TablaNivelUNO[PJNivelUno],_xlfn.AGGREGATE(15,6,(ROW(TablaNivelUNO[PJNivelUno])-ROW(TablaNivelUNO[#Headers]))/(TablaNivelUNO[PJNivelUno]<>\"\"),ROWS($B$254:TablaNivelUNO[[#This Row],[AuxUno]]))),\"\")","v":"SI(O(Hoja1!H649=\"NIT\",Hoja1!H649=\"Fideicomiso/Fondo\",Hoja1!H649=\"PJ No Residente\"),Hoja1!B653,\"\")"},"SI(O(Hoja1!H649=\"NIT\",Hoja1!H649=\"Fideicomiso/Fondo\",Hoja1!H649=\"PJ No Residente\"),Hoja1!H649,\"\")",{"$f":"IFERROR(INDEX(TablaNivelUNO[TipoDocUno],_xlfn.AGGREGATE(15,6,(ROW(TablaNivelUNO[TipoDocUno])-ROW(TablaNivelUNO[#Headers]))/(TablaNivelUNO[TipoDocUno]<>\"\"),ROWS($D$254:TablaNivelUNO[[#This Row],[AuxTDUno]]))),\"\")","v":"SI(O(Hoja1!H649=\"NIT\",Hoja1!H649=\"Fideicomiso/Fondo\",Hoja1!H649=\"PJ No Residente\"),Hoja1!H649,\"\")"},"SI(O(Hoja1!H649=\"NIT\",Hoja1!H649=\"Fideicomiso/Fondo\",Hoja1!H649=\"PJ No Residente\"),Hoja1!B651,\"\")",{"$f":"IFERROR(INDEX(TablaNivelUNO[NumeroDocUno2],_xlfn.AGGREGATE(15,6,(ROW(TablaNivelUNO[NumeroDocUno2])-ROW(TablaNivelUNO[#Headers]))/(TablaNivelUNO[NumeroDocUno2]<>\"\"),ROWS($F$254:TablaNivelUNO[[#This Row],[AuxNDUno]]))),\"\")","v":"SI(O(Hoja1!H649=\"NIT\",Hoja1!H649=\"Fideicomiso/Fondo\",Hoja1!H649=\"PJ No Residente\"),Hoja1!B651,\"\")"}]
["SI(O(Hoja1!H680=\"NIT\",Hoja1!H680=\"Fideicomiso/Fondo\",Hoja1!H680=\"PJ No Residente\"),Hoja1!B684,\"\")",{"$f":"IFERROR(INDEX(TablaNivelUNO[PJNivelUno],_xlfn.AGGREGATE(15,6,(ROW(TablaNivelUNO[PJNivelUno])-ROW(TablaNivelUNO[#Headers]))/(TablaNivelUNO[PJNivelUno]<>\"\"),ROWS($B$254:TablaNivelUNO[[#This Row],[AuxUno]]))),\"\")","v":"SI(O(Hoja1!H680=\"NIT\",Hoja1!H680=\"Fideicomiso/Fondo\",Hoja1!H680=\"PJ No Residente\"),Hoja1!B684,\"\")"},"SI(O(Hoja1!H680=\"NIT\",Hoja1!H680=\"Fideicomiso/Fondo\",Hoja1!H680=\"PJ No Residente\"),Hoja1!H680,\"\")",{"$f":"IFERROR(INDEX(TablaNivelUNO[TipoDocUno],_xlfn.AGGREGATE(15,6,(ROW(TablaNivelUNO[TipoDocUno])-ROW(TablaNivelUNO[#Headers]))/(TablaNivelUNO[TipoDocUno]<>\"\"),ROWS($D$254:TablaNivelUNO[[#This Row],[AuxTDUno]]))),\"\")","v":"SI(O(Hoja1!H680=\"NIT\",Hoja1!H680=\"Fideicomiso/Fondo\",Hoja1!H680=\"PJ No Residente\"),Hoja1!H680,\"\")"},"SI(O(Hoja1!H680=\"NIT\",Hoja1!H680=\"Fideicomiso/Fondo\",Hoja1!H680=\"PJ No Residente\"),Hoja1!B682,\"\")",{"$f":"IFERROR(INDEX(TablaNivelUNO[NumeroDocUno2],_xlfn.AGGREGATE(15,6,(ROW(TablaNivelUNO[NumeroDocUno2])-ROW(TablaNivelUNO[#Headers]))/(TablaNivelUNO[NumeroDocUno2]<>\"\"),ROWS($F$254:TablaNivelUNO[[#This Row],[AuxNDUno]]))),\"\")","v":"SI(O(Hoja1!H680=\"NIT\",Hoja1!H680=\"Fideicomiso/Fondo\",Hoja1!H680=\"PJ No Residente\"),Hoja1!B682,\"\")"}]
["SI(O(Hoja1!H711=\"NIT\",Hoja1!H711=\"Fideicomiso/Fondo\",Hoja1!H711=\"PJ No Residente\"),Hoja1!B715,\"\")",{"$f":"IFERROR(INDEX(TablaNivelUNO[PJNivelUno],_xlfn.AGGREGATE(15,6,(ROW(TablaNivelUNO[PJNivelUno])-ROW(TablaNivelUNO[#Headers]))/(TablaNivelUNO[PJNivelUno]<>\"\"),ROWS($B$254:TablaNivelUNO[[#This Row],[AuxUno]]))),\"\")","v":"SI(O(Hoja1!H711=\"NIT\",Hoja1!H711=\"Fideicomiso/Fondo\",Hoja1!H711=\"PJ No Residente\"),Hoja1!B715,\"\")"},"SI(O(Hoja1!H711=\"NIT\",Hoja1!H711=\"Fideicomiso/Fondo\",Hoja1!H711=\"PJ No Residente\"),Hoja1!H711,\"\")",{"$f":"IFERROR(INDEX(TablaNivelUNO[TipoDocUno],_xlfn.AGGREGATE(15,6,(ROW(TablaNivelUNO[TipoDocUno])-ROW(TablaNivelUNO[#Headers]))/(TablaNivelUNO[TipoDocUno]<>\"\"),ROWS($D$254:TablaNivelUNO[[#This Row],[AuxTDUno]]))),\"\")","v":"SI(O(Hoja1!H711=\"NIT\",Hoja1!H711=\"Fideicomiso/Fondo\",Hoja1!H711=\"PJ No Residente\"),Hoja1!H711,\"\")"},"SI(O(Hoja1!H711=\"NIT\",Hoja1!H711=\"Fideicomiso/Fondo\",Hoja1!H711=\"PJ No Residente\"),Hoja1!B713,\"\")",{"$f":"IFERROR(INDEX(TablaNivelUNO[NumeroDocUno2],_xlfn.AGGREGATE(15,6,(ROW(TablaNivelUNO[NumeroDocUno2])-ROW(TablaNivelUNO[#Headers]))/(TablaNivelUNO[NumeroDocUno2]<>\"\"),ROWS($F$254:TablaNivelUNO[[#This Row],[AuxNDUno]]))),\"\")","v":"SI(O(Hoja1!H711=\"NIT\",Hoja1!H711=\"Fideicomiso/Fondo\",Hoja1!H711=\"PJ No Residente\"),Hoja1!B713,\"\")"}]
["SI(O(Hoja1!H742=\"NIT\",Hoja1!H742=\"Fideicomiso/Fondo\",Hoja1!H742=\"PJ No Residente\"),Hoja1!B746,\"\")",{"$f":"IFERROR(INDEX(TablaNivelUNO[PJNivelUno],_xlfn.AGGREGATE(15,6,(ROW(TablaNivelUNO[PJNivelUno])-ROW(TablaNivelUNO[#Headers]))/(TablaNivelUNO[PJNivelUno]<>\"\"),ROWS($B$254:TablaNivelUNO[[#This Row],[AuxUno]]))),\"\")","v":"SI(O(Hoja1!H742=\"NIT\",Hoja1!H742=\"Fideicomiso/Fondo\",Hoja1!H742=\"PJ No Residente\"),Hoja1!B746,\"\")"},"SI(O(Hoja1!H742=\"NIT\",Hoja1!H742=\"Fideicomiso/Fondo\",Hoja1!H742=\"PJ No Residente\"),Hoja1!H742,\"\")",{"$f":"IFERROR(INDEX(TablaNivelUNO[TipoDocUno],_xlfn.AGGREGATE(15,6,(ROW(TablaNivelUNO[TipoDocUno])-ROW(TablaNivelUNO[#Headers]))/(TablaNivelUNO[TipoDocUno]<>\"\"),ROWS($D$254:TablaNivelUNO[[#This Row],[AuxTDUno]]))),\"\")","v":"SI(O(Hoja1!H742=\"NIT\",Hoja1!H742=\"Fideicomiso/Fondo\",Hoja1!H742=\"PJ No Residente\"),Hoja1!H742,\"\")"},"SI(O(Hoja1!H742=\"NIT\",Hoja1!H742=\"Fideicomiso/Fondo\",Hoja1!H742=\"PJ No Residente\"),Hoja1!B744,\"\")",{"$f":"IFERROR(INDEX(TablaNivelUNO[NumeroDocUno2],_xlfn.AGGREGATE(15,6,(ROW(TablaNivelUNO[NumeroDocUno2])-ROW(TablaNivelUNO[#Headers]))/(TablaNivelUNO[NumeroDocUno2]<>\"\"),ROWS($F$254:TablaNivelUNO[[#This Row],[AuxNDUno]]))),\"\")","v":"SI(O(Hoja1!H742=\"NIT\",Hoja1!H742=\"Fideicomiso/Fondo\",Hoja1!H742=\"PJ No Residente\"),Hoja1!B744,\"\")"}]
["SI(O(Hoja1!H773=\"NIT\",Hoja1!H773=\"Fideicomiso/Fondo\",Hoja1!H773=\"PJ No Residente\"),Hoja1!B777,\"\")",{"$f":"IFERROR(INDEX(TablaNivelUNO[PJNivelUno],_xlfn.AGGREGATE(15,6,(ROW(TablaNivelUNO[PJNivelUno])-ROW(TablaNivelUNO[#Headers]))/(TablaNivelUNO[PJNivelUno]<>\"\"),ROWS($B$254:TablaNivelUNO[[#This Row],[AuxUno]]))),\"\")","v":"SI(O(Hoja1!H773=\"NIT\",Hoja1!H773=\"Fideicomiso/Fondo\",Hoja1!H773=\"PJ No Residente\"),Hoja1!B777,\"\")"},"SI(O(Hoja1!H773=\"NIT\",Hoja1!H773=\"Fideicomiso/Fondo\",Hoja1!H773=\"PJ No Residente\"),Hoja1!H773,\"\")",{"$f":"IFERROR(INDEX(TablaNivelUNO[TipoDocUno],_xlfn.AGGREGATE(15,6,(ROW(TablaNivelUNO[TipoDocUno])-ROW(TablaNivelUNO[#Headers]))/(TablaNivelUNO[TipoDocUno]<>\"\"),ROWS($D$254:TablaNivelUNO[[#This Row],[AuxTDUno]]))),\"\")","v":"SI(O(Hoja1!H773=\"NIT\",Hoja1!H773=\"Fideicomiso/Fondo\",Hoja1!H773=\"PJ No Residente\"),Hoja1!H773,\"\")"},"SI(O(Hoja1!H773=\"NIT\",Hoja1!H773=\"Fideicomiso/Fondo\",Hoja1!H773=\"PJ No Residente\"),Hoja1!B775,\"\")",{"$f":"IFERROR(INDEX(TablaNivelUNO[NumeroDocUno2],_xlfn.AGGREGATE(15,6,(ROW(TablaNivelUNO[NumeroDocUno2])-ROW(TablaNivelUNO[#Headers]))/(TablaNivelUNO[NumeroDocUno2]<>\"\"),ROWS($F$254:TablaNivelUNO[[#This Row],[AuxNDUno]]))),\"\")","v":"SI(O(Hoja1!H773=\"NIT\",Hoja1!H773=\"Fideicomiso/Fondo\",Hoja1!H773=\"PJ No Residente\"),Hoja1!B775,\"\")"}]
["SI(O(Hoja1!H804=\"NIT\",Hoja1!H804=\"Fideicomiso/Fondo\",Hoja1!H804=\"PJ No Residente\"),Hoja1!B808,\"\")",{"$f":"IFERROR(INDEX(TablaNivelUNO[PJNivelUno],_xlfn.AGGREGATE(15,6,(ROW(TablaNivelUNO[PJNivelUno])-ROW(TablaNivelUNO[#Headers]))/(TablaNivelUNO[PJNivelUno]<>\"\"),ROWS($B$254:TablaNivelUNO[[#This Row],[AuxUno]]))),\"\")","v":"SI(O(Hoja1!H804=\"NIT\",Hoja1!H804=\"Fideicomiso/Fondo\",Hoja1!H804=\"PJ No Residente\"),Hoja1!B808,\"\")"},"SI(O(Hoja1!H804=\"NIT\",Hoja1!H804=\"Fideicomiso/Fondo\",Hoja1!H804=\"PJ No Residente\"),Hoja1!H804,\"\")",{"$f":"IFERROR(INDEX(TablaNivelUNO[TipoDocUno],_xlfn.AGGREGATE(15,6,(ROW(TablaNivelUNO[TipoDocUno])-ROW(TablaNivelUNO[#Headers]))/(TablaNivelUNO[TipoDocUno]<>\"\"),ROWS($D$254:TablaNivelUNO[[#This Row],[AuxTDUno]]))),\"\")","v":"SI(O(Hoja1!H804=\"NIT\",Hoja1!H804=\"Fideicomiso/Fondo\",Hoja1!H804=\"PJ No Residente\"),Hoja1!H804,\"\")"},"SI(O(Hoja1!H804=\"NIT\",Hoja1!H804=\"Fideicomiso/Fondo\",Hoja1!H804=\"PJ No Residente\"),Hoja1!B806,\"\")",{"$f":"IFERROR(INDEX(TablaNivelUNO[NumeroDocUno2],_xlfn.AGGREGATE(15,6,(ROW(TablaNivelUNO[NumeroDocUno2])-ROW(TablaNivelUNO[#Headers]))/(TablaNivelUNO[NumeroDocUno2]<>\"\"),ROWS($F$254:TablaNivelUNO[[#This Row],[AuxNDUno]]))),\"\")","v":"SI(O(Hoja1!H804=\"NIT\",Hoja1!H804=\"Fideicomiso/Fondo\",Hoja1!H804=\"PJ No Residente\"),Hoja1!B806,\"\")"}]
["SI(O(Hoja1!H835=\"NIT\",Hoja1!H835=\"Fideicomiso/Fondo\",Hoja1!H835=\"PJ No Residente\"),Hoja1!B839,\"\")",{"$f":"IFERROR(INDEX(TablaNivelUNO[PJNivelUno],_xlfn.AGGREGATE(15,6,(ROW(TablaNivelUNO[PJNivelUno])-ROW(TablaNivelUNO[#Headers]))/(TablaNivelUNO[PJNivelUno]<>\"\"),ROWS($B$254:TablaNivelUNO[[#This Row],[AuxUno]]))),\"\")","v":"SI(O(Hoja1!H835=\"NIT\",Hoja1!H835=\"Fideicomiso/Fondo\",Hoja1!H835=\"PJ No Residente\"),Hoja1!B839,\"\")"},"SI(O(Hoja1!H835=\"NIT\",Hoja1!H835=\"Fideicomiso/Fondo\",Hoja1!H835=\"PJ No Residente\"),Hoja1!H835,\"\")",{"$f":"IFERROR(INDEX(TablaNivelUNO[TipoDocUno],_xlfn.AGGREGATE(15,6,(ROW(TablaNivelUNO[TipoDocUno])-ROW(TablaNivelUNO[#Headers]))/(TablaNivelUNO[TipoDocUno]<>\"\"),ROWS($D$254:TablaNivelUNO[[#This Row],[AuxTDUno]]))),\"\")","v":"SI(O(Hoja1!H835=\"NIT\",Hoja1!H835=\"Fideicomiso/Fondo\",Hoja1!H835=\"PJ No Residente\"),Hoja1!H835,\"\")"},"SI(O(Hoja1!H835=\"NIT\",Hoja1!H835=\"Fideicomiso/Fondo\",Hoja1!H835=\"PJ No Residente\"),Hoja1!B837,\"\")",{"$f":"IFERROR(INDEX(TablaNivelUNO[NumeroDocUno2],_xlfn.AGGREGATE(15,6,(ROW(TablaNivelUNO[NumeroDocUno2])-ROW(TablaNivelUNO[#Headers]))/(TablaNivelUNO[NumeroDocUno2]<>\"\"),ROWS($F$254:TablaNivelUNO[[#This Row],[AuxNDUno]]))),\"\")","v":"SI(O(Hoja1!H835=\"NIT\",Hoja1!H835=\"Fideicomiso/Fondo\",Hoja1!H835=\"PJ No Residente\"),Hoja1!B837,\"\")"}]
["SI(O(Hoja1!H866=\"NIT\",Hoja1!H866=\"Fideicomiso/Fondo\",Hoja1!H866=\"PJ No Residente\"),Hoja1!B870,\"\")",{"$f":"IFERROR(INDEX(TablaNivelUNO[PJNivelUno],_xlfn.AGGREGATE(15,6,(ROW(TablaNivelUNO[PJNivelUno])-ROW(TablaNivelUNO[#Headers]))/(TablaNivelUNO[PJNivelUno]<>\"\"),ROWS($B$254:TablaNivelUNO[[#This Row],[AuxUno]]))),\"\")","v":"SI(O(Hoja1!H866=\"NIT\",Hoja1!H866=\"Fideicomiso/Fondo\",Hoja1!H866=\"PJ No Residente\"),Hoja1!B870,\"\")"},"SI(O(Hoja1!H866=\"NIT\",Hoja1!H866=\"Fideicomiso/Fondo\",Hoja1!H866=\"PJ No Residente\"),Hoja1!H866,\"\")",{"$f":"IFERROR(INDEX(TablaNivelUNO[TipoDocUno],_xlfn.AGGREGATE(15,6,(ROW(TablaNivelUNO[TipoDocUno])-ROW(TablaNivelUNO[#Headers]))/(TablaNivelUNO[TipoDocUno]<>\"\"),ROWS($D$254:TablaNivelUNO[[#This Row],[AuxTDUno]]))),\"\")","v":"SI(O(Hoja1!H866=\"NIT\",Hoja1!H866=\"Fideicomiso/Fondo\",Hoja1!H866=\"PJ No Residente\"),Hoja1!H866,\"\")"},"SI(O(Hoja1!H866=\"NIT\",Hoja1!H866=\"Fideicomiso/Fondo\",Hoja1!H866=\"PJ No Residente\"),Hoja1!B868,\"\")",{"$f":"IFERROR(INDEX(TablaNivelUNO[NumeroDocUno2],_xlfn.AGGREGATE(15,6,(ROW(TablaNivelUNO[NumeroDocUno2])-ROW(TablaNivelUNO[#Headers]))/(TablaNivelUNO[NumeroDocUno2]<>\"\"),ROWS($F$254:TablaNivelUNO[[#This Row],[AuxNDUno]]))),\"\")","v":"SI(O(Hoja1!H866=\"NIT\",Hoja1!H866=\"Fideicomiso/Fondo\",Hoja1!H866=\"PJ No Residente\"),Hoja1!B868,\"\")"}]
["SI(O(Hoja1!H897=\"NIT\",Hoja1!H897=\"Fideicomiso/Fondo\",Hoja1!H897=\"PJ No Residente\"),Hoja1!B901,\"\")",{"$f":"IFERROR(INDEX(TablaNivelUNO[PJNivelUno],_xlfn.AGGREGATE(15,6,(ROW(TablaNivelUNO[PJNivelUno])-ROW(TablaNivelUNO[#Headers]))/(TablaNivelUNO[PJNivelUno]<>\"\"),ROWS($B$254:TablaNivelUNO[[#This Row],[AuxUno]]))),\"\")","v":"SI(O(Hoja1!H897=\"NIT\",Hoja1!H897=\"Fideicomiso/Fondo\",Hoja1!H897=\"PJ No Residente\"),Hoja1!B901,\"\")"},"SI(O(Hoja1!H897=\"NIT\",Hoja1!H897=\"Fideicomiso/Fondo\",Hoja1!H897=\"PJ No Residente\"),Hoja1!H897,\"\")",{"$f":"IFERROR(INDEX(TablaNivelUNO[TipoDocUno],_xlfn.AGGREGATE(15,6,(ROW(TablaNivelUNO[TipoDocUno])-ROW(TablaNivelUNO[#Headers]))/(TablaNivelUNO[TipoDocUno]<>\"\"),ROWS($D$254:TablaNivelUNO[[#This Row],[AuxTDUno]]))),\"\")","v":"SI(O(Hoja1!H897=\"NIT\",Hoja1!H897=\"Fideicomiso/Fondo\",Hoja1!H897=\"PJ No Residente\"),Hoja1!H897,\"\")"},"SI(O(Hoja1!H897=\"NIT\",Hoja1!H897=\"Fideicomiso/Fondo\",Hoja1!H897=\"PJ No Residente\"),Hoja1!B899,\"\")",{"$f":"IFERROR(INDEX(TablaNivelUNO[NumeroDocUno2],_xlfn.AGGREGATE(15,6,(ROW(TablaNivelUNO[NumeroDocUno2])-ROW(TablaNivelUNO[#Headers]))/(TablaNivelUNO[NumeroDocUno2]<>\"\"),ROWS($F$254:TablaNivelUNO[[#This Row],[AuxNDUno]]))),\"\")","v":"SI(O(Hoja1!H897=\"NIT\",Hoja1!H897=\"Fideicomiso/Fondo\",Hoja1!H897=\"PJ No Residente\"),Hoja1!B899,\"\")"}]
["SI(O(Hoja1!H928=\"NIT\",Hoja1!H928=\"Fideicomiso/Fondo\",Hoja1!H928=\"PJ No Residente\"),Hoja1!B932,\"\")",{"$f":"IFERROR(INDEX(TablaNivelUNO[PJNivelUno],_xlfn.AGGREGATE(15,6,(ROW(TablaNivelUNO[PJNivelUno])-ROW(TablaNivelUNO[#Headers]))/(TablaNivelUNO[PJNivelUno]<>\"\"),ROWS($B$254:TablaNivelUNO[[#This Row],[AuxUno]]))),\"\")","v":"SI(O(Hoja1!H928=\"NIT\",Hoja1!H928=\"Fideicomiso/Fondo\",Hoja1!H928=\"PJ No Residente\"),Hoja1!B932,\"\")"},"SI(O(Hoja1!H928=\"NIT\",Hoja1!H928=\"Fideicomiso/Fondo\",Hoja1!H928=\"PJ No Residente\"),Hoja1!H928,\"\")",{"$f":"IFERROR(INDEX(TablaNivelUNO[TipoDocUno],_xlfn.AGGREGATE(15,6,(ROW(TablaNivelUNO[TipoDocUno])-ROW(TablaNivelUNO[#Headers]))/(TablaNivelUNO[TipoDocUno]<>\"\"),ROWS($D$254:TablaNivelUNO[[#This Row],[AuxTDUno]]))),\"\")","v":"SI(O(Hoja1!H928=\"NIT\",Hoja1!H928=\"Fideicomiso/Fondo\",Hoja1!H928=\"PJ No Residente\"),Hoja1!H928,\"\")"},"SI(O(Hoja1!H928=\"NIT\",Hoja1!H928=\"Fideicomiso/Fondo\",Hoja1!H928=\"PJ No Residente\"),Hoja1!B930,\"\")",{"$f":"IFERROR(INDEX(TablaNivelUNO[NumeroDocUno2],_xlfn.AGGREGATE(15,6,(ROW(TablaNivelUNO[NumeroDocUno2])-ROW(TablaNivelUNO[#Headers]))/(TablaNivelUNO[NumeroDocUno2]<>\"\"),ROWS($F$254:TablaNivelUNO[[#This Row],[AuxNDUno]]))),\"\")","v":"SI(O(Hoja1!H928=\"NIT\",Hoja1!H928=\"Fideicomiso/Fondo\",Hoja1!H928=\"PJ No Residente\"),Hoja1!B930,\"\")"}]
["SI(O(Hoja1!H959=\"NIT\",Hoja1!H959=\"Fideicomiso/Fondo\",Hoja1!H959=\"PJ No Residente\"),Hoja1!B963,\"\")",{"$f":"IFERROR(INDEX(TablaNivelUNO[PJNivelUno],_xlfn.AGGREGATE(15,6,(ROW(TablaNivelUNO[PJNivelUno])-ROW(TablaNivelUNO[#Headers]))/(TablaNivelUNO[PJNivelUno]<>\"\"),ROWS($B$254:TablaNivelUNO[[#This Row],[AuxUno]]))),\"\")","v":"SI(O(Hoja1!H959=\"NIT\",Hoja1!H959=\"Fideicomiso/Fondo\",Hoja1!H959=\"PJ No Residente\"),Hoja1!B963,\"\")"},"SI(O(Hoja1!H959=\"NIT\",Hoja1!H959=\"Fideicomiso/Fondo\",Hoja1!H959=\"PJ No Residente\"),Hoja1!H959,\"\")",{"$f":"IFERROR(INDEX(TablaNivelUNO[TipoDocUno],_xlfn.AGGREGATE(15,6,(ROW(TablaNivelUNO[TipoDocUno])-ROW(TablaNivelUNO[#Headers]))/(TablaNivelUNO[TipoDocUno]<>\"\"),ROWS($D$254:TablaNivelUNO[[#This Row],[AuxTDUno]]))),\"\")","v":"SI(O(Hoja1!H959=\"NIT\",Hoja1!H959=\"Fideicomiso/Fondo\",Hoja1!H959=\"PJ No Residente\"),Hoja1!H959,\"\")"},"SI(O(Hoja1!H959=\"NIT\",Hoja1!H959=\"Fideicomiso/Fondo\",Hoja1!H959=\"PJ No Residente\"),Hoja1!B961,\"\")",{"$f":"IFERROR(INDEX(TablaNivelUNO[NumeroDocUno2],_xlfn.AGGREGATE(15,6,(ROW(TablaNivelUNO[NumeroDocUno2])-ROW(TablaNivelUNO[#Headers]))/(TablaNivelUNO[NumeroDocUno2]<>\"\"),ROWS($F$254:TablaNivelUNO[[#This Row],[AuxNDUno]]))),\"\")","v":"SI(O(Hoja1!H959=\"NIT\",Hoja1!H959=\"Fideicomiso/Fondo\",Hoja1!H959=\"PJ No Residente\"),Hoja1!B961,\"\")"}]
["SI(O(Hoja1!H990=\"NIT\",Hoja1!H990=\"Fideicomiso/Fondo\",Hoja1!H990=\"PJ No Residente\"),Hoja1!B994,\"\")",{"$f":"IFERROR(INDEX(TablaNivelUNO[PJNivelUno],_xlfn.AGGREGATE(15,6,(ROW(TablaNivelUNO[PJNivelUno])-ROW(TablaNivelUNO[#Headers]))/(TablaNivelUNO[PJNivelUno]<>\"\"),ROWS($B$254:TablaNivelUNO[[#This Row],[AuxUno]]))),\"\")","v":"SI(O(Hoja1!H990=\"NIT\",Hoja1!H990=\"Fideicomiso/Fondo\",Hoja1!H990=\"PJ No Residente\"),Hoja1!B994,\"\")"},"SI(O(Hoja1!H990=\"NIT\",Hoja1!H990=\"Fideicomiso/Fondo\",Hoja1!H990=\"PJ No Residente\"),Hoja1!H990,\"\")",{"$f":"IFERROR(INDEX(TablaNivelUNO[TipoDocUno],_xlfn.AGGREGATE(15,6,(ROW(TablaNivelUNO[TipoDocUno])-ROW(TablaNivelUNO[#Headers]))/(TablaNivelUNO[TipoDocUno]<>\"\"),ROWS($D$254:TablaNivelUNO[[#This Row],[AuxTDUno]]))),\"\")","v":"SI(O(Hoja1!H990=\"NIT\",Hoja1!H990=\"Fideicomiso/Fondo\",Hoja1!H990=\"PJ No Residente\"),Hoja1!H990,\"\")"},"SI(O(Hoja1!H990=\"NIT\",Hoja1!H990=\"Fideicomiso/Fondo\",Hoja1!H990=\"PJ No Residente\"),Hoja1!B992,\"\")",{"$f":"IFERROR(INDEX(TablaNivelUNO[NumeroDocUno2],_xlfn.AGGREGATE(15,6,(ROW(TablaNivelUNO[NumeroDocUno2])-ROW(TablaNivelUNO[#Headers]))/(TablaNivelUNO[NumeroDocUno2]<>\"\"),ROWS($F$254:TablaNivelUNO[[#This Row],[AuxNDUno]]))),\"\")","v":"SI(O(Hoja1!H990=\"NIT\",Hoja1!H990=\"Fideicomiso/Fondo\",Hoja1!H990=\"PJ No Residente\"),Hoja1!B992,\"\")"}]
["SI(O(Hoja1!H1021=\"NIT\",Hoja1!H1021=\"Fideicomiso/Fondo\",Hoja1!H1021=\"PJ No Residente\"),Hoja1!B1025,\"\")",{"$f":"IFERROR(INDEX(TablaNivelUNO[PJNivelUno],_xlfn.AGGREGATE(15,6,(ROW(TablaNivelUNO[PJNivelUno])-ROW(TablaNivelUNO[#Headers]))/(TablaNivelUNO[PJNivelUno]<>\"\"),ROWS($B$254:TablaNivelUNO[[#This Row],[AuxUno]]))),\"\")","v":"SI(O(Hoja1!H1021=\"NIT\",Hoja1!H1021=\"Fideicomiso/Fondo\",Hoja1!H1021=\"PJ No Residente\"),Hoja1!B1025,\"\")"},"SI(O(Hoja1!H1021=\"NIT\",Hoja1!H1021=\"Fideicomiso/Fondo\",Hoja1!H1021=\"PJ No Residente\"),Hoja1!H1021,\"\")",{"$f":"IFERROR(INDEX(TablaNivelUNO[TipoDocUno],_xlfn.AGGREGATE(15,6,(ROW(TablaNivelUNO[TipoDocUno])-ROW(TablaNivelUNO[#Headers]))/(TablaNivelUNO[TipoDocUno]<>\"\"),ROWS($D$254:TablaNivelUNO[[#This Row],[AuxTDUno]]))),\"\")","v":"SI(O(Hoja1!H1021=\"NIT\",Hoja1!H1021=\"Fideicomiso/Fondo\",Hoja1!H1021=\"PJ No Residente\"),Hoja1!H1021,\"\")"},"SI(O(Hoja1!H1021=\"NIT\",Hoja1!H1021=\"Fideicomiso/Fondo\",Hoja1!H1021=\"PJ No Residente\"),Hoja1!B1023,\"\")",{"$f":"IFERROR(INDEX(TablaNivelUNO[NumeroDocUno2],_xlfn.AGGREGATE(15,6,(ROW(TablaNivelUNO[NumeroDocUno2])-ROW(TablaNivelUNO[#Headers]))/(TablaNivelUNO[NumeroDocUno2]<>\"\"),ROWS($F$254:TablaNivelUNO[[#This Row],[AuxNDUno]]))),\"\")","v":"SI(O(Hoja1!H1021=\"NIT\",Hoja1!H1021=\"Fideicomiso/Fondo\",Hoja1!H1021=\"PJ No Residente\"),Hoja1!B1023,\"\")"}]
["SI(O(Hoja1!H1052=\"NIT\",Hoja1!H1052=\"Fideicomiso/Fondo\",Hoja1!H1052=\"PJ No Residente\"),Hoja1!B1056,\"\")",{"$f":"IFERROR(INDEX(TablaNivelUNO[PJNivelUno],_xlfn.AGGREGATE(15,6,(ROW(TablaNivelUNO[PJNivelUno])-ROW(TablaNivelUNO[#Headers]))/(TablaNivelUNO[PJNivelUno]<>\"\"),ROWS($B$254:TablaNivelUNO[[#This Row],[AuxUno]]))),\"\")","v":"SI(O(Hoja1!H1052=\"NIT\",Hoja1!H1052=\"Fideicomiso/Fondo\",Hoja1!H1052=\"PJ No Residente\"),Hoja1!B1056,\"\")"},"SI(O(Hoja1!H1052=\"NIT\",Hoja1!H1052=\"Fideicomiso/Fondo\",Hoja1!H1052=\"PJ No Residente\"),Hoja1!H1052,\"\")",{"$f":"IFERROR(INDEX(TablaNivelUNO[TipoDocUno],_xlfn.AGGREGATE(15,6,(ROW(TablaNivelUNO[TipoDocUno])-ROW(TablaNivelUNO[#Headers]))/(TablaNivelUNO[TipoDocUno]<>\"\"),ROWS($D$254:TablaNivelUNO[[#This Row],[AuxTDUno]]))),\"\")","v":"SI(O(Hoja1!H1052=\"NIT\",Hoja1!H1052=\"Fideicomiso/Fondo\",Hoja1!H1052=\"PJ No Residente\"),Hoja1!H1052,\"\")"},"SI(O(Hoja1!H1052=\"NIT\",Hoja1!H1052=\"Fideicomiso/Fondo\",Hoja1!H1052=\"PJ No Residente\"),Hoja1!B1054,\"\")",{"$f":"IFERROR(INDEX(TablaNivelUNO[NumeroDocUno2],_xlfn.AGGREGATE(15,6,(ROW(TablaNivelUNO[NumeroDocUno2])-ROW(TablaNivelUNO[#Headers]))/(TablaNivelUNO[NumeroDocUno2]<>\"\"),ROWS($F$254:TablaNivelUNO[[#This Row],[AuxNDUno]]))),\"\")","v":"SI(O(Hoja1!H1052=\"NIT\",Hoja1!H1052=\"Fideicomiso/Fondo\",Hoja1!H1052=\"PJ No Residente\"),Hoja1!B1054,\"\")"}]
["SI(O(Hoja1!H1083=\"NIT\",Hoja1!H1083=\"Fideicomiso/Fondo\",Hoja1!H1083=\"PJ No Residente\"),Hoja1!B1087,\"\")",{"$f":"IFERROR(INDEX(TablaNivelUNO[PJNivelUno],_xlfn.AGGREGATE(15,6,(ROW(TablaNivelUNO[PJNivelUno])-ROW(TablaNivelUNO[#Headers]))/(TablaNivelUNO[PJNivelUno]<>\"\"),ROWS($B$254:TablaNivelUNO[[#This Row],[AuxUno]]))),\"\")","v":"SI(O(Hoja1!H1083=\"NIT\",Hoja1!H1083=\"Fideicomiso/Fondo\",Hoja1!H1083=\"PJ No Residente\"),Hoja1!B1087,\"\")"},"SI(O(Hoja1!H1083=\"NIT\",Hoja1!H1083=\"Fideicomiso/Fondo\",Hoja1!H1083=\"PJ No Residente\"),Hoja1!H1083,\"\")",{"$f":"IFERROR(INDEX(TablaNivelUNO[TipoDocUno],_xlfn.AGGREGATE(15,6,(ROW(TablaNivelUNO[TipoDocUno])-ROW(TablaNivelUNO[#Headers]))/(TablaNivelUNO[TipoDocUno]<>\"\"),ROWS($D$254:TablaNivelUNO[[#This Row],[AuxTDUno]]))),\"\")","v":"SI(O(Hoja1!H1083=\"NIT\",Hoja1!H1083=\"Fideicomiso/Fondo\",Hoja1!H1083=\"PJ No Residente\"),Hoja1!H1083,\"\")"},"SI(O(Hoja1!H1083=\"NIT\",Hoja1!H1083=\"Fideicomiso/Fondo\",Hoja1!H1083=\"PJ No Residente\"),Hoja1!B1085,\"\")",{"$f":"IFERROR(INDEX(TablaNivelUNO[NumeroDocUno2],_xlfn.AGGREGATE(15,6,(ROW(TablaNivelUNO[NumeroDocUno2])-ROW(TablaNivelUNO[#Headers]))/(TablaNivelUNO[NumeroDocUno2]<>\"\"),ROWS($F$254:TablaNivelUNO[[#This Row],[AuxNDUno]]))),\"\")","v":"SI(O(Hoja1!H1083=\"NIT\",Hoja1!H1083=\"Fideicomiso/Fondo\",Hoja1!H1083=\"PJ No Residente\"),Hoja1!B1085,\"\")"}]
["SI(O(Hoja1!H1114=\"NIT\",Hoja1!H1114=\"Fideicomiso/Fondo\",Hoja1!H1114=\"PJ No Residente\"),Hoja1!B1118,\"\")",{"$f":"IFERROR(INDEX(TablaNivelUNO[PJNivelUno],_xlfn.AGGREGATE(15,6,(ROW(TablaNivelUNO[PJNivelUno])-ROW(TablaNivelUNO[#Headers]))/(TablaNivelUNO[PJNivelUno]<>\"\"),ROWS($B$254:TablaNivelUNO[[#This Row],[AuxUno]]))),\"\")","v":"SI(O(Hoja1!H1114=\"NIT\",Hoja1!H1114=\"Fideicomiso/Fondo\",Hoja1!H1114=\"PJ No Residente\"),Hoja1!B1118,\"\")"},"SI(O(Hoja1!H1114=\"NIT\",Hoja1!H1114=\"Fideicomiso/Fondo\",Hoja1!H1114=\"PJ No Residente\"),Hoja1!H1114,\"\")",{"$f":"IFERROR(INDEX(TablaNivelUNO[TipoDocUno],_xlfn.AGGREGATE(15,6,(ROW(TablaNivelUNO[TipoDocUno])-ROW(TablaNivelUNO[#Headers]))/(TablaNivelUNO[TipoDocUno]<>\"\"),ROWS($D$254:TablaNivelUNO[[#This Row],[AuxTDUno]]))),\"\")","v":"SI(O(Hoja1!H1114=\"NIT\",Hoja1!H1114=\"Fideicomiso/Fondo\",Hoja1!H1114=\"PJ No Residente\"),Hoja1!H1114,\"\")"},"SI(O(Hoja1!H1114=\"NIT\",Hoja1!H1114=\"Fideicomiso/Fondo\",Hoja1!H1114=\"PJ No Residente\"),Hoja1!B1116,\"\")",{"$f":"IFERROR(INDEX(TablaNivelUNO[NumeroDocUno2],_xlfn.AGGREGATE(15,6,(ROW(TablaNivelUNO[NumeroDocUno2])-ROW(TablaNivelUNO[#Headers]))/(TablaNivelUNO[NumeroDocUno2]<>\"\"),ROWS($F$254:TablaNivelUNO[[#This Row],[AuxNDUno]]))),\"\")","v":"SI(O(Hoja1!H1114=\"NIT\",Hoja1!H1114=\"Fideicomiso/Fondo\",Hoja1!H1114=\"PJ No Residente\"),Hoja1!B1116,\"\")"}]
["SI(O(Hoja1!H1145=\"NIT\",Hoja1!H1145=\"Fideicomiso/Fondo\",Hoja1!H1145=\"PJ No Residente\"),Hoja1!B1149,\"\")",{"$f":"IFERROR(INDEX(TablaNivelUNO[PJNivelUno],_xlfn.AGGREGATE(15,6,(ROW(TablaNivelUNO[PJNivelUno])-ROW(TablaNivelUNO[#Headers]))/(TablaNivelUNO[PJNivelUno]<>\"\"),ROWS($B$254:TablaNivelUNO[[#This Row],[AuxUno]]))),\"\")","v":"SI(O(Hoja1!H1145=\"NIT\",Hoja1!H1145=\"Fideicomiso/Fondo\",Hoja1!H1145=\"PJ No Residente\"),Hoja1!B1149,\"\")"},"SI(O(Hoja1!H1145=\"NIT\",Hoja1!H1145=\"Fideicomiso/Fondo\",Hoja1!H1145=\"PJ No Residente\"),Hoja1!H1145,\"\")",{"$f":"IFERROR(INDEX(TablaNivelUNO[TipoDocUno],_xlfn.AGGREGATE(15,6,(ROW(TablaNivelUNO[TipoDocUno])-ROW(TablaNivelUNO[#Headers]))/(TablaNivelUNO[TipoDocUno]<>\"\"),ROWS($D$254:TablaNivelUNO[[#This Row],[AuxTDUno]]))),\"\")","v":"SI(O(Hoja1!H1145=\"NIT\",Hoja1!H1145=\"Fideicomiso/Fondo\",Hoja1!H1145=\"PJ No Residente\"),Hoja1!H1145,\"\")"},"SI(O(Hoja1!H1145=\"NIT\",Hoja1!H1145=\"Fideicomiso/Fondo\",Hoja1!H1145=\"PJ No Residente\"),Hoja1!B1147,\"\")",{"$f":"IFERROR(INDEX(TablaNivelUNO[NumeroDocUno2],_xlfn.AGGREGATE(15,6,(ROW(TablaNivelUNO[NumeroDocUno2])-ROW(TablaNivelUNO[#Headers]))/(TablaNivelUNO[NumeroDocUno2]<>\"\"),ROWS($F$254:TablaNivelUNO[[#This Row],[AuxNDUno]]))),\"\")","v":"SI(O(Hoja1!H1145=\"NIT\",Hoja1!H1145=\"Fideicomiso/Fondo\",Hoja1!H1145=\"PJ No Residente\"),Hoja1!B1147,\"\")"}]
["SI(O(Hoja1!H1176=\"NIT\",Hoja1!H1176=\"Fideicomiso/Fondo\",Hoja1!H1176=\"PJ No Residente\"),Hoja1!B1180,\"\")",{"$f":"IFERROR(INDEX(TablaNivelUNO[PJNivelUno],_xlfn.AGGREGATE(15,6,(ROW(TablaNivelUNO[PJNivelUno])-ROW(TablaNivelUNO[#Headers]))/(TablaNivelUNO[PJNivelUno]<>\"\"),ROWS($B$254:TablaNivelUNO[[#This Row],[AuxUno]]))),\"\")","v":"SI(O(Hoja1!H1176=\"NIT\",Hoja1!H1176=\"Fideicomiso/Fondo\",Hoja1!H1176=\"PJ No Residente\"),Hoja1!B1180,\"\")"},"SI(O(Hoja1!H1176=\"NIT\",Hoja1!H1176=\"Fideicomiso/Fondo\",Hoja1!H1176=\"PJ No Residente\"),Hoja1!H1176,\"\")",{"$f":"IFERROR(INDEX(TablaNivelUNO[TipoDocUno],_xlfn.AGGREGATE(15,6,(ROW(TablaNivelUNO[TipoDocUno])-ROW(TablaNivelUNO[#Headers]))/(TablaNivelUNO[TipoDocUno]<>\"\"),ROWS($D$254:TablaNivelUNO[[#This Row],[AuxTDUno]]))),\"\")","v":"SI(O(Hoja1!H1176=\"NIT\",Hoja1!H1176=\"Fideicomiso/Fondo\",Hoja1!H1176=\"PJ No Residente\"),Hoja1!H1176,\"\")"},"SI(O(Hoja1!H1176=\"NIT\",Hoja1!H1176=\"Fideicomiso/Fondo\",Hoja1!H1176=\"PJ No Residente\"),Hoja1!B1178,\"\")",{"$f":"IFERROR(INDEX(TablaNivelUNO[NumeroDocUno2],_xlfn.AGGREGATE(15,6,(ROW(TablaNivelUNO[NumeroDocUno2])-ROW(TablaNivelUNO[#Headers]))/(TablaNivelUNO[NumeroDocUno2]<>\"\"),ROWS($F$254:TablaNivelUNO[[#This Row],[AuxNDUno]]))),\"\")","v":"SI(O(Hoja1!H1176=\"NIT\",Hoja1!H1176=\"Fideicomiso/Fondo\",Hoja1!H1176=\"PJ No Residente\"),Hoja1!B1178,\"\")"}]
["SI(O(Hoja1!H1207=\"NIT\",Hoja1!H1207=\"Fideicomiso/Fondo\",Hoja1!H1207=\"PJ No Residente\"),Hoja1!B1211,\"\")",{"$f":"IFERROR(INDEX(TablaNivelUNO[PJNivelUno],_xlfn.AGGREGATE(15,6,(ROW(TablaNivelUNO[PJNivelUno])-ROW(TablaNivelUNO[#Headers]))/(TablaNivelUNO[PJNivelUno]<>\"\"),ROWS($B$254:TablaNivelUNO[[#This Row],[AuxUno]]))),\"\")","v":"SI(O(Hoja1!H1207=\"NIT\",Hoja1!H1207=\"Fideicomiso/Fondo\",Hoja1!H1207=\"PJ No Residente\"),Hoja1!B1211,\"\")"},"SI(O(Hoja1!H1207=\"NIT\",Hoja1!H1207=\"Fideicomiso/Fondo\",Hoja1!H1207=\"PJ No Residente\"),Hoja1!H1207,\"\")",{"$f":"IFERROR(INDEX(TablaNivelUNO[TipoDocUno],_xlfn.AGGREGATE(15,6,(ROW(TablaNivelUNO[TipoDocUno])-ROW(TablaNivelUNO[#Headers]))/(TablaNivelUNO[TipoDocUno]<>\"\"),ROWS($D$254:TablaNivelUNO[[#This Row],[AuxTDUno]]))),\"\")","v":"SI(O(Hoja1!H1207=\"NIT\",Hoja1!H1207=\"Fideicomiso/Fondo\",Hoja1!H1207=\"PJ No Residente\"),Hoja1!H1207,\"\")"},"SI(O(Hoja1!H1207=\"NIT\",Hoja1!H1207=\"Fideicomiso/Fondo\",Hoja1!H1207=\"PJ No Residente\"),Hoja1!B1209,\"\")",{"$f":"IFERROR(INDEX(TablaNivelUNO[NumeroDocUno2],_xlfn.AGGREGATE(15,6,(ROW(TablaNivelUNO[NumeroDocUno2])-ROW(TablaNivelUNO[#Headers]))/(TablaNivelUNO[NumeroDocUno2]<>\"\"),ROWS($F$254:TablaNivelUNO[[#This Row],[AuxNDUno]]))),\"\")","v":"SI(O(Hoja1!H1207=\"NIT\",Hoja1!H1207=\"Fideicomiso/Fondo\",Hoja1!H1207=\"PJ No Residente\"),Hoja1!B1209,\"\")"}]
["SI(O(Hoja1!H1238=\"NIT\",Hoja1!H1238=\"Fideicomiso/Fondo\",Hoja1!H1238=\"PJ No Residente\"),Hoja1!B1242,\"\")",{"$f":"IFERROR(INDEX(TablaNivelUNO[PJNivelUno],_xlfn.AGGREGATE(15,6,(ROW(TablaNivelUNO[PJNivelUno])-ROW(TablaNivelUNO[#Headers]))/(TablaNivelUNO[PJNivelUno]<>\"\"),ROWS($B$254:TablaNivelUNO[[#This Row],[AuxUno]]))),\"\")","v":"SI(O(Hoja1!H1238=\"NIT\",Hoja1!H1238=\"Fideicomiso/Fondo\",Hoja1!H1238=\"PJ No Residente\"),Hoja1!B1242,\"\")"},"SI(O(Hoja1!H1238=\"NIT\",Hoja1!H1238=\"Fideicomiso/Fondo\",Hoja1!H1238=\"PJ No Residente\"),Hoja1!H1238,\"\")",{"$f":"IFERROR(INDEX(TablaNivelUNO[TipoDocUno],_xlfn.AGGREGATE(15,6,(ROW(TablaNivelUNO[TipoDocUno])-ROW(TablaNivelUNO[#Headers]))/(TablaNivelUNO[TipoDocUno]<>\"\"),ROWS($D$254:TablaNivelUNO[[#This Row],[AuxTDUno]]))),\"\")","v":"SI(O(Hoja1!H1238=\"NIT\",Hoja1!H1238=\"Fideicomiso/Fondo\",Hoja1!H1238=\"PJ No Residente\"),Hoja1!H1238,\"\")"},"SI(O(Hoja1!H1238=\"NIT\",Hoja1!H1238=\"Fideicomiso/Fondo\",Hoja1!H1238=\"PJ No Residente\"),Hoja1!B1240,\"\")",{"$f":"IFERROR(INDEX(TablaNivelUNO[NumeroDocUno2],_xlfn.AGGREGATE(15,6,(ROW(TablaNivelUNO[NumeroDocUno2])-ROW(TablaNivelUNO[#Headers]))/(TablaNivelUNO[NumeroDocUno2]<>\"\"),ROWS($F$254:TablaNivelUNO[[#This Row],[AuxNDUno]]))),\"\")","v":"SI(O(Hoja1!H1238=\"NIT\",Hoja1!H1238=\"Fideicomiso/Fondo\",Hoja1!H1238=\"PJ No Residente\"),Hoja1!B1240,\"\")"}]
["SI(O(Hoja1!H1269=\"NIT\",Hoja1!H1269=\"Fideicomiso/Fondo\",Hoja1!H1269=\"PJ No Residente\"),Hoja1!B1273,\"\")",{"$f":"IFERROR(INDEX(TablaNivelUNO[PJNivelUno],_xlfn.AGGREGATE(15,6,(ROW(TablaNivelUNO[PJNivelUno])-ROW(TablaNivelUNO[#Headers]))/(TablaNivelUNO[PJNivelUno]<>\"\"),ROWS($B$254:TablaNivelUNO[[#This Row],[AuxUno]]))),\"\")","v":"SI(O(Hoja1!H1269=\"NIT\",Hoja1!H1269=\"Fideicomiso/Fondo\",Hoja1!H1269=\"PJ No Residente\"),Hoja1!B1273,\"\")"},"SI(O(Hoja1!H1269=\"NIT\",Hoja1!H1269=\"Fideicomiso/Fondo\",Hoja1!H1269=\"PJ No Residente\"),Hoja1!H1269,\"\")",{"$f":"IFERROR(INDEX(TablaNivelUNO[TipoDocUno],_xlfn.AGGREGATE(15,6,(ROW(TablaNivelUNO[TipoDocUno])-ROW(TablaNivelUNO[#Headers]))/(TablaNivelUNO[TipoDocUno]<>\"\"),ROWS($D$254:TablaNivelUNO[[#This Row],[AuxTDUno]]))),\"\")","v":"SI(O(Hoja1!H1269=\"NIT\",Hoja1!H1269=\"Fideicomiso/Fondo\",Hoja1!H1269=\"PJ No Residente\"),Hoja1!H1269,\"\")"},"SI(O(Hoja1!H1269=\"NIT\",Hoja1!H1269=\"Fideicomiso/Fondo\",Hoja1!H1269=\"PJ No Residente\"),Hoja1!B1271,\"\")",{"$f":"IFERROR(INDEX(TablaNivelUNO[NumeroDocUno2],_xlfn.AGGREGATE(15,6,(ROW(TablaNivelUNO[NumeroDocUno2])-ROW(TablaNivelUNO[#Headers]))/(TablaNivelUNO[NumeroDocUno2]<>\"\"),ROWS($F$254:TablaNivelUNO[[#This Row],[AuxNDUno]]))),\"\")","v":"SI(O(Hoja1!H1269=\"NIT\",Hoja1!H1269=\"Fideicomiso/Fondo\",Hoja1!H1269=\"PJ No Residente\"),Hoja1!B1271,\"\")"}]
["SI(O(Hoja1!H1300=\"NIT\",Hoja1!H1300=\"Fideicomiso/Fondo\",Hoja1!H1300=\"PJ No Residente\"),Hoja1!B1304,\"\")",{"$f":"IFERROR(INDEX(TablaNivelUNO[PJNivelUno],_xlfn.AGGREGATE(15,6,(ROW(TablaNivelUNO[PJNivelUno])-ROW(TablaNivelUNO[#Headers]))/(TablaNivelUNO[PJNivelUno]<>\"\"),ROWS($B$254:TablaNivelUNO[[#This Row],[AuxUno]]))),\"\")","v":"SI(O(Hoja1!H1300=\"NIT\",Hoja1!H1300=\"Fideicomiso/Fondo\",Hoja1!H1300=\"PJ No Residente\"),Hoja1!B1304,\"\")"},"SI(O(Hoja1!H1300=\"NIT\",Hoja1!H1300=\"Fideicomiso/Fondo\",Hoja1!H1300=\"PJ No Residente\"),Hoja1!H1300,\"\")",{"$f":"IFERROR(INDEX(TablaNivelUNO[TipoDocUno],_xlfn.AGGREGATE(15,6,(ROW(TablaNivelUNO[TipoDocUno])-ROW(TablaNivelUNO[#Headers]))/(TablaNivelUNO[TipoDocUno]<>\"\"),ROWS($D$254:TablaNivelUNO[[#This Row],[AuxTDUno]]))),\"\")","v":"SI(O(Hoja1!H1300=\"NIT\",Hoja1!H1300=\"Fideicomiso/Fondo\",Hoja1!H1300=\"PJ No Residente\"),Hoja1!H1300,\"\")"},"SI(O(Hoja1!H1300=\"NIT\",Hoja1!H1300=\"Fideicomiso/Fondo\",Hoja1!H1300=\"PJ No Residente\"),Hoja1!B1302,\"\")",{"$f":"IFERROR(INDEX(TablaNivelUNO[NumeroDocUno2],_xlfn.AGGREGATE(15,6,(ROW(TablaNivelUNO[NumeroDocUno2])-ROW(TablaNivelUNO[#Headers]))/(TablaNivelUNO[NumeroDocUno2]<>\"\"),ROWS($F$254:TablaNivelUNO[[#This Row],[AuxNDUno]]))),\"\")","v":"SI(O(Hoja1!H1300=\"NIT\",Hoja1!H1300=\"Fideicomiso/Fondo\",Hoja1!H1300=\"PJ No Residente\"),Hoja1!B1302,\"\")"}]
["SI(O(Hoja1!H1331=\"NIT\",Hoja1!H1331=\"Fideicomiso/Fondo\",Hoja1!H1331=\"PJ No Residente\"),Hoja1!B1335,\"\")",{"$f":"IFERROR(INDEX(TablaNivelUNO[PJNivelUno],_xlfn.AGGREGATE(15,6,(ROW(TablaNivelUNO[PJNivelUno])-ROW(TablaNivelUNO[#Headers]))/(TablaNivelUNO[PJNivelUno]<>\"\"),ROWS($B$254:TablaNivelUNO[[#This Row],[AuxUno]]))),\"\")","v":"SI(O(Hoja1!H1331=\"NIT\",Hoja1!H1331=\"Fideicomiso/Fondo\",Hoja1!H1331=\"PJ No Residente\"),Hoja1!B1335,\"\")"},"SI(O(Hoja1!H1331=\"NIT\",Hoja1!H1331=\"Fideicomiso/Fondo\",Hoja1!H1331=\"PJ No Residente\"),Hoja1!H1331,\"\")",{"$f":"IFERROR(INDEX(TablaNivelUNO[TipoDocUno],_xlfn.AGGREGATE(15,6,(ROW(TablaNivelUNO[TipoDocUno])-ROW(TablaNivelUNO[#Headers]))/(TablaNivelUNO[TipoDocUno]<>\"\"),ROWS($D$254:TablaNivelUNO[[#This Row],[AuxTDUno]]))),\"\")","v":"SI(O(Hoja1!H1331=\"NIT\",Hoja1!H1331=\"Fideicomiso/Fondo\",Hoja1!H1331=\"PJ No Residente\"),Hoja1!H1331,\"\")"},"SI(O(Hoja1!H1331=\"NIT\",Hoja1!H1331=\"Fideicomiso/Fondo\",Hoja1!H1331=\"PJ No Residente\"),Hoja1!B1333,\"\")",{"$f":"IFERROR(INDEX(TablaNivelUNO[NumeroDocUno2],_xlfn.AGGREGATE(15,6,(ROW(TablaNivelUNO[NumeroDocUno2])-ROW(TablaNivelUNO[#Headers]))/(TablaNivelUNO[NumeroDocUno2]<>\"\"),ROWS($F$254:TablaNivelUNO[[#This Row],[AuxNDUno]]))),\"\")","v":"SI(O(Hoja1!H1331=\"NIT\",Hoja1!H1331=\"Fideicomiso/Fondo\",Hoja1!H1331=\"PJ No Residente\"),Hoja1!B1333,\"\")"}]
["SI(O(Hoja1!H1362=\"NIT\",Hoja1!H1362=\"Fideicomiso/Fondo\",Hoja1!H1362=\"PJ No Residente\"),Hoja1!B1366,\"\")",{"$f":"IFERROR(INDEX(TablaNivelUNO[PJNivelUno],_xlfn.AGGREGATE(15,6,(ROW(TablaNivelUNO[PJNivelUno])-ROW(TablaNivelUNO[#Headers]))/(TablaNivelUNO[PJNivelUno]<>\"\"),ROWS($B$254:TablaNivelUNO[[#This Row],[AuxUno]]))),\"\")","v":"SI(O(Hoja1!H1362=\"NIT\",Hoja1!H1362=\"Fideicomiso/Fondo\",Hoja1!H1362=\"PJ No Residente\"),Hoja1!B1366,\"\")"},"SI(O(Hoja1!H1362=\"NIT\",Hoja1!H1362=\"Fideicomiso/Fondo\",Hoja1!H1362=\"PJ No Residente\"),Hoja1!H1362,\"\")",{"$f":"IFERROR(INDEX(TablaNivelUNO[TipoDocUno],_xlfn.AGGREGATE(15,6,(ROW(TablaNivelUNO[TipoDocUno])-ROW(TablaNivelUNO[#Headers]))/(TablaNivelUNO[TipoDocUno]<>\"\"),ROWS($D$254:TablaNivelUNO[[#This Row],[AuxTDUno]]))),\"\")","v":"SI(O(Hoja1!H1362=\"NIT\",Hoja1!H1362=\"Fideicomiso/Fondo\",Hoja1!H1362=\"PJ No Residente\"),Hoja1!H1362,\"\")"},"SI(O(Hoja1!H1362=\"NIT\",Hoja1!H1362=\"Fideicomiso/Fondo\",Hoja1!H1362=\"PJ No Residente\"),Hoja1!B1364,\"\")",{"$f":"IFERROR(INDEX(TablaNivelUNO[NumeroDocUno2],_xlfn.AGGREGATE(15,6,(ROW(TablaNivelUNO[NumeroDocUno2])-ROW(TablaNivelUNO[#Headers]))/(TablaNivelUNO[NumeroDocUno2]<>\"\"),ROWS($F$254:TablaNivelUNO[[#This Row],[AuxNDUno]]))),\"\")","v":"SI(O(Hoja1!H1362=\"NIT\",Hoja1!H1362=\"Fideicomiso/Fondo\",Hoja1!H1362=\"PJ No Residente\"),Hoja1!B1364,\"\")"}]
["SI(O(Hoja1!H1393=\"NIT\",Hoja1!H1393=\"Fideicomiso/Fondo\",Hoja1!H1393=\"PJ No Residente\"),Hoja1!B1397,\"\")",{"$f":"IFERROR(INDEX(TablaNivelUNO[PJNivelUno],_xlfn.AGGREGATE(15,6,(ROW(TablaNivelUNO[PJNivelUno])-ROW(TablaNivelUNO[#Headers]))/(TablaNivelUNO[PJNivelUno]<>\"\"),ROWS($B$254:TablaNivelUNO[[#This Row],[AuxUno]]))),\"\")","v":"SI(O(Hoja1!H1393=\"NIT\",Hoja1!H1393=\"Fideicomiso/Fondo\",Hoja1!H1393=\"PJ No Residente\"),Hoja1!B1397,\"\")"},"SI(O(Hoja1!H1393=\"NIT\",Hoja1!H1393=\"Fideicomiso/Fondo\",Hoja1!H1393=\"PJ No Residente\"),Hoja1!H1393,\"\")",{"$f":"IFERROR(INDEX(TablaNivelUNO[TipoDocUno],_xlfn.AGGREGATE(15,6,(ROW(TablaNivelUNO[TipoDocUno])-ROW(TablaNivelUNO[#Headers]))/(TablaNivelUNO[TipoDocUno]<>\"\"),ROWS($D$254:TablaNivelUNO[[#This Row],[AuxTDUno]]))),\"\")","v":"SI(O(Hoja1!H1393=\"NIT\",Hoja1!H1393=\"Fideicomiso/Fondo\",Hoja1!H1393=\"PJ No Residente\"),Hoja1!H1393,\"\")"},"SI(O(Hoja1!H1393=\"NIT\",Hoja1!H1393=\"Fideicomiso/Fondo\",Hoja1!H1393=\"PJ No Residente\"),Hoja1!B1395,\"\")",{"$f":"IFERROR(INDEX(TablaNivelUNO[NumeroDocUno2],_xlfn.AGGREGATE(15,6,(ROW(TablaNivelUNO[NumeroDocUno2])-ROW(TablaNivelUNO[#Headers]))/(TablaNivelUNO[NumeroDocUno2]<>\"\"),ROWS($F$254:TablaNivelUNO[[#This Row],[AuxNDUno]]))),\"\")","v":"SI(O(Hoja1!H1393=\"NIT\",Hoja1!H1393=\"Fideicomiso/Fondo\",Hoja1!H1393=\"PJ No Residente\"),Hoja1!B1395,\"\")"}]
["SI(O(Hoja1!H1424=\"NIT\",Hoja1!H1424=\"Fideicomiso/Fondo\",Hoja1!H1424=\"PJ No Residente\"),Hoja1!B1428,\"\")",{"$f":"IFERROR(INDEX(TablaNivelUNO[PJNivelUno],_xlfn.AGGREGATE(15,6,(ROW(TablaNivelUNO[PJNivelUno])-ROW(TablaNivelUNO[#Headers]))/(TablaNivelUNO[PJNivelUno]<>\"\"),ROWS($B$254:TablaNivelUNO[[#This Row],[AuxUno]]))),\"\")","v":"SI(O(Hoja1!H1424=\"NIT\",Hoja1!H1424=\"Fideicomiso/Fondo\",Hoja1!H1424=\"PJ No Residente\"),Hoja1!B1428,\"\")"},"SI(O(Hoja1!H1424=\"NIT\",Hoja1!H1424=\"Fideicomiso/Fondo\",Hoja1!H1424=\"PJ No Residente\"),Hoja1!H1424,\"\")",{"$f":"IFERROR(INDEX(TablaNivelUNO[TipoDocUno],_xlfn.AGGREGATE(15,6,(ROW(TablaNivelUNO[TipoDocUno])-ROW(TablaNivelUNO[#Headers]))/(TablaNivelUNO[TipoDocUno]<>\"\"),ROWS($D$254:TablaNivelUNO[[#This Row],[AuxTDUno]]))),\"\")","v":"SI(O(Hoja1!H1424=\"NIT\",Hoja1!H1424=\"Fideicomiso/Fondo\",Hoja1!H1424=\"PJ No Residente\"),Hoja1!H1424,\"\")"},"SI(O(Hoja1!H1424=\"NIT\",Hoja1!H1424=\"Fideicomiso/Fondo\",Hoja1!H1424=\"PJ No Residente\"),Hoja1!B1426,\"\")",{"$f":"IFERROR(INDEX(TablaNivelUNO[NumeroDocUno2],_xlfn.AGGREGATE(15,6,(ROW(TablaNivelUNO[NumeroDocUno2])-ROW(TablaNivelUNO[#Headers]))/(TablaNivelUNO[NumeroDocUno2]<>\"\"),ROWS($F$254:TablaNivelUNO[[#This Row],[AuxNDUno]]))),\"\")","v":"SI(O(Hoja1!H1424=\"NIT\",Hoja1!H1424=\"Fideicomiso/Fondo\",Hoja1!H1424=\"PJ No Residente\"),Hoja1!B1426,\"\")"}]
["SI(O(Hoja1!H1455=\"NIT\",Hoja1!H1455=\"Fideicomiso/Fondo\",Hoja1!H1455=\"PJ No Residente\"),Hoja1!B1459,\"\")",{"$f":"IFERROR(INDEX(TablaNivelUNO[PJNivelUno],_xlfn.AGGREGATE(15,6,(ROW(TablaNivelUNO[PJNivelUno])-ROW(TablaNivelUNO[#Headers]))/(TablaNivelUNO[PJNivelUno]<>\"\"),ROWS($B$254:TablaNivelUNO[[#This Row],[AuxUno]]))),\"\")","v":"SI(O(Hoja1!H1455=\"NIT\",Hoja1!H1455=\"Fideicomiso/Fondo\",Hoja1!H1455=\"PJ No Residente\"),Hoja1!B1459,\"\")"},"SI(O(Hoja1!H1455=\"NIT\",Hoja1!H1455=\"Fideicomiso/Fondo\",Hoja1!H1455=\"PJ No Residente\"),Hoja1!H1455,\"\")",{"$f":"IFERROR(INDEX(TablaNivelUNO[TipoDocUno],_xlfn.AGGREGATE(15,6,(ROW(TablaNivelUNO[TipoDocUno])-ROW(TablaNivelUNO[#Headers]))/(TablaNivelUNO[TipoDocUno]<>\"\"),ROWS($D$254:TablaNivelUNO[[#This Row],[AuxTDUno]]))),\"\")","v":"SI(O(Hoja1!H1455=\"NIT\",Hoja1!H1455=\"Fideicomiso/Fondo\",Hoja1!H1455=\"PJ No Residente\"),Hoja1!H1455,\"\")"},"SI(O(Hoja1!H1455=\"NIT\",Hoja1!H1455=\"Fideicomiso/Fondo\",Hoja1!H1455=\"PJ No Residente\"),Hoja1!B1457,\"\")",{"$f":"IFERROR(INDEX(TablaNivelUNO[NumeroDocUno2],_xlfn.AGGREGATE(15,6,(ROW(TablaNivelUNO[NumeroDocUno2])-ROW(TablaNivelUNO[#Headers]))/(TablaNivelUNO[NumeroDocUno2]<>\"\"),ROWS($F$254:TablaNivelUNO[[#This Row],[AuxNDUno]]))),\"\")","v":"SI(O(Hoja1!H1455=\"NIT\",Hoja1!H1455=\"Fideicomiso/Fondo\",Hoja1!H1455=\"PJ No Residente\"),Hoja1!B1457,\"\")"}]
["SI(O(Hoja1!H1486=\"NIT\",Hoja1!H1486=\"Fideicomiso/Fondo\",Hoja1!H1486=\"PJ No Residente\"),Hoja1!B1490,\"\")",{"$f":"IFERROR(INDEX(TablaNivelUNO[PJNivelUno],_xlfn.AGGREGATE(15,6,(ROW(TablaNivelUNO[PJNivelUno])-ROW(TablaNivelUNO[#Headers]))/(TablaNivelUNO[PJNivelUno]<>\"\"),ROWS($B$254:TablaNivelUNO[[#This Row],[AuxUno]]))),\"\")","v":"SI(O(Hoja1!H1486=\"NIT\",Hoja1!H1486=\"Fideicomiso/Fondo\",Hoja1!H1486=\"PJ No Residente\"),Hoja1!B1490,\"\")"},"SI(O(Hoja1!H1486=\"NIT\",Hoja1!H1486=\"Fideicomiso/Fondo\",Hoja1!H1486=\"PJ No Residente\"),Hoja1!H1486,\"\")",{"$f":"IFERROR(INDEX(TablaNivelUNO[TipoDocUno],_xlfn.AGGREGATE(15,6,(ROW(TablaNivelUNO[TipoDocUno])-ROW(TablaNivelUNO[#Headers]))/(TablaNivelUNO[TipoDocUno]<>\"\"),ROWS($D$254:TablaNivelUNO[[#This Row],[AuxTDUno]]))),\"\")","v":"SI(O(Hoja1!H1486=\"NIT\",Hoja1!H1486=\"Fideicomiso/Fondo\",Hoja1!H1486=\"PJ No Residente\"),Hoja1!H1486,\"\")"},"SI(O(Hoja1!H1486=\"NIT\",Hoja1!H1486=\"Fideicomiso/Fondo\",Hoja1!H1486=\"PJ No Residente\"),Hoja1!B1488,\"\")",{"$f":"IFERROR(INDEX(TablaNivelUNO[NumeroDocUno2],_xlfn.AGGREGATE(15,6,(ROW(TablaNivelUNO[NumeroDocUno2])-ROW(TablaNivelUNO[#Headers]))/(TablaNivelUNO[NumeroDocUno2]<>\"\"),ROWS($F$254:TablaNivelUNO[[#This Row],[AuxNDUno]]))),\"\")","v":"SI(O(Hoja1!H1486=\"NIT\",Hoja1!H1486=\"Fideicomiso/Fondo\",Hoja1!H1486=\"PJ No Residente\"),Hoja1!B1488,\"\")"}]
["SI(O(Hoja1!H1517=\"NIT\",Hoja1!H1517=\"Fideicomiso/Fondo\",Hoja1!H1517=\"PJ No Residente\"),Hoja1!B1521,\"\")",{"$f":"IFERROR(INDEX(TablaNivelUNO[PJNivelUno],_xlfn.AGGREGATE(15,6,(ROW(TablaNivelUNO[PJNivelUno])-ROW(TablaNivelUNO[#Headers]))/(TablaNivelUNO[PJNivelUno]<>\"\"),ROWS($B$254:TablaNivelUNO[[#This Row],[AuxUno]]))),\"\")","v":"SI(O(Hoja1!H1517=\"NIT\",Hoja1!H1517=\"Fideicomiso/Fondo\",Hoja1!H1517=\"PJ No Residente\"),Hoja1!B1521,\"\")"},"SI(O(Hoja1!H1517=\"NIT\",Hoja1!H1517=\"Fideicomiso/Fondo\",Hoja1!H1517=\"PJ No Residente\"),Hoja1!H1517,\"\")",{"$f":"IFERROR(INDEX(TablaNivelUNO[TipoDocUno],_xlfn.AGGREGATE(15,6,(ROW(TablaNivelUNO[TipoDocUno])-ROW(TablaNivelUNO[#Headers]))/(TablaNivelUNO[TipoDocUno]<>\"\"),ROWS($D$254:TablaNivelUNO[[#This Row],[AuxTDUno]]))),\"\")","v":"SI(O(Hoja1!H1517=\"NIT\",Hoja1!H1517=\"Fideicomiso/Fondo\",Hoja1!H1517=\"PJ No Residente\"),Hoja1!H1517,\"\")"},"SI(O(Hoja1!H1517=\"NIT\",Hoja1!H1517=\"Fideicomiso/Fondo\",Hoja1!H1517=\"PJ No Residente\"),Hoja1!B1519,\"\")",{"$f":"IFERROR(INDEX(TablaNivelUNO[NumeroDocUno2],_xlfn.AGGREGATE(15,6,(ROW(TablaNivelUNO[NumeroDocUno2])-ROW(TablaNivelUNO[#Headers]))/(TablaNivelUNO[NumeroDocUno2]<>\"\"),ROWS($F$254:TablaNivelUNO[[#This Row],[AuxNDUno]]))),\"\")","v":"SI(O(Hoja1!H1517=\"NIT\",Hoja1!H1517=\"Fideicomiso/Fondo\",Hoja1!H1517=\"PJ No Residente\"),Hoja1!B1519,\"\")"}]
["SI(O(Hoja1!H1548=\"NIT\",Hoja1!H1548=\"Fideicomiso/Fondo\",Hoja1!H1548=\"PJ No Residente\"),Hoja1!B1552,\"\")",{"$f":"IFERROR(INDEX(TablaNivelUNO[PJNivelUno],_xlfn.AGGREGATE(15,6,(ROW(TablaNivelUNO[PJNivelUno])-ROW(TablaNivelUNO[#Headers]))/(TablaNivelUNO[PJNivelUno]<>\"\"),ROWS($B$254:TablaNivelUNO[[#This Row],[AuxUno]]))),\"\")","v":"SI(O(Hoja1!H1548=\"NIT\",Hoja1!H1548=\"Fideicomiso/Fondo\",Hoja1!H1548=\"PJ No Residente\"),Hoja1!B1552,\"\")"},"SI(O(Hoja1!H1548=\"NIT\",Hoja1!H1548=\"Fideicomiso/Fondo\",Hoja1!H1548=\"PJ No Residente\"),Hoja1!H1548,\"\")",{"$f":"IFERROR(INDEX(TablaNivelUNO[TipoDocUno],_xlfn.AGGREGATE(15,6,(ROW(TablaNivelUNO[TipoDocUno])-ROW(TablaNivelUNO[#Headers]))/(TablaNivelUNO[TipoDocUno]<>\"\"),ROWS($D$254:TablaNivelUNO[[#This Row],[AuxTDUno]]))),\"\")","v":"SI(O(Hoja1!H1548=\"NIT\",Hoja1!H1548=\"Fideicomiso/Fondo\",Hoja1!H1548=\"PJ No Residente\"),Hoja1!H1548,\"\")"},"SI(O(Hoja1!H1548=\"NIT\",Hoja1!H1548=\"Fideicomiso/Fondo\",Hoja1!H1548=\"PJ No Residente\"),Hoja1!B1550,\"\")",{"$f":"IFERROR(INDEX(TablaNivelUNO[NumeroDocUno2],_xlfn.AGGREGATE(15,6,(ROW(TablaNivelUNO[NumeroDocUno2])-ROW(TablaNivelUNO[#Headers]))/(TablaNivelUNO[NumeroDocUno2]<>\"\"),ROWS($F$254:TablaNivelUNO[[#This Row],[AuxNDUno]]))),\"\")","v":"SI(O(Hoja1!H1548=\"NIT\",Hoja1!H1548=\"Fideicomiso/Fondo\",Hoja1!H1548=\"PJ No Residente\"),Hoja1!B1550,\"\")"}]
["SI(O(Hoja1!H1579=\"NIT\",Hoja1!H1579=\"Fideicomiso/Fondo\",Hoja1!H1579=\"PJ No Residente\"),Hoja1!B1583,\"\")",{"$f":"IFERROR(INDEX(TablaNivelUNO[PJNivelUno],_xlfn.AGGREGATE(15,6,(ROW(TablaNivelUNO[PJNivelUno])-ROW(TablaNivelUNO[#Headers]))/(TablaNivelUNO[PJNivelUno]<>\"\"),ROWS($B$254:TablaNivelUNO[[#This Row],[AuxUno]]))),\"\")","v":"SI(O(Hoja1!H1579=\"NIT\",Hoja1!H1579=\"Fideicomiso/Fondo\",Hoja1!H1579=\"PJ No Residente\"),Hoja1!B1583,\"\")"},"SI(O(Hoja1!H1579=\"NIT\",Hoja1!H1579=\"Fideicomiso/Fondo\",Hoja1!H1579=\"PJ No Residente\"),Hoja1!H1579,\"\")",{"$f":"IFERROR(INDEX(TablaNivelUNO[TipoDocUno],_xlfn.AGGREGATE(15,6,(ROW(TablaNivelUNO[TipoDocUno])-ROW(TablaNivelUNO[#Headers]))/(TablaNivelUNO[TipoDocUno]<>\"\"),ROWS($D$254:TablaNivelUNO[[#This Row],[AuxTDUno]]))),\"\")","v":"SI(O(Hoja1!H1579=\"NIT\",Hoja1!H1579=\"Fideicomiso/Fondo\",Hoja1!H1579=\"PJ No Residente\"),Hoja1!H1579,\"\")"},"SI(O(Hoja1!H1579=\"NIT\",Hoja1!H1579=\"Fideicomiso/Fondo\",Hoja1!H1579=\"PJ No Residente\"),Hoja1!B1581,\"\")",{"$f":"IFERROR(INDEX(TablaNivelUNO[NumeroDocUno2],_xlfn.AGGREGATE(15,6,(ROW(TablaNivelUNO[NumeroDocUno2])-ROW(TablaNivelUNO[#Headers]))/(TablaNivelUNO[NumeroDocUno2]<>\"\"),ROWS($F$254:TablaNivelUNO[[#This Row],[AuxNDUno]]))),\"\")","v":"SI(O(Hoja1!H1579=\"NIT\",Hoja1!H1579=\"Fideicomiso/Fondo\",Hoja1!H1579=\"PJ No Residente\"),Hoja1!B1581,\"\")"}]
["SI(O(Hoja1!#¡REF!=\"NIT\",Hoja1!#¡REF!=\"Fideicomiso/Fondo\",Hoja1!#¡REF!=\"PJ No Residente\"),Hoja1!#¡REF!,\"\")",{"$f":"IFERROR(INDEX(TablaNivelUNO[PJNivelUno],_xlfn.AGGREGATE(15,6,(ROW(TablaNivelUNO[PJNivelUno])-ROW(TablaNivelUNO[#Headers]))/(TablaNivelUNO[PJNivelUno]<>\"\"),ROWS($B$254:TablaNivelUNO[[#This Row],[AuxUno]]))),\"\")","v":"SI(O(Hoja1!#¡REF!=\"NIT\",Hoja1!#¡REF!=\"Fideicomiso/Fondo\",Hoja1!#¡REF!=\"PJ No Residente\"),Hoja1!#¡REF!,\"\")"},"SI(O(Hoja1!#¡REF!=\"NIT\",Hoja1!#¡REF!=\"Fideicomiso/Fondo\",Hoja1!#¡REF!=\"PJ No Residente\"),Hoja1!#¡REF!,\"\")",{"$f":"IFERROR(INDEX(TablaNivelUNO[TipoDocUno],_xlfn.AGGREGATE(15,6,(ROW(TablaNivelUNO[TipoDocUno])-ROW(TablaNivelUNO[#Headers]))/(TablaNivelUNO[TipoDocUno]<>\"\"),ROWS($D$254:TablaNivelUNO[[#This Row],[AuxTDUno]]))),\"\")","v":"SI(O(Hoja1!#¡REF!=\"NIT\",Hoja1!#¡REF!=\"Fideicomiso/Fondo\",Hoja1!#¡REF!=\"PJ No Residente\"),Hoja1!#¡REF!,\"\")"},"SI(O(Hoja1!#¡REF!=\"NIT\",Hoja1!#¡REF!=\"Fideicomiso/Fondo\",Hoja1!#¡REF!=\"PJ No Residente\"),Hoja1!#¡REF!,\"\")",{"$f":"IFERROR(INDEX(TablaNivelUNO[NumeroDocUno2],_xlfn.AGGREGATE(15,6,(ROW(TablaNivelUNO[NumeroDocUno2])-ROW(TablaNivelUNO[#Headers]))/(TablaNivelUNO[NumeroDocUno2]<>\"\"),ROWS($F$254:TablaNivelUNO[[#This Row],[AuxNDUno]]))),\"\")","v":"SI(O(Hoja1!#¡REF!=\"NIT\",Hoja1!#¡REF!=\"Fideicomiso/Fondo\",Hoja1!#¡REF!=\"PJ No Residente\"),Hoja1!#¡REF!,\"\")"}]
[]
["PJNivelDos","AuxDos","TipoDocUno","NumeroDocUno2",null,"Quitar Valores en Blanco"]
["SI(O(Hoja1!H1620=\"NIT\",Hoja1!H1620=\"Fideicomiso/Fondo\",Hoja1!H1620=\"PJ No Residente\"),Hoja1!B1624,\"\")",{"$f":"IFERROR(INDEX(TablaNivelDOS[PJNivelDos],_xlfn.AGGREGATE(15,6,(ROW(TablaNivelDOS[PJNivelDos])-ROW(TablaNivelDOS[#Headers]))/(TablaNivelDOS[PJNivelDos]<>\"\"),ROWS($B$307:TablaNivelDOS[[#This Row],[AuxDos]]))),\"\")","v":"SI(O(Hoja1!H1620=\"NIT\",Hoja1!H1620=\"Fideicomiso/Fondo\",Hoja1!H1620=\"PJ No Residente\"),Hoja1!B1624,\"\")"},"SI(O(Hoja1!H1620=\"NIT\",Hoja1!H1620=\"Fideicomiso/Fondo\",Hoja1!H1620=\"PJ No Residente\"),Hoja1!H1620,\"\")","SI(O(Hoja1!H1620=\"NIT\",Hoja1!H1620=\"Fideicomiso/Fondo\",Hoja1!H1620=\"PJ No Residente\"),Hoja1!B1622,\"\")",null," =$b$307:INDICE(TablaNivelDOS[AuxDos],SUMAPRODUCTO((TablaNivelDOS[AuxDos]<>\"\")*1))"]
["SI(O(Hoja1!HH1665=\"NIT\",Hoja1!H1665=\"Fideicomiso/Fondo\",Hoja1!H1665=\"PJ No Residente\"),Hoja1!B1669,\"\")",{"$f":"IFERROR(INDEX(TablaNivelDOS[PJNivelDos],_xlfn.AGGREGATE(15,6,(ROW(TablaNivelDOS[PJNivelDos])-ROW(TablaNivelDOS[#Headers]))/(TablaNivelDOS[PJNivelDos]<>\"\"),ROWS($B$307:TablaNivelDOS[[#This Row],[AuxDos]]))),\"\")","v":"SI(O(Hoja1!HH1665=\"NIT\",Hoja1!H1665=\"Fideicomiso/Fondo\",Hoja1!H1665=\"PJ No Residente\"),Hoja1!B1669,\"\")"},"SI(O(Hoja1!H1665=\"NIT\",Hoja1!H1665=\"Fideicomiso/Fondo\",Hoja1!H1665=\"PJ No Residente\"),Hoja1!H1665,\"\")","SI(O(Hoja1!H1665=\"NIT\",Hoja1!H1665=\"Fideicomiso/Fondo\",Hoja1!H1665=\"PJ No Residente\"),Hoja1!B1667,\"\")"]
["SI(O(Hoja1!H1699=\"NIT\",Hoja1!H1699=\"Fideicomiso/Fondo\",Hoja1!H1699=\"PJ No Residente\"),Hoja1!B1703,\"\")",{"$f":"IFERROR(INDEX(TablaNivelDOS[PJNivelDos],_xlfn.AGGREGATE(15,6,(ROW(TablaNivelDOS[PJNivelDos])-ROW(TablaNivelDOS[#Headers]))/(TablaNivelDOS[PJNivelDos]<>\"\"),ROWS($B$307:TablaNivelDOS[[#This Row],[AuxDos]]))),\"\")","v":"SI(O(Hoja1!H1699=\"NIT\",Hoja1!H1699=\"Fideicomiso/Fondo\",Hoja1!H1699=\"PJ No Residente\"),Hoja1!B1703,\"\")"},"SI(O(Hoja1!H1699=\"NIT\",Hoja1!H1699=\"Fideicomiso/Fondo\",Hoja1!H1699=\"PJ No Residente\"),Hoja1!H1699,\"\")","SI(O(Hoja1!H1699=\"NIT\",Hoja1!H1699=\"Fideicomiso/Fondo\",Hoja1!H1699=\"PJ No Residente\"),Hoja1!B1701,\"\")"]
["SI(O(Hoja1!H1733=\"NIT\",Hoja1!H1733=\"Fideicomiso/Fondo\",Hoja1!H1733=\"PJ No Residente\"),Hoja1!B1737,\"\")",{"$f":"IFERROR(INDEX(TablaNivelDOS[PJNivelDos],_xlfn.AGGREGATE(15,6,(ROW(TablaNivelDOS[PJNivelDos])-ROW(TablaNivelDOS[#Headers]))/(TablaNivelDOS[PJNivelDos]<>\"\"),ROWS($B$307:TablaNivelDOS[[#This Row],[AuxDos]]))),\"\")","v":"SI(O(Hoja1!H1733=\"NIT\",Hoja1!H1733=\"Fideicomiso/Fondo\",Hoja1!H1733=\"PJ No Residente\"),Hoja1!B1737,\"\")"},"SI(O(Hoja1!H1733=\"NIT\",Hoja1!H1733=\"Fideicomiso/Fondo\",Hoja1!H1733=\"PJ No Residente\"),Hoja1!H1733,\"\")","SI(O(Hoja1!H1733=\"NIT\",Hoja1!H1733=\"Fideicomiso/Fondo\",Hoja1!H1733=\"PJ No Residente\"),Hoja1!B1735,\"\")"]
["SI(O(Hoja1!H1767=\"NIT\",Hoja1!H1767=\"Fideicomiso/Fondo\",Hoja1!H1767=\"PJ No Residente\"),Hoja1!B1771,\"\")",{"$f":"IFERROR(INDEX(TablaNivelDOS[PJNivelDos],_xlfn.AGGREGATE(15,6,(ROW(TablaNivelDOS[PJNivelDos])-ROW(TablaNivelDOS[#Headers]))/(TablaNivelDOS[PJNivelDos]<>\"\"),ROWS($B$307:TablaNivelDOS[[#This Row],[AuxDos]]))),\"\")","v":"SI(O(Hoja1!H1767=\"NIT\",Hoja1!H1767=\"Fideicomiso/Fondo\",Hoja1!H1767=\"PJ No Residente\"),Hoja1!B1771,\"\")"},"SI(O(Hoja1!H1767=\"NIT\",Hoja1!H1767=\"Fideicomiso/Fondo\",Hoja1!H1767=\"PJ No Residente\"),Hoja1!H1767,\"\")","SI(O(Hoja1!H1767=\"NIT\",Hoja1!H1767=\"Fideicomiso/Fondo\",Hoja1!H1767=\"PJ No Residente\"),Hoja1!B1769,\"\")"]
["SI(O(Hoja1!HH1801=\"NIT\",Hoja1!H1801=\"Fideicomiso/Fondo\",Hoja1!H1801=\"PJ No Residente\"),Hoja1!B1805,\"\")",{"$f":"IFERROR(INDEX(TablaNivelDOS[PJNivelDos],_xlfn.AGGREGATE(15,6,(ROW(TablaNivelDOS[PJNivelDos])-ROW(TablaNivelDOS[#Headers]))/(TablaNivelDOS[PJNivelDos]<>\"\"),ROWS($B$307:TablaNivelDOS[[#This Row],[AuxDos]]))),\"\")","v":"SI(O(Hoja1!HH1801=\"NIT\",Hoja1!H1801=\"Fideicomiso/Fondo\",Hoja1!H1801=\"PJ No Residente\"),Hoja1!B1805,\"\")"},"SI(O(Hoja1!HH1801=\"NIT\",Hoja1!H1801=\"Fideicomiso/Fondo\",Hoja1!H1801=\"PJ No Residente\"),Hoja1!H1801,\"\")","SI(O(Hoja1!HH1801=\"NIT\",Hoja1!H1801=\"Fideicomiso/Fondo\",Hoja1!H1801=\"PJ No Residente\"),Hoja1!B1803,\"\")"]
["SI(O(Hoja1!H1835=\"NIT\",Hoja1!H1835=\"Fideicomiso/Fondo\",Hoja1!H1835=\"PJ No Residente\"),Hoja1!B1839,\"\")",{"$f":"IFERROR(INDEX(TablaNivelDOS[PJNivelDos],_xlfn.AGGREGATE(15,6,(ROW(TablaNivelDOS[PJNivelDos])-ROW(TablaNivelDOS[#Headers]))/(TablaNivelDOS[PJNivelDos]<>\"\"),ROWS($B$307:TablaNivelDOS[[#This Row],[AuxDos]]))),\"\")","v":"SI(O(Hoja1!H1835=\"NIT\",Hoja1!H1835=\"Fideicomiso/Fondo\",Hoja1!H1835=\"PJ No Residente\"),Hoja1!B1839,\"\")"},"SI(O(Hoja1!H1835=\"NIT\",Hoja1!H1835=\"Fideicomiso/Fondo\",Hoja1!H1835=\"PJ No Residente\"),Hoja1!H1835,\"\")","SI(O(Hoja1!H1835=\"NIT\",Hoja1!H1835=\"Fideicomiso/Fondo\",Hoja1!H1835=\"PJ No Residente\"),Hoja1!B1837,\"\")"]
["SI(O(Hoja1!H1869=\"NIT\",Hoja1!H1869=\"Fideicomiso/Fondo\",Hoja1!H1869=\"PJ No Residente\"),Hoja1!B1873,\"\")",{"$f":"IFERROR(INDEX(TablaNivelDOS[PJNivelDos],_xlfn.AGGREGATE(15,6,(ROW(TablaNivelDOS[PJNivelDos])-ROW(TablaNivelDOS[#Headers]))/(TablaNivelDOS[PJNivelDos]<>\"\"),ROWS($B$307:TablaNivelDOS[[#This Row],[AuxDos]]))),\"\")","v":"SI(O(Hoja1!H1869=\"NIT\",Hoja1!H1869=\"Fideicomiso/Fondo\",Hoja1!H1869=\"PJ No Residente\"),Hoja1!B1873,\"\")"},"SI(O(Hoja1!H1869=\"NIT\",Hoja1!H1869=\"Fideicomiso/Fondo\",Hoja1!H1869=\"PJ No Residente\"),Hoja1!H1869,\"\")","SI(O(Hoja1!H1869=\"NIT\",Hoja1!H1869=\"Fideicomiso/Fondo\",Hoja1!H1869=\"PJ No Residente\"),Hoja1!B1871,\"\")"]
["SI(O(Hoja1!H1903=\"NIT\",Hoja1!H1903=\"Fideicomiso/Fondo\",Hoja1!H1903=\"PJ No Residente\"),Hoja1!B1907,\"\")",{"$f":"IFERROR(INDEX(TablaNivelDOS[PJNivelDos],_xlfn.AGGREGATE(15,6,(ROW(TablaNivelDOS[PJNivelDos])-ROW(TablaNivelDOS[#Headers]))/(TablaNivelDOS[PJNivelDos]<>\"\"),ROWS($B$307:TablaNivelDOS[[#This Row],[AuxDos]]))),\"\")","v":"SI(O(Hoja1!H1903=\"NIT\",Hoja1!H1903=\"Fideicomiso/Fondo\",Hoja1!H1903=\"PJ No Residente\"),Hoja1!B1907,\"\")"},"SI(O(Hoja1!H1903=\"NIT\",Hoja1!H1903=\"Fideicomiso/Fondo\",Hoja1!H1903=\"PJ No Residente\"),Hoja1!H1903,\"\")","SI(O(Hoja1!H1903=\"NIT\",Hoja1!H1903=\"Fideicomiso/Fondo\",Hoja1!H1903=\"PJ No Residente\"),Hoja1!B1905,\"\")"]
["SI(O(Hoja1!H1937=\"NIT\",Hoja1!H1937=\"Fideicomiso/Fondo\",Hoja1!H1937=\"PJ No Residente\"),Hoja1!B1941,\"\")",{"$f":"IFERROR(INDEX(TablaNivelDOS[PJNivelDos],_xlfn.AGGREGATE(15,6,(ROW(TablaNivelDOS[PJNivelDos])-ROW(TablaNivelDOS[#Headers]))/(TablaNivelDOS[PJNivelDos]<>\"\"),ROWS($B$307:TablaNivelDOS[[#This Row],[AuxDos]]))),\"\")","v":"SI(O(Hoja1!H1937=\"NIT\",Hoja1!H1937=\"Fideicomiso/Fondo\",Hoja1!H1937=\"PJ No Residente\"),Hoja1!B1941,\"\")"},"SI(O(Hoja1!H1937=\"NIT\",Hoja1!H1937=\"Fideicomiso/Fondo\",Hoja1!H1937=\"PJ No Residente\"),Hoja1!H1937,\"\")","SI(O(Hoja1!H1937=\"NIT\",Hoja1!H1937=\"Fideicomiso/Fondo\",Hoja1!H1937=\"PJ No Residente\"),Hoja1!B1939,\"\")"]
["SI(O(Hoja1!H1971=\"NIT\",Hoja1!H1971=\"Fideicomiso/Fondo\",Hoja1!H1971=\"PJ No Residente\"),Hoja1!B1975,\"\")",{"$f":"IFERROR(INDEX(TablaNivelDOS[PJNivelDos],_xlfn.AGGREGATE(15,6,(ROW(TablaNivelDOS[PJNivelDos])-ROW(TablaNivelDOS[#Headers]))/(TablaNivelDOS[PJNivelDos]<>\"\"),ROWS($B$307:TablaNivelDOS[[#This Row],[AuxDos]]))),\"\")","v":"SI(O(Hoja1!H1971=\"NIT\",Hoja1!H1971=\"Fideicomiso/Fondo\",Hoja1!H1971=\"PJ No Residente\"),Hoja1!B1975,\"\")"},"SI(O(Hoja1!H1971=\"NIT\",Hoja1!H1971=\"Fideicomiso/Fondo\",Hoja1!H1971=\"PJ No Residente\"),Hoja1!H1971,\"\")","SI(O(Hoja1!H1971=\"NIT\",Hoja1!H1971=\"Fideicomiso/Fondo\",Hoja1!H1971=\"PJ No Residente\"),Hoja1!B1973,\"\")"]
["SI(O(Hoja1!H2005=\"NIT\",Hoja1!H2005=\"Fideicomiso/Fondo\",Hoja1!H2005=\"PJ No Residente\"),Hoja1!B2009,\"\")",{"$f":"IFERROR(INDEX(TablaNivelDOS[PJNivelDos],_xlfn.AGGREGATE(15,6,(ROW(TablaNivelDOS[PJNivelDos])-ROW(TablaNivelDOS[#Headers]))/(TablaNivelDOS[PJNivelDos]<>\"\"),ROWS($B$307:TablaNivelDOS[[#This Row],[AuxDos]]))),\"\")","v":"SI(O(Hoja1!H2005=\"NIT\",Hoja1!H2005=\"Fideicomiso/Fondo\",Hoja1!H2005=\"PJ No Residente\"),Hoja1!B2009,\"\")"},"SI(O(Hoja1!H2005=\"NIT\",Hoja1!H2005=\"Fideicomiso/Fondo\",Hoja1!H2005=\"PJ No Residente\"),Hoja1!H2005,\"\")","SI(O(Hoja1!H2005=\"NIT\",Hoja1!H2005=\"Fideicomiso/Fondo\",Hoja1!H2005=\"PJ No Residente\"),Hoja1!B2007,\"\")"]
["SI(O(Hoja1!H2039=\"NIT\",Hoja1!H2039=\"Fideicomiso/Fondo\",Hoja1!H2039=\"PJ No Residente\"),Hoja1!B2043,\"\")",{"$f":"IFERROR(INDEX(TablaNivelDOS[PJNivelDos],_xlfn.AGGREGATE(15,6,(ROW(TablaNivelDOS[PJNivelDos])-ROW(TablaNivelDOS[#Headers]))/(TablaNivelDOS[PJNivelDos]<>\"\"),ROWS($B$307:TablaNivelDOS[[#This Row],[AuxDos]]))),\"\")","v":"SI(O(Hoja1!H2039=\"NIT\",Hoja1!H2039=\"Fideicomiso/Fondo\",Hoja1!H2039=\"PJ No Residente\"),Hoja1!B2043,\"\")"},"SI(O(Hoja1!H2039=\"NIT\",Hoja1!H2039=\"Fideicomiso/Fondo\",Hoja1!H2039=\"PJ No Residente\"),Hoja1!H2039,\"\")","SI(O(Hoja1!H2039=\"NIT\",Hoja1!H2039=\"Fideicomiso/Fondo\",Hoja1!H2039=\"PJ No Residente\"),Hoja1!B2041,\"\")"]
["SI(O(Hoja1!H2073=\"NIT\",Hoja1!H2073=\"Fideicomiso/Fondo\",Hoja1!H2073=\"PJ No Residente\"),Hoja1!B2077,\"\")",{"$f":"IFERROR(INDEX(TablaNivelDOS[PJNivelDos],_xlfn.AGGREGATE(15,6,(ROW(TablaNivelDOS[PJNivelDos])-ROW(TablaNivelDOS[#Headers]))/(TablaNivelDOS[PJNivelDos]<>\"\"),ROWS($B$307:TablaNivelDOS[[#This Row],[AuxDos]]))),\"\")","v":"SI(O(Hoja1!H2073=\"NIT\",Hoja1!H2073=\"Fideicomiso/Fondo\",Hoja1!H2073=\"PJ No Residente\"),Hoja1!B2077,\"\")"},"SI(O(Hoja1!H2073=\"NIT\",Hoja1!H2073=\"Fideicomiso/Fondo\",Hoja1!H2073=\"PJ No Residente\"),Hoja1!H2073,\"\")","SI(O(Hoja1!H2073=\"NIT\",Hoja1!H2073=\"Fideicomiso/Fondo\",Hoja1!H2073=\"PJ No Residente\"),Hoja1!B2075,\"\")"]
["SI(O(Hoja1!H2107=\"NIT\",Hoja1!H2107=\"Fideicomiso/Fondo\",Hoja1!H2107=\"PJ No Residente\"),Hoja1!B2111,\"\")",{"$f":"IFERROR(INDEX(TablaNivelDOS[PJNivelDos],_xlfn.AGGREGATE(15,6,(ROW(TablaNivelDOS[PJNivelDos])-ROW(TablaNivelDOS[#Headers]))/(TablaNivelDOS[PJNivelDos]<>\"\"),ROWS($B$307:TablaNivelDOS[[#This Row],[AuxDos]]))),\"\")","v":"SI(O(Hoja1!H2107=\"NIT\",Hoja1!H2107=\"Fideicomiso/Fondo\",Hoja1!H2107=\"PJ No Residente\"),Hoja1!B2111,\"\")"},"SI(O(Hoja1!H2107=\"NIT\",Hoja1!H2107=\"Fideicomiso/Fondo\",Hoja1!H2107=\"PJ No Residente\"),Hoja1!H2107,\"\")","SI(O(Hoja1!H2107=\"NIT\",Hoja1!H2107=\"Fideicomiso/Fondo\",Hoja1!H2107=\"PJ No Residente\"),Hoja1!B2109,\"\")"]
["SI(O(Hoja1!H2141=\"NIT\",Hoja1!H2141=\"Fideicomiso/Fondo\",Hoja1!H2141=\"PJ No Residente\"),Hoja1!B2145,\"\")",{"$f":"IFERROR(INDEX(TablaNivelDOS[PJNivelDos],_xlfn.AGGREGATE(15,6,(ROW(TablaNivelDOS[PJNivelDos])-ROW(TablaNivelDOS[#Headers]))/(TablaNivelDOS[PJNivelDos]<>\"\"),ROWS($B$307:TablaNivelDOS[[#This Row],[AuxDos]]))),\"\")","v":"SI(O(Hoja1!H2141=\"NIT\",Hoja1!H2141=\"Fideicomiso/Fondo\",Hoja1!H2141=\"PJ No Residente\"),Hoja1!B2145,\"\")"},"SI(O(Hoja1!H2141=\"NIT\",Hoja1!H2141=\"Fideicomiso/Fondo\",Hoja1!H2141=\"PJ No Residente\"),Hoja1!H2141,\"\")","SI(O(Hoja1!H2141=\"NIT\",Hoja1!H2141=\"Fideicomiso/Fondo\",Hoja1!H2141=\"PJ No Residente\"),Hoja1!B2143,\"\")"]
["SI(O(Hoja1!H2175=\"NIT\",Hoja1!H2175=\"Fideicomiso/Fondo\",Hoja1!H2175=\"PJ No Residente\"),Hoja1!B2179,\"\")",{"$f":"IFERROR(INDEX(TablaNivelDOS[PJNivelDos],_xlfn.AGGREGATE(15,6,(ROW(TablaNivelDOS[PJNivelDos])-ROW(TablaNivelDOS[#Headers]))/(TablaNivelDOS[PJNivelDos]<>\"\"),ROWS($B$307:TablaNivelDOS[[#This Row],[AuxDos]]))),\"\")","v":"SI(O(Hoja1!H2175=\"NIT\",Hoja1!H2175=\"Fideicomiso/Fondo\",Hoja1!H2175=\"PJ No Residente\"),Hoja1!B2179,\"\")"},"SI(O(Hoja1!H2175=\"NIT\",Hoja1!H2175=\"Fideicomiso/Fondo\",Hoja1!H2175=\"PJ No Residente\"),Hoja1!H2175,\"\")","SI(O(Hoja1!H2175=\"NIT\",Hoja1!H2175=\"Fideicomiso/Fondo\",Hoja1!H2175=\"PJ No Residente\"),Hoja1!B2177,\"\")"]
["SI(O(Hoja1!H2209=\"NIT\",Hoja1!H2209=\"Fideicomiso/Fondo\",Hoja1!H2209=\"PJ No Residente\"),Hoja1!B2213,\"\")",{"$f":"IFERROR(INDEX(TablaNivelDOS[PJNivelDos],_xlfn.AGGREGATE(15,6,(ROW(TablaNivelDOS[PJNivelDos])-ROW(TablaNivelDOS[#Headers]))/(TablaNivelDOS[PJNivelDos]<>\"\"),ROWS($B$307:TablaNivelDOS[[#This Row],[AuxDos]]))),\"\")","v":"SI(O(Hoja1!H2209=\"NIT\",Hoja1!H2209=\"Fideicomiso/Fondo\",Hoja1!H2209=\"PJ No Residente\"),Hoja1!B2213,\"\")"},"SI(O(Hoja1!H2209=\"NIT\",Hoja1!H2209=\"Fideicomiso/Fondo\",Hoja1!H2209=\"PJ No Residente\"),Hoja1!H2209,\"\")","SI(O(Hoja1!H2209=\"NIT\",Hoja1!H2209=\"Fideicomiso/Fondo\",Hoja1!H2209=\"PJ No Residente\"),Hoja1!B2211,\"\")"]
["SI(O(Hoja1!H2243=\"NIT\",Hoja1!H2243=\"Fideicomiso/Fondo\",Hoja1!H2243=\"PJ No Residente\"),Hoja1!B2247,\"\")",{"$f":"IFERROR(INDEX(TablaNivelDOS[PJNivelDos],_xlfn.AGGREGATE(15,6,(ROW(TablaNivelDOS[PJNivelDos])-ROW(TablaNivelDOS[#Headers]))/(TablaNivelDOS[PJNivelDos]<>\"\"),ROWS($B$307:TablaNivelDOS[[#This Row],[AuxDos]]))),\"\")","v":"SI(O(Hoja1!H2243=\"NIT\",Hoja1!H2243=\"Fideicomiso/Fondo\",Hoja1!H2243=\"PJ No Residente\"),Hoja1!B2247,\"\")"},"SI(O(Hoja1!H2243=\"NIT\",Hoja1!H2243=\"Fideicomiso/Fondo\",Hoja1!H2243=\"PJ No Residente\"),Hoja1!H2243,\"\")","SI(O(Hoja1!H2243=\"NIT\",Hoja1!H2243=\"Fideicomiso/Fondo\",Hoja1!H2243=\"PJ No Residente\"),Hoja1!B2245,\"\")"]
["SI(O(Hoja1!H2277=\"NIT\",Hoja1!H2277=\"Fideicomiso/Fondo\",Hoja1!H2277=\"PJ No Residente\"),Hoja1!B2281,\"\")",{"$f":"IFERROR(INDEX(TablaNivelDOS[PJNivelDos],_xlfn.AGGREGATE(15,6,(ROW(TablaNivelDOS[PJNivelDos])-ROW(TablaNivelDOS[#Headers]))/(TablaNivelDOS[PJNivelDos]<>\"\"),ROWS($B$307:TablaNivelDOS[[#This Row],[AuxDos]]))),\"\")","v":"SI(O(Hoja1!H2277=\"NIT\",Hoja1!H2277=\"Fideicomiso/Fondo\",Hoja1!H2277=\"PJ No Residente\"),Hoja1!B2281,\"\")"},"SI(O(Hoja1!H2277=\"NIT\",Hoja1!H2277=\"Fideicomiso/Fondo\",Hoja1!H2277=\"PJ No Residente\"),Hoja1!H2277,\"\")","SI(O(Hoja1!H2277=\"NIT\",Hoja1!H2277=\"Fideicomiso/Fondo\",Hoja1!H2277=\"PJ No Residente\"),Hoja1!B2279,\"\")"]
["SI(O(Hoja1!H2311=\"NIT\",Hoja1!H2311=\"Fideicomiso/Fondo\",Hoja1!H2311=\"PJ No Residente\"),Hoja1!B2315,\"\")",{"$f":"IFERROR(INDEX(TablaNivelDOS[PJNivelDos],_xlfn.AGGREGATE(15,6,(ROW(TablaNivelDOS[PJNivelDos])-ROW(TablaNivelDOS[#Headers]))/(TablaNivelDOS[PJNivelDos]<>\"\"),ROWS($B$307:TablaNivelDOS[[#This Row],[AuxDos]]))),\"\")","v":"SI(O(Hoja1!H2311=\"NIT\",Hoja1!H2311=\"Fideicomiso/Fondo\",Hoja1!H2311=\"PJ No Residente\"),Hoja1!B2315,\"\")"},"SI(O(Hoja1!H2311=\"NIT\",Hoja1!H2311=\"Fideicomiso/Fondo\",Hoja1!H2311=\"PJ No Residente\"),Hoja1!H2311,\"\")","SI(O(Hoja1!H2311=\"NIT\",Hoja1!H2311=\"Fideicomiso/Fondo\",Hoja1!H2311=\"PJ No Residente\"),Hoja1!B2313,\"\")"]
["SI(O(Hoja1!H2345=\"NIT\",Hoja1!H2345=\"Fideicomiso/Fondo\",Hoja1!H2345=\"PJ No Residente\"),Hoja1!B2349,\"\")",{"$f":"IFERROR(INDEX(TablaNivelDOS[PJNivelDos],_xlfn.AGGREGATE(15,6,(ROW(TablaNivelDOS[PJNivelDos])-ROW(TablaNivelDOS[#Headers]))/(TablaNivelDOS[PJNivelDos]<>\"\"),ROWS($B$307:TablaNivelDOS[[#This Row],[AuxDos]]))),\"\")","v":"SI(O(Hoja1!H2345=\"NIT\",Hoja1!H2345=\"Fideicomiso/Fondo\",Hoja1!H2345=\"PJ No Residente\"),Hoja1!B2349,\"\")"},"SI(O(Hoja1!H2345=\"NIT\",Hoja1!H2345=\"Fideicomiso/Fondo\",Hoja1!H2345=\"PJ No Residente\"),Hoja1!H2345,\"\")","SI(O(Hoja1!H2345=\"NIT\",Hoja1!H2345=\"Fideicomiso/Fondo\",Hoja1!H2345=\"PJ No Residente\"),Hoja1!B2347,\"\")"]
["SI(O(Hoja1!H2379=\"NIT\",Hoja1!H2379=\"Fideicomiso/Fondo\",Hoja1!H2379=\"PJ No Residente\"),Hoja1!B2383,\"\")",{"$f":"IFERROR(INDEX(TablaNivelDOS[PJNivelDos],_xlfn.AGGREGATE(15,6,(ROW(TablaNivelDOS[PJNivelDos])-ROW(TablaNivelDOS[#Headers]))/(TablaNivelDOS[PJNivelDos]<>\"\"),ROWS($B$307:TablaNivelDOS[[#This Row],[AuxDos]]))),\"\")","v":"SI(O(Hoja1!H2379=\"NIT\",Hoja1!H2379=\"Fideicomiso/Fondo\",Hoja1!H2379=\"PJ No Residente\"),Hoja1!B2383,\"\")"},"SI(O(Hoja1!H2379=\"NIT\",Hoja1!H2379=\"Fideicomiso/Fondo\",Hoja1!H2379=\"PJ No Residente\"),Hoja1!H2379,\"\")","SI(O(Hoja1!H2379=\"NIT\",Hoja1!H2379=\"Fideicomiso/Fondo\",Hoja1!H2379=\"PJ No Residente\"),Hoja1!B2381,\"\")"]
["SI(O(Hoja1!H2413=\"NIT\",Hoja1!H2413=\"Fideicomiso/Fondo\",Hoja1!H2413=\"PJ No Residente\"),Hoja1!B2417,\"\")",{"$f":"IFERROR(INDEX(TablaNivelDOS[PJNivelDos],_xlfn.AGGREGATE(15,6,(ROW(TablaNivelDOS[PJNivelDos])-ROW(TablaNivelDOS[#Headers]))/(TablaNivelDOS[PJNivelDos]<>\"\"),ROWS($B$307:TablaNivelDOS[[#This Row],[AuxDos]]))),\"\")","v":"SI(O(Hoja1!H2413=\"NIT\",Hoja1!H2413=\"Fideicomiso/Fondo\",Hoja1!H2413=\"PJ No Residente\"),Hoja1!B2417,\"\")"},"SI(O(Hoja1!H2413=\"NIT\",Hoja1!H2413=\"Fideicomiso/Fondo\",Hoja1!H2413=\"PJ No Residente\"),Hoja1!H2413,\"\")","SI(O(Hoja1!H2413=\"NIT\",Hoja1!H2413=\"Fideicomiso/Fondo\",Hoja1!H2413=\"PJ No Residente\"),Hoja1!B2415,\"\")"]
["SI(O(Hoja1!H2447=\"NIT\",Hoja1!H2447=\"Fideicomiso/Fondo\",Hoja1!H2447=\"PJ No Residente\"),Hoja1!B2451,\"\")",{"$f":"IFERROR(INDEX(TablaNivelDOS[PJNivelDos],_xlfn.AGGREGATE(15,6,(ROW(TablaNivelDOS[PJNivelDos])-ROW(TablaNivelDOS[#Headers]))/(TablaNivelDOS[PJNivelDos]<>\"\"),ROWS($B$307:TablaNivelDOS[[#This Row],[AuxDos]]))),\"\")","v":"SI(O(Hoja1!H2447=\"NIT\",Hoja1!H2447=\"Fideicomiso/Fondo\",Hoja1!H2447=\"PJ No Residente\"),Hoja1!B2451,\"\")"},"SI(O(Hoja1!H2447=\"NIT\",Hoja1!H2447=\"Fideicomiso/Fondo\",Hoja1!H2447=\"PJ No Residente\"),Hoja1!H2447,\"\")","SI(O(Hoja1!H2447=\"NIT\",Hoja1!H2447=\"Fideicomiso/Fondo\",Hoja1!H2447=\"PJ No Residente\"),Hoja1!B2449,\"\")"]
["SI(O(Hoja1!H2481=\"NIT\",Hoja1!H2481=\"Fideicomiso/Fondo\",Hoja1!H2481=\"PJ No Residente\"),Hoja1!B2485,\"\")",{"$f":"IFERROR(INDEX(TablaNivelDOS[PJNivelDos],_xlfn.AGGREGATE(15,6,(ROW(TablaNivelDOS[PJNivelDos])-ROW(TablaNivelDOS[#Headers]))/(TablaNivelDOS[PJNivelDos]<>\"\"),ROWS($B$307:TablaNivelDOS[[#This Row],[AuxDos]]))),\"\")","v":"SI(O(Hoja1!H2481=\"NIT\",Hoja1!H2481=\"Fideicomiso/Fondo\",Hoja1!H2481=\"PJ No Residente\"),Hoja1!B2485,\"\")"},"SI(O(Hoja1!H2481=\"NIT\",Hoja1!H2481=\"Fideicomiso/Fondo\",Hoja1!H2481=\"PJ No Residente\"),Hoja1!H2481,\"\")","SI(O(Hoja1!H2481=\"NIT\",Hoja1!H2481=\"Fideicomiso/Fondo\",Hoja1!H2481=\"PJ No Residente\"),Hoja1!B2483,\"\")"]
["SI(O(Hoja1!H2515=\"NIT\",Hoja1!H2515=\"Fideicomiso/Fondo\",Hoja1!H2515=\"PJ No Residente\"),Hoja1!B2519,\"\")",{"$f":"IFERROR(INDEX(TablaNivelDOS[PJNivelDos],_xlfn.AGGREGATE(15,6,(ROW(TablaNivelDOS[PJNivelDos])-ROW(TablaNivelDOS[#Headers]))/(TablaNivelDOS[PJNivelDos]<>\"\"),ROWS($B$307:TablaNivelDOS[[#This Row],[AuxDos]]))),\"\")","v":"SI(O(Hoja1!H2515=\"NIT\",Hoja1!H2515=\"Fideicomiso/Fondo\",Hoja1!H2515=\"PJ No Residente\"),Hoja1!B2519,\"\")"},"SI(O(Hoja1!H2515=\"NIT\",Hoja1!H2515=\"Fideicomiso/Fondo\",Hoja1!H2515=\"PJ No Residente\"),Hoja1!H2515,\"\")","SI(O(Hoja1!H2515=\"NIT\",Hoja1!H2515=\"Fideicomiso/Fondo\",Hoja1!H2515=\"PJ No Residente\"),Hoja1!B2517,\"\")"]
["SI(O(Hoja1!H2549=\"NIT\",Hoja1!H2549=\"Fideicomiso/Fondo\",Hoja1!H2549=\"PJ No Residente\"),Hoja1!B2553,\"\")",{"$f":"IFERROR(INDEX(TablaNivelDOS[PJNivelDos],_xlfn.AGGREGATE(15,6,(ROW(TablaNivelDOS[PJNivelDos])-ROW(TablaNivelDOS[#Headers]))/(TablaNivelDOS[PJNivelDos]<>\"\"),ROWS($B$307:TablaNivelDOS[[#This Row],[AuxDos]]))),\"\")","v":"SI(O(Hoja1!H2549=\"NIT\",Hoja1!H2549=\"Fideicomiso/Fondo\",Hoja1!H2549=\"PJ No Residente\"),Hoja1!B2553,\"\")"},"SI(O(Hoja1!H2549=\"NIT\",Hoja1!H2549=\"Fideicomiso/Fondo\",Hoja1!H2549=\"PJ No Residente\"),Hoja1!H2549,\"\")","SI(O(Hoja1!H2549=\"NIT\",Hoja1!H2549=\"Fideicomiso/Fondo\",Hoja1!H2549=\"PJ No Residente\"),Hoja1!B2551,\"\")"]
["SI(O(Hoja1!H2583=\"NIT\",Hoja1!H2583=\"Fideicomiso/Fondo\",Hoja1!H2583=\"PJ No Residente\"),Hoja1!B2587,\"\")",{"$f":"IFERROR(INDEX(TablaNivelDOS[PJNivelDos],_xlfn.AGGREGATE(15,6,(ROW(TablaNivelDOS[PJNivelDos])-ROW(TablaNivelDOS[#Headers]))/(TablaNivelDOS[PJNivelDos]<>\"\"),ROWS($B$307:TablaNivelDOS[[#This Row],[AuxDos]]))),\"\")","v":"SI(O(Hoja1!H2583=\"NIT\",Hoja1!H2583=\"Fideicomiso/Fondo\",Hoja1!H2583=\"PJ No Residente\"),Hoja1!B2587,\"\")"},"SI(O(Hoja1!H2583=\"NIT\",Hoja1!H2583=\"Fideicomiso/Fondo\",Hoja1!H2583=\"PJ No Residente\"),Hoja1!H2583,\"\")","SI(O(Hoja1!H2583=\"NIT\",Hoja1!H2583=\"Fideicomiso/Fondo\",Hoja1!H2583=\"PJ No Residente\"),Hoja1!B2585,\"\")"]
["SI(O(Hoja1!H2617=\"NIT\",Hoja1!H2617=\"Fideicomiso/Fondo\",Hoja1!H2617=\"PJ No Residente\"),Hoja1!B2621,\"\")",{"$f":"IFERROR(INDEX(TablaNivelDOS[PJNivelDos],_xlfn.AGGREGATE(15,6,(ROW(TablaNivelDOS[PJNivelDos])-ROW(TablaNivelDOS[#Headers]))/(TablaNivelDOS[PJNivelDos]<>\"\"),ROWS($B$307:TablaNivelDOS[[#This Row],[AuxDos]]))),\"\")","v":"SI(O(Hoja1!H2617=\"NIT\",Hoja1!H2617=\"Fideicomiso/Fondo\",Hoja1!H2617=\"PJ No Residente\"),Hoja1!B2621,\"\")"},"SI(O(Hoja1!H2617=\"NIT\",Hoja1!H2617=\"Fideicomiso/Fondo\",Hoja1!H2617=\"PJ No Residente\"),Hoja1!H2617,\"\")","SI(O(Hoja1!H2617=\"NIT\",Hoja1!H2617=\"Fideicomiso/Fondo\",Hoja1!H2617=\"PJ No Residente\"),Hoja1!B2619,\"\")"]
["SI(O(Hoja1!H2651=\"NIT\",Hoja1!H2651=\"Fideicomiso/Fondo\",Hoja1!H2651=\"PJ No Residente\"),Hoja1!B2655,\"\")",{"$f":"IFERROR(INDEX(TablaNivelDOS[PJNivelDos],_xlfn.AGGREGATE(15,6,(ROW(TablaNivelDOS[PJNivelDos])-ROW(TablaNivelDOS[#Headers]))/(TablaNivelDOS[PJNivelDos]<>\"\"),ROWS($B$307:TablaNivelDOS[[#This Row],[AuxDos]]))),\"\")","v":"SI(O(Hoja1!H2651=\"NIT\",Hoja1!H2651=\"Fideicomiso/Fondo\",Hoja1!H2651=\"PJ No Residente\"),Hoja1!B2655,\"\")"},"SI(O(Hoja1!H2651=\"NIT\",Hoja1!H2651=\"Fideicomiso/Fondo\",Hoja1!H2651=\"PJ No Residente\"),Hoja1!H2651,\"\")","SI(O(Hoja1!H2651=\"NIT\",Hoja1!H2651=\"Fideicomiso/Fondo\",Hoja1!H2651=\"PJ No Residente\"),Hoja1!B2653,\"\")"]
["SI(O(Hoja1!H2685=\"NIT\",Hoja1!H2685=\"Fideicomiso/Fondo\",Hoja1!H2685=\"PJ No Residente\"),Hoja1!B2689,\"\")",{"$f":"IFERROR(INDEX(TablaNivelDOS[PJNivelDos],_xlfn.AGGREGATE(15,6,(ROW(TablaNivelDOS[PJNivelDos])-ROW(TablaNivelDOS[#Headers]))/(TablaNivelDOS[PJNivelDos]<>\"\"),ROWS($B$307:TablaNivelDOS[[#This Row],[AuxDos]]))),\"\")","v":"SI(O(Hoja1!H2685=\"NIT\",Hoja1!H2685=\"Fideicomiso/Fondo\",Hoja1!H2685=\"PJ No Residente\"),Hoja1!B2689,\"\")"},"SI(O(Hoja1!H2685=\"NIT\",Hoja1!H2685=\"Fideicomiso/Fondo\",Hoja1!H2685=\"PJ No Residente\"),Hoja1!H2685,\"\")","SI(O(Hoja1!H2685=\"NIT\",Hoja1!H2685=\"Fideicomiso/Fondo\",Hoja1!H2685=\"PJ No Residente\"),Hoja1!B2687,\"\")"]
["SI(O(Hoja1!H2719=\"NIT\",Hoja1!H2719=\"Fideicomiso/Fondo\",Hoja1!H2719=\"PJ No Residente\"),Hoja1!B2723,\"\")",{"$f":"IFERROR(INDEX(TablaNivelDOS[PJNivelDos],_xlfn.AGGREGATE(15,6,(ROW(TablaNivelDOS[PJNivelDos])-ROW(TablaNivelDOS[#Headers]))/(TablaNivelDOS[PJNivelDos]<>\"\"),ROWS($B$307:TablaNivelDOS[[#This Row],[AuxDos]]))),\"\")","v":"SI(O(Hoja1!H2719=\"NIT\",Hoja1!H2719=\"Fideicomiso/Fondo\",Hoja1!H2719=\"PJ No Residente\"),Hoja1!B2723,\"\")"},"SI(O(Hoja1!H2719=\"NIT\",Hoja1!H2719=\"Fideicomiso/Fondo\",Hoja1!H2719=\"PJ No Residente\"),Hoja1!H2719,\"\")","SI(O(Hoja1!H2719=\"NIT\",Hoja1!H2719=\"Fideicomiso/Fondo\",Hoja1!H2719=\"PJ No Residente\"),Hoja1!B2721,\"\")"]
["SI(O(Hoja1!H2753=\"NIT\",Hoja1!H2753=\"Fideicomiso/Fondo\",Hoja1!H2753=\"PJ No Residente\"),Hoja1!B2757,\"\")",{"$f":"IFERROR(INDEX(TablaNivelDOS[PJNivelDos],_xlfn.AGGREGATE(15,6,(ROW(TablaNivelDOS[PJNivelDos])-ROW(TablaNivelDOS[#Headers]))/(TablaNivelDOS[PJNivelDos]<>\"\"),ROWS($B$307:TablaNivelDOS[[#This Row],[AuxDos]]))),\"\")","v":"SI(O(Hoja1!H2753=\"NIT\",Hoja1!H2753=\"Fideicomiso/Fondo\",Hoja1!H2753=\"PJ No Residente\"),Hoja1!B2757,\"\")"},"SI(O(Hoja1!H2753=\"NIT\",Hoja1!H2753=\"Fideicomiso/Fondo\",Hoja1!H2753=\"PJ No Residente\"),Hoja1!H2753,\"\")","SI(O(Hoja1!H2753=\"NIT\",Hoja1!H2753=\"Fideicomiso/Fondo\",Hoja1!H2753=\"PJ No Residente\"),Hoja1!B2755,\"\")"]
["SI(O(Hoja1!H2787=\"NIT\",Hoja1!H2787=\"Fideicomiso/Fondo\",Hoja1!H2787=\"PJ No Residente\"),Hoja1!B2791,\"\")",{"$f":"IFERROR(INDEX(TablaNivelDOS[PJNivelDos],_xlfn.AGGREGATE(15,6,(ROW(TablaNivelDOS[PJNivelDos])-ROW(TablaNivelDOS[#Headers]))/(TablaNivelDOS[PJNivelDos]<>\"\"),ROWS($B$307:TablaNivelDOS[[#This Row],[AuxDos]]))),\"\")","v":"SI(O(Hoja1!H2787=\"NIT\",Hoja1!H2787=\"Fideicomiso/Fondo\",Hoja1!H2787=\"PJ No Residente\"),Hoja1!B2791,\"\")"},"SI(O(Hoja1!H2787=\"NIT\",Hoja1!H2787=\"Fideicomiso/Fondo\",Hoja1!H2787=\"PJ No Residente\"),Hoja1!H2787,\"\")","SI(O(Hoja1!H2787=\"NIT\",Hoja1!H2787=\"Fideicomiso/Fondo\",Hoja1!H2787=\"PJ No Residente\"),Hoja1!B2789,\"\")"]
["SI(O(Hoja1!H2821=\"NIT\",Hoja1!H2821=\"Fideicomiso/Fondo\",Hoja1!H2821=\"PJ No Residente\"),Hoja1!B2825,\"\")",{"$f":"IFERROR(INDEX(TablaNivelDOS[PJNivelDos],_xlfn.AGGREGATE(15,6,(ROW(TablaNivelDOS[PJNivelDos])-ROW(TablaNivelDOS[#Headers]))/(TablaNivelDOS[PJNivelDos]<>\"\"),ROWS($B$307:TablaNivelDOS[[#This Row],[AuxDos]]))),\"\")","v":"SI(O(Hoja1!H2821=\"NIT\",Hoja1!H2821=\"Fideicomiso/Fondo\",Hoja1!H2821=\"PJ No Residente\"),Hoja1!B2825,\"\")"},"SI(O(Hoja1!H2821=\"NIT\",Hoja1!H2821=\"Fideicomiso/Fondo\",Hoja1!H2821=\"PJ No Residente\"),Hoja1!H2821,\"\")","SI(O(Hoja1!H2821=\"NIT\",Hoja1!H2821=\"Fideicomiso/Fondo\",Hoja1!H2821=\"PJ No Residente\"),Hoja1!B2823,\"\")"]
["SI(O(Hoja1!H2855=\"NIT\",Hoja1!H2855=\"Fideicomiso/Fondo\",Hoja1!H2855=\"PJ No Residente\"),Hoja1!B2859,\"\")",{"$f":"IFERROR(INDEX(TablaNivelDOS[PJNivelDos],_xlfn.AGGREGATE(15,6,(ROW(TablaNivelDOS[PJNivelDos])-ROW(TablaNivelDOS[#Headers]))/(TablaNivelDOS[PJNivelDos]<>\"\"),ROWS($B$307:TablaNivelDOS[[#This Row],[AuxDos]]))),\"\")","v":"SI(O(Hoja1!H2855=\"NIT\",Hoja1!H2855=\"Fideicomiso/Fondo\",Hoja1!H2855=\"PJ No Residente\"),Hoja1!B2859,\"\")"},"SI(O(Hoja1!H2855=\"NIT\",Hoja1!H2855=\"Fideicomiso/Fondo\",Hoja1!H2855=\"PJ No Residente\"),Hoja1!H2855,\"\")","SI(O(Hoja1!H2855=\"NIT\",Hoja1!H2855=\"Fideicomiso/Fondo\",Hoja1!H2855=\"PJ No Residente\"),Hoja1!B2857,\"\")"]
["SI(O(Hoja1!H2889=\"NIT\",Hoja1!H2889=\"Fideicomiso/Fondo\",Hoja1!H2889=\"PJ No Residente\"),Hoja1!B2893,\"\")",{"$f":"IFERROR(INDEX(TablaNivelDOS[PJNivelDos],_xlfn.AGGREGATE(15,6,(ROW(TablaNivelDOS[PJNivelDos])-ROW(TablaNivelDOS[#Headers]))/(TablaNivelDOS[PJNivelDos]<>\"\"),ROWS($B$307:TablaNivelDOS[[#This Row],[AuxDos]]))),\"\")","v":"SI(O(Hoja1!H2889=\"NIT\",Hoja1!H2889=\"Fideicomiso/Fondo\",Hoja1!H2889=\"PJ No Residente\"),Hoja1!B2893,\"\")"},"SI(O(Hoja1!H2889=\"NIT\",Hoja1!H2889=\"Fideicomiso/Fondo\",Hoja1!H2889=\"PJ No Residente\"),Hoja1!H2889,\"\")","SI(O(Hoja1!H2889=\"NIT\",Hoja1!H2889=\"Fideicomiso/Fondo\",Hoja1!H2889=\"PJ No Residente\"),Hoja1!B2891,\"\")"]
["SI(O(Hoja1!H2923=\"NIT\",Hoja1!H2923=\"Fideicomiso/Fondo\",Hoja1!H2923=\"PJ No Residente\"),Hoja1!B2927,\"\")",{"$f":"IFERROR(INDEX(TablaNivelDOS[PJNivelDos],_xlfn.AGGREGATE(15,6,(ROW(TablaNivelDOS[PJNivelDos])-ROW(TablaNivelDOS[#Headers]))/(TablaNivelDOS[PJNivelDos]<>\"\"),ROWS($B$307:TablaNivelDOS[[#This Row],[AuxDos]]))),\"\")","v":"SI(O(Hoja1!H2923=\"NIT\",Hoja1!H2923=\"Fideicomiso/Fondo\",Hoja1!H2923=\"PJ No Residente\"),Hoja1!B2927,\"\")"},"SI(O(Hoja1!H2923=\"NIT\",Hoja1!H2923=\"Fideicomiso/Fondo\",Hoja1!H2923=\"PJ No Residente\"),Hoja1!H2923,\"\")","SI(O(Hoja1!H2923=\"NIT\",Hoja1!H2923=\"Fideicomiso/Fondo\",Hoja1!H2923=\"PJ No Residente\"),Hoja1!B2925,\"\")"]
["SI(O(Hoja1!H2957=\"NIT\",Hoja1!H2957=\"Fideicomiso/Fondo\",Hoja1!H2957=\"PJ No Residente\"),Hoja1!B2961,\"\")",{"$f":"IFERROR(INDEX(TablaNivelDOS[PJNivelDos],_xlfn.AGGREGATE(15,6,(ROW(TablaNivelDOS[PJNivelDos])-ROW(TablaNivelDOS[#Headers]))/(TablaNivelDOS[PJNivelDos]<>\"\"),ROWS($B$307:TablaNivelDOS[[#This Row],[AuxDos]]))),\"\")","v":"SI(O(Hoja1!H2957=\"NIT\",Hoja1!H2957=\"Fideicomiso/Fondo\",Hoja1!H2957=\"PJ No Residente\"),Hoja1!B2961,\"\")"},"SI(O(Hoja1!H2957=\"NIT\",Hoja1!H2957=\"Fideicomiso/Fondo\",Hoja1!H2957=\"PJ No Residente\"),Hoja1!H2957,\"\")","SI(O(Hoja1!H2957=\"NIT\",Hoja1!H2957=\"Fideicomiso/Fondo\",Hoja1!H2957=\"PJ No Residente\"),Hoja1!B2959,\"\")"]
["SI(O(Hoja1!H2991=\"NIT\",Hoja1!H2991=\"Fideicomiso/Fondo\",Hoja1!H2991=\"PJ No Residente\"),Hoja1!B2995,\"\")",{"$f":"IFERROR(INDEX(TablaNivelDOS[PJNivelDos],_xlfn.AGGREGATE(15,6,(ROW(TablaNivelDOS[PJNivelDos])-ROW(TablaNivelDOS[#Headers]))/(TablaNivelDOS[PJNivelDos]<>\"\"),ROWS($B$307:TablaNivelDOS[[#This Row],[AuxDos]]))),\"\")","v":"SI(O(Hoja1!H2991=\"NIT\",Hoja1!H2991=\"Fideicomiso/Fondo\",Hoja1!H2991=\"PJ No Residente\"),Hoja1!B2995,\"\")"},"SI(O(Hoja1!H2991=\"NIT\",Hoja1!H2991=\"Fideicomiso/Fondo\",Hoja1!H2991=\"PJ No Residente\"),Hoja1!H2991,\"\")","SI(O(Hoja1!H2991=\"NIT\",Hoja1!H2991=\"Fideicomiso/Fondo\",Hoja1!H2991=\"PJ No Residente\"),Hoja1!B2993,\"\")"]
["SI(O(Hoja1!H3025=\"NIT\",Hoja1!H3025=\"Fideicomiso/Fondo\",Hoja1!H3025=\"PJ No Residente\"),Hoja1!B3029,\"\")",{"$f":"IFERROR(INDEX(TablaNivelDOS[PJNivelDos],_xlfn.AGGREGATE(15,6,(ROW(TablaNivelDOS[PJNivelDos])-ROW(TablaNivelDOS[#Headers]))/(TablaNivelDOS[PJNivelDos]<>\"\"),ROWS($B$307:TablaNivelDOS[[#This Row],[AuxDos]]))),\"\")","v":"SI(O(Hoja1!H3025=\"NIT\",Hoja1!H3025=\"Fideicomiso/Fondo\",Hoja1!H3025=\"PJ No Residente\"),Hoja1!B3029,\"\")"},"SI(O(Hoja1!H3025=\"NIT\",Hoja1!H3025=\"Fideicomiso/Fondo\",Hoja1!H3025=\"PJ No Residente\"),Hoja1!H3025,\"\")","SI(O(Hoja1!H3025=\"NIT\",Hoja1!H3025=\"Fideicomiso/Fondo\",Hoja1!H3025=\"PJ No Residente\"),Hoja1!B3027,\"\")"]
["SI(O(Hoja1!H3059=\"NIT\",Hoja1!H3059=\"Fideicomiso/Fondo\",Hoja1!H3059=\"PJ No Residente\"),Hoja1!B3063,\"\")",{"$f":"IFERROR(INDEX(TablaNivelDOS[PJNivelDos],_xlfn.AGGREGATE(15,6,(ROW(TablaNivelDOS[PJNivelDos])-ROW(TablaNivelDOS[#Headers]))/(TablaNivelDOS[PJNivelDos]<>\"\"),ROWS($B$307:TablaNivelDOS[[#This Row],[AuxDos]]))),\"\")","v":"SI(O(Hoja1!H3059=\"NIT\",Hoja1!H3059=\"Fideicomiso/Fondo\",Hoja1!H3059=\"PJ No Residente\"),Hoja1!B3063,\"\")"},"SI(O(Hoja1!H3059=\"NIT\",Hoja1!H3059=\"Fideicomiso/Fondo\",Hoja1!H3059=\"PJ No Residente\"),Hoja1!H3059,\"\")","SI(O(Hoja1!H3059=\"NIT\",Hoja1!H3059=\"Fideicomiso/Fondo\",Hoja1!H3059=\"PJ No Residente\"),Hoja1!B3061,\"\")"]
["SI(O(Hoja1!H3093=\"NIT\",Hoja1!H3093=\"Fideicomiso/Fondo\",Hoja1!H3093=\"PJ No Residente\"),Hoja1!B3097,\"\")",{"$f":"IFERROR(INDEX(TablaNivelDOS[PJNivelDos],_xlfn.AGGREGATE(15,6,(ROW(TablaNivelDOS[PJNivelDos])-ROW(TablaNivelDOS[#Headers]))/(TablaNivelDOS[PJNivelDos]<>\"\"),ROWS($B$307:TablaNivelDOS[[#This Row],[AuxDos]]))),\"\")","v":"SI(O(Hoja1!H3093=\"NIT\",Hoja1!H3093=\"Fideicomiso/Fondo\",Hoja1!H3093=\"PJ No Residente\"),Hoja1!B3097,\"\")"},"SI(O(Hoja1!H3093=\"NIT\",Hoja1!H3093=\"Fideicomiso/Fondo\",Hoja1!H3093=\"PJ No Residente\"),Hoja1!H3093,\"\")","SI(O(Hoja1!H3093=\"NIT\",Hoja1!H3093=\"Fideicomiso/Fondo\",Hoja1!H3093=\"PJ No Residente\"),Hoja1!B3095,\"\")"]
["SI(O(Hoja1!H3127=\"NIT\",Hoja1!H3127=\"Fideicomiso/Fondo\",Hoja1!H3127=\"PJ No Residente\"),Hoja1!B3131,\"\")",{"$f":"IFERROR(INDEX(TablaNivelDOS[PJNivelDos],_xlfn.AGGREGATE(15,6,(ROW(TablaNivelDOS[PJNivelDos])-ROW(TablaNivelDOS[#Headers]))/(TablaNivelDOS[PJNivelDos]<>\"\"),ROWS($B$307:TablaNivelDOS[[#This Row],[AuxDos]]))),\"\")","v":"SI(O(Hoja1!H3127=\"NIT\",Hoja1!H3127=\"Fideicomiso/Fondo\",Hoja1!H3127=\"PJ No Residente\"),Hoja1!B3131,\"\")"},"SI(O(Hoja1!H3127=\"NIT\",Hoja1!H3127=\"Fideicomiso/Fondo\",Hoja1!H3127=\"PJ No Residente\"),Hoja1!H3127,\"\")","SI(O(Hoja1!H3127=\"NIT\",Hoja1!H3127=\"Fideicomiso/Fondo\",Hoja1!H3127=\"PJ No Residente\"),Hoja1!B3129,\"\")"]
["SI(O(Hoja1!H3161=\"NIT\",Hoja1!H3161=\"Fideicomiso/Fondo\",Hoja1!H3161=\"PJ No Residente\"),Hoja1!B3165,\"\")",{"$f":"IFERROR(INDEX(TablaNivelDOS[PJNivelDos],_xlfn.AGGREGATE(15,6,(ROW(TablaNivelDOS[PJNivelDos])-ROW(TablaNivelDOS[#Headers]))/(TablaNivelDOS[PJNivelDos]<>\"\"),ROWS($B$307:TablaNivelDOS[[#This Row],[AuxDos]]))),\"\")","v":"SI(O(Hoja1!H3161=\"NIT\",Hoja1!H3161=\"Fideicomiso/Fondo\",Hoja1!H3161=\"PJ No Residente\"),Hoja1!B3165,\"\")"},"SI(O(Hoja1!H3161=\"NIT\",Hoja1!H3161=\"Fideicomiso/Fondo\",Hoja1!H3161=\"PJ No Residente\"),Hoja1!H3161,\"\")","SI(O(Hoja1!H3161=\"NIT\",Hoja1!H3161=\"Fideicomiso/Fondo\",Hoja1!H3161=\"PJ No Residente\"),Hoja1!B3163,\"\")"]
["SI(O(Hoja1!H3195=\"NIT\",Hoja1!H3195=\"Fideicomiso/Fondo\",Hoja1!H3195=\"PJ No Residente\"),Hoja1!B3199,\"\")",{"$f":"IFERROR(INDEX(TablaNivelDOS[PJNivelDos],_xlfn.AGGREGATE(15,6,(ROW(TablaNivelDOS[PJNivelDos])-ROW(TablaNivelDOS[#Headers]))/(TablaNivelDOS[PJNivelDos]<>\"\"),ROWS($B$307:TablaNivelDOS[[#This Row],[AuxDos]]))),\"\")","v":"SI(O(Hoja1!H3195=\"NIT\",Hoja1!H3195=\"Fideicomiso/Fondo\",Hoja1!H3195=\"PJ No Residente\"),Hoja1!B3199,\"\")"},"SI(O(Hoja1!H3195=\"NIT\",Hoja1!H3195=\"Fideicomiso/Fondo\",Hoja1!H3195=\"PJ No Residente\"),Hoja1!H3195,\"\")","SI(O(Hoja1!H3195=\"NIT\",Hoja1!H3195=\"Fideicomiso/Fondo\",Hoja1!H3195=\"PJ No Residente\"),Hoja1!B3197,\"\")"]
["SI(O(Hoja1!H3229=\"NIT\",Hoja1!H3229=\"Fideicomiso/Fondo\",Hoja1!H3229=\"PJ No Residente\"),Hoja1!B3233,\"\")",{"$f":"IFERROR(INDEX(TablaNivelDOS[PJNivelDos],_xlfn.AGGREGATE(15,6,(ROW(TablaNivelDOS[PJNivelDos])-ROW(TablaNivelDOS[#Headers]))/(TablaNivelDOS[PJNivelDos]<>\"\"),ROWS($B$307:TablaNivelDOS[[#This Row],[AuxDos]]))),\"\")","v":"SI(O(Hoja1!H3229=\"NIT\",Hoja1!H3229=\"Fideicomiso/Fondo\",Hoja1!H3229=\"PJ No Residente\"),Hoja1!B3233,\"\")"},"SI(O(Hoja1!H3229=\"NIT\",Hoja1!H3229=\"Fideicomiso/Fondo\",Hoja1!H3229=\"PJ No Residente\"),Hoja1!H3229,\"\")","SI(O(Hoja1!H3229=\"NIT\",Hoja1!H3229=\"Fideicomiso/Fondo\",Hoja1!H3229=\"PJ No Residente\"),Hoja1!B3231,\"\")"]
["SI(O(Hoja1!H3263=\"NIT\",Hoja1!H3263=\"Fideicomiso/Fondo\",Hoja1!H3263=\"PJ No Residente\"),Hoja1!B3267,\"\")",{"$f":"IFERROR(INDEX(TablaNivelDOS[PJNivelDos],_xlfn.AGGREGATE(15,6,(ROW(TablaNivelDOS[PJNivelDos])-ROW(TablaNivelDOS[#Headers]))/(TablaNivelDOS[PJNivelDos]<>\"\"),ROWS($B$307:TablaNivelDOS[[#This Row],[AuxDos]]))),\"\")","v":"SI(O(Hoja1!H3263=\"NIT\",Hoja1!H3263=\"Fideicomiso/Fondo\",Hoja1!H3263=\"PJ No Residente\"),Hoja1!B3267,\"\")"},"SI(O(Hoja1!H3263=\"NIT\",Hoja1!H3263=\"Fideicomiso/Fondo\",Hoja1!H3263=\"PJ No Residente\"),Hoja1!H3263,\"\")","SI(O(Hoja1!H3263=\"NIT\",Hoja1!H3263=\"Fideicomiso/Fondo\",Hoja1!H3263=\"PJ No Residente\"),Hoja1!B3265,\"\")"]
["SI(O(Hoja1!H3297=\"NIT\",Hoja1!H3297=\"Fideicomiso/Fondo\",Hoja1!H3297=\"PJ No Residente\"),Hoja1!B3301,\"\")",{"$f":"IFERROR(INDEX(TablaNivelDOS[PJNivelDos],_xlfn.AGGREGATE(15,6,(ROW(TablaNivelDOS[PJNivelDos])-ROW(TablaNivelDOS[#Headers]))/(TablaNivelDOS[PJNivelDos]<>\"\"),ROWS($B$307:TablaNivelDOS[[#This Row],[AuxDos]]))),\"\")","v":"SI(O(Hoja1!H3297=\"NIT\",Hoja1!H3297=\"Fideicomiso/Fondo\",Hoja1!H3297=\"PJ No Residente\"),Hoja1!B3301,\"\")"},"SI(O(Hoja1!H3297=\"NIT\",Hoja1!H3297=\"Fideicomiso/Fondo\",Hoja1!H3297=\"PJ No Residente\"),Hoja1!H3297,\"\")","SI(O(Hoja1!H3297=\"NIT\",Hoja1!H3297=\"Fideicomiso/Fondo\",Hoja1!H3297=\"PJ No Residente\"),Hoja1!B3299,\"\")"]
["SI(O(Hoja1!H3331=\"NIT\",Hoja1!H3331=\"Fideicomiso/Fondo\",Hoja1!H3331=\"PJ No Residente\"),Hoja1!B3335,\"\")",{"$f":"IFERROR(INDEX(TablaNivelDOS[PJNivelDos],_xlfn.AGGREGATE(15,6,(ROW(TablaNivelDOS[PJNivelDos])-ROW(TablaNivelDOS[#Headers]))/(TablaNivelDOS[PJNivelDos]<>\"\"),ROWS($B$307:TablaNivelDOS[[#This Row],[AuxDos]]))),\"\")","v":"SI(O(Hoja1!H3331=\"NIT\",Hoja1!H3331=\"Fideicomiso/Fondo\",Hoja1!H3331=\"PJ No Residente\"),Hoja1!B3335,\"\")"},"SI(O(Hoja1!H3331=\"NIT\",Hoja1!H3331=\"Fideicomiso/Fondo\",Hoja1!H3331=\"PJ No Residente\"),Hoja1!H3331,\"\")","SI(O(Hoja1!H3331=\"NIT\",Hoja1!H3331=\"Fideicomiso/Fondo\",Hoja1!H3331=\"PJ No Residente\"),Hoja1!B3333,\"\")"]
["SI(O(Hoja1!H3365=\"NIT\",Hoja1!H3365=\"Fideicomiso/Fondo\",Hoja1!H3365=\"PJ No Residente\"),Hoja1!B3369,\"\")",{"$f":"IFERROR(INDEX(TablaNivelDOS[PJNivelDos],_xlfn.AGGREGATE(15,6,(ROW(TablaNivelDOS[PJNivelDos])-ROW(TablaNivelDOS[#Headers]))/(TablaNivelDOS[PJNivelDos]<>\"\"),ROWS($B$307:TablaNivelDOS[[#This Row],[AuxDos]]))),\"\")","v":"SI(O(Hoja1!H3365=\"NIT\",Hoja1!H3365=\"Fideicomiso/Fondo\",Hoja1!H3365=\"PJ No Residente\"),Hoja1!B3369,\"\")"},"SI(O(Hoja1!H3365=\"NIT\",Hoja1!H3365=\"Fideicomiso/Fondo\",Hoja1!H3365=\"PJ No Residente\"),Hoja1!H3365,\"\")","SI(O(Hoja1!H3365=\"NIT\",Hoja1!H3365=\"Fideicomiso/Fondo\",Hoja1!H3365=\"PJ No Residente\"),Hoja1!B3367,\"\")"]
["SI(O(Hoja1!H3399=\"NIT\",Hoja1!H3399=\"Fideicomiso/Fondo\",Hoja1!H3399=\"PJ No Residente\"),Hoja1!B3403,\"\")",{"$f":"IFERROR(INDEX(TablaNivelDOS[PJNivelDos],_xlfn.AGGREGATE(15,6,(ROW(TablaNivelDOS[PJNivelDos])-ROW(TablaNivelDOS[#Headers]))/(TablaNivelDOS[PJNivelDos]<>\"\"),ROWS($B$307:TablaNivelDOS[[#This Row],[AuxDos]]))),\"\")","v":"SI(O(Hoja1!H3399=\"NIT\",Hoja1!H3399=\"Fideicomiso/Fondo\",Hoja1!H3399=\"PJ No Residente\"),Hoja1!B3403,\"\")"},"SI(O(Hoja1!H3399=\"NIT\",Hoja1!H3399=\"Fideicomiso/Fondo\",Hoja1!H3399=\"PJ No Residente\"),Hoja1!H3399,\"\")","SI(O(Hoja1!H3399=\"NIT\",Hoja1!H3399=\"Fideicomiso/Fondo\",Hoja1!H3399=\"PJ No Residente\"),Hoja1!B3401,\"\")"]
["SI(O(Hoja1!H3433=\"NIT\",Hoja1!H3433=\"Fideicomiso/Fondo\",Hoja1!H3433=\"PJ No Residente\"),Hoja1!B3437,\"\")",{"$f":"IFERROR(INDEX(TablaNivelDOS[PJNivelDos],_xlfn.AGGREGATE(15,6,(ROW(TablaNivelDOS[PJNivelDos])-ROW(TablaNivelDOS[#Headers]))/(TablaNivelDOS[PJNivelDos]<>\"\"),ROWS($B$307:TablaNivelDOS[[#This Row],[AuxDos]]))),\"\")","v":"SI(O(Hoja1!H3433=\"NIT\",Hoja1!H3433=\"Fideicomiso/Fondo\",Hoja1!H3433=\"PJ No Residente\"),Hoja1!B3437,\"\")"},"SI(O(Hoja1!H3433=\"NIT\",Hoja1!H3433=\"Fideicomiso/Fondo\",Hoja1!H3433=\"PJ No Residente\"),Hoja1!H3433,\"\")","SI(O(Hoja1!H3433=\"NIT\",Hoja1!H3433=\"Fideicomiso/Fondo\",Hoja1!H3433=\"PJ No Residente\"),Hoja1!B3435,\"\")"]
["SI(O(Hoja1!H3467=\"NIT\",Hoja1!H3467=\"Fideicomiso/Fondo\",Hoja1!H3467=\"PJ No Residente\"),Hoja1!B3471,\"\")",{"$f":"IFERROR(INDEX(TablaNivelDOS[PJNivelDos],_xlfn.AGGREGATE(15,6,(ROW(TablaNivelDOS[PJNivelDos])-ROW(TablaNivelDOS[#Headers]))/(TablaNivelDOS[PJNivelDos]<>\"\"),ROWS($B$307:TablaNivelDOS[[#This Row],[AuxDos]]))),\"\")","v":"SI(O(Hoja1!H3467=\"NIT\",Hoja1!H3467=\"Fideicomiso/Fondo\",Hoja1!H3467=\"PJ No Residente\"),Hoja1!B3471,\"\")"},"SI(O(Hoja1!H3467=\"NIT\",Hoja1!H3467=\"Fideicomiso/Fondo\",Hoja1!H3467=\"PJ No Residente\"),Hoja1!H3467,\"\")","SI(O(Hoja1!H3467=\"NIT\",Hoja1!H3467=\"Fideicomiso/Fondo\",Hoja1!H3467=\"PJ No Residente\"),Hoja1!B3469,\"\")"]
["SI(O(Hoja1!H3501=\"NIT\",Hoja1!H3501=\"Fideicomiso/Fondo\",Hoja1!H3501=\"PJ No Residente\"),Hoja1!B3505,\"\")",{"$f":"IFERROR(INDEX(TablaNivelDOS[PJNivelDos],_xlfn.AGGREGATE(15,6,(ROW(TablaNivelDOS[PJNivelDos])-ROW(TablaNivelDOS[#Headers]))/(TablaNivelDOS[PJNivelDos]<>\"\"),ROWS($B$307:TablaNivelDOS[[#This Row],[AuxDos]]))),\"\")","v":"SI(O(Hoja1!H3501=\"NIT\",Hoja1!H3501=\"Fideicomiso/Fondo\",Hoja1!H3501=\"PJ No Residente\"),Hoja1!B3505,\"\")"},"SI(O(Hoja1!H3501=\"NIT\",Hoja1!H3501=\"Fideicomiso/Fondo\",Hoja1!H3501=\"PJ No Residente\"),Hoja1!H3501,\"\")","SI(O(Hoja1!H3501=\"NIT\",Hoja1!H3501=\"Fideicomiso/Fondo\",Hoja1!H3501=\"PJ No Residente\"),Hoja1!B3503,\"\")"]
["SI(O(Hoja1!H3535=\"NIT\",Hoja1!H3535=\"Fideicomiso/Fondo\",Hoja1!H3535=\"PJ No Residente\"),Hoja1!B3539,\"\")",{"$f":"IFERROR(INDEX(TablaNivelDOS[PJNivelDos],_xlfn.AGGREGATE(15,6,(ROW(TablaNivelDOS[PJNivelDos])-ROW(TablaNivelDOS[#Headers]))/(TablaNivelDOS[PJNivelDos]<>\"\"),ROWS($B$307:TablaNivelDOS[[#This Row],[AuxDos]]))),\"\")","v":"SI(O(Hoja1!H3535=\"NIT\",Hoja1!H3535=\"Fideicomiso/Fondo\",Hoja1!H3535=\"PJ No Residente\"),Hoja1!B3539,\"\")"},"SI(O(Hoja1!H3535=\"NIT\",Hoja1!H3535=\"Fideicomiso/Fondo\",Hoja1!H3535=\"PJ No Residente\"),Hoja1!H3535,\"\")","SI(O(Hoja1!H3535=\"NIT\",Hoja1!H3535=\"Fideicomiso/Fondo\",Hoja1!H3535=\"PJ No Residente\"),Hoja1!B3537,\"\")"]
["SI(O(Hoja1!H3569=\"NIT\",Hoja1!H3569=\"Fideicomiso/Fondo\",Hoja1!H3569=\"PJ No Residente\"),Hoja1!B3573,\"\")",{"$f":"IFERROR(INDEX(TablaNivelDOS[PJNivelDos],_xlfn.AGGREGATE(15,6,(ROW(TablaNivelDOS[PJNivelDos])-ROW(TablaNivelDOS[#Headers]))/(TablaNivelDOS[PJNivelDos]<>\"\"),ROWS($B$307:TablaNivelDOS[[#This Row],[AuxDos]]))),\"\")","v":"SI(O(Hoja1!H3569=\"NIT\",Hoja1!H3569=\"Fideicomiso/Fondo\",Hoja1!H3569=\"PJ No Residente\"),Hoja1!B3573,\"\")"},"SI(O(Hoja1!H3569=\"NIT\",Hoja1!H3569=\"Fideicomiso/Fondo\",Hoja1!H3569=\"PJ No Residente\"),Hoja1!H3569,\"\")","SI(O(Hoja1!H3569=\"NIT\",Hoja1!H3569=\"Fideicomiso/Fondo\",Hoja1!H3569=\"PJ No Residente\"),Hoja1!B3571,\"\")"]
["SI(O(Hoja1!H3603=\"NIT\",Hoja1!H3603=\"Fideicomiso/Fondo\",Hoja1!H3603=\"PJ No Residente\"),Hoja1!B3607,\"\")",{"$f":"IFERROR(INDEX(TablaNivelDOS[PJNivelDos],_xlfn.AGGREGATE(15,6,(ROW(TablaNivelDOS[PJNivelDos])-ROW(TablaNivelDOS[#Headers]))/(TablaNivelDOS[PJNivelDos]<>\"\"),ROWS($B$307:TablaNivelDOS[[#This Row],[AuxDos]]))),\"\")","v":"SI(O(Hoja1!H3603=\"NIT\",Hoja1!H3603=\"Fideicomiso/Fondo\",Hoja1!H3603=\"PJ No Residente\"),Hoja1!B3607,\"\")"},"SI(O(Hoja1!H3603=\"NIT\",Hoja1!H3603=\"Fideicomiso/Fondo\",Hoja1!H3603=\"PJ No Residente\"),Hoja1!H3603,\"\")","SI(O(Hoja1!H3603=\"NIT\",Hoja1!H3603=\"Fideicomiso/Fondo\",Hoja1!H3603=\"PJ No Residente\"),Hoja1!B3605,\"\")"]
["SI(O(Hoja1!H3637=\"NIT\",Hoja1!H3637=\"Fideicomiso/Fondo\",Hoja1!H3637=\"PJ No Residente\"),Hoja1!B3641,\"\")",{"$f":"IFERROR(INDEX(TablaNivelDOS[PJNivelDos],_xlfn.AGGREGATE(15,6,(ROW(TablaNivelDOS[PJNivelDos])-ROW(TablaNivelDOS[#Headers]))/(TablaNivelDOS[PJNivelDos]<>\"\"),ROWS($B$307:TablaNivelDOS[[#This Row],[AuxDos]]))),\"\")","v":"SI(O(Hoja1!H3637=\"NIT\",Hoja1!H3637=\"Fideicomiso/Fondo\",Hoja1!H3637=\"PJ No Residente\"),Hoja1!B3641,\"\")"},"SI(O(Hoja1!H3637=\"NIT\",Hoja1!H3637=\"Fideicomiso/Fondo\",Hoja1!H3637=\"PJ No Residente\"),Hoja1!H3637,\"\")","SI(O(Hoja1!H3637=\"NIT\",Hoja1!H3637=\"Fideicomiso/Fondo\",Hoja1!H3637=\"PJ No Residente\"),Hoja1!B3639,\"\")"]
["SI(O(Hoja1!H3671=\"NIT\",Hoja1!H3671=\"Fideicomiso/Fondo\",Hoja1!H3671=\"PJ No Residente\"),Hoja1!B3675,\"\")",{"$f":"IFERROR(INDEX(TablaNivelDOS[PJNivelDos],_xlfn.AGGREGATE(15,6,(ROW(TablaNivelDOS[PJNivelDos])-ROW(TablaNivelDOS[#Headers]))/(TablaNivelDOS[PJNivelDos]<>\"\"),ROWS($B$307:TablaNivelDOS[[#This Row],[AuxDos]]))),\"\")","v":"SI(O(Hoja1!H3671=\"NIT\",Hoja1!H3671=\"Fideicomiso/Fondo\",Hoja1!H3671=\"PJ No Residente\"),Hoja1!B3675,\"\")"},"SI(O(Hoja1!H3671=\"NIT\",Hoja1!H3671=\"Fideicomiso/Fondo\",Hoja1!H3671=\"PJ No Residente\"),Hoja1!H3671,\"\")","SI(O(Hoja1!H3671=\"NIT\",Hoja1!H3671=\"Fideicomiso/Fondo\",Hoja1!H3671=\"PJ No Residente\"),Hoja1!B3673,\"\")"]
["SI(O(Hoja1!H3705=\"NIT\",Hoja1!H3705=\"Fideicomiso/Fondo\",Hoja1!H3705=\"PJ No Residente\"),Hoja1!B3709,\"\")",{"$f":"IFERROR(INDEX(TablaNivelDOS[PJNivelDos],_xlfn.AGGREGATE(15,6,(ROW(TablaNivelDOS[PJNivelDos])-ROW(TablaNivelDOS[#Headers]))/(TablaNivelDOS[PJNivelDos]<>\"\"),ROWS($B$307:TablaNivelDOS[[#This Row],[AuxDos]]))),\"\")","v":"SI(O(Hoja1!H3705=\"NIT\",Hoja1!H3705=\"Fideicomiso/Fondo\",Hoja1!H3705=\"PJ No Residente\"),Hoja1!B3709,\"\")"},"SI(O(Hoja1!H3705=\"NIT\",Hoja1!H3705=\"Fideicomiso/Fondo\",Hoja1!H3705=\"PJ No Residente\"),Hoja1!H3705,\"\")","SI(O(Hoja1!H3705=\"NIT\",Hoja1!H3705=\"Fideicomiso/Fondo\",Hoja1!H3705=\"PJ No Residente\"),Hoja1!B3707,\"\")"]
["SI(O(Hoja1!H3739=\"NIT\",Hoja1!H3739=\"Fideicomiso/Fondo\",Hoja1!H3739=\"PJ No Residente\"),Hoja1!B3743,\"\")",{"$f":"IFERROR(INDEX(TablaNivelDOS[PJNivelDos],_xlfn.AGGREGATE(15,6,(ROW(TablaNivelDOS[PJNivelDos])-ROW(TablaNivelDOS[#Headers]))/(TablaNivelDOS[PJNivelDos]<>\"\"),ROWS($B$307:TablaNivelDOS[[#This Row],[AuxDos]]))),\"\")","v":"SI(O(Hoja1!H3739=\"NIT\",Hoja1!H3739=\"Fideicomiso/Fondo\",Hoja1!H3739=\"PJ No Residente\"),Hoja1!B3743,\"\")"},"SI(O(Hoja1!H3739=\"NIT\",Hoja1!H3739=\"Fideicomiso/Fondo\",Hoja1!H3739=\"PJ No Residente\"),Hoja1!H3739,\"\")","SI(O(Hoja1!H3739=\"NIT\",Hoja1!H3739=\"Fideicomiso/Fondo\",Hoja1!H3739=\"PJ No Residente\"),Hoja1!B3741,\"\")"]
["SI(O(Hoja1!H3773=\"NIT\",Hoja1!H3773=\"Fideicomiso/Fondo\",Hoja1!H3773=\"PJ No Residente\"),Hoja1!B3777,\"\")",{"$f":"IFERROR(INDEX(TablaNivelDOS[PJNivelDos],_xlfn.AGGREGATE(15,6,(ROW(TablaNivelDOS[PJNivelDos])-ROW(TablaNivelDOS[#Headers]))/(TablaNivelDOS[PJNivelDos]<>\"\"),ROWS($B$307:TablaNivelDOS[[#This Row],[AuxDos]]))),\"\")","v":"SI(O(Hoja1!H3773=\"NIT\",Hoja1!H3773=\"Fideicomiso/Fondo\",Hoja1!H3773=\"PJ No Residente\"),Hoja1!B3777,\"\")"},"SI(O(Hoja1!H3773=\"NIT\",Hoja1!H3773=\"Fideicomiso/Fondo\",Hoja1!H3773=\"PJ No Residente\"),Hoja1!H3773,\"\")","SI(O(Hoja1!H3773=\"NIT\",Hoja1!H3773=\"Fideicomiso/Fondo\",Hoja1!H3773=\"PJ No Residente\"),Hoja1!B3775,\"\")"]
["SI(O(Hoja1!H3807=\"NIT\",Hoja1!H3807=\"Fideicomiso/Fondo\",Hoja1!H3807=\"PJ No Residente\"),Hoja1!B3811,\"\")",{"$f":"IFERROR(INDEX(TablaNivelDOS[PJNivelDos],_xlfn.AGGREGATE(15,6,(ROW(TablaNivelDOS[PJNivelDos])-ROW(TablaNivelDOS[#Headers]))/(TablaNivelDOS[PJNivelDos]<>\"\"),ROWS($B$307:TablaNivelDOS[[#This Row],[AuxDos]]))),\"\")","v":"SI(O(Hoja1!H3807=\"NIT\",Hoja1!H3807=\"Fideicomiso/Fondo\",Hoja1!H3807=\"PJ No Residente\"),Hoja1!B3811,\"\")"},"SI(O(Hoja1!H3807=\"NIT\",Hoja1!H3807=\"Fideicomiso/Fondo\",Hoja1!H3807=\"PJ No Residente\"),Hoja1!H3807,\"\")","SI(O(Hoja1!H3807=\"NIT\",Hoja1!H3807=\"Fideicomiso/Fondo\",Hoja1!H3807=\"PJ No Residente\"),Hoja1!B3809,\"\")"]
["SI(O(Hoja1!H3841=\"NIT\",Hoja1!H3841=\"Fideicomiso/Fondo\",Hoja1!H3841=\"PJ No Residente\"),Hoja1!B3845,\"\")",{"$f":"IFERROR(INDEX(TablaNivelDOS[PJNivelDos],_xlfn.AGGREGATE(15,6,(ROW(TablaNivelDOS[PJNivelDos])-ROW(TablaNivelDOS[#Headers]))/(TablaNivelDOS[PJNivelDos]<>\"\"),ROWS($B$307:TablaNivelDOS[[#This Row],[AuxDos]]))),\"\")","v":"SI(O(Hoja1!H3841=\"NIT\",Hoja1!H3841=\"Fideicomiso/Fondo\",Hoja1!H3841=\"PJ No Residente\"),Hoja1!B3845,\"\")"},"SI(O(Hoja1!H3841=\"NIT\",Hoja1!H3841=\"Fideicomiso/Fondo\",Hoja1!H3841=\"PJ No Residente\"),Hoja1!H3841,\"\")","SI(O(Hoja1!H3841=\"NIT\",Hoja1!H3841=\"Fideicomiso/Fondo\",Hoja1!H3841=\"PJ No Residente\"),Hoja1!B3843,\"\")"]
["SI(O(Hoja1!H3875=\"NIT\",Hoja1!H3875=\"Fideicomiso/Fondo\",Hoja1!H3875=\"PJ No Residente\"),Hoja1!B3879,\"\")",{"$f":"IFERROR(INDEX(TablaNivelDOS[PJNivelDos],_xlfn.AGGREGATE(15,6,(ROW(TablaNivelDOS[PJNivelDos])-ROW(TablaNivelDOS[#Headers]))/(TablaNivelDOS[PJNivelDos]<>\"\"),ROWS($B$307:TablaNivelDOS[[#This Row],[AuxDos]]))),\"\")","v":"SI(O(Hoja1!H3875=\"NIT\",Hoja1!H3875=\"Fideicomiso/Fondo\",Hoja1!H3875=\"PJ No Residente\"),Hoja1!B3879,\"\")"},"SI(O(Hoja1!H3875=\"NIT\",Hoja1!H3875=\"Fideicomiso/Fondo\",Hoja1!H3875=\"PJ No Residente\"),Hoja1!H3875,\"\")","SI(O(Hoja1!H3875=\"NIT\",Hoja1!H3875=\"Fideicomiso/Fondo\",Hoja1!H3875=\"PJ No Residente\"),Hoja1!B3877,\"\")"]
["SI(O(Hoja1!H3909=\"NIT\",Hoja1!H3909=\"Fideicomiso/Fondo\",Hoja1!H3909=\"PJ No Residente\"),Hoja1!B3913,\"\")",{"$f":"IFERROR(INDEX(TablaNivelDOS[PJNivelDos],_xlfn.AGGREGATE(15,6,(ROW(TablaNivelDOS[PJNivelDos])-ROW(TablaNivelDOS[#Headers]))/(TablaNivelDOS[PJNivelDos]<>\"\"),ROWS($B$307:TablaNivelDOS[[#This Row],[AuxDos]]))),\"\")","v":"SI(O(Hoja1!H3909=\"NIT\",Hoja1!H3909=\"Fideicomiso/Fondo\",Hoja1!H3909=\"PJ No Residente\"),Hoja1!B3913,\"\")"},"SI(O(Hoja1!H3909=\"NIT\",Hoja1!H3909=\"Fideicomiso/Fondo\",Hoja1!H3909=\"PJ No Residente\"),Hoja1!H3909,\"\")","SI(O(Hoja1!H3909=\"NIT\",Hoja1!H3909=\"Fideicomiso/Fondo\",Hoja1!H3909=\"PJ No Residente\"),Hoja1!B3911,\"\")"]
["SI(O(Hoja1!H3943=\"NIT\",Hoja1!H3943=\"Fideicomiso/Fondo\",Hoja1!H3943=\"PJ No Residente\"),Hoja1!B3947,\"\")",{"$f":"IFERROR(INDEX(TablaNivelDOS[PJNivelDos],_xlfn.AGGREGATE(15,6,(ROW(TablaNivelDOS[PJNivelDos])-ROW(TablaNivelDOS[#Headers]))/(TablaNivelDOS[PJNivelDos]<>\"\"),ROWS($B$307:TablaNivelDOS[[#This Row],[AuxDos]]))),\"\")","v":"SI(O(Hoja1!H3943=\"NIT\",Hoja1!H3943=\"Fideicomiso/Fondo\",Hoja1!H3943=\"PJ No Residente\"),Hoja1!B3947,\"\")"},"SI(O(Hoja1!H3943=\"NIT\",Hoja1!H3943=\"Fideicomiso/Fondo\",Hoja1!H3943=\"PJ No Residente\"),Hoja1!H3943,\"\")","SI(O(Hoja1!H3943=\"NIT\",Hoja1!H3943=\"Fideicomiso/Fondo\",Hoja1!H3943=\"PJ No Residente\"),Hoja1!B3945,\"\")"]
["SI(O(Hoja1!H3977=\"NIT\",Hoja1!H3977=\"Fideicomiso/Fondo\",Hoja1!H3977=\"PJ No Residente\"),Hoja1!B3981,\"\")",{"$f":"IFERROR(INDEX(TablaNivelDOS[PJNivelDos],_xlfn.AGGREGATE(15,6,(ROW(TablaNivelDOS[PJNivelDos])-ROW(TablaNivelDOS[#Headers]))/(TablaNivelDOS[PJNivelDos]<>\"\"),ROWS($B$307:TablaNivelDOS[[#This Row],[AuxDos]]))),\"\")","v":"SI(O(Hoja1!H3977=\"NIT\",Hoja1!H3977=\"Fideicomiso/Fondo\",Hoja1!H3977=\"PJ No Residente\"),Hoja1!B3981,\"\")"},"SI(O(Hoja1!H3977=\"NIT\",Hoja1!H3977=\"Fideicomiso/Fondo\",Hoja1!H3977=\"PJ No Residente\"),Hoja1!H3977,\"\")","SI(O(Hoja1!H3977=\"NIT\",Hoja1!H3977=\"Fideicomiso/Fondo\",Hoja1!H3977=\"PJ No Residente\"),Hoja1!B3979,\"\")"]
["SI(O(Hoja1!H4011=\"NIT\",Hoja1!H4011=\"Fideicomiso/Fondo\",Hoja1!H4011=\"PJ No Residente\"),Hoja1!B4015,\"\")",{"$f":"IFERROR(INDEX(TablaNivelDOS[PJNivelDos],_xlfn.AGGREGATE(15,6,(ROW(TablaNivelDOS[PJNivelDos])-ROW(TablaNivelDOS[#Headers]))/(TablaNivelDOS[PJNivelDos]<>\"\"),ROWS($B$307:TablaNivelDOS[[#This Row],[AuxDos]]))),\"\")","v":"SI(O(Hoja1!H4011=\"NIT\",Hoja1!H4011=\"Fideicomiso/Fondo\",Hoja1!H4011=\"PJ No Residente\"),Hoja1!B4015,\"\")"},"SI(O(Hoja1!H4011=\"NIT\",Hoja1!H4011=\"Fideicomiso/Fondo\",Hoja1!H4011=\"PJ No Residente\"),Hoja1!H4011,\"\")","SI(O(Hoja1!H4011=\"NIT\",Hoja1!H4011=\"Fideicomiso/Fondo\",Hoja1!H4011=\"PJ No Residente\"),Hoja1!B4013,\"\")"]
["SI(O(Hoja1!H4045=\"NIT\",Hoja1!H4045=\"Fideicomiso/Fondo\",Hoja1!H4045=\"PJ No Residente\"),Hoja1!B4049,\"\")",{"$f":"IFERROR(INDEX(TablaNivelDOS[PJNivelDos],_xlfn.AGGREGATE(15,6,(ROW(TablaNivelDOS[PJNivelDos])-ROW(TablaNivelDOS[#Headers]))/(TablaNivelDOS[PJNivelDos]<>\"\"),ROWS($B$307:TablaNivelDOS[[#This Row],[AuxDos]]))),\"\")","v":"SI(O(Hoja1!H4045=\"NIT\",Hoja1!H4045=\"Fideicomiso/Fondo\",Hoja1!H4045=\"PJ No Residente\"),Hoja1!B4049,\"\")"},"SI(O(Hoja1!H4045=\"NIT\",Hoja1!H4045=\"Fideicomiso/Fondo\",Hoja1!H4045=\"PJ No Residente\"),Hoja1!H4045,\"\")","SI(O(Hoja1!H4045=\"NIT\",Hoja1!H4045=\"Fideicomiso/Fondo\",Hoja1!H4045=\"PJ No Residente\"),Hoja1!B4047,\"\")"]
["SI(O(Hoja1!H4079=\"NIT\",Hoja1!H4079=\"Fideicomiso/Fondo\",Hoja1!H4079=\"PJ No Residente\"),Hoja1!B4083,\"\")",{"$f":"IFERROR(INDEX(TablaNivelDOS[PJNivelDos],_xlfn.AGGREGATE(15,6,(ROW(TablaNivelDOS[PJNivelDos])-ROW(TablaNivelDOS[#Headers]))/(TablaNivelDOS[PJNivelDos]<>\"\"),ROWS($B$307:TablaNivelDOS[[#This Row],[AuxDos]]))),\"\")","v":"SI(O(Hoja1!H4079=\"NIT\",Hoja1!H4079=\"Fideicomiso/Fondo\",Hoja1!H4079=\"PJ No Residente\"),Hoja1!B4083,\"\")"},"SI(O(Hoja1!H4079=\"NIT\",Hoja1!H4079=\"Fideicomiso/Fondo\",Hoja1!H4079=\"PJ No Residente\"),Hoja1!H4079,\"\")","SI(O(Hoja1!H4079=\"NIT\",Hoja1!H4079=\"Fideicomiso/Fondo\",Hoja1!H4079=\"PJ No Residente\"),Hoja1!B4081,\"\")"]
["SI(O(Hoja1!H4113=\"NIT\",Hoja1!H4113=\"Fideicomiso/Fondo\",Hoja1!H4113=\"PJ No Residente\"),Hoja1!B4117,\"\")",{"$f":"IFERROR(INDEX(TablaNivelDOS[PJNivelDos],_xlfn.AGGREGATE(15,6,(ROW(TablaNivelDOS[PJNivelDos])-ROW(TablaNivelDOS[#Headers]))/(TablaNivelDOS[PJNivelDos]<>\"\"),ROWS($B$307:TablaNivelDOS[[#This Row],[AuxDos]]))),\"\")","v":"SI(O(Hoja1!H4113=\"NIT\",Hoja1!H4113=\"Fideicomiso/Fondo\",Hoja1!H4113=\"PJ No Residente\"),Hoja1!B4117,\"\")"},"SI(O(Hoja1!H4113=\"NIT\",Hoja1!H4113=\"Fideicomiso/Fondo\",Hoja1!H4113=\"PJ No Residente\"),Hoja1!H4113,\"\")","SI(O(Hoja1!H4113=\"NIT\",Hoja1!H4113=\"Fideicomiso/Fondo\",Hoja1!H4113=\"PJ No Residente\"),Hoja1!B4115,\"\")"]
["SI(O(Hoja1!H4147=\"NIT\",Hoja1!H4147=\"Fideicomiso/Fondo\",Hoja1!H4147=\"PJ No Residente\"),Hoja1!B4151,\"\")",{"$f":"IFERROR(INDEX(TablaNivelDOS[PJNivelDos],_xlfn.AGGREGATE(15,6,(ROW(TablaNivelDOS[PJNivelDos])-ROW(TablaNivelDOS[#Headers]))/(TablaNivelDOS[PJNivelDos]<>\"\"),ROWS($B$307:TablaNivelDOS[[#This Row],[AuxDos]]))),\"\")","v":"SI(O(Hoja1!H4147=\"NIT\",Hoja1!H4147=\"Fideicomiso/Fondo\",Hoja1!H4147=\"PJ No Residente\"),Hoja1!B4151,\"\")"},"SI(O(Hoja1!H4147=\"NIT\",Hoja1!H4147=\"Fideicomiso/Fondo\",Hoja1!H4147=\"PJ No Residente\"),Hoja1!H4147,\"\")","SI(O(Hoja1!H4147=\"NIT\",Hoja1!H4147=\"Fideicomiso/Fondo\",Hoja1!H4147=\"PJ No Residente\"),Hoja1!B4149,\"\")"]
["SI(O(Hoja1!H4181=\"NIT\",Hoja1!H4181=\"Fideicomiso/Fondo\",Hoja1!H4181=\"PJ No Residente\"),Hoja1!B4185,\"\")",{"$f":"IFERROR(INDEX(TablaNivelDOS[PJNivelDos],_xlfn.AGGREGATE(15,6,(ROW(TablaNivelDOS[PJNivelDos])-ROW(TablaNivelDOS[#Headers]))/(TablaNivelDOS[PJNivelDos]<>\"\"),ROWS($B$307:TablaNivelDOS[[#This Row],[AuxDos]]))),\"\")","v":"SI(O(Hoja1!H4181=\"NIT\",Hoja1!H4181=\"Fideicomiso/Fondo\",Hoja1!H4181=\"PJ No Residente\"),Hoja1!B4185,\"\")"},"SI(O(Hoja1!H4181=\"NIT\",Hoja1!H4181=\"Fideicomiso/Fondo\",Hoja1!H4181=\"PJ No Residente\"),Hoja1!H4181,\"\")","SI(O(Hoja1!H4181=\"NIT\",Hoja1!H4181=\"Fideicomiso/Fondo\",Hoja1!H4181=\"PJ No Residente\"),Hoja1!B4183,\"\")"]
["SI(O(Hoja1!H4215=\"NIT\",Hoja1!H4215=\"Fideicomiso/Fondo\",Hoja1!H4215=\"PJ No Residente\"),Hoja1!B4219,\"\")",{"$f":"IFERROR(INDEX(TablaNivelDOS[PJNivelDos],_xlfn.AGGREGATE(15,6,(ROW(TablaNivelDOS[PJNivelDos])-ROW(TablaNivelDOS[#Headers]))/(TablaNivelDOS[PJNivelDos]<>\"\"),ROWS($B$307:TablaNivelDOS[[#This Row],[AuxDos]]))),\"\")","v":"SI(O(Hoja1!H4215=\"NIT\",Hoja1!H4215=\"Fideicomiso/Fondo\",Hoja1!H4215=\"PJ No Residente\"),Hoja1!B4219,\"\")"},"SI(O(Hoja1!H4215=\"NIT\",Hoja1!H4215=\"Fideicomiso/Fondo\",Hoja1!H4215=\"PJ No Residente\"),Hoja1!H4215,\"\")","SI(O(Hoja1!H4215=\"NIT\",Hoja1!H4215=\"Fideicomiso/Fondo\",Hoja1!H4215=\"PJ No Residente\"),Hoja1!B4217,\"\")"]
["SI(O(Hoja1!H4249=\"NIT\",Hoja1!H4249=\"Fideicomiso/Fondo\",Hoja1!H4249=\"PJ No Residente\"),Hoja1!B4253,\"\")",{"$f":"IFERROR(INDEX(TablaNivelDOS[PJNivelDos],_xlfn.AGGREGATE(15,6,(ROW(TablaNivelDOS[PJNivelDos])-ROW(TablaNivelDOS[#Headers]))/(TablaNivelDOS[PJNivelDos]<>\"\"),ROWS($B$307:TablaNivelDOS[[#This Row],[AuxDos]]))),\"\")","v":"SI(O(Hoja1!H4249=\"NIT\",Hoja1!H4249=\"Fideicomiso/Fondo\",Hoja1!H4249=\"PJ No Residente\"),Hoja1!B4253,\"\")"},"SI(O(Hoja1!H4249=\"NIT\",Hoja1!H4249=\"Fideicomiso/Fondo\",Hoja1!H4249=\"PJ No Residente\"),Hoja1!H4249,\"\")","SI(O(Hoja1!H4249=\"NIT\",Hoja1!H4249=\"Fideicomiso/Fondo\",Hoja1!H4249=\"PJ No Residente\"),Hoja1!B4251,\"\")"]
["SI(O(Hoja1!H4283=\"NIT\",Hoja1!H4283=\"Fideicomiso/Fondo\",Hoja1!H4283=\"PJ No Residente\"),Hoja1!B4287,\"\")",{"$f":"IFERROR(INDEX(TablaNivelDOS[PJNivelDos],_xlfn.AGGREGATE(15,6,(ROW(TablaNivelDOS[PJNivelDos])-ROW(TablaNivelDOS[#Headers]))/(TablaNivelDOS[PJNivelDos]<>\"\"),ROWS($B$307:TablaNivelDOS[[#This Row],[AuxDos]]))),\"\")","v":"SI(O(Hoja1!H4283=\"NIT\",Hoja1!H4283=\"Fideicomiso/Fondo\",Hoja1!H4283=\"PJ No Residente\"),Hoja1!B4287,\"\")"},"SI(O(Hoja1!H4283=\"NIT\",Hoja1!H4283=\"Fideicomiso/Fondo\",Hoja1!H4283=\"PJ No Residente\"),Hoja1!H4283,\"\")","SI(O(Hoja1!H4283=\"NIT\",Hoja1!H4283=\"Fideicomiso/Fondo\",Hoja1!H4283=\"PJ No Residente\"),Hoja1!B4285,\"\")"]
["SI(O(Hoja1!H4317=\"NIT\",Hoja1!H4317=\"Fideicomiso/Fondo\",Hoja1!H4317=\"PJ No Residente\"),Hoja1!B4321,\"\")",{"$f":"IFERROR(INDEX(TablaNivelDOS[PJNivelDos],_xlfn.AGGREGATE(15,6,(ROW(TablaNivelDOS[PJNivelDos])-ROW(TablaNivelDOS[#Headers]))/(TablaNivelDOS[PJNivelDos]<>\"\"),ROWS($B$307:TablaNivelDOS[[#This Row],[AuxDos]]))),\"\")","v":"SI(O(Hoja1!H4317=\"NIT\",Hoja1!H4317=\"Fideicomiso/Fondo\",Hoja1!H4317=\"PJ No Residente\"),Hoja1!B4321,\"\")"},"SI(O(Hoja1!H4317=\"NIT\",Hoja1!H4317=\"Fideicomiso/Fondo\",Hoja1!H4317=\"PJ No Residente\"),Hoja1!H4317,\"\")","SI(O(Hoja1!H4317=\"NIT\",Hoja1!H4317=\"Fideicomiso/Fondo\",Hoja1!H4317=\"PJ No Residente\"),Hoja1!B4319,\"\")"]
["SI(O(Hoja1!H4351=\"NIT\",Hoja1!H4351=\"Fideicomiso/Fondo\",Hoja1!H4351=\"PJ No Residente\"),Hoja1!B4355,\"\")",{"$f":"IFERROR(INDEX(TablaNivelDOS[PJNivelDos],_xlfn.AGGREGATE(15,6,(ROW(TablaNivelDOS[PJNivelDos])-ROW(TablaNivelDOS[#Headers]))/(TablaNivelDOS[PJNivelDos]<>\"\"),ROWS($B$307:TablaNivelDOS[[#This Row],[AuxDos]]))),\"\")","v":"SI(O(Hoja1!H4351=\"NIT\",Hoja1!H4351=\"Fideicomiso/Fondo\",Hoja1!H4351=\"PJ No Residente\"),Hoja1!B4355,\"\")"},"SI(O(Hoja1!H4351=\"NIT\",Hoja1!H4351=\"Fideicomiso/Fondo\",Hoja1!H4351=\"PJ No Residente\"),Hoja1!H4351,\"\")","SI(O(Hoja1!H4351=\"NIT\",Hoja1!H4351=\"Fideicomiso/Fondo\",Hoja1!H4351=\"PJ No Residente\"),Hoja1!B4353,\"\")"]
["SI(O(Hoja1!H4385=\"NIT\",Hoja1!H4385=\"Fideicomiso/Fondo\",Hoja1!H4385=\"PJ No Residente\"),Hoja1!B4389,\"\")",{"$f":"IFERROR(INDEX(TablaNivelDOS[PJNivelDos],_xlfn.AGGREGATE(15,6,(ROW(TablaNivelDOS[PJNivelDos])-ROW(TablaNivelDOS[#Headers]))/(TablaNivelDOS[PJNivelDos]<>\"\"),ROWS($B$307:TablaNivelDOS[[#This Row],[AuxDos]]))),\"\")","v":"SI(O(Hoja1!H4385=\"NIT\",Hoja1!H4385=\"Fideicomiso/Fondo\",Hoja1!H4385=\"PJ No Residente\"),Hoja1!B4389,\"\")"},"SI(O(Hoja1!H4385=\"NIT\",Hoja1!H4385=\"Fideicomiso/Fondo\",Hoja1!H4385=\"PJ No Residente\"),Hoja1!H4385,\"\")","SI(O(Hoja1!H4385=\"NIT\",Hoja1!H4385=\"Fideicomiso/Fondo\",Hoja1!H4385=\"PJ No Residente\"),Hoja1!B4387,\"\")"]
["SI(O(Hoja1!H4419=\"NIT\",Hoja1!H4419=\"Fideicomiso/Fondo\",Hoja1!H4419=\"PJ No Residente\"),Hoja1!B4423,\"\")",{"$f":"IFERROR(INDEX(TablaNivelDOS[PJNivelDos],_xlfn.AGGREGATE(15,6,(ROW(TablaNivelDOS[PJNivelDos])-ROW(TablaNivelDOS[#Headers]))/(TablaNivelDOS[PJNivelDos]<>\"\"),ROWS($B$307:TablaNivelDOS[[#This Row],[AuxDos]]))),\"\")","v":"SI(O(Hoja1!H4419=\"NIT\",Hoja1!H4419=\"Fideicomiso/Fondo\",Hoja1!H4419=\"PJ No Residente\"),Hoja1!B4423,\"\")"},"SI(O(Hoja1!H4419=\"NIT\",Hoja1!H4419=\"Fideicomiso/Fondo\",Hoja1!H4419=\"PJ No Residente\"),Hoja1!H4419,\"\")","SI(O(Hoja1!H4419=\"NIT\",Hoja1!H4419=\"Fideicomiso/Fondo\",Hoja1!H4419=\"PJ No Residente\"),Hoja1!B4421,\"\")"]
["SI(O(Hoja1!H4453=\"NIT\",Hoja1!H4453=\"Fideicomiso/Fondo\",Hoja1!H4453=\"PJ No Residente\"),Hoja1!B4457,\"\")",{"$f":"IFERROR(INDEX(TablaNivelDOS[PJNivelDos],_xlfn.AGGREGATE(15,6,(ROW(TablaNivelDOS[PJNivelDos])-ROW(TablaNivelDOS[#Headers]))/(TablaNivelDOS[PJNivelDos]<>\"\"),ROWS($B$307:TablaNivelDOS[[#This Row],[AuxDos]]))),\"\")","v":"SI(O(Hoja1!H4453=\"NIT\",Hoja1!H4453=\"Fideicomiso/Fondo\",Hoja1!H4453=\"PJ No Residente\"),Hoja1!B4457,\"\")"},"SI(O(Hoja1!H4453=\"NIT\",Hoja1!H4453=\"Fideicomiso/Fondo\",Hoja1!H4453=\"PJ No Residente\"),Hoja1!H4453,\"\")","SI(O(Hoja1!H4453=\"NIT\",Hoja1!H4453=\"Fideicomiso/Fondo\",Hoja1!H4453=\"PJ No Residente\"),Hoja1!B4455,\"\")"]
["SI(O(Hoja1!H4487=\"NIT\",Hoja1!H4487=\"Fideicomiso/Fondo\",Hoja1!H4487=\"PJ No Residente\"),Hoja1!B4491,\"\")",{"$f":"IFERROR(INDEX(TablaNivelDOS[PJNivelDos],_xlfn.AGGREGATE(15,6,(ROW(TablaNivelDOS[PJNivelDos])-ROW(TablaNivelDOS[#Headers]))/(TablaNivelDOS[PJNivelDos]<>\"\"),ROWS($B$307:TablaNivelDOS[[#This Row],[AuxDos]]))),\"\")","v":"SI(O(Hoja1!H4487=\"NIT\",Hoja1!H4487=\"Fideicomiso/Fondo\",Hoja1!H4487=\"PJ No Residente\"),Hoja1!B4491,\"\")"},"SI(O(Hoja1!H4487=\"NIT\",Hoja1!H4487=\"Fideicomiso/Fondo\",Hoja1!H4487=\"PJ No Residente\"),Hoja1!H4487,\"\")","SI(O(Hoja1!H4487=\"NIT\",Hoja1!H4487=\"Fideicomiso/Fondo\",Hoja1!H4487=\"PJ No Residente\"),Hoja1!B4489,\"\")"]
["SI(O(Hoja1!H4521=\"NIT\",Hoja1!H4521=\"Fideicomiso/Fondo\",Hoja1!H4521=\"PJ No Residente\"),Hoja1!B4525,\"\")",{"$f":"IFERROR(INDEX(TablaNivelDOS[PJNivelDos],_xlfn.AGGREGATE(15,6,(ROW(TablaNivelDOS[PJNivelDos])-ROW(TablaNivelDOS[#Headers]))/(TablaNivelDOS[PJNivelDos]<>\"\"),ROWS($B$307:TablaNivelDOS[[#This Row],[AuxDos]]))),\"\")","v":"SI(O(Hoja1!H4521=\"NIT\",Hoja1!H4521=\"Fideicomiso/Fondo\",Hoja1!H4521=\"PJ No Residente\"),Hoja1!B4525,\"\")"},"SI(O(Hoja1!H4521=\"NIT\",Hoja1!H4521=\"Fideicomiso/Fondo\",Hoja1!H4521=\"PJ No Residente\"),Hoja1!H4521,\"\")","SI(O(Hoja1!H4521=\"NIT\",Hoja1!H4521=\"Fideicomiso/Fondo\",Hoja1!H4521=\"PJ No Residente\"),Hoja1!B4523,\"\")"]
["SI(O(Hoja1!H4555=\"NIT\",Hoja1!H4555=\"Fideicomiso/Fondo\",Hoja1!H4555=\"PJ No Residente\"),Hoja1!B4559,\"\")",{"$f":"IFERROR(INDEX(TablaNivelDOS[PJNivelDos],_xlfn.AGGREGATE(15,6,(ROW(TablaNivelDOS[PJNivelDos])-ROW(TablaNivelDOS[#Headers]))/(TablaNivelDOS[PJNivelDos]<>\"\"),ROWS($B$307:TablaNivelDOS[[#This Row],[AuxDos]]))),\"\")","v":"SI(O(Hoja1!H4555=\"NIT\",Hoja1!H4555=\"Fideicomiso/Fondo\",Hoja1!H4555=\"PJ No Residente\"),Hoja1!B4559,\"\")"},"SI(O(Hoja1!H4555=\"NIT\",Hoja1!H4555=\"Fideicomiso/Fondo\",Hoja1!H4555=\"PJ No Residente\"),Hoja1!H4555,\"\")","SI(O(Hoja1!H4555=\"NIT\",Hoja1!H4555=\"Fideicomiso/Fondo\",Hoja1!H4555=\"PJ No Residente\"),Hoja1!B4557,\"\")"]
[]
["PJNivelTres","AuxTres","TipoDocTres","NumeroDocTres",null,"Quitar Valores en Blanco"]
["SI(O(Hoja1!H4589=\"NIT\",Hoja1!H4589=\"Fideicomiso/Fondo\",Hoja1!H4589=\"PJ No Residente\"),Hoja1!B4593,\"\")",{"$f":"IFERROR(INDEX(TablaNivelTRES[PJNivelTres],_xlfn.AGGREGATE(15,6,(ROW(TablaNivelTRES[PJNivelTres])-ROW(TablaNivelTRES[#Headers]))/(TablaNivelTRES[PJNivelTres]<>\"\"),ROWS($B$396:TablaNivelTRES[[#This Row],[AuxTres]]))),\"\")","v":"SI(O(Hoja1!H4589=\"NIT\",Hoja1!H4589=\"Fideicomiso/Fondo\",Hoja1!H4589=\"PJ No Residente\"),Hoja1!B4593,\"\")"},"SI(O(Hoja1!H4589=\"NIT\",Hoja1!H4589=\"Fideicomiso/Fondo\",Hoja1!H4589=\"PJ No Residente\"),Hoja1!H4589,\"\")","SI(O(Hoja1!H4589=\"NIT\",Hoja1!H4589=\"Fideicomiso/Fondo\",Hoja1!H4589=\"PJ No Residente\"),Hoja1!B4591,\"\")",null," =$b$396:INDICE(TablaNivelTRES[AuxTres],SUMAPRODUCTO((TablaNivelTRES[AuxTres]<>\"\")*1))"]
["SI(O(Hoja1!H4623=\"NIT\",Hoja1!H4623=\"Fideicomiso/Fondo\",Hoja1!H4623=\"PJ No Residente\"),Hoja1!B4627,\"\")",{"$f":"IFERROR(INDEX(TablaNivelTRES[PJNivelTres],_xlfn.AGGREGATE(15,6,(ROW(TablaNivelTRES[PJNivelTres])-ROW(TablaNivelTRES[#Headers]))/(TablaNivelTRES[PJNivelTres]<>\"\"),ROWS($B$396:TablaNivelTRES[[#This Row],[AuxTres]]))),\"\")","v":"SI(O(Hoja1!H4623=\"NIT\",Hoja1!H4623=\"Fideicomiso/Fondo\",Hoja1!H4623=\"PJ No Residente\"),Hoja1!B4627,\"\")"},"SI(O(Hoja1!H4623=\"NIT\",Hoja1!H4623=\"Fideicomiso/Fondo\",Hoja1!H4623=\"PJ No Residente\"),Hoja1!H4623,\"\")","SI(O(Hoja1!H4623=\"NIT\",Hoja1!H4623=\"Fideicomiso/Fondo\",Hoja1!H4623=\"PJ No Residente\"),Hoja1!B4625,\"\")"]
["SI(O(Hoja1!H4657=\"NIT\",Hoja1!H4657=\"Fideicomiso/Fondo\",Hoja1!H4657=\"PJ No Residente\"),Hoja1!B4661,\"\")",{"$f":"IFERROR(INDEX(TablaNivelTRES[PJNivelTres],_xlfn.AGGREGATE(15,6,(ROW(TablaNivelTRES[PJNivelTres])-ROW(TablaNivelTRES[#Headers]))/(TablaNivelTRES[PJNivelTres]<>\"\"),ROWS($B$396:TablaNivelTRES[[#This Row],[AuxTres]]))),\"\")","v":"SI(O(Hoja1!H4657=\"NIT\",Hoja1!H4657=\"Fideicomiso/Fondo\",Hoja1!H4657=\"PJ No Residente\"),Hoja1!B4661,\"\")"},"SI(O(Hoja1!H4657=\"NIT\",Hoja1!H4657=\"Fideicomiso/Fondo\",Hoja1!H4657=\"PJ No Residente\"),Hoja1!H4657,\"\")","SI(O(Hoja1!H4657=\"NIT\",Hoja1!H4657=\"Fideicomiso/Fondo\",Hoja1!H4657=\"PJ No Residente\"),Hoja1!B4659,\"\")"]
["SI(O(Hoja1!H4691=\"NIT\",Hoja1!H4691=\"Fideicomiso/Fondo\",Hoja1!H4691=\"PJ No Residente\"),Hoja1!B4695,\"\")",{"$f":"IFERROR(INDEX(TablaNivelTRES[PJNivelTres],_xlfn.AGGREGATE(15,6,(ROW(TablaNivelTRES[PJNivelTres])-ROW(TablaNivelTRES[#Headers]))/(TablaNivelTRES[PJNivelTres]<>\"\"),ROWS($B$396:TablaNivelTRES[[#This Row],[AuxTres]]))),\"\")","v":"SI(O(Hoja1!H4691=\"NIT\",Hoja1!H4691=\"Fideicomiso/Fondo\",Hoja1!H4691=\"PJ No Residente\"),Hoja1!B4695,\"\")"},"SI(O(Hoja1!H4691=\"NIT\",Hoja1!H4691=\"Fideicomiso/Fondo\",Hoja1!H4691=\"PJ No Residente\"),Hoja1!H4691,\"\")","SI(O(Hoja1!H4691=\"NIT\",Hoja1!H4691=\"Fideicomiso/Fondo\",Hoja1!H4691=\"PJ No Residente\"),Hoja1!B4693,\"\")"]
["SI(O(Hoja1!H4725=\"NIT\",Hoja1!H4725=\"Fideicomiso/Fondo\",Hoja1!H4725=\"PJ No Residente\"),Hoja1!B4729,\"\")",{"$f":"IFERROR(INDEX(TablaNivelTRES[PJNivelTres],_xlfn.AGGREGATE(15,6,(ROW(TablaNivelTRES[PJNivelTres])-ROW(TablaNivelTRES[#Headers]))/(TablaNivelTRES[PJNivelTres]<>\"\"),ROWS($B$396:TablaNivelTRES[[#This Row],[AuxTres]]))),\"\")","v":"SI(O(Hoja1!H4725=\"NIT\",Hoja1!H4725=\"Fideicomiso/Fondo\",Hoja1!H4725=\"PJ No Residente\"),Hoja1!B4729,\"\")"},"SI(O(Hoja1!H4725=\"NIT\",Hoja1!H4725=\"Fideicomiso/Fondo\",Hoja1!H4725=\"PJ No Residente\"),Hoja1!H4725,\"\")","SI(O(Hoja1!H4725=\"NIT\",Hoja1!H4725=\"Fideicomiso/Fondo\",Hoja1!H4725=\"PJ No Residente\"),Hoja1!B4727,\"\")"]
["SI(O(Hoja1!H4759=\"NIT\",Hoja1!H4759=\"Fideicomiso/Fondo\",Hoja1!H4759=\"PJ No Residente\"),Hoja1!B4763,\"\")",{"$f":"IFERROR(INDEX(TablaNivelTRES[PJNivelTres],_xlfn.AGGREGATE(15,6,(ROW(TablaNivelTRES[PJNivelTres])-ROW(TablaNivelTRES[#Headers]))/(TablaNivelTRES[PJNivelTres]<>\"\"),ROWS($B$396:TablaNivelTRES[[#This Row],[AuxTres]]))),\"\")","v":"SI(O(Hoja1!H4759=\"NIT\",Hoja1!H4759=\"Fideicomiso/Fondo\",Hoja1!H4759=\"PJ No Residente\"),Hoja1!B4763,\"\")"},"SI(O(Hoja1!H4759=\"NIT\",Hoja1!H4759=\"Fideicomiso/Fondo\",Hoja1!H4759=\"PJ No Residente\"),Hoja1!H4759,\"\")","SI(O(Hoja1!H4759=\"NIT\",Hoja1!H4759=\"Fideicomiso/Fondo\",Hoja1!H4759=\"PJ No Residente\"),Hoja1!B4761,\"\")"]
["SI(O(Hoja1!H4793=\"NIT\",Hoja1!H4793=\"Fideicomiso/Fondo\",Hoja1!H4793=\"PJ No Residente\"),Hoja1!B4797,\"\")",{"$f":"IFERROR(INDEX(TablaNivelTRES[PJNivelTres],_xlfn.AGGREGATE(15,6,(ROW(TablaNivelTRES[PJNivelTres])-ROW(TablaNivelTRES[#Headers]))/(TablaNivelTRES[PJNivelTres]<>\"\"),ROWS($B$396:TablaNivelTRES[[#This Row],[AuxTres]]))),\"\")","v":"SI(O(Hoja1!H4793=\"NIT\",Hoja1!H4793=\"Fideicomiso/Fondo\",Hoja1!H4793=\"PJ No Residente\"),Hoja1!B4797,\"\")"},"SI(O(Hoja1!H4793=\"NIT\",Hoja1!H4793=\"Fideicomiso/Fondo\",Hoja1!H4793=\"PJ No Residente\"),Hoja1!H4793,\"\")","SI(O(Hoja1!H4793=\"NIT\",Hoja1!H4793=\"Fideicomiso/Fondo\",Hoja1!H4793=\"PJ No Residente\"),Hoja1!B4795,\"\")"]
["SI(O(Hoja1!H4827=\"NIT\",Hoja1!H4827=\"Fideicomiso/Fondo\",Hoja1!H4827=\"PJ No Residente\"),Hoja1!B4831,\"\")",{"$f":"IFERROR(INDEX(TablaNivelTRES[PJNivelTres],_xlfn.AGGREGATE(15,6,(ROW(TablaNivelTRES[PJNivelTres])-ROW(TablaNivelTRES[#Headers]))/(TablaNivelTRES[PJNivelTres]<>\"\"),ROWS($B$396:TablaNivelTRES[[#This Row],[AuxTres]]))),\"\")","v":"SI(O(Hoja1!H4827=\"NIT\",Hoja1!H4827=\"Fideicomiso/Fondo\",Hoja1!H4827=\"PJ No Residente\"),Hoja1!B4831,\"\")"},"SI(O(Hoja1!H4827=\"NIT\",Hoja1!H4827=\"Fideicomiso/Fondo\",Hoja1!H4827=\"PJ No Residente\"),Hoja1!H4827,\"\")","SI(O(Hoja1!H4827=\"NIT\",Hoja1!H4827=\"Fideicomiso/Fondo\",Hoja1!H4827=\"PJ No Residente\"),Hoja1!B4829,\"\")"]
["SI(O(Hoja1!H4861=\"NIT\",Hoja1!H4861=\"Fideicomiso/Fondo\",Hoja1!H4861=\"PJ No Residente\"),Hoja1!B4865,\"\")",{"$f":"IFERROR(INDEX(TablaNivelTRES[PJNivelTres],_xlfn.AGGREGATE(15,6,(ROW(TablaNivelTRES[PJNivelTres])-ROW(TablaNivelTRES[#Headers]))/(TablaNivelTRES[PJNivelTres]<>\"\"),ROWS($B$396:TablaNivelTRES[[#This Row],[AuxTres]]))),\"\")","v":"SI(O(Hoja1!H4861=\"NIT\",Hoja1!H4861=\"Fideicomiso/Fondo\",Hoja1!H4861=\"PJ No Residente\"),Hoja1!B4865,\"\")"},"SI(O(Hoja1!H4861=\"NIT\",Hoja1!H4861=\"Fideicomiso/Fondo\",Hoja1!H4861=\"PJ No Residente\"),Hoja1!H4861,\"\")","SI(O(Hoja1!H4861=\"NIT\",Hoja1!H4861=\"Fideicomiso/Fondo\",Hoja1!H4861=\"PJ No Residente\"),Hoja1!B4863,\"\")"]
["SI(O(Hoja1!H4895=\"NIT\",Hoja1!H4895=\"Fideicomiso/Fondo\",Hoja1!H4895=\"PJ No Residente\"),Hoja1!B4899,\"\")",{"$f":"IFERROR(INDEX(TablaNivelTRES[PJNivelTres],_xlfn.AGGREGATE(15,6,(ROW(TablaNivelTRES[PJNivelTres])-ROW(TablaNivelTRES[#Headers]))/(TablaNivelTRES[PJNivelTres]<>\"\"),ROWS($B$396:TablaNivelTRES[[#This Row],[AuxTres]]))),\"\")","v":"SI(O(Hoja1!H4895=\"NIT\",Hoja1!H4895=\"Fideicomiso/Fondo\",Hoja1!H4895=\"PJ No Residente\"),Hoja1!B4899,\"\")"},"SI(O(Hoja1!H4895=\"NIT\",Hoja1!H4895=\"Fideicomiso/Fondo\",Hoja1!H4895=\"PJ No Residente\"),Hoja1!H4895,\"\")","SI(O(Hoja1!H4895=\"NIT\",Hoja1!H4895=\"Fideicomiso/Fondo\",Hoja1!H4895=\"PJ No Residente\"),Hoja1!B4897,\"\")"]
["SI(O(Hoja1!H4929=\"NIT\",Hoja1!H4929=\"Fideicomiso/Fondo\",Hoja1!H4929=\"PJ No Residente\"),Hoja1!B4933,\"\")",{"$f":"IFERROR(INDEX(TablaNivelTRES[PJNivelTres],_xlfn.AGGREGATE(15,6,(ROW(TablaNivelTRES[PJNivelTres])-ROW(TablaNivelTRES[#Headers]))/(TablaNivelTRES[PJNivelTres]<>\"\"),ROWS($B$396:TablaNivelTRES[[#This Row],[AuxTres]]))),\"\")","v":"SI(O(Hoja1!H4929=\"NIT\",Hoja1!H4929=\"Fideicomiso/Fondo\",Hoja1!H4929=\"PJ No Residente\"),Hoja1!B4933,\"\")"},"SI(O(Hoja1!H4929=\"NIT\",Hoja1!H4929=\"Fideicomiso/Fondo\",Hoja1!H4929=\"PJ No Residente\"),Hoja1!H4929,\"\")","SI(O(Hoja1!H4929=\"NIT\",Hoja1!H4929=\"Fideicomiso/Fondo\",Hoja1!H4929=\"PJ No Residente\"),Hoja1!B4931,\"\")"]
["SI(O(Hoja1!H4963=\"NIT\",Hoja1!H4963=\"Fideicomiso/Fondo\",Hoja1!H4963=\"PJ No Residente\"),Hoja1!B4967,\"\")",{"$f":"IFERROR(INDEX(TablaNivelTRES[PJNivelTres],_xlfn.AGGREGATE(15,6,(ROW(TablaNivelTRES[PJNivelTres])-ROW(TablaNivelTRES[#Headers]))/(TablaNivelTRES[PJNivelTres]<>\"\"),ROWS($B$396:TablaNivelTRES[[#This Row],[AuxTres]]))),\"\")","v":"SI(O(Hoja1!H4963=\"NIT\",Hoja1!H4963=\"Fideicomiso/Fondo\",Hoja1!H4963=\"PJ No Residente\"),Hoja1!B4967,\"\")"},"SI(O(Hoja1!H4963=\"NIT\",Hoja1!H4963=\"Fideicomiso/Fondo\",Hoja1!H4963=\"PJ No Residente\"),Hoja1!H4963,\"\")","SI(O(Hoja1!H4963=\"NIT\",Hoja1!H4963=\"Fideicomiso/Fondo\",Hoja1!H4963=\"PJ No Residente\"),Hoja1!B4965,\"\")"]
["SI(O(Hoja1!H4997=\"NIT\",Hoja1!H4997=\"Fideicomiso/Fondo\",Hoja1!H4997=\"PJ No Residente\"),Hoja1!B5001,\"\")",{"$f":"IFERROR(INDEX(TablaNivelTRES[PJNivelTres],_xlfn.AGGREGATE(15,6,(ROW(TablaNivelTRES[PJNivelTres])-ROW(TablaNivelTRES[#Headers]))/(TablaNivelTRES[PJNivelTres]<>\"\"),ROWS($B$396:TablaNivelTRES[[#This Row],[AuxTres]]))),\"\")","v":"SI(O(Hoja1!H4997=\"NIT\",Hoja1!H4997=\"Fideicomiso/Fondo\",Hoja1!H4997=\"PJ No Residente\"),Hoja1!B5001,\"\")"},"SI(O(Hoja1!H4997=\"NIT\",Hoja1!H4997=\"Fideicomiso/Fondo\",Hoja1!H4997=\"PJ No Residente\"),Hoja1!H4997,\"\")","SI(O(Hoja1!H4997=\"NIT\",Hoja1!H4997=\"Fideicomiso/Fondo\",Hoja1!H4997=\"PJ No Residente\"),Hoja1!B4999,\"\")"]
["SI(O(Hoja1!H5031=\"NIT\",Hoja1!H5031=\"Fideicomiso/Fondo\",Hoja1!H5031=\"PJ No Residente\"),Hoja1!B5035,\"\")",{"$f":"IFERROR(INDEX(TablaNivelTRES[PJNivelTres],_xlfn.AGGREGATE(15,6,(ROW(TablaNivelTRES[PJNivelTres])-ROW(TablaNivelTRES[#Headers]))/(TablaNivelTRES[PJNivelTres]<>\"\"),ROWS($B$396:TablaNivelTRES[[#This Row],[AuxTres]]))),\"\")","v":"SI(O(Hoja1!H5031=\"NIT\",Hoja1!H5031=\"Fideicomiso/Fondo\",Hoja1!H5031=\"PJ No Residente\"),Hoja1!B5035,\"\")"},"SI(O(Hoja1!H5031=\"NIT\",Hoja1!H5031=\"Fideicomiso/Fondo\",Hoja1!H5031=\"PJ No Residente\"),Hoja1!H5031,\"\")","SI(O(Hoja1!H5031=\"NIT\",Hoja1!H5031=\"Fideicomiso/Fondo\",Hoja1!H5031=\"PJ No Residente\"),Hoja1!B5033,\"\")"]
["SI(O(Hoja1!H5065=\"NIT\",Hoja1!H5065=\"Fideicomiso/Fondo\",Hoja1!H5065=\"PJ No Residente\"),Hoja1!B5069,\"\")",{"$f":"IFERROR(INDEX(TablaNivelTRES[PJNivelTres],_xlfn.AGGREGATE(15,6,(ROW(TablaNivelTRES[PJNivelTres])-ROW(TablaNivelTRES[#Headers]))/(TablaNivelTRES[PJNivelTres]<>\"\"),ROWS($B$396:TablaNivelTRES[[#This Row],[AuxTres]]))),\"\")","v":"SI(O(Hoja1!H5065=\"NIT\",Hoja1!H5065=\"Fideicomiso/Fondo\",Hoja1!H5065=\"PJ No Residente\"),Hoja1!B5069,\"\")"},"SI(O(Hoja1!H5065=\"NIT\",Hoja1!H5065=\"Fideicomiso/Fondo\",Hoja1!H5065=\"PJ No Residente\"),Hoja1!H5065,\"\")","SI(O(Hoja1!H5065=\"NIT\",Hoja1!H5065=\"Fideicomiso/Fondo\",Hoja1!H5065=\"PJ No Residente\"),Hoja1!B5067,\"\")"]
["SI(O(Hoja1!H5099=\"NIT\",Hoja1!H5099=\"Fideicomiso/Fondo\",Hoja1!H5099=\"PJ No Residente\"),Hoja1!B5103,\"\")",{"$f":"IFERROR(INDEX(TablaNivelTRES[PJNivelTres],_xlfn.AGGREGATE(15,6,(ROW(TablaNivelTRES[PJNivelTres])-ROW(TablaNivelTRES[#Headers]))/(TablaNivelTRES[PJNivelTres]<>\"\"),ROWS($B$396:TablaNivelTRES[[#This Row],[AuxTres]]))),\"\")","v":"SI(O(Hoja1!H5099=\"NIT\",Hoja1!H5099=\"Fideicomiso/Fondo\",Hoja1!H5099=\"PJ No Residente\"),Hoja1!B5103,\"\")"},"SI(O(Hoja1!H5099=\"NIT\",Hoja1!H5099=\"Fideicomiso/Fondo\",Hoja1!H5099=\"PJ No Residente\"),Hoja1!H5099,\"\")","SI(O(Hoja1!H5099=\"NIT\",Hoja1!H5099=\"Fideicomiso/Fondo\",Hoja1!H5099=\"PJ No Residente\"),Hoja1!B5101,\"\")"]
["SI(O(Hoja1!H5133=\"NIT\",Hoja1!H5133=\"Fideicomiso/Fondo\",Hoja1!H5133=\"PJ No Residente\"),Hoja1!B5137,\"\")",{"$f":"IFERROR(INDEX(TablaNivelTRES[PJNivelTres],_xlfn.AGGREGATE(15,6,(ROW(TablaNivelTRES[PJNivelTres])-ROW(TablaNivelTRES[#Headers]))/(TablaNivelTRES[PJNivelTres]<>\"\"),ROWS($B$396:TablaNivelTRES[[#This Row],[AuxTres]]))),\"\")","v":"SI(O(Hoja1!H5133=\"NIT\",Hoja1!H5133=\"Fideicomiso/Fondo\",Hoja1!H5133=\"PJ No Residente\"),Hoja1!B5137,\"\")"},"SI(O(Hoja1!H5133=\"NIT\",Hoja1!H5133=\"Fideicomiso/Fondo\",Hoja1!H5133=\"PJ No Residente\"),Hoja1!H5133,\"\")","SI(O(Hoja1!H5133=\"NIT\",Hoja1!H5133=\"Fideicomiso/Fondo\",Hoja1!H5133=\"PJ No Residente\"),Hoja1!B5135,\"\")"]
["SI(O(Hoja1!H5167=\"NIT\",Hoja1!H5167=\"Fideicomiso/Fondo\",Hoja1!H5167=\"PJ No Residente\"),Hoja1!B5171,\"\")",{"$f":"IFERROR(INDEX(TablaNivelTRES[PJNivelTres],_xlfn.AGGREGATE(15,6,(ROW(TablaNivelTRES[PJNivelTres])-ROW(TablaNivelTRES[#Headers]))/(TablaNivelTRES[PJNivelTres]<>\"\"),ROWS($B$396:TablaNivelTRES[[#This Row],[AuxTres]]))),\"\")","v":"SI(O(Hoja1!H5167=\"NIT\",Hoja1!H5167=\"Fideicomiso/Fondo\",Hoja1!H5167=\"PJ No Residente\"),Hoja1!B5171,\"\")"},"SI(O(Hoja1!H5167=\"NIT\",Hoja1!H5167=\"Fideicomiso/Fondo\",Hoja1!H5167=\"PJ No Residente\"),Hoja1!H5167,\"\")","SI(O(Hoja1!H5167=\"NIT\",Hoja1!H5167=\"Fideicomiso/Fondo\",Hoja1!H5167=\"PJ No Residente\"),Hoja1!B5169,\"\")"]
["SI(O(Hoja1!H5201=\"NIT\",Hoja1!H5201=\"Fideicomiso/Fondo\",Hoja1!H5201=\"PJ No Residente\"),Hoja1!B5205,\"\")",{"$f":"IFERROR(INDEX(TablaNivelTRES[PJNivelTres],_xlfn.AGGREGATE(15,6,(ROW(TablaNivelTRES[PJNivelTres])-ROW(TablaNivelTRES[#Headers]))/(TablaNivelTRES[PJNivelTres]<>\"\"),ROWS($B$396:TablaNivelTRES[[#This Row],[AuxTres]]))),\"\")","v":"SI(O(Hoja1!H5201=\"NIT\",Hoja1!H5201=\"Fideicomiso/Fondo\",Hoja1!H5201=\"PJ No Residente\"),Hoja1!B5205,\"\")"},"SI(O(Hoja1!H5201=\"NIT\",Hoja1!H5201=\"Fideicomiso/Fondo\",Hoja1!H5201=\"PJ No Residente\"),Hoja1!H5201,\"\")","SI(O(Hoja1!H5201=\"NIT\",Hoja1!H5201=\"Fideicomiso/Fondo\",Hoja1!H5201=\"PJ No Residente\"),Hoja1!B5203,\"\")"]
["SI(O(Hoja1!H5235=\"NIT\",Hoja1!H5235=\"Fideicomiso/Fondo\",Hoja1!H5235=\"PJ No Residente\"),Hoja1!B5239,\"\")",{"$f":"IFERROR(INDEX(TablaNivelTRES[PJNivelTres],_xlfn.AGGREGATE(15,6,(ROW(TablaNivelTRES[PJNivelTres])-ROW(TablaNivelTRES[#Headers]))/(TablaNivelTRES[PJNivelTres]<>\"\"),ROWS($B$396:TablaNivelTRES[[#This Row],[AuxTres]]))),\"\")","v":"SI(O(Hoja1!H5235=\"NIT\",Hoja1!H5235=\"Fideicomiso/Fondo\",Hoja1!H5235=\"PJ No Residente\"),Hoja1!B5239,\"\")"},"SI(O(Hoja1!H5235=\"NIT\",Hoja1!H5235=\"Fideicomiso/Fondo\",Hoja1!H5235=\"PJ No Residente\"),Hoja1!H5235,\"\")","SI(O(Hoja1!H5235=\"NIT\",Hoja1!H5235=\"Fideicomiso/Fondo\",Hoja1!H5235=\"PJ No Residente\"),Hoja1!B5237,\"\")"]
["SI(O(Hoja1!H5269=\"NIT\",Hoja1!H5269=\"Fideicomiso/Fondo\",Hoja1!H5269=\"PJ No Residente\"),Hoja1!B5273,\"\")",{"$f":"IFERROR(INDEX(TablaNivelTRES[PJNivelTres],_xlfn.AGGREGATE(15,6,(ROW(TablaNivelTRES[PJNivelTres])-ROW(TablaNivelTRES[#Headers]))/(TablaNivelTRES[PJNivelTres]<>\"\"),ROWS($B$396:TablaNivelTRES[[#This Row],[AuxTres]]))),\"\")","v":"SI(O(Hoja1!H5269=\"NIT\",Hoja1!H5269=\"Fideicomiso/Fondo\",Hoja1!H5269=\"PJ No Residente\"),Hoja1!B5273,\"\")"},"SI(O(Hoja1!H5269=\"NIT\",Hoja1!H5269=\"Fideicomiso/Fondo\",Hoja1!H5269=\"PJ No Residente\"),Hoja1!H5269,\"\")","SI(O(Hoja1!H5269=\"NIT\",Hoja1!H5269=\"Fideicomiso/Fondo\",Hoja1!H5269=\"PJ No Residente\"),Hoja1!B5271,\"\")"]
["SI(O(Hoja1!H5303=\"NIT\",Hoja1!H5303=\"Fideicomiso/Fondo\",Hoja1!H5303=\"PJ No Residente\"),Hoja1!B5307,\"\")",{"$f":"IFERROR(INDEX(TablaNivelTRES[PJNivelTres],_xlfn.AGGREGATE(15,6,(ROW(TablaNivelTRES[PJNivelTres])-ROW(TablaNivelTRES[#Headers]))/(TablaNivelTRES[PJNivelTres]<>\"\"),ROWS($B$396:TablaNivelTRES[[#This Row],[AuxTres]]))),\"\")","v":"SI(O(Hoja1!H5303=\"NIT\",Hoja1!H5303=\"Fideicomiso/Fondo\",Hoja1!H5303=\"PJ No Residente\"),Hoja1!B5307,\"\")"},"SI(O(Hoja1!H5303=\"NIT\",Hoja1!H5303=\"Fideicomiso/Fondo\",Hoja1!H5303=\"PJ No Residente\"),Hoja1!H5303,\"\")","SI(O(Hoja1!H5303=\"NIT\",Hoja1!H5303=\"Fideicomiso/Fondo\",Hoja1!H5303=\"PJ No Residente\"),Hoja1!B5305,\"\")"]
["SI(O(Hoja1!H5337=\"NIT\",Hoja1!H5337=\"Fideicomiso/Fondo\",Hoja1!H5337=\"PJ No Residente\"),Hoja1!B5341,\"\")",{"$f":"IFERROR(INDEX(TablaNivelTRES[PJNivelTres],_xlfn.AGGREGATE(15,6,(ROW(TablaNivelTRES[PJNivelTres])-ROW(TablaNivelTRES[#Headers]))/(TablaNivelTRES[PJNivelTres]<>\"\"),ROWS($B$396:TablaNivelTRES[[#This Row],[AuxTres]]))),\"\")","v":"SI(O(Hoja1!H5337=\"NIT\",Hoja1!H5337=\"Fideicomiso/Fondo\",Hoja1!H5337=\"PJ No Residente\"),Hoja1!B5341,\"\")"},"SI(O(Hoja1!H5337=\"NIT\",Hoja1!H5337=\"Fideicomiso/Fondo\",Hoja1!H5337=\"PJ No Residente\"),Hoja1!H5337,\"\")","SI(O(Hoja1!H5337=\"NIT\",Hoja1!H5337=\"Fideicomiso/Fondo\",Hoja1!H5337=\"PJ No Residente\"),Hoja1!B5339,\"\")"]
["SI(O(Hoja1!H5371=\"NIT\",Hoja1!H5371=\"Fideicomiso/Fondo\",Hoja1!H5371=\"PJ No Residente\"),Hoja1!B5375,\"\")",{"$f":"IFERROR(INDEX(TablaNivelTRES[PJNivelTres],_xlfn.AGGREGATE(15,6,(ROW(TablaNivelTRES[PJNivelTres])-ROW(TablaNivelTRES[#Headers]))/(TablaNivelTRES[PJNivelTres]<>\"\"),ROWS($B$396:TablaNivelTRES[[#This Row],[AuxTres]]))),\"\")","v":"SI(O(Hoja1!H5371=\"NIT\",Hoja1!H5371=\"Fideicomiso/Fondo\",Hoja1!H5371=\"PJ No Residente\"),Hoja1!B5375,\"\")"},"SI(O(Hoja1!H5371=\"NIT\",Hoja1!H5371=\"Fideicomiso/Fondo\",Hoja1!H5371=\"PJ No Residente\"),Hoja1!H5371,\"\")","SI(O(Hoja1!H5371=\"NIT\",Hoja1!H5371=\"Fideicomiso/Fondo\",Hoja1!H5371=\"PJ No Residente\"),Hoja1!B5373,\"\")"]
["SI(O(Hoja1!H5405=\"NIT\",Hoja1!H5405=\"Fideicomiso/Fondo\",Hoja1!H5405=\"PJ No Residente\"),Hoja1!B5409,\"\")",{"$f":"IFERROR(INDEX(TablaNivelTRES[PJNivelTres],_xlfn.AGGREGATE(15,6,(ROW(TablaNivelTRES[PJNivelTres])-ROW(TablaNivelTRES[#Headers]))/(TablaNivelTRES[PJNivelTres]<>\"\"),ROWS($B$396:TablaNivelTRES[[#This Row],[AuxTres]]))),\"\")","v":"SI(O(Hoja1!H5405=\"NIT\",Hoja1!H5405=\"Fideicomiso/Fondo\",Hoja1!H5405=\"PJ No Residente\"),Hoja1!B5409,\"\")"},"SI(O(Hoja1!H5405=\"NIT\",Hoja1!H5405=\"Fideicomiso/Fondo\",Hoja1!H5405=\"PJ No Residente\"),Hoja1!H5405,\"\")","SI(O(Hoja1!H5405=\"NIT\",Hoja1!H5405=\"Fideicomiso/Fondo\",Hoja1!H5405=\"PJ No Residente\"),Hoja1!B5407,\"\")"]
["SI(O(Hoja1!H5439=\"NIT\",Hoja1!H5439=\"Fideicomiso/Fondo\",Hoja1!H5439=\"PJ No Residente\"),Hoja1!B5443,\"\")",{"$f":"IFERROR(INDEX(TablaNivelTRES[PJNivelTres],_xlfn.AGGREGATE(15,6,(ROW(TablaNivelTRES[PJNivelTres])-ROW(TablaNivelTRES[#Headers]))/(TablaNivelTRES[PJNivelTres]<>\"\"),ROWS($B$396:TablaNivelTRES[[#This Row],[AuxTres]]))),\"\")","v":"SI(O(Hoja1!H5439=\"NIT\",Hoja1!H5439=\"Fideicomiso/Fondo\",Hoja1!H5439=\"PJ No Residente\"),Hoja1!B5443,\"\")"},"SI(O(Hoja1!H5439=\"NIT\",Hoja1!H5439=\"Fideicomiso/Fondo\",Hoja1!H5439=\"PJ No Residente\"),Hoja1!H5439,\"\")","SI(O(Hoja1!H5439=\"NIT\",Hoja1!H5439=\"Fideicomiso/Fondo\",Hoja1!H5439=\"PJ No Residente\"),Hoja1!B5441,\"\")"]
["SI(O(Hoja1!H5473=\"NIT\",Hoja1!H5473=\"Fideicomiso/Fondo\",Hoja1!H5473=\"PJ No Residente\"),Hoja1!B5477,\"\")",{"$f":"IFERROR(INDEX(TablaNivelTRES[PJNivelTres],_xlfn.AGGREGATE(15,6,(ROW(TablaNivelTRES[PJNivelTres])-ROW(TablaNivelTRES[#Headers]))/(TablaNivelTRES[PJNivelTres]<>\"\"),ROWS($B$396:TablaNivelTRES[[#This Row],[AuxTres]]))),\"\")","v":"SI(O(Hoja1!H5473=\"NIT\",Hoja1!H5473=\"Fideicomiso/Fondo\",Hoja1!H5473=\"PJ No Residente\"),Hoja1!B5477,\"\")"},"SI(O(Hoja1!H5473=\"NIT\",Hoja1!H5473=\"Fideicomiso/Fondo\",Hoja1!H5473=\"PJ No Residente\"),Hoja1!H5473,\"\")","SI(O(Hoja1!H5473=\"NIT\",Hoja1!H5473=\"Fideicomiso/Fondo\",Hoja1!H5473=\"PJ No Residente\"),Hoja1!B5475,\"\")"]
["SI(O(Hoja1!H5507=\"NIT\",Hoja1!H5507=\"Fideicomiso/Fondo\",Hoja1!H5507=\"PJ No Residente\"),Hoja1!B5511,\"\")",{"$f":"IFERROR(INDEX(TablaNivelTRES[PJNivelTres],_xlfn.AGGREGATE(15,6,(ROW(TablaNivelTRES[PJNivelTres])-ROW(TablaNivelTRES[#Headers]))/(TablaNivelTRES[PJNivelTres]<>\"\"),ROWS($B$396:TablaNivelTRES[[#This Row],[AuxTres]]))),\"\")","v":"SI(O(Hoja1!H5507=\"NIT\",Hoja1!H5507=\"Fideicomiso/Fondo\",Hoja1!H5507=\"PJ No Residente\"),Hoja1!B5511,\"\")"},"SI(O(Hoja1!H5507=\"NIT\",Hoja1!H5507=\"Fideicomiso/Fondo\",Hoja1!H5507=\"PJ No Residente\"),Hoja1!H5507,\"\")","SI(O(Hoja1!H5507=\"NIT\",Hoja1!H5507=\"Fideicomiso/Fondo\",Hoja1!H5507=\"PJ No Residente\"),Hoja1!B5509,\"\")"]
["SI(O(Hoja1!H5541=\"NIT\",Hoja1!H5541=\"Fideicomiso/Fondo\",Hoja1!H5541=\"PJ No Residente\"),Hoja1!B5545,\"\")",{"$f":"IFERROR(INDEX(TablaNivelTRES[PJNivelTres],_xlfn.AGGREGATE(15,6,(ROW(TablaNivelTRES[PJNivelTres])-ROW(TablaNivelTRES[#Headers]))/(TablaNivelTRES[PJNivelTres]<>\"\"),ROWS($B$396:TablaNivelTRES[[#This Row],[AuxTres]]))),\"\")","v":"SI(O(Hoja1!H5541=\"NIT\",Hoja1!H5541=\"Fideicomiso/Fondo\",Hoja1!H5541=\"PJ No Residente\"),Hoja1!B5545,\"\")"},"SI(O(Hoja1!H5541=\"NIT\",Hoja1!H5541=\"Fideicomiso/Fondo\",Hoja1!H5541=\"PJ No Residente\"),Hoja1!H5541,\"\")","SI(O(Hoja1!H5541=\"NIT\",Hoja1!H5541=\"Fideicomiso/Fondo\",Hoja1!H5541=\"PJ No Residente\"),Hoja1!B5543,\"\")"]
["SI(O(Hoja1!H5541=\"NIT\",Hoja1!H5541=\"Fideicomiso/Fondo\",Hoja1!H5541=\"PJ No Residente\"),Hoja1!B5579,\"\")",{"$f":"IFERROR(INDEX(TablaNivelTRES[PJNivelTres],_xlfn.AGGREGATE(15,6,(ROW(TablaNivelTRES[PJNivelTres])-ROW(TablaNivelTRES[#Headers]))/(TablaNivelTRES[PJNivelTres]<>\"\"),ROWS($B$396:TablaNivelTRES[[#This Row],[AuxTres]]))),\"\")","v":"SI(O(Hoja1!H5541=\"NIT\",Hoja1!H5541=\"Fideicomiso/Fondo\",Hoja1!H5541=\"PJ No Residente\"),Hoja1!B5579,\"\")"},"SI(O(Hoja1!H5541=\"NIT\",Hoja1!H5541=\"Fideicomiso/Fondo\",Hoja1!H5541=\"PJ No Residente\"),Hoja1!H5575,\"\")","SI(O(Hoja1!H5541=\"NIT\",Hoja1!H5541=\"Fideicomiso/Fondo\",Hoja1!H5541=\"PJ No Residente\"),Hoja1!B5577,\"\")"]
["SI(O(Hoja1!H5609=\"NIT\",Hoja1!H5609=\"Fideicomiso/Fondo\",Hoja1!H5609=\"PJ No Residente\"),Hoja1!B5613,\"\")",{"$f":"IFERROR(INDEX(TablaNivelTRES[PJNivelTres],_xlfn.AGGREGATE(15,6,(ROW(TablaNivelTRES[PJNivelTres])-ROW(TablaNivelTRES[#Headers]))/(TablaNivelTRES[PJNivelTres]<>\"\"),ROWS($B$396:TablaNivelTRES[[#This Row],[AuxTres]]))),\"\")","v":"SI(O(Hoja1!H5609=\"NIT\",Hoja1!H5609=\"Fideicomiso/Fondo\",Hoja1!H5609=\"PJ No Residente\"),Hoja1!B5613,\"\")"},"SI(O(Hoja1!H5609=\"NIT\",Hoja1!H5609=\"Fideicomiso/Fondo\",Hoja1!H5609=\"PJ No Residente\"),Hoja1!H5609,\"\")","SI(O(Hoja1!H5609=\"NIT\",Hoja1!H5609=\"Fideicomiso/Fondo\",Hoja1!H5609=\"PJ No Residente\"),Hoja1!B5611,\"\")"]
["SI(O(Hoja1!H5643=\"NIT\",Hoja1!H5643=\"Fideicomiso/Fondo\",Hoja1!H5643=\"PJ No Residente\"),Hoja1!B5647,\"\")",{"$f":"IFERROR(INDEX(TablaNivelTRES[PJNivelTres],_xlfn.AGGREGATE(15,6,(ROW(TablaNivelTRES[PJNivelTres])-ROW(TablaNivelTRES[#Headers]))/(TablaNivelTRES[PJNivelTres]<>\"\"),ROWS($B$396:TablaNivelTRES[[#This Row],[AuxTres]]))),\"\")","v":"SI(O(Hoja1!H5643=\"NIT\",Hoja1!H5643=\"Fideicomiso/Fondo\",Hoja1!H5643=\"PJ No Residente\"),Hoja1!B5647,\"\")"},"SI(O(Hoja1!H5643=\"NIT\",Hoja1!H5643=\"Fideicomiso/Fondo\",Hoja1!H5643=\"PJ No Residente\"),Hoja1!H5643,\"\")","SI(O(Hoja1!H5643=\"NIT\",Hoja1!H5643=\"Fideicomiso/Fondo\",Hoja1!H5643=\"PJ No Residente\"),Hoja1!B5645,\"\")"]
["SI(O(Hoja1!H5677=\"NIT\",Hoja1!H5677=\"Fideicomiso/Fondo\",Hoja1!H5677=\"PJ No Residente\"),Hoja1!B5681,\"\")",{"$f":"IFERROR(INDEX(TablaNivelTRES[PJNivelTres],_xlfn.AGGREGATE(15,6,(ROW(TablaNivelTRES[PJNivelTres])-ROW(TablaNivelTRES[#Headers]))/(TablaNivelTRES[PJNivelTres]<>\"\"),ROWS($B$396:TablaNivelTRES[[#This Row],[AuxTres]]))),\"\")","v":"SI(O(Hoja1!H5677=\"NIT\",Hoja1!H5677=\"Fideicomiso/Fondo\",Hoja1!H5677=\"PJ No Residente\"),Hoja1!B5681,\"\")"},"SI(O(Hoja1!H5677=\"NIT\",Hoja1!H5677=\"Fideicomiso/Fondo\",Hoja1!H5677=\"PJ No Residente\"),Hoja1!H5677,\"\")","SI(O(Hoja1!H5677=\"NIT\",Hoja1!H5677=\"Fideicomiso/Fondo\",Hoja1!H5677=\"PJ No Residente\"),Hoja1!B5679,\"\")"]
["SI(O(Hoja1!H5711=\"NIT\",Hoja1!H5711=\"Fideicomiso/Fondo\",Hoja1!H5711=\"PJ No Residente\"),Hoja1!B5715,\"\")",{"$f":"IFERROR(INDEX(TablaNivelTRES[PJNivelTres],_xlfn.AGGREGATE(15,6,(ROW(TablaNivelTRES[PJNivelTres])-ROW(TablaNivelTRES[#Headers]))/(TablaNivelTRES[PJNivelTres]<>\"\"),ROWS($B$396:TablaNivelTRES[[#This Row],[AuxTres]]))),\"\")","v":"SI(O(Hoja1!H5711=\"NIT\",Hoja1!H5711=\"Fideicomiso/Fondo\",Hoja1!H5711=\"PJ No Residente\"),Hoja1!B5715,\"\")"},"SI(O(Hoja1!H5711=\"NIT\",Hoja1!H5711=\"Fideicomiso/Fondo\",Hoja1!H5711=\"PJ No Residente\"),Hoja1!H5711,\"\")","SI(O(Hoja1!H5711=\"NIT\",Hoja1!H5711=\"Fideicomiso/Fondo\",Hoja1!H5711=\"PJ No Residente\"),Hoja1!B5713,\"\")"]
["SI(O(Hoja1!H5711=\"NIT\",Hoja1!H5711=\"Fideicomiso/Fondo\",Hoja1!H5711=\"PJ No Residente\"),Hoja1!B5749,\"\")",{"$f":"IFERROR(INDEX(TablaNivelTRES[PJNivelTres],_xlfn.AGGREGATE(15,6,(ROW(TablaNivelTRES[PJNivelTres])-ROW(TablaNivelTRES[#Headers]))/(TablaNivelTRES[PJNivelTres]<>\"\"),ROWS($B$396:TablaNivelTRES[[#This Row],[AuxTres]]))),\"\")","v":"SI(O(Hoja1!H5711=\"NIT\",Hoja1!H5711=\"Fideicomiso/Fondo\",Hoja1!H5711=\"PJ No Residente\"),Hoja1!B5749,\"\")"},"SI(O(Hoja1!H5711=\"NIT\",Hoja1!H5711=\"Fideicomiso/Fondo\",Hoja1!H5711=\"PJ No Residente\"),Hoja1!H5745,\"\")","SI(O(Hoja1!H5711=\"NIT\",Hoja1!H5711=\"Fideicomiso/Fondo\",Hoja1!H5711=\"PJ No Residente\"),Hoja1!B5747,\"\")"]
["SI(O(Hoja1!H5779=\"NIT\",Hoja1!H5779=\"Fideicomiso/Fondo\",Hoja1!H5779=\"PJ No Residente\"),Hoja1!B5783,\"\")",{"$f":"IFERROR(INDEX(TablaNivelTRES[PJNivelTres],_xlfn.AGGREGATE(15,6,(ROW(TablaNivelTRES[PJNivelTres])-ROW(TablaNivelTRES[#Headers]))/(TablaNivelTRES[PJNivelTres]<>\"\"),ROWS($B$396:TablaNivelTRES[[#This Row],[AuxTres]]))),\"\")","v":"SI(O(Hoja1!H5779=\"NIT\",Hoja1!H5779=\"Fideicomiso/Fondo\",Hoja1!H5779=\"PJ No Residente\"),Hoja1!B5783,\"\")"},"SI(O(Hoja1!H5779=\"NIT\",Hoja1!H5779=\"Fideicomiso/Fondo\",Hoja1!H5779=\"PJ No Residente\"),Hoja1!H5779,\"\")","SI(O(Hoja1!H5779=\"NIT\",Hoja1!H5779=\"Fideicomiso/Fondo\",Hoja1!H5779=\"PJ No Residente\"),Hoja1!B5781,\"\")"]
["SI(O(Hoja1!H5813=\"NIT\",Hoja1!H5813=\"Fideicomiso/Fondo\",Hoja1!H5813=\"PJ No Residente\"),Hoja1!B5817,\"\")",{"$f":"IFERROR(INDEX(TablaNivelTRES[PJNivelTres],_xlfn.AGGREGATE(15,6,(ROW(TablaNivelTRES[PJNivelTres])-ROW(TablaNivelTRES[#Headers]))/(TablaNivelTRES[PJNivelTres]<>\"\"),ROWS($B$396:TablaNivelTRES[[#This Row],[AuxTres]]))),\"\")","v":"SI(O(Hoja1!H5813=\"NIT\",Hoja1!H5813=\"Fideicomiso/Fondo\",Hoja1!H5813=\"PJ No Residente\"),Hoja1!B5817,\"\")"},"SI(O(Hoja1!H5813=\"NIT\",Hoja1!H5813=\"Fideicomiso/Fondo\",Hoja1!H5813=\"PJ No Residente\"),Hoja1!H5813,\"\")","SI(O(Hoja1!H5813=\"NIT\",Hoja1!H5813=\"Fideicomiso/Fondo\",Hoja1!H5813=\"PJ No Residente\"),Hoja1!B5815,\"\")"]
["SI(O(Hoja1!H5847=\"NIT\",Hoja1!H5847=\"Fideicomiso/Fondo\",Hoja1!H5847=\"PJ No Residente\"),Hoja1!B5851,\"\")",{"$f":"IFERROR(INDEX(TablaNivelTRES[PJNivelTres],_xlfn.AGGREGATE(15,6,(ROW(TablaNivelTRES[PJNivelTres])-ROW(TablaNivelTRES[#Headers]))/(TablaNivelTRES[PJNivelTres]<>\"\"),ROWS($B$396:TablaNivelTRES[[#This Row],[AuxTres]]))),\"\")","v":"SI(O(Hoja1!H5847=\"NIT\",Hoja1!H5847=\"Fideicomiso/Fondo\",Hoja1!H5847=\"PJ No Residente\"),Hoja1!B5851,\"\")"},"SI(O(Hoja1!H5847=\"NIT\",Hoja1!H5847=\"Fideicomiso/Fondo\",Hoja1!H5847=\"PJ No Residente\"),Hoja1!H5847,\"\")","SI(O(Hoja1!H5847=\"NIT\",Hoja1!H5847=\"Fideicomiso/Fondo\",Hoja1!H5847=\"PJ No Residente\"),Hoja1!B5849,\"\")"]
["SI(O(Hoja1!H5881=\"NIT\",Hoja1!H5881=\"Fideicomiso/Fondo\",Hoja1!H5881=\"PJ No Residente\"),Hoja1!B5885,\"\")",{"$f":"IFERROR(INDEX(TablaNivelTRES[PJNivelTres],_xlfn.AGGREGATE(15,6,(ROW(TablaNivelTRES[PJNivelTres])-ROW(TablaNivelTRES[#Headers]))/(TablaNivelTRES[PJNivelTres]<>\"\"),ROWS($B$396:TablaNivelTRES[[#This Row],[AuxTres]]))),\"\")","v":"SI(O(Hoja1!H5881=\"NIT\",Hoja1!H5881=\"Fideicomiso/Fondo\",Hoja1!H5881=\"PJ No Residente\"),Hoja1!B5885,\"\")"},"SI(O(Hoja1!H5881=\"NIT\",Hoja1!H5881=\"Fideicomiso/Fondo\",Hoja1!H5881=\"PJ No Residente\"),Hoja1!H5881,\"\")","SI(O(Hoja1!H5881=\"NIT\",Hoja1!H5881=\"Fideicomiso/Fondo\",Hoja1!H5881=\"PJ No Residente\"),Hoja1!B5883,\"\")"]
["SI(O(Hoja1!H5915=\"NIT\",Hoja1!H5915=\"Fideicomiso/Fondo\",Hoja1!H5915=\"PJ No Residente\"),Hoja1!B5919,\"\")",{"$f":"IFERROR(INDEX(TablaNivelTRES[PJNivelTres],_xlfn.AGGREGATE(15,6,(ROW(TablaNivelTRES[PJNivelTres])-ROW(TablaNivelTRES[#Headers]))/(TablaNivelTRES[PJNivelTres]<>\"\"),ROWS($B$396:TablaNivelTRES[[#This Row],[AuxTres]]))),\"\")","v":"SI(O(Hoja1!H5915=\"NIT\",Hoja1!H5915=\"Fideicomiso/Fondo\",Hoja1!H5915=\"PJ No Residente\"),Hoja1!B5919,\"\")"},"SI(O(Hoja1!H5915=\"NIT\",Hoja1!H5915=\"Fideicomiso/Fondo\",Hoja1!H5915=\"PJ No Residente\"),Hoja1!H5915,\"\")","SI(O(Hoja1!H5915=\"NIT\",Hoja1!H5915=\"Fideicomiso/Fondo\",Hoja1!H5915=\"PJ No Residente\"),Hoja1!B5917,\"\")"]
["SI(O(Hoja1!H5949=\"NIT\",Hoja1!H5949=\"Fideicomiso/Fondo\",Hoja1!H5949=\"PJ No Residente\"),Hoja1!B5953,\"\")",{"$f":"IFERROR(INDEX(TablaNivelTRES[PJNivelTres],_xlfn.AGGREGATE(15,6,(ROW(TablaNivelTRES[PJNivelTres])-ROW(TablaNivelTRES[#Headers]))/(TablaNivelTRES[PJNivelTres]<>\"\"),ROWS($B$396:TablaNivelTRES[[#This Row],[AuxTres]]))),\"\")","v":"SI(O(Hoja1!H5949=\"NIT\",Hoja1!H5949=\"Fideicomiso/Fondo\",Hoja1!H5949=\"PJ No Residente\"),Hoja1!B5953,\"\")"},"SI(O(Hoja1!H5949=\"NIT\",Hoja1!H5949=\"Fideicomiso/Fondo\",Hoja1!H5949=\"PJ No Residente\"),Hoja1!H5949,\"\")","SI(O(Hoja1!H5949=\"NIT\",Hoja1!H5949=\"Fideicomiso/Fondo\",Hoja1!H5949=\"PJ No Residente\"),Hoja1!B5951,\"\")"]
["SI(O(Hoja1!H5983=\"NIT\",Hoja1!H5983=\"Fideicomiso/Fondo\",Hoja1!H5983=\"PJ No Residente\"),Hoja1!B5987,\"\")",{"$f":"IFERROR(INDEX(TablaNivelTRES[PJNivelTres],_xlfn.AGGREGATE(15,6,(ROW(TablaNivelTRES[PJNivelTres])-ROW(TablaNivelTRES[#Headers]))/(TablaNivelTRES[PJNivelTres]<>\"\"),ROWS($B$396:TablaNivelTRES[[#This Row],[AuxTres]]))),\"\")","v":"SI(O(Hoja1!H5983=\"NIT\",Hoja1!H5983=\"Fideicomiso/Fondo\",Hoja1!H5983=\"PJ No Residente\"),Hoja1!B5987,\"\")"},"SI(O(Hoja1!H5983=\"NIT\",Hoja1!H5983=\"Fideicomiso/Fondo\",Hoja1!H5983=\"PJ No Residente\"),Hoja1!H5983,\"\")","SI(O(Hoja1!H5983=\"NIT\",Hoja1!H5983=\"Fideicomiso/Fondo\",Hoja1!H5983=\"PJ No Residente\"),Hoja1!B5985,\"\")"]
["SI(O(Hoja1!H6017=\"NIT\",Hoja1!H6017=\"Fideicomiso/Fondo\",Hoja1!H6017=\"PJ No Residente\"),Hoja1!B6021,\"\")",{"$f":"IFERROR(INDEX(TablaNivelTRES[PJNivelTres],_xlfn.AGGREGATE(15,6,(ROW(TablaNivelTRES[PJNivelTres])-ROW(TablaNivelTRES[#Headers]))/(TablaNivelTRES[PJNivelTres]<>\"\"),ROWS($B$396:TablaNivelTRES[[#This Row],[AuxTres]]))),\"\")","v":"SI(O(Hoja1!H6017=\"NIT\",Hoja1!H6017=\"Fideicomiso/Fondo\",Hoja1!H6017=\"PJ No Residente\"),Hoja1!B6021,\"\")"},"SI(O(Hoja1!H6017=\"NIT\",Hoja1!H6017=\"Fideicomiso/Fondo\",Hoja1!H6017=\"PJ No Residente\"),Hoja1!H6017,\"\")","SI(O(Hoja1!H6017=\"NIT\",Hoja1!H6017=\"Fideicomiso/Fondo\",Hoja1!H6017=\"PJ No Residente\"),Hoja1!B6019,\"\")"]
["SI(O(Hoja1!H6051=\"NIT\",Hoja1!H6051=\"Fideicomiso/Fondo\",Hoja1!H6051=\"PJ No Residente\"),Hoja1!B6055,\"\")",{"$f":"IFERROR(INDEX(TablaNivelTRES[PJNivelTres],_xlfn.AGGREGATE(15,6,(ROW(TablaNivelTRES[PJNivelTres])-ROW(TablaNivelTRES[#Headers]))/(TablaNivelTRES[PJNivelTres]<>\"\"),ROWS($B$396:TablaNivelTRES[[#This Row],[AuxTres]]))),\"\")","v":"SI(O(Hoja1!H6051=\"NIT\",Hoja1!H6051=\"Fideicomiso/Fondo\",Hoja1!H6051=\"PJ No Residente\"),Hoja1!B6055,\"\")"},"SI(O(Hoja1!H6051=\"NIT\",Hoja1!H6051=\"Fideicomiso/Fondo\",Hoja1!H6051=\"PJ No Residente\"),Hoja1!H6051,\"\")","SI(O(Hoja1!H6051=\"NIT\",Hoja1!H6051=\"Fideicomiso/Fondo\",Hoja1!H6051=\"PJ No Residente\"),Hoja1!B6053,\"\")"]
["SI(O(Hoja1!H6085=\"NIT\",Hoja1!H6085=\"Fideicomiso/Fondo\",Hoja1!H6085=\"PJ No Residente\"),Hoja1!B6089,\"\")",{"$f":"IFERROR(INDEX(TablaNivelTRES[PJNivelTres],_xlfn.AGGREGATE(15,6,(ROW(TablaNivelTRES[PJNivelTres])-ROW(TablaNivelTRES[#Headers]))/(TablaNivelTRES[PJNivelTres]<>\"\"),ROWS($B$396:TablaNivelTRES[[#This Row],[AuxTres]]))),\"\")","v":"SI(O(Hoja1!H6085=\"NIT\",Hoja1!H6085=\"Fideicomiso/Fondo\",Hoja1!H6085=\"PJ No Residente\"),Hoja1!B6089,\"\")"},"SI(O(Hoja1!H6085=\"NIT\",Hoja1!H6085=\"Fideicomiso/Fondo\",Hoja1!H6085=\"PJ No Residente\"),Hoja1!H6085,\"\")","SI(O(Hoja1!H6085=\"NIT\",Hoja1!H6085=\"Fideicomiso/Fondo\",Hoja1!H6085=\"PJ No Residente\"),Hoja1!B6087,\"\")"]
["SI(O(Hoja1!H6119=\"NIT\",Hoja1!H6119=\"Fideicomiso/Fondo\",Hoja1!H6119=\"PJ No Residente\"),Hoja1!B6123,\"\")",{"$f":"IFERROR(INDEX(TablaNivelTRES[PJNivelTres],_xlfn.AGGREGATE(15,6,(ROW(TablaNivelTRES[PJNivelTres])-ROW(TablaNivelTRES[#Headers]))/(TablaNivelTRES[PJNivelTres]<>\"\"),ROWS($B$396:TablaNivelTRES[[#This Row],[AuxTres]]))),\"\")","v":"SI(O(Hoja1!H6119=\"NIT\",Hoja1!H6119=\"Fideicomiso/Fondo\",Hoja1!H6119=\"PJ No Residente\"),Hoja1!B6123,\"\")"},"SI(O(Hoja1!H6119=\"NIT\",Hoja1!H6119=\"Fideicomiso/Fondo\",Hoja1!H6119=\"PJ No Residente\"),Hoja1!H6119,\"\")","SI(O(Hoja1!H6119=\"NIT\",Hoja1!H6119=\"Fideicomiso/Fondo\",Hoja1!H6119=\"PJ No Residente\"),Hoja1!B6121,\"\")"]
["SI(O(Hoja1!H6153=\"NIT\",Hoja1!H6153=\"Fideicomiso/Fondo\",Hoja1!H6153=\"PJ No Residente\"),Hoja1!B6157,\"\")",{"$f":"IFERROR(INDEX(TablaNivelTRES[PJNivelTres],_xlfn.AGGREGATE(15,6,(ROW(TablaNivelTRES[PJNivelTres])-ROW(TablaNivelTRES[#Headers]))/(TablaNivelTRES[PJNivelTres]<>\"\"),ROWS($B$396:TablaNivelTRES[[#This Row],[AuxTres]]))),\"\")","v":"SI(O(Hoja1!H6153=\"NIT\",Hoja1!H6153=\"Fideicomiso/Fondo\",Hoja1!H6153=\"PJ No Residente\"),Hoja1!B6157,\"\")"},"SI(O(Hoja1!H6153=\"NIT\",Hoja1!H6153=\"Fideicomiso/Fondo\",Hoja1!H6153=\"PJ No Residente\"),Hoja1!H6153,\"\")","SI(O(Hoja1!H6153=\"NIT\",Hoja1!H6153=\"Fideicomiso/Fondo\",Hoja1!H6153=\"PJ No Residente\"),Hoja1!B6155,\"\")"]
["SI(O(Hoja1!H6187=\"NIT\",Hoja1!H6187=\"Fideicomiso/Fondo\",Hoja1!H6187=\"PJ No Residente\"),Hoja1!B6191,\"\")",{"$f":"IFERROR(INDEX(TablaNivelTRES[PJNivelTres],_xlfn.AGGREGATE(15,6,(ROW(TablaNivelTRES[PJNivelTres])-ROW(TablaNivelTRES[#Headers]))/(TablaNivelTRES[PJNivelTres]<>\"\"),ROWS($B$396:TablaNivelTRES[[#This Row],[AuxTres]]))),\"\")","v":"SI(O(Hoja1!H6187=\"NIT\",Hoja1!H6187=\"Fideicomiso/Fondo\",Hoja1!H6187=\"PJ No Residente\"),Hoja1!B6191,\"\")"},"SI(O(Hoja1!H6187=\"NIT\",Hoja1!H6187=\"Fideicomiso/Fondo\",Hoja1!H6187=\"PJ No Residente\"),Hoja1!H6187,\"\")","SI(O(Hoja1!H6187=\"NIT\",Hoja1!H6187=\"Fideicomiso/Fondo\",Hoja1!H6187=\"PJ No Residente\"),Hoja1!B6189,\"\")"]
["SI(O(Hoja1!H6221=\"NIT\",Hoja1!H6221=\"Fideicomiso/Fondo\",Hoja1!H6221=\"PJ No Residente\"),Hoja1!B6225,\"\")",{"$f":"IFERROR(INDEX(TablaNivelTRES[PJNivelTres],_xlfn.AGGREGATE(15,6,(ROW(TablaNivelTRES[PJNivelTres])-ROW(TablaNivelTRES[#Headers]))/(TablaNivelTRES[PJNivelTres]<>\"\"),ROWS($B$396:TablaNivelTRES[[#This Row],[AuxTres]]))),\"\")","v":"SI(O(Hoja1!H6221=\"NIT\",Hoja1!H6221=\"Fideicomiso/Fondo\",Hoja1!H6221=\"PJ No Residente\"),Hoja1!B6225,\"\")"},"SI(O(Hoja1!H6221=\"NIT\",Hoja1!H6221=\"Fideicomiso/Fondo\",Hoja1!H6221=\"PJ No Residente\"),Hoja1!H6221,\"\")","SI(O(Hoja1!H6221=\"NIT\",Hoja1!H6221=\"Fideicomiso/Fondo\",Hoja1!H6221=\"PJ No Residente\"),Hoja1!B6223,\"\")"]
["SI(O(Hoja1!H6255=\"NIT\",Hoja1!H6255=\"Fideicomiso/Fondo\",Hoja1!H6255=\"PJ No Residente\"),Hoja1!B6259,\"\")",{"$f":"IFERROR(INDEX(TablaNivelTRES[PJNivelTres],_xlfn.AGGREGATE(15,6,(ROW(TablaNivelTRES[PJNivelTres])-ROW(TablaNivelTRES[#Headers]))/(TablaNivelTRES[PJNivelTres]<>\"\"),ROWS($B$396:TablaNivelTRES[[#This Row],[AuxTres]]))),\"\")","v":"SI(O(Hoja1!H6255=\"NIT\",Hoja1!H6255=\"Fideicomiso/Fondo\",Hoja1!H6255=\"PJ No Residente\"),Hoja1!B6259,\"\")"},"SI(O(Hoja1!H6255=\"NIT\",Hoja1!H6255=\"Fideicomiso/Fondo\",Hoja1!H6255=\"PJ No Residente\"),Hoja1!H6255,\"\")","SI(O(Hoja1!H6255=\"NIT\",Hoja1!H6255=\"Fideicomiso/Fondo\",Hoja1!H6255=\"PJ No Residente\"),Hoja1!B6257,\"\")"]
["SI(O(Hoja1!H6289=\"NIT\",Hoja1!H6289=\"Fideicomiso/Fondo\",Hoja1!H6289=\"PJ No Residente\"),Hoja1!B6293,\"\")",{"$f":"IFERROR(INDEX(TablaNivelTRES[PJNivelTres],_xlfn.AGGREGATE(15,6,(ROW(TablaNivelTRES[PJNivelTres])-ROW(TablaNivelTRES[#Headers]))/(TablaNivelTRES[PJNivelTres]<>\"\"),ROWS($B$396:TablaNivelTRES[[#This Row],[AuxTres]]))),\"\")","v":"SI(O(Hoja1!H6289=\"NIT\",Hoja1!H6289=\"Fideicomiso/Fondo\",Hoja1!H6289=\"PJ No Residente\"),Hoja1!B6293,\"\")"},"SI(O(Hoja1!H6289=\"NIT\",Hoja1!H6289=\"Fideicomiso/Fondo\",Hoja1!H6289=\"PJ No Residente\"),Hoja1!H6289,\"\")","SI(O(Hoja1!H6289=\"NIT\",Hoja1!H6289=\"Fideicomiso/Fondo\",Hoja1!H6289=\"PJ No Residente\"),Hoja1!B6291,\"\")"]
["SI(O(Hoja1!H6323=\"NIT\",Hoja1!H6323=\"Fideicomiso/Fondo\",Hoja1!H6323=\"PJ No Residente\"),Hoja1!B6327,\"\")",{"$f":"IFERROR(INDEX(TablaNivelTRES[PJNivelTres],_xlfn.AGGREGATE(15,6,(ROW(TablaNivelTRES[PJNivelTres])-ROW(TablaNivelTRES[#Headers]))/(TablaNivelTRES[PJNivelTres]<>\"\"),ROWS($B$396:TablaNivelTRES[[#This Row],[AuxTres]]))),\"\")","v":"SI(O(Hoja1!H6323=\"NIT\",Hoja1!H6323=\"Fideicomiso/Fondo\",Hoja1!H6323=\"PJ No Residente\"),Hoja1!B6327,\"\")"},"SI(O(Hoja1!H6323=\"NIT\",Hoja1!H6323=\"Fideicomiso/Fondo\",Hoja1!H6323=\"PJ No Residente\"),Hoja1!H6323,\"\")","SI(O(Hoja1!H6323=\"NIT\",Hoja1!H6323=\"Fideicomiso/Fondo\",Hoja1!H6323=\"PJ No Residente\"),Hoja1!B6325,\"\")"]
["SI(O(Hoja1!H6357=\"NIT\",Hoja1!H6357=\"Fideicomiso/Fondo\",Hoja1!H6357=\"PJ No Residente\"),Hoja1!B6361,\"\")",{"$f":"IFERROR(INDEX(TablaNivelTRES[PJNivelTres],_xlfn.AGGREGATE(15,6,(ROW(TablaNivelTRES[PJNivelTres])-ROW(TablaNivelTRES[#Headers]))/(TablaNivelTRES[PJNivelTres]<>\"\"),ROWS($B$396:TablaNivelTRES[[#This Row],[AuxTres]]))),\"\")","v":"SI(O(Hoja1!H6357=\"NIT\",Hoja1!H6357=\"Fideicomiso/Fondo\",Hoja1!H6357=\"PJ No Residente\"),Hoja1!B6361,\"\")"},"SI(O(Hoja1!H6357=\"NIT\",Hoja1!H6357=\"Fideicomiso/Fondo\",Hoja1!H6357=\"PJ No Residente\"),Hoja1!H6357,\"\")","SI(O(Hoja1!H6357=\"NIT\",Hoja1!H6357=\"Fideicomiso/Fondo\",Hoja1!H6357=\"PJ No Residente\"),Hoja1!B6359,\"\")"]
["SI(O(Hoja1!H6391=\"NIT\",Hoja1!H6391=\"Fideicomiso/Fondo\",Hoja1!H6391=\"PJ No Residente\"),Hoja1!B6395,\"\")",{"$f":"IFERROR(INDEX(TablaNivelTRES[PJNivelTres],_xlfn.AGGREGATE(15,6,(ROW(TablaNivelTRES[PJNivelTres])-ROW(TablaNivelTRES[#Headers]))/(TablaNivelTRES[PJNivelTres]<>\"\"),ROWS($B$396:TablaNivelTRES[[#This Row],[AuxTres]]))),\"\")","v":"SI(O(Hoja1!H6391=\"NIT\",Hoja1!H6391=\"Fideicomiso/Fondo\",Hoja1!H6391=\"PJ No Residente\"),Hoja1!B6395,\"\")"},"SI(O(Hoja1!H6391=\"NIT\",Hoja1!H6391=\"Fideicomiso/Fondo\",Hoja1!H6391=\"PJ No Residente\"),Hoja1!H6391,\"\")","SI(O(Hoja1!H6391=\"NIT\",Hoja1!H6391=\"Fideicomiso/Fondo\",Hoja1!H6391=\"PJ No Residente\"),Hoja1!B6393,\"\")"]
["SI(O(Hoja1!H6425=\"NIT\",Hoja1!H6425=\"Fideicomiso/Fondo\",Hoja1!H6425=\"PJ No Residente\"),Hoja1!B6429,\"\")",{"$f":"IFERROR(INDEX(TablaNivelTRES[PJNivelTres],_xlfn.AGGREGATE(15,6,(ROW(TablaNivelTRES[PJNivelTres])-ROW(TablaNivelTRES[#Headers]))/(TablaNivelTRES[PJNivelTres]<>\"\"),ROWS($B$396:TablaNivelTRES[[#This Row],[AuxTres]]))),\"\")","v":"SI(O(Hoja1!H6425=\"NIT\",Hoja1!H6425=\"Fideicomiso/Fondo\",Hoja1!H6425=\"PJ No Residente\"),Hoja1!B6429,\"\")"},"SI(O(Hoja1!H6425=\"NIT\",Hoja1!H6425=\"Fideicomiso/Fondo\",Hoja1!H6425=\"PJ No Residente\"),Hoja1!H6425,\"\")","SI(O(Hoja1!H6425=\"NIT\",Hoja1!H6425=\"Fideicomiso/Fondo\",Hoja1!H6425=\"PJ No Residente\"),Hoja1!B6427,\"\")"]
["SI(O(Hoja1!H6459=\"NIT\",Hoja1!H6459=\"Fideicomiso/Fondo\",Hoja1!H6459=\"PJ No Residente\"),Hoja1!B6463,\"\")",{"$f":"IFERROR(INDEX(TablaNivelTRES[PJNivelTres],_xlfn.AGGREGATE(15,6,(ROW(TablaNivelTRES[PJNivelTres])-ROW(TablaNivelTRES[#Headers]))/(TablaNivelTRES[PJNivelTres]<>\"\"),ROWS($B$396:TablaNivelTRES[[#This Row],[AuxTres]]))),\"\")","v":"SI(O(Hoja1!H6459=\"NIT\",Hoja1!H6459=\"Fideicomiso/Fondo\",Hoja1!H6459=\"PJ No Residente\"),Hoja1!B6463,\"\")"},"SI(O(Hoja1!H6459=\"NIT\",Hoja1!H6459=\"Fideicomiso/Fondo\",Hoja1!H6459=\"PJ No Residente\"),Hoja1!H6459,\"\")","SI(O(Hoja1!H6459=\"NIT\",Hoja1!H6459=\"Fideicomiso/Fondo\",Hoja1!H6459=\"PJ No Residente\"),Hoja1!B6461,\"\")"]
["SI(O(Hoja1!H6493=\"NIT\",Hoja1!H6493=\"Fideicomiso/Fondo\",Hoja1!H6493=\"PJ No Residente\"),Hoja1!B6497,\"\")",{"$f":"IFERROR(INDEX(TablaNivelTRES[PJNivelTres],_xlfn.AGGREGATE(15,6,(ROW(TablaNivelTRES[PJNivelTres])-ROW(TablaNivelTRES[#Headers]))/(TablaNivelTRES[PJNivelTres]<>\"\"),ROWS($B$396:TablaNivelTRES[[#This Row],[AuxTres]]))),\"\")","v":"SI(O(Hoja1!H6493=\"NIT\",Hoja1!H6493=\"Fideicomiso/Fondo\",Hoja1!H6493=\"PJ No Residente\"),Hoja1!B6497,\"\")"},"SI(O(Hoja1!H6493=\"NIT\",Hoja1!H6493=\"Fideicomiso/Fondo\",Hoja1!H6493=\"PJ No Residente\"),Hoja1!H6493,\"\")","SI(O(Hoja1!H6493=\"NIT\",Hoja1!H6493=\"Fideicomiso/Fondo\",Hoja1!H6493=\"PJ No Residente\"),Hoja1!B6495,\"\")"]
["SI(O(Hoja1!H6527=\"NIT\",Hoja1!H6527=\"Fideicomiso/Fondo\",Hoja1!H6527=\"PJ No Residente\"),Hoja1!B6531,\"\")",{"$f":"IFERROR(INDEX(TablaNivelTRES[PJNivelTres],_xlfn.AGGREGATE(15,6,(ROW(TablaNivelTRES[PJNivelTres])-ROW(TablaNivelTRES[#Headers]))/(TablaNivelTRES[PJNivelTres]<>\"\"),ROWS($B$396:TablaNivelTRES[[#This Row],[AuxTres]]))),\"\")","v":"SI(O(Hoja1!H6527=\"NIT\",Hoja1!H6527=\"Fideicomiso/Fondo\",Hoja1!H6527=\"PJ No Residente\"),Hoja1!B6531,\"\")"},"SI(O(Hoja1!H6527=\"NIT\",Hoja1!H6527=\"Fideicomiso/Fondo\",Hoja1!H6527=\"PJ No Residente\"),Hoja1!H6527,\"\")","SI(O(Hoja1!H6527=\"NIT\",Hoja1!H6527=\"Fideicomiso/Fondo\",Hoja1!H6527=\"PJ No Residente\"),Hoja1!B6529,\"\")"]
["SI(O(Hoja1!H6561=\"NIT\",Hoja1!H6561=\"Fideicomiso/Fondo\",Hoja1!H6561=\"PJ No Residente\"),Hoja1!B6565,\"\")",{"$f":"IFERROR(INDEX(TablaNivelTRES[PJNivelTres],_xlfn.AGGREGATE(15,6,(ROW(TablaNivelTRES[PJNivelTres])-ROW(TablaNivelTRES[#Headers]))/(TablaNivelTRES[PJNivelTres]<>\"\"),ROWS($B$396:TablaNivelTRES[[#This Row],[AuxTres]]))),\"\")","v":"SI(O(Hoja1!H6561=\"NIT\",Hoja1!H6561=\"Fideicomiso/Fondo\",Hoja1!H6561=\"PJ No Residente\"),Hoja1!B6565,\"\")"},"SI(O(Hoja1!H6561=\"NIT\",Hoja1!H6561=\"Fideicomiso/Fondo\",Hoja1!H6561=\"PJ No Residente\"),Hoja1!H6561,\"\")","SI(O(Hoja1!H6561=\"NIT\",Hoja1!H6561=\"Fideicomiso/Fondo\",Hoja1!H6561=\"PJ No Residente\"),Hoja1!B6563,\"\")"]
["SI(O(Hoja1!H6595=\"NIT\",Hoja1!H6595=\"Fideicomiso/Fondo\",Hoja1!H6595=\"PJ No Residente\"),Hoja1!B6599,\"\")",{"$f":"IFERROR(INDEX(TablaNivelTRES[PJNivelTres],_xlfn.AGGREGATE(15,6,(ROW(TablaNivelTRES[PJNivelTres])-ROW(TablaNivelTRES[#Headers]))/(TablaNivelTRES[PJNivelTres]<>\"\"),ROWS($B$396:TablaNivelTRES[[#This Row],[AuxTres]]))),\"\")","v":"SI(O(Hoja1!H6595=\"NIT\",Hoja1!H6595=\"Fideicomiso/Fondo\",Hoja1!H6595=\"PJ No Residente\"),Hoja1!B6599,\"\")"},"SI(O(Hoja1!H6595=\"NIT\",Hoja1!H6595=\"Fideicomiso/Fondo\",Hoja1!H6595=\"PJ No Residente\"),Hoja1!H6595,\"\")","SI(O(Hoja1!H6595=\"NIT\",Hoja1!H6595=\"Fideicomiso/Fondo\",Hoja1!H6595=\"PJ No Residente\"),Hoja1!B6597,\"\")"]
["SI(O(Hoja1!H6629=\"NIT\",Hoja1!H6629=\"Fideicomiso/Fondo\",Hoja1!H6629=\"PJ No Residente\"),Hoja1!B6633,\"\")",{"$f":"IFERROR(INDEX(TablaNivelTRES[PJNivelTres],_xlfn.AGGREGATE(15,6,(ROW(TablaNivelTRES[PJNivelTres])-ROW(TablaNivelTRES[#Headers]))/(TablaNivelTRES[PJNivelTres]<>\"\"),ROWS($B$396:TablaNivelTRES[[#This Row],[AuxTres]]))),\"\")","v":"SI(O(Hoja1!H6629=\"NIT\",Hoja1!H6629=\"Fideicomiso/Fondo\",Hoja1!H6629=\"PJ No Residente\"),Hoja1!B6633,\"\")"},"SI(O(Hoja1!H6629=\"NIT\",Hoja1!H6629=\"Fideicomiso/Fondo\",Hoja1!H6629=\"PJ No Residente\"),Hoja1!H6629,\"\")","SI(O(Hoja1!H6629=\"NIT\",Hoja1!H6629=\"Fideicomiso/Fondo\",Hoja1!H6629=\"PJ No Residente\"),Hoja1!B6631,\"\")"]
["SI(O(Hoja1!H6663=\"NIT\",Hoja1!H6663=\"Fideicomiso/Fondo\",Hoja1!H6663=\"PJ No Residente\"),Hoja1!B6667,\"\")",{"$f":"IFERROR(INDEX(TablaNivelTRES[PJNivelTres],_xlfn.AGGREGATE(15,6,(ROW(TablaNivelTRES[PJNivelTres])-ROW(TablaNivelTRES[#Headers]))/(TablaNivelTRES[PJNivelTres]<>\"\"),ROWS($B$396:TablaNivelTRES[[#This Row],[AuxTres]]))),\"\")","v":"SI(O(Hoja1!H6663=\"NIT\",Hoja1!H6663=\"Fideicomiso/Fondo\",Hoja1!H6663=\"PJ No Residente\"),Hoja1!B6667,\"\")"},"SI(O(Hoja1!H6663=\"NIT\",Hoja1!H6663=\"Fideicomiso/Fondo\",Hoja1!H6663=\"PJ No Residente\"),Hoja1!H6663,\"\")","SI(O(Hoja1!H6663=\"NIT\",Hoja1!H6663=\"Fideicomiso/Fondo\",Hoja1!H6663=\"PJ No Residente\"),Hoja1!B6665,\"\")"]
["SI(O(Hoja1!H6697=\"NIT\",Hoja1!H6697=\"Fideicomiso/Fondo\",Hoja1!H6697=\"PJ No Residente\"),Hoja1!B6701,\"\")",{"$f":"IFERROR(INDEX(TablaNivelTRES[PJNivelTres],_xlfn.AGGREGATE(15,6,(ROW(TablaNivelTRES[PJNivelTres])-ROW(TablaNivelTRES[#Headers]))/(TablaNivelTRES[PJNivelTres]<>\"\"),ROWS($B$396:TablaNivelTRES[[#This Row],[AuxTres]]))),\"\")","v":"SI(O(Hoja1!H6697=\"NIT\",Hoja1!H6697=\"Fideicomiso/Fondo\",Hoja1!H6697=\"PJ No Residente\"),Hoja1!B6701,\"\")"},"SI(O(Hoja1!H6697=\"NIT\",Hoja1!H6697=\"Fideicomiso/Fondo\",Hoja1!H6697=\"PJ No Residente\"),Hoja1!H6697,\"\")","SI(O(Hoja1!H6697=\"NIT\",Hoja1!H6697=\"Fideicomiso/Fondo\",Hoja1!H6697=\"PJ No Residente\"),Hoja1!B6699,\"\")"]
["SI(O(Hoja1!H6731=\"NIT\",Hoja1!H6731=\"Fideicomiso/Fondo\",Hoja1!H6731=\"PJ No Residente\"),Hoja1!B6735,\"\")",{"$f":"IFERROR(INDEX(TablaNivelTRES[PJNivelTres],_xlfn.AGGREGATE(15,6,(ROW(TablaNivelTRES[PJNivelTres])-ROW(TablaNivelTRES[#Headers]))/(TablaNivelTRES[PJNivelTres]<>\"\"),ROWS($B$396:TablaNivelTRES[[#This Row],[AuxTres]]))),\"\")","v":"SI(O(Hoja1!H6731=\"NIT\",Hoja1!H6731=\"Fideicomiso/Fondo\",Hoja1!H6731=\"PJ No Residente\"),Hoja1!B6735,\"\")"},"SI(O(Hoja1!H6731=\"NIT\",Hoja1!H6731=\"Fideicomiso/Fondo\",Hoja1!H6731=\"PJ No Residente\"),Hoja1!H6731,\"\")","SI(O(Hoja1!H6731=\"NIT\",Hoja1!H6731=\"Fideicomiso/Fondo\",Hoja1!H6731=\"PJ No Residente\"),Hoja1!B6733,\"\")"]
["SI(O(Hoja1!H6765=\"NIT\",Hoja1!H6765=\"Fideicomiso/Fondo\",Hoja1!H6765=\"PJ No Residente\"),Hoja1!B6769,\"\")",{"$f":"IFERROR(INDEX(TablaNivelTRES[PJNivelTres],_xlfn.AGGREGATE(15,6,(ROW(TablaNivelTRES[PJNivelTres])-ROW(TablaNivelTRES[#Headers]))/(TablaNivelTRES[PJNivelTres]<>\"\"),ROWS($B$396:TablaNivelTRES[[#This Row],[AuxTres]]))),\"\")","v":"SI(O(Hoja1!H6765=\"NIT\",Hoja1!H6765=\"Fideicomiso/Fondo\",Hoja1!H6765=\"PJ No Residente\"),Hoja1!B6769,\"\")"},"SI(O(Hoja1!H6765=\"NIT\",Hoja1!H6765=\"Fideicomiso/Fondo\",Hoja1!H6765=\"PJ No Residente\"),Hoja1!H6765,\"\")","SI(O(Hoja1!H6765=\"NIT\",Hoja1!H6765=\"Fideicomiso/Fondo\",Hoja1!H6765=\"PJ No Residente\"),Hoja1!B6767,\"\")"]
["SI(O(Hoja1!H6799=\"NIT\",Hoja1!H6799=\"Fideicomiso/Fondo\",Hoja1!H6799=\"PJ No Residente\"),Hoja1!B6803,\"\")",{"$f":"IFERROR(INDEX(TablaNivelTRES[PJNivelTres],_xlfn.AGGREGATE(15,6,(ROW(TablaNivelTRES[PJNivelTres])-ROW(TablaNivelTRES[#Headers]))/(TablaNivelTRES[PJNivelTres]<>\"\"),ROWS($B$396:TablaNivelTRES[[#This Row],[AuxTres]]))),\"\")","v":"SI(O(Hoja1!H6799=\"NIT\",Hoja1!H6799=\"Fideicomiso/Fondo\",Hoja1!H6799=\"PJ No Residente\"),Hoja1!B6803,\"\")"},"SI(O(Hoja1!H6799=\"NIT\",Hoja1!H6799=\"Fideicomiso/Fondo\",Hoja1!H6799=\"PJ No Residente\"),Hoja1!H6799,\"\")","SI(O(Hoja1!H6799=\"NIT\",Hoja1!H6799=\"Fideicomiso/Fondo\",Hoja1!H6799=\"PJ No Residente\"),Hoja1!B6801,\"\")"]
["SI(O(Hoja1!H6833=\"NIT\",Hoja1!H6833=\"Fideicomiso/Fondo\",Hoja1!H6833=\"PJ No Residente\"),Hoja1!B6837,\"\")",{"$f":"IFERROR(INDEX(TablaNivelTRES[PJNivelTres],_xlfn.AGGREGATE(15,6,(ROW(TablaNivelTRES[PJNivelTres])-ROW(TablaNivelTRES[#Headers]))/(TablaNivelTRES[PJNivelTres]<>\"\"),ROWS($B$396:TablaNivelTRES[[#This Row],[AuxTres]]))),\"\")","v":"SI(O(Hoja1!H6833=\"NIT\",Hoja1!H6833=\"Fideicomiso/Fondo\",Hoja1!H6833=\"PJ No Residente\"),Hoja1!B6837,\"\")"},"SI(O(Hoja1!H6833=\"NIT\",Hoja1!H6833=\"Fideicomiso/Fondo\",Hoja1!H6833=\"PJ No Residente\"),Hoja1!H6833,\"\")","SI(O(Hoja1!H6833=\"NIT\",Hoja1!H6833=\"Fideicomiso/Fondo\",Hoja1!H6833=\"PJ No Residente\"),Hoja1!B6835,\"\")"]
["SI(O(Hoja1!H6867=\"NIT\",Hoja1!H6867=\"Fideicomiso/Fondo\",Hoja1!H6867=\"PJ No Residente\"),Hoja1!B6871,\"\")",{"$f":"IFERROR(INDEX(TablaNivelTRES[PJNivelTres],_xlfn.AGGREGATE(15,6,(ROW(TablaNivelTRES[PJNivelTres])-ROW(TablaNivelTRES[#Headers]))/(TablaNivelTRES[PJNivelTres]<>\"\"),ROWS($B$396:TablaNivelTRES[[#This Row],[AuxTres]]))),\"\")","v":"SI(O(Hoja1!H6867=\"NIT\",Hoja1!H6867=\"Fideicomiso/Fondo\",Hoja1!H6867=\"PJ No Residente\"),Hoja1!B6871,\"\")"},"SI(O(Hoja1!H6867=\"NIT\",Hoja1!H6867=\"Fideicomiso/Fondo\",Hoja1!H6867=\"PJ No Residente\"),Hoja1!H6867,\"\")","SI(O(Hoja1!H6867=\"NIT\",Hoja1!H6867=\"Fideicomiso/Fondo\",Hoja1!H6867=\"PJ No Residente\"),Hoja1!B6869,\"\")"]
["SI(O(Hoja1!H6901=\"NIT\",Hoja1!H6901=\"Fideicomiso/Fondo\",Hoja1!H6901=\"PJ No Residente\"),Hoja1!B6905,\"\")",{"$f":"IFERROR(INDEX(TablaNivelTRES[PJNivelTres],_xlfn.AGGREGATE(15,6,(ROW(TablaNivelTRES[PJNivelTres])-ROW(TablaNivelTRES[#Headers]))/(TablaNivelTRES[PJNivelTres]<>\"\"),ROWS($B$396:TablaNivelTRES[[#This Row],[AuxTres]]))),\"\")","v":"SI(O(Hoja1!H6901=\"NIT\",Hoja1!H6901=\"Fideicomiso/Fondo\",Hoja1!H6901=\"PJ No Residente\"),Hoja1!B6905,\"\")"},"SI(O(Hoja1!H6901=\"NIT\",Hoja1!H6901=\"Fideicomiso/Fondo\",Hoja1!H6901=\"PJ No Residente\"),Hoja1!H6901,\"\")","SI(O(Hoja1!H6901=\"NIT\",Hoja1!H6901=\"Fideicomiso/Fondo\",Hoja1!H6901=\"PJ No Residente\"),Hoja1!B6903,\"\")"]
["SI(O(Hoja1!H6935=\"NIT\",Hoja1!H6935=\"Fideicomiso/Fondo\",Hoja1!H6935=\"PJ No Residente\"),Hoja1!B6939,\"\")",{"$f":"IFERROR(INDEX(TablaNivelTRES[PJNivelTres],_xlfn.AGGREGATE(15,6,(ROW(TablaNivelTRES[PJNivelTres])-ROW(TablaNivelTRES[#Headers]))/(TablaNivelTRES[PJNivelTres]<>\"\"),ROWS($B$396:TablaNivelTRES[[#This Row],[AuxTres]]))),\"\")","v":"SI(O(Hoja1!H6935=\"NIT\",Hoja1!H6935=\"Fideicomiso/Fondo\",Hoja1!H6935=\"PJ No Residente\"),Hoja1!B6939,\"\")"},"SI(O(Hoja1!H6935=\"NIT\",Hoja1!H6935=\"Fideicomiso/Fondo\",Hoja1!H6935=\"PJ No Residente\"),Hoja1!H6935,\"\")","SI(O(Hoja1!H6935=\"NIT\",Hoja1!H6935=\"Fideicomiso/Fondo\",Hoja1!H6935=\"PJ No Residente\"),Hoja1!B6937,\"\")"]
["SI(O(Hoja1!H6969=\"NIT\",Hoja1!H6969=\"Fideicomiso/Fondo\",Hoja1!H6969=\"PJ No Residente\"),Hoja1!B6973,\"\")",{"$f":"IFERROR(INDEX(TablaNivelTRES[PJNivelTres],_xlfn.AGGREGATE(15,6,(ROW(TablaNivelTRES[PJNivelTres])-ROW(TablaNivelTRES[#Headers]))/(TablaNivelTRES[PJNivelTres]<>\"\"),ROWS($B$396:TablaNivelTRES[[#This Row],[AuxTres]]))),\"\")","v":"SI(O(Hoja1!H6969=\"NIT\",Hoja1!H6969=\"Fideicomiso/Fondo\",Hoja1!H6969=\"PJ No Residente\"),Hoja1!B6973,\"\")"},"SI(O(Hoja1!H6969=\"NIT\",Hoja1!H6969=\"Fideicomiso/Fondo\",Hoja1!H6969=\"PJ No Residente\"),Hoja1!H6969,\"\")","SI(O(Hoja1!H6969=\"NIT\",Hoja1!H6969=\"Fideicomiso/Fondo\",Hoja1!H6969=\"PJ No Residente\"),Hoja1!B6971,\"\")"]
["SI(O(Hoja1!H7003=\"NIT\",Hoja1!H7003=\"Fideicomiso/Fondo\",Hoja1!H7003=\"PJ No Residente\"),Hoja1!B7007,\"\")",{"$f":"IFERROR(INDEX(TablaNivelTRES[PJNivelTres],_xlfn.AGGREGATE(15,6,(ROW(TablaNivelTRES[PJNivelTres])-ROW(TablaNivelTRES[#Headers]))/(TablaNivelTRES[PJNivelTres]<>\"\"),ROWS($B$396:TablaNivelTRES[[#This Row],[AuxTres]]))),\"\")","v":"SI(O(Hoja1!H7003=\"NIT\",Hoja1!H7003=\"Fideicomiso/Fondo\",Hoja1!H7003=\"PJ No Residente\"),Hoja1!B7007,\"\")"},"SI(O(Hoja1!H7003=\"NIT\",Hoja1!H7003=\"Fideicomiso/Fondo\",Hoja1!H7003=\"PJ No Residente\"),Hoja1!H7003,\"\")","SI(O(Hoja1!H7003=\"NIT\",Hoja1!H7003=\"Fideicomiso/Fondo\",Hoja1!H7003=\"PJ No Residente\"),Hoja1!B7005,\"\")"]
["SI(O(Hoja1!H7037=\"NIT\",Hoja1!H7037=\"Fideicomiso/Fondo\",Hoja1!H7037=\"PJ No Residente\"),Hoja1!B7041,\"\")",{"$f":"IFERROR(INDEX(TablaNivelTRES[PJNivelTres],_xlfn.AGGREGATE(15,6,(ROW(TablaNivelTRES[PJNivelTres])-ROW(TablaNivelTRES[#Headers]))/(TablaNivelTRES[PJNivelTres]<>\"\"),ROWS($B$396:TablaNivelTRES[[#This Row],[AuxTres]]))),\"\")","v":"SI(O(Hoja1!H7037=\"NIT\",Hoja1!H7037=\"Fideicomiso/Fondo\",Hoja1!H7037=\"PJ No Residente\"),Hoja1!B7041,\"\")"},"SI(O(Hoja1!H7037=\"NIT\",Hoja1!H7037=\"Fideicomiso/Fondo\",Hoja1!H7037=\"PJ No Residente\"),Hoja1!H7037,\"\")","SI(O(Hoja1!H7037=\"NIT\",Hoja1!H7037=\"Fideicomiso/Fondo\",Hoja1!H7037=\"PJ No Residente\"),Hoja1!B7039,\"\")"]
["SI(O(Hoja1!H7071=\"NIT\",Hoja1!H7071=\"Fideicomiso/Fondo\",Hoja1!H7071=\"PJ No Residente\"),Hoja1!B7075,\"\")",{"$f":"IFERROR(INDEX(TablaNivelTRES[PJNivelTres],_xlfn.AGGREGATE(15,6,(ROW(TablaNivelTRES[PJNivelTres])-ROW(TablaNivelTRES[#Headers]))/(TablaNivelTRES[PJNivelTres]<>\"\"),ROWS($B$396:TablaNivelTRES[[#This Row],[AuxTres]]))),\"\")","v":"SI(O(Hoja1!H7071=\"NIT\",Hoja1!H7071=\"Fideicomiso/Fondo\",Hoja1!H7071=\"PJ No Residente\"),Hoja1!B7075,\"\")"},"SI(O(Hoja1!H7071=\"NIT\",Hoja1!H7071=\"Fideicomiso/Fondo\",Hoja1!H7071=\"PJ No Residente\"),Hoja1!H7071,\"\")","SI(O(Hoja1!H7071=\"NIT\",Hoja1!H7071=\"Fideicomiso/Fondo\",Hoja1!H7071=\"PJ No Residente\"),Hoja1!B7073,\"\")"]
["SI(O(Hoja1!H7105=\"NIT\",Hoja1!H7105=\"Fideicomiso/Fondo\",Hoja1!H7105=\"PJ No Residente\"),Hoja1!B7109,\"\")",{"$f":"IFERROR(INDEX(TablaNivelTRES[PJNivelTres],_xlfn.AGGREGATE(15,6,(ROW(TablaNivelTRES[PJNivelTres])-ROW(TablaNivelTRES[#Headers]))/(TablaNivelTRES[PJNivelTres]<>\"\"),ROWS($B$396:TablaNivelTRES[[#This Row],[AuxTres]]))),\"\")","v":"SI(O(Hoja1!H7105=\"NIT\",Hoja1!H7105=\"Fideicomiso/Fondo\",Hoja1!H7105=\"PJ No Residente\"),Hoja1!B7109,\"\")"},"SI(O(Hoja1!H7105=\"NIT\",Hoja1!H7105=\"Fideicomiso/Fondo\",Hoja1!H7105=\"PJ No Residente\"),Hoja1!H7105,\"\")","SI(O(Hoja1!H7105=\"NIT\",Hoja1!H7105=\"Fideicomiso/Fondo\",Hoja1!H7105=\"PJ No Residente\"),Hoja1!B7107,\"\")"]
["SI(O(Hoja1!H7139=\"NIT\",Hoja1!H7139=\"Fideicomiso/Fondo\",Hoja1!H7139=\"PJ No Residente\"),Hoja1!B7143,\"\")",{"$f":"IFERROR(INDEX(TablaNivelTRES[PJNivelTres],_xlfn.AGGREGATE(15,6,(ROW(TablaNivelTRES[PJNivelTres])-ROW(TablaNivelTRES[#Headers]))/(TablaNivelTRES[PJNivelTres]<>\"\"),ROWS($B$396:TablaNivelTRES[[#This Row],[AuxTres]]))),\"\")","v":"SI(O(Hoja1!H7139=\"NIT\",Hoja1!H7139=\"Fideicomiso/Fondo\",Hoja1!H7139=\"PJ No Residente\"),Hoja1!B7143,\"\")"},"SI(O(Hoja1!H7139=\"NIT\",Hoja1!H7139=\"Fideicomiso/Fondo\",Hoja1!H7139=\"PJ No Residente\"),Hoja1!H7139,\"\")","SI(O(Hoja1!H7139=\"NIT\",Hoja1!H7139=\"Fideicomiso/Fondo\",Hoja1!H7139=\"PJ No Residente\"),Hoja1!B7141,\"\")"]
["SI(O(Hoja1!H7173=\"NIT\",Hoja1!H7173=\"Fideicomiso/Fondo\",Hoja1!H7173=\"PJ No Residente\"),Hoja1!B7177,\"\")",{"$f":"IFERROR(INDEX(TablaNivelTRES[PJNivelTres],_xlfn.AGGREGATE(15,6,(ROW(TablaNivelTRES[PJNivelTres])-ROW(TablaNivelTRES[#Headers]))/(TablaNivelTRES[PJNivelTres]<>\"\"),ROWS($B$396:TablaNivelTRES[[#This Row],[AuxTres]]))),\"\")","v":"SI(O(Hoja1!H7173=\"NIT\",Hoja1!H7173=\"Fideicomiso/Fondo\",Hoja1!H7173=\"PJ No Residente\"),Hoja1!B7177,\"\")"},"SI(O(Hoja1!H7173=\"NIT\",Hoja1!H7173=\"Fideicomiso/Fondo\",Hoja1!H7173=\"PJ No Residente\"),Hoja1!H7173,\"\")","SI(O(Hoja1!H7173=\"NIT\",Hoja1!H7173=\"Fideicomiso/Fondo\",Hoja1!H7173=\"PJ No Residente\"),Hoja1!B7175,\"\")"]
["SI(O(Hoja1!H7207=\"NIT\",Hoja1!H7207=\"Fideicomiso/Fondo\",Hoja1!H7207=\"PJ No Residente\"),Hoja1!B7211,\"\")",{"$f":"IFERROR(INDEX(TablaNivelTRES[PJNivelTres],_xlfn.AGGREGATE(15,6,(ROW(TablaNivelTRES[PJNivelTres])-ROW(TablaNivelTRES[#Headers]))/(TablaNivelTRES[PJNivelTres]<>\"\"),ROWS($B$396:TablaNivelTRES[[#This Row],[AuxTres]]))),\"\")","v":"SI(O(Hoja1!H7207=\"NIT\",Hoja1!H7207=\"Fideicomiso/Fondo\",Hoja1!H7207=\"PJ No Residente\"),Hoja1!B7211,\"\")"},"SI(O(Hoja1!H7207=\"NIT\",Hoja1!H7207=\"Fideicomiso/Fondo\",Hoja1!H7207=\"PJ No Residente\"),Hoja1!H7207,\"\")","SI(O(Hoja1!H7207=\"NIT\",Hoja1!H7207=\"Fideicomiso/Fondo\",Hoja1!H7207=\"PJ No Residente\"),Hoja1!B7209,\"\")"]
["SI(O(Hoja1!H7241=\"NIT\",Hoja1!H7241=\"Fideicomiso/Fondo\",Hoja1!H7241=\"PJ No Residente\"),Hoja1!B7245,\"\")",{"$f":"IFERROR(INDEX(TablaNivelTRES[PJNivelTres],_xlfn.AGGREGATE(15,6,(ROW(TablaNivelTRES[PJNivelTres])-ROW(TablaNivelTRES[#Headers]))/(TablaNivelTRES[PJNivelTres]<>\"\"),ROWS($B$396:TablaNivelTRES[[#This Row],[AuxTres]]))),\"\")","v":"SI(O(Hoja1!H7241=\"NIT\",Hoja1!H7241=\"Fideicomiso/Fondo\",Hoja1!H7241=\"PJ No Residente\"),Hoja1!B7245,\"\")"},"SI(O(Hoja1!H7241=\"NIT\",Hoja1!H7241=\"Fideicomiso/Fondo\",Hoja1!H7241=\"PJ No Residente\"),Hoja1!H7241,\"\")","SI(O(Hoja1!H7241=\"NIT\",Hoja1!H7241=\"Fideicomiso/Fondo\",Hoja1!H7241=\"PJ No Residente\"),Hoja1!B7243,\"\")"]
["SI(O(Hoja1!H7275=\"NIT\",Hoja1!H7275=\"Fideicomiso/Fondo\",Hoja1!H7275=\"PJ No Residente\"),Hoja1!B7279,\"\")",{"$f":"IFERROR(INDEX(TablaNivelTRES[PJNivelTres],_xlfn.AGGREGATE(15,6,(ROW(TablaNivelTRES[PJNivelTres])-ROW(TablaNivelTRES[#Headers]))/(TablaNivelTRES[PJNivelTres]<>\"\"),ROWS($B$396:TablaNivelTRES[[#This Row],[AuxTres]]))),\"\")","v":"SI(O(Hoja1!H7275=\"NIT\",Hoja1!H7275=\"Fideicomiso/Fondo\",Hoja1!H7275=\"PJ No Residente\"),Hoja1!B7279,\"\")"},"SI(O(Hoja1!H7275=\"NIT\",Hoja1!H7275=\"Fideicomiso/Fondo\",Hoja1!H7275=\"PJ No Residente\"),Hoja1!H7275,\"\")","SI(O(Hoja1!H7275=\"NIT\",Hoja1!H7275=\"Fideicomiso/Fondo\",Hoja1!H7275=\"PJ No Residente\"),Hoja1!B7277,\"\")"]
["SI(O(Hoja1!H7309=\"NIT\",Hoja1!H7309=\"Fideicomiso/Fondo\",Hoja1!H7309=\"PJ No Residente\"),Hoja1!B7313,\"\")",{"$f":"IFERROR(INDEX(TablaNivelTRES[PJNivelTres],_xlfn.AGGREGATE(15,6,(ROW(TablaNivelTRES[PJNivelTres])-ROW(TablaNivelTRES[#Headers]))/(TablaNivelTRES[PJNivelTres]<>\"\"),ROWS($B$396:TablaNivelTRES[[#This Row],[AuxTres]]))),\"\")","v":"SI(O(Hoja1!H7309=\"NIT\",Hoja1!H7309=\"Fideicomiso/Fondo\",Hoja1!H7309=\"PJ No Residente\"),Hoja1!B7313,\"\")"},"SI(O(Hoja1!H7309=\"NIT\",Hoja1!H7309=\"Fideicomiso/Fondo\",Hoja1!H7309=\"PJ No Residente\"),Hoja1!H7309,\"\")","SI(O(Hoja1!H7309=\"NIT\",Hoja1!H7309=\"Fideicomiso/Fondo\",Hoja1!H7309=\"PJ No Residente\"),Hoja1!B7311,\"\")"]
["SI(O(Hoja1!H7343=\"NIT\",Hoja1!H7343=\"Fideicomiso/Fondo\",Hoja1!H7343=\"PJ No Residente\"),Hoja1!B7347,\"\")",{"$f":"IFERROR(INDEX(TablaNivelTRES[PJNivelTres],_xlfn.AGGREGATE(15,6,(ROW(TablaNivelTRES[PJNivelTres])-ROW(TablaNivelTRES[#Headers]))/(TablaNivelTRES[PJNivelTres]<>\"\"),ROWS($B$396:TablaNivelTRES[[#This Row],[AuxTres]]))),\"\")","v":"SI(O(Hoja1!H7343=\"NIT\",Hoja1!H7343=\"Fideicomiso/Fondo\",Hoja1!H7343=\"PJ No Residente\"),Hoja1!B7347,\"\")"},"SI(O(Hoja1!H7343=\"NIT\",Hoja1!H7343=\"Fideicomiso/Fondo\",Hoja1!H7343=\"PJ No Residente\"),Hoja1!H7343,\"\")","SI(O(Hoja1!H7343=\"NIT\",Hoja1!H7343=\"Fideicomiso/Fondo\",Hoja1!H7343=\"PJ No Residente\"),Hoja1!B7345,\"\")"]
["SI(O(Hoja1!H7377=\"NIT\",Hoja1!H7377=\"Fideicomiso/Fondo\",Hoja1!H7377=\"PJ No Residente\"),Hoja1!B7381,\"\")",{"$f":"IFERROR(INDEX(TablaNivelTRES[PJNivelTres],_xlfn.AGGREGATE(15,6,(ROW(TablaNivelTRES[PJNivelTres])-ROW(TablaNivelTRES[#Headers]))/(TablaNivelTRES[PJNivelTres]<>\"\"),ROWS($B$396:TablaNivelTRES[[#This Row],[AuxTres]]))),\"\")","v":"SI(O(Hoja1!H7377=\"NIT\",Hoja1!H7377=\"Fideicomiso/Fondo\",Hoja1!H7377=\"PJ No Residente\"),Hoja1!B7381,\"\")"},"SI(O(Hoja1!H7377=\"NIT\",Hoja1!H7377=\"Fideicomiso/Fondo\",Hoja1!H7377=\"PJ No Residente\"),Hoja1!H7377,\"\")","SI(O(Hoja1!H7377=\"NIT\",Hoja1!H7377=\"Fideicomiso/Fondo\",Hoja1!H7377=\"PJ No Residente\"),Hoja1!B7379,\"\")"]
["SI(O(Hoja1!H7411=\"NIT\",Hoja1!H7411=\"Fideicomiso/Fondo\",Hoja1!H7411=\"PJ No Residente\"),Hoja1!B7415,\"\")",{"$f":"IFERROR(INDEX(TablaNivelTRES[PJNivelTres],_xlfn.AGGREGATE(15,6,(ROW(TablaNivelTRES[PJNivelTres])-ROW(TablaNivelTRES[#Headers]))/(TablaNivelTRES[PJNivelTres]<>\"\"),ROWS($B$396:TablaNivelTRES[[#This Row],[AuxTres]]))),\"\")","v":"SI(O(Hoja1!H7411=\"NIT\",Hoja1!H7411=\"Fideicomiso/Fondo\",Hoja1!H7411=\"PJ No Residente\"),Hoja1!B7415,\"\")"},"SI(O(Hoja1!H7411=\"NIT\",Hoja1!H7411=\"Fideicomiso/Fondo\",Hoja1!H7411=\"PJ No Residente\"),Hoja1!H7411,\"\")","SI(O(Hoja1!H7411=\"NIT\",Hoja1!H7411=\"Fideicomiso/Fondo\",Hoja1!H7411=\"PJ No Residente\"),Hoja1!B7413,\"\")"]
["SI(O(Hoja1!H7445=\"NIT\",Hoja1!H7445=\"Fideicomiso/Fondo\",Hoja1!H7445=\"PJ No Residente\"),Hoja1!B7449,\"\")",{"$f":"IFERROR(INDEX(TablaNivelTRES[PJNivelTres],_xlfn.AGGREGATE(15,6,(ROW(TablaNivelTRES[PJNivelTres])-ROW(TablaNivelTRES[#Headers]))/(TablaNivelTRES[PJNivelTres]<>\"\"),ROWS($B$396:TablaNivelTRES[[#This Row],[AuxTres]]))),\"\")","v":"SI(O(Hoja1!H7445=\"NIT\",Hoja1!H7445=\"Fideicomiso/Fondo\",Hoja1!H7445=\"PJ No Residente\"),Hoja1!B7449,\"\")"},"SI(O(Hoja1!H7445=\"NIT\",Hoja1!H7445=\"Fideicomiso/Fondo\",Hoja1!H7445=\"PJ No Residente\"),Hoja1!H7445,\"\")","SI(O(Hoja1!H7445=\"NIT\",Hoja1!H7445=\"Fideicomiso/Fondo\",Hoja1!H7445=\"PJ No Residente\"),Hoja1!B7447,\"\")"]
["SI(O(Hoja1!H7479=\"NIT\",Hoja1!H7479=\"Fideicomiso/Fondo\",Hoja1!H7479=\"PJ No Residente\"),Hoja1!B7483,\"\")",{"$f":"IFERROR(INDEX(TablaNivelTRES[PJNivelTres],_xlfn.AGGREGATE(15,6,(ROW(TablaNivelTRES[PJNivelTres])-ROW(TablaNivelTRES[#Headers]))/(TablaNivelTRES[PJNivelTres]<>\"\"),ROWS($B$396:TablaNivelTRES[[#This Row],[AuxTres]]))),\"\")","v":"SI(O(Hoja1!H7479=\"NIT\",Hoja1!H7479=\"Fideicomiso/Fondo\",Hoja1!H7479=\"PJ No Residente\"),Hoja1!B7483,\"\")"},"SI(O(Hoja1!H7479=\"NIT\",Hoja1!H7479=\"Fideicomiso/Fondo\",Hoja1!H7479=\"PJ No Residente\"),Hoja1!H7479,\"\")","SI(O(Hoja1!H7479=\"NIT\",Hoja1!H7479=\"Fideicomiso/Fondo\",Hoja1!H7479=\"PJ No Residente\"),Hoja1!B7481,\"\")"]
["SI(O(Hoja1!#¡REF!=\"NIT\",Hoja1!#¡REF!=\"Fideicomiso/Fondo\",Hoja1!#¡REF!=\"PJ No Residente\"),Hoja1!#¡REF!,\"\")",{"$f":"IFERROR(INDEX(TablaNivelTRES[PJNivelTres],_xlfn.AGGREGATE(15,6,(ROW(TablaNivelTRES[PJNivelTres])-ROW(TablaNivelTRES[#Headers]))/(TablaNivelTRES[PJNivelTres]<>\"\"),ROWS($B$396:TablaNivelTRES[[#This Row],[AuxTres]]))),\"\")","v":"SI(O(Hoja1!#¡REF!=\"NIT\",Hoja1!#¡REF!=\"Fideicomiso/Fondo\",Hoja1!#¡REF!=\"PJ No Residente\"),Hoja1!#¡REF!,\"\")"},"SI(O(Hoja1!#¡REF!=\"NIT\",Hoja1!#¡REF!=\"Fideicomiso/Fondo\",Hoja1!#¡REF!=\"PJ No Residente\"),Hoja1!#¡REF!,\"\")","SI(O(Hoja1!#¡REF!=\"NIT\",Hoja1!#¡REF!=\"Fideicomiso/Fondo\",Hoja1!#¡REF!=\"PJ No Residente\"),Hoja1!#¡REF!,\"\")"]
[]
["PJNivelCuatro","AuxCuatro","TipoDocCuatro","NumeroDocCuatro",null,"Quitar Valores en Blanco"]
[{"$f":"IF(OR('Beneificiarios Finales'!H24=\"NIT\",'Beneificiarios Finales'!H24=\"Fideicomiso/Fondo\",'Beneificiarios Finales'!H24=\"PJ No Residente\"),'Beneificiarios Finales'!B28,\"\")","v":""},{"$f":"IFERROR(INDEX(TablaNivelCUATRO[PJNivelCuatro],_xlfn.AGGREGATE(15,6,(ROW(TablaNivelCUATRO[PJNivelCuatro])-ROW(TablaNivelCUATRO[#Headers]))/(TablaNivelCUATRO[PJNivelCuatro]<>\"\"),ROWS($B$485:TablaNivelCUATRO[[#This Row],[AuxCuatro]]))),\"\")","v":""},{"$f":"IF(OR('Beneificiarios Finales'!H24=\"NIT\",'Beneificiarios Finales'!H24=\"Fideicomiso/Fondo\",'Beneificiarios Finales'!H24=\"PJ No Residente\"),'Beneificiarios Finales'!H24,\"\")","v":""},{"$f":"IF(OR('Beneificiarios Finales'!H24=\"NIT\",'Beneificiarios Finales'!H24=\"Fideicomiso/Fondo\",'Beneificiarios Finales'!H24=\"PJ No Residente\"),'Beneificiarios Finales'!B26,\"\")","v":""},null," =$b$485:INDICE(TablaNivelCUATRO[AuxCuatro],SUMAPRODUCTO((TablaNivelCUATRO[AuxCuatro]<>\"\")*1))"]
[{"$f":"IF(OR('Beneificiarios Finales'!H60=\"NIT\",'Beneificiarios Finales'!H60=\"Fideicomiso/Fondo\",'Beneificiarios Finales'!H60=\"PJ No Residente\"),'Beneificiarios Finales'!B64,\"\")","v":""},{"$f":"IFERROR(INDEX(TablaNivelCUATRO[PJNivelCuatro],_xlfn.AGGREGATE(15,6,(ROW(TablaNivelCUATRO[PJNivelCuatro])-ROW(TablaNivelCUATRO[#Headers]))/(TablaNivelCUATRO[PJNivelCuatro]<>\"\"),ROWS($B$485:TablaNivelCUATRO[[#This Row],[AuxCuatro]]))),\"\")","v":""},{"$f":"IF(OR('Beneificiarios Finales'!H60=\"NIT\",'Beneificiarios Finales'!H60=\"Fideicomiso/Fondo\",'Beneificiarios Finales'!H60=\"PJ No Residente\"),'Beneificiarios Finales'!H60,\"\")","v":""},{"$f":"IF(OR('Beneificiarios Finales'!H60=\"NIT\",'Beneificiarios Finales'!H60=\"Fideicomiso/Fondo\",'Beneificiarios Finales'!H60=\"PJ No Residente\"),'Beneificiarios Finales'!B62,\"\")","v":""}]
[{"$f":"IF(OR('Beneificiarios Finales'!H91=\"NIT\",'Beneificiarios Finales'!H91=\"Fideicomiso/Fondo\",'Beneificiarios Finales'!H91=\"PJ No Residente\"),'Beneificiarios Finales'!B95,\"\")","v":""},{"$f":"IFERROR(INDEX(TablaNivelCUATRO[PJNivelCuatro],_xlfn.AGGREGATE(15,6,(ROW(TablaNivelCUATRO[PJNivelCuatro])-ROW(TablaNivelCUATRO[#Headers]))/(TablaNivelCUATRO[PJNivelCuatro]<>\"\"),ROWS($B$485:TablaNivelCUATRO[[#This Row],[AuxCuatro]]))),\"\")","v":""},{"$f":"IF(OR('Beneificiarios Finales'!H91=\"NIT\",'Beneificiarios Finales'!H91=\"Fideicomiso/Fondo\",'Beneificiarios Finales'!H91=\"PJ No Residente\"),'Beneificiarios Finales'!H91,\"\")","v":""},{"$f":"IF(OR('Beneificiarios Finales'!H91=\"NIT\",'Beneificiarios Finales'!H91=\"Fideicomiso/Fondo\",'Beneificiarios Finales'!H91=\"PJ No Residente\"),'Beneificiarios Finales'!B93,\"\")","v":""}]
[{"$f":"IF(OR('Beneificiarios Finales'!H122=\"NIT\",'Beneificiarios Finales'!H122=\"Fideicomiso/Fondo\",'Beneificiarios Finales'!H122=\"PJ No Residente\"),'Beneificiarios Finales'!B126,\"\")","v":""},{"$f":"IFERROR(INDEX(TablaNivelCUATRO[PJNivelCuatro],_xlfn.AGGREGATE(15,6,(ROW(TablaNivelCUATRO[PJNivelCuatro])-ROW(TablaNivelCUATRO[#Headers]))/(TablaNivelCUATRO[PJNivelCuatro]<>\"\"),ROWS($B$485:TablaNivelCUATRO[[#This Row],[AuxCuatro]]))),\"\")","v":""},{"$f":"IF(OR('Beneificiarios Finales'!H122=\"NIT\",'Beneificiarios Finales'!H122=\"Fideicomiso/Fondo\",'Beneificiarios Finales'!H122=\"PJ No Residente\"),'Beneificiarios Finales'!H122,\"\")","v":""},{"$f":"IF(OR('Beneificiarios Finales'!H122=\"NIT\",'Beneificiarios Finales'!H122=\"Fideicomiso/Fondo\",'Beneificiarios Finales'!H122=\"PJ No Residente\"),'Beneificiarios Finales'!B124,\"\")","v":""}]
[{"$f":"IF(OR('Beneificiarios Finales'!H153=\"NIT\",'Beneificiarios Finales'!H153=\"Fideicomiso/Fondo\",'Beneificiarios Finales'!H153=\"PJ No Residente\"),'Beneificiarios Finales'!B157,\"\")","v":""},{"$f":"IFERROR(INDEX(TablaNivelCUATRO[PJNivelCuatro],_xlfn.AGGREGATE(15,6,(ROW(TablaNivelCUATRO[PJNivelCuatro])-ROW(TablaNivelCUATRO[#Headers]))/(TablaNivelCUATRO[PJNivelCuatro]<>\"\"),ROWS($B$485:TablaNivelCUATRO[[#This Row],[AuxCuatro]]))),\"\")","v":""},{"$f":"IF(OR('Beneificiarios Finales'!H153=\"NIT\",'Beneificiarios Finales'!H153=\"Fideicomiso/Fondo\",'Beneificiarios Finales'!H153=\"PJ No Residente\"),'Beneificiarios Finales'!H153,\"\")","v":""},{"$f":"IF(OR('Beneificiarios Finales'!H153=\"NIT\",'Beneificiarios Finales'!H153=\"Fideicomiso/Fondo\",'Beneificiarios Finales'!H153=\"PJ No Residente\"),'Beneificiarios Finales'!B155,\"\")","v":""}]
[{"$f":"IF(OR('Beneificiarios Finales'!H184=\"NIT\",'Beneificiarios Finales'!H184=\"Fideicomiso/Fondo\",'Beneificiarios Finales'!H184=\"PJ No Residente\"),'Beneificiarios Finales'!B188,\"\")","v":""},{"$f":"IFERROR(INDEX(TablaNivelCUATRO[PJNivelCuatro],_xlfn.AGGREGATE(15,6,(ROW(TablaNivelCUATRO[PJNivelCuatro])-ROW(TablaNivelCUATRO[#Headers]))/(TablaNivelCUATRO[PJNivelCuatro]<>\"\"),ROWS($B$485:TablaNivelCUATRO[[#This Row],[AuxCuatro]]))),\"\")","v":""},{"$f":"IF(OR('Beneificiarios Finales'!H184=\"NIT\",'Beneificiarios Finales'!H184=\"Fideicomiso/Fondo\",'Beneificiarios Finales'!H184=\"PJ No Residente\"),'Beneificiarios Finales'!H184,\"\")","v":""},{"$f":"IF(OR('Beneificiarios Finales'!H184=\"NIT\",'Beneificiarios Finales'!H184=\"Fideicomiso/Fondo\",'Beneificiarios Finales'!H184=\"PJ No Residente\"),'Beneificiarios Finales'!B186,\"\")","v":""}]
[{"$f":"IF(OR('Beneificiarios Finales'!H215=\"NIT\",'Beneificiarios Finales'!H215=\"Fideicomiso/Fondo\",'Beneificiarios Finales'!H215=\"PJ No Residente\"),'Beneificiarios Finales'!B219,\"\")","v":""},{"$f":"IFERROR(INDEX(TablaNivelCUATRO[PJNivelCuatro],_xlfn.AGGREGATE(15,6,(ROW(TablaNivelCUATRO[PJNivelCuatro])-ROW(TablaNivelCUATRO[#Headers]))/(TablaNivelCUATRO[PJNivelCuatro]<>\"\"),ROWS($B$485:TablaNivelCUATRO[[#This Row],[AuxCuatro]]))),\"\")","v":""},{"$f":"IF(OR('Beneificiarios Finales'!H215=\"NIT\",'Beneificiarios Finales'!H215=\"Fideicomiso/Fondo\",'Beneificiarios Finales'!H215=\"PJ No Residente\"),'Beneificiarios Finales'!H215,\"\")","v":""},{"$f":"IF(OR('Beneificiarios Finales'!H215=\"NIT\",'Beneificiarios Finales'!H215=\"Fideicomiso/Fondo\",'Beneificiarios Finales'!H215=\"PJ No Residente\"),'Beneificiarios Finales'!B217,\"\")","v":""}]
[{"$f":"IF(OR('Beneificiarios Finales'!H246=\"NIT\",'Beneificiarios Finales'!H246=\"Fideicomiso/Fondo\",'Beneificiarios Finales'!H246=\"PJ No Residente\"),'Beneificiarios Finales'!B250,\"\")","v":""},{"$f":"IFERROR(INDEX(TablaNivelCUATRO[PJNivelCuatro],_xlfn.AGGREGATE(15,6,(ROW(TablaNivelCUATRO[PJNivelCuatro])-ROW(TablaNivelCUATRO[#Headers]))/(TablaNivelCUATRO[PJNivelCuatro]<>\"\"),ROWS($B$485:TablaNivelCUATRO[[#This Row],[AuxCuatro]]))),\"\")","v":""},{"$f":"IF(OR('Beneificiarios Finales'!H246=\"NIT\",'Beneificiarios Finales'!H246=\"Fideicomiso/Fondo\",'Beneificiarios Finales'!H246=\"PJ No Residente\"),'Beneificiarios Finales'!H246,\"\")","v":""},{"$f":"IF(OR('Beneificiarios Finales'!H246=\"NIT\",'Beneificiarios Finales'!H246=\"Fideicomiso/Fondo\",'Beneificiarios Finales'!H246=\"PJ No Residente\"),'Beneificiarios Finales'!B248,\"\")","v":""}]
[{"$f":"IF(OR('Beneificiarios Finales'!H277=\"NIT\",'Beneificiarios Finales'!H277=\"Fideicomiso/Fondo\",'Beneificiarios Finales'!H277=\"PJ No Residente\"),'Beneificiarios Finales'!B281,\"\")","v":""},{"$f":"IFERROR(INDEX(TablaNivelCUATRO[PJNivelCuatro],_xlfn.AGGREGATE(15,6,(ROW(TablaNivelCUATRO[PJNivelCuatro])-ROW(TablaNivelCUATRO[#Headers]))/(TablaNivelCUATRO[PJNivelCuatro]<>\"\"),ROWS($B$485:TablaNivelCUATRO[[#This Row],[AuxCuatro]]))),\"\")","v":""},{"$f":"IF(OR('Beneificiarios Finales'!H277=\"NIT\",'Beneificiarios Finales'!H277=\"Fideicomiso/Fondo\",'Beneificiarios Finales'!H277=\"PJ No Residente\"),'Beneificiarios Finales'!H277,\"\")","v":""},{"$f":"IF(OR('Beneificiarios Finales'!H277=\"NIT\",'Beneificiarios Finales'!H277=\"Fideicomiso/Fondo\",'Beneificiarios Finales'!H277=\"PJ No Residente\"),'Beneificiarios Finales'!B279,\"\")","v":""}]
[{"$f":"IF(OR('Beneificiarios Finales'!H308=\"NIT\",'Beneificiarios Finales'!H308=\"Fideicomiso/Fondo\",'Beneificiarios Finales'!H308=\"PJ No Residente\"),'Beneificiarios Finales'!B312,\"\")","v":""},{"$f":"IFERROR(INDEX(TablaNivelCUATRO[PJNivelCuatro],_xlfn.AGGREGATE(15,6,(ROW(TablaNivelCUATRO[PJNivelCuatro])-ROW(TablaNivelCUATRO[#Headers]))/(TablaNivelCUATRO[PJNivelCuatro]<>\"\"),ROWS($B$485:TablaNivelCUATRO[[#This Row],[AuxCuatro]]))),\"\")","v":""},{"$f":"IF(OR('Beneificiarios Finales'!H308=\"NIT\",'Beneificiarios Finales'!H308=\"Fideicomiso/Fondo\",'Beneificiarios Finales'!H308=\"PJ No Residente\"),'Beneificiarios Finales'!H308,\"\")","v":""},{"$f":"IF(OR('Beneificiarios Finales'!H308=\"NIT\",'Beneificiarios Finales'!H308=\"Fideicomiso/Fondo\",'Beneificiarios Finales'!H308=\"PJ No Residente\"),'Beneificiarios Finales'!B310,\"\")","v":""}]
[{"$f":"IF(OR('Beneificiarios Finales'!H339=\"NIT\",'Beneificiarios Finales'!H339=\"Fideicomiso/Fondo\",'Beneificiarios Finales'!H339=\"PJ No Residente\"),'Beneificiarios Finales'!B343,\"\")","v":""},{"$f":"IFERROR(INDEX(TablaNivelCUATRO[PJNivelCuatro],_xlfn.AGGREGATE(15,6,(ROW(TablaNivelCUATRO[PJNivelCuatro])-ROW(TablaNivelCUATRO[#Headers]))/(TablaNivelCUATRO[PJNivelCuatro]<>\"\"),ROWS($B$485:TablaNivelCUATRO[[#This Row],[AuxCuatro]]))),\"\")","v":""},{"$f":"IF(OR('Beneificiarios Finales'!H339=\"NIT\",'Beneificiarios Finales'!H339=\"Fideicomiso/Fondo\",'Beneificiarios Finales'!H339=\"PJ No Residente\"),'Beneificiarios Finales'!H339,\"\")","v":""},{"$f":"IF(OR('Beneificiarios Finales'!H339=\"NIT\",'Beneificiarios Finales'!H339=\"Fideicomiso/Fondo\",'Beneificiarios Finales'!H339=\"PJ No Residente\"),'Beneificiarios Finales'!B341,\"\")","v":""}]
[{"$f":"IF(OR('Beneificiarios Finales'!H401=\"NIT\",'Beneificiarios Finales'!H401=\"Fideicomiso/Fondo\",'Beneificiarios Finales'!H401=\"PJ No Residente\"),'Beneificiarios Finales'!B405,\"\")","v":""},{"$f":"IFERROR(INDEX(TablaNivelCUATRO[PJNivelCuatro],_xlfn.AGGREGATE(15,6,(ROW(TablaNivelCUATRO[PJNivelCuatro])-ROW(TablaNivelCUATRO[#Headers]))/(TablaNivelCUATRO[PJNivelCuatro]<>\"\"),ROWS($B$485:TablaNivelCUATRO[[#This Row],[AuxCuatro]]))),\"\")","v":""},{"$f":"IF(OR('Beneificiarios Finales'!H401=\"NIT\",'Beneificiarios Finales'!H401=\"Fideicomiso/Fondo\",'Beneificiarios Finales'!H401=\"PJ No Residente\"),'Beneificiarios Finales'!H401,\"\")","v":""},{"$f":"IF(OR('Beneificiarios Finales'!H401=\"NIT\",'Beneificiarios Finales'!H401=\"Fideicomiso/Fondo\",'Beneificiarios Finales'!H401=\"PJ No Residente\"),'Beneificiarios Finales'!B403,\"\")","v":""}]
[{"$f":"IF(OR('Beneificiarios Finales'!H432=\"NIT\",'Beneificiarios Finales'!H432=\"Fideicomiso/Fondo\",'Beneificiarios Finales'!H432=\"PJ No Residente\"),'Beneificiarios Finales'!B436,\"\")","v":""},{"$f":"IFERROR(INDEX(TablaNivelCUATRO[PJNivelCuatro],_xlfn.AGGREGATE(15,6,(ROW(TablaNivelCUATRO[PJNivelCuatro])-ROW(TablaNivelCUATRO[#Headers]))/(TablaNivelCUATRO[PJNivelCuatro]<>\"\"),ROWS($B$485:TablaNivelCUATRO[[#This Row],[AuxCuatro]]))),\"\")","v":""},{"$f":"IF(OR('Beneificiarios Finales'!H432=\"NIT\",'Beneificiarios Finales'!H432=\"Fideicomiso/Fondo\",'Beneificiarios Finales'!H432=\"PJ No Residente\"),'Beneificiarios Finales'!H432,\"\")","v":""},{"$f":"IF(OR('Beneificiarios Finales'!H432=\"NIT\",'Beneificiarios Finales'!H432=\"Fideicomiso/Fondo\",'Beneificiarios Finales'!H432=\"PJ No Residente\"),'Beneificiarios Finales'!B434,\"\")","v":""}]
[{"$f":"IF(OR('Beneificiarios Finales'!H463=\"NIT\",'Beneificiarios Finales'!H463=\"Fideicomiso/Fondo\",'Beneificiarios Finales'!H463=\"PJ No Residente\"),'Beneificiarios Finales'!B467,\"\")","v":""},{"$f":"IFERROR(INDEX(TablaNivelCUATRO[PJNivelCuatro],_xlfn.AGGREGATE(15,6,(ROW(TablaNivelCUATRO[PJNivelCuatro])-ROW(TablaNivelCUATRO[#Headers]))/(TablaNivelCUATRO[PJNivelCuatro]<>\"\"),ROWS($B$485:TablaNivelCUATRO[[#This Row],[AuxCuatro]]))),\"\")","v":""},{"$f":"IF(OR('Beneificiarios Finales'!H463=\"NIT\",'Beneificiarios Finales'!H463=\"Fideicomiso/Fondo\",'Beneificiarios Finales'!H463=\"PJ No Residente\"),'Beneificiarios Finales'!H463,\"\")","v":""},{"$f":"IF(OR('Beneificiarios Finales'!H463=\"NIT\",'Beneificiarios Finales'!H463=\"Fideicomiso/Fondo\",'Beneificiarios Finales'!H463=\"PJ No Residente\"),'Beneificiarios Finales'!B465,\"\")","v":""}]
[{"$f":"IF(OR('Beneificiarios Finales'!H494=\"NIT\",'Beneificiarios Finales'!H494=\"Fideicomiso/Fondo\",'Beneificiarios Finales'!H494=\"PJ No Residente\"),'Beneificiarios Finales'!B498,\"\")","v":""},{"$f":"IFERROR(INDEX(TablaNivelCUATRO[PJNivelCuatro],_xlfn.AGGREGATE(15,6,(ROW(TablaNivelCUATRO[PJNivelCuatro])-ROW(TablaNivelCUATRO[#Headers]))/(TablaNivelCUATRO[PJNivelCuatro]<>\"\"),ROWS($B$485:TablaNivelCUATRO[[#This Row],[AuxCuatro]]))),\"\")","v":""},{"$f":"IF(OR('Beneificiarios Finales'!H494=\"NIT\",'Beneificiarios Finales'!H494=\"Fideicomiso/Fondo\",'Beneificiarios Finales'!H494=\"PJ No Residente\"),'Beneificiarios Finales'!H494,\"\")","v":""},{"$f":"IF(OR('Beneificiarios Finales'!H494=\"NIT\",'Beneificiarios Finales'!H494=\"Fideicomiso/Fondo\",'Beneificiarios Finales'!H494=\"PJ No Residente\"),'Beneificiarios Finales'!B496,\"\")","v":""}]
[{"$f":"IF(OR('Beneificiarios Finales'!H525=\"NIT\",'Beneificiarios Finales'!H525=\"Fideicomiso/Fondo\",'Beneificiarios Finales'!H525=\"PJ No Residente\"),'Beneificiarios Finales'!B529,\"\")","v":""},{"$f":"IFERROR(INDEX(TablaNivelCUATRO[PJNivelCuatro],_xlfn.AGGREGATE(15,6,(ROW(TablaNivelCUATRO[PJNivelCuatro])-ROW(TablaNivelCUATRO[#Headers]))/(TablaNivelCUATRO[PJNivelCuatro]<>\"\"),ROWS($B$485:TablaNivelCUATRO[[#This Row],[AuxCuatro]]))),\"\")","v":""},{"$f":"IF(OR('Beneificiarios Finales'!H525=\"NIT\",'Beneificiarios Finales'!H525=\"Fideicomiso/Fondo\",'Beneificiarios Finales'!H525=\"PJ No Residente\"),'Beneificiarios Finales'!H525,\"\")","v":""},{"$f":"IF(OR('Beneificiarios Finales'!H525=\"NIT\",'Beneificiarios Finales'!H525=\"Fideicomiso/Fondo\",'Beneificiarios Finales'!H525=\"PJ No Residente\"),'Beneificiarios Finales'!B527,\"\")","v":""}]
[{"$f":"IF(OR('Beneificiarios Finales'!H556=\"NIT\",'Beneificiarios Finales'!H556=\"Fideicomiso/Fondo\",'Beneificiarios Finales'!H556=\"PJ No Residente\"),'Beneificiarios Finales'!B560,\"\")","v":""},{"$f":"IFERROR(INDEX(TablaNivelCUATRO[PJNivelCuatro],_xlfn.AGGREGATE(15,6,(ROW(TablaNivelCUATRO[PJNivelCuatro])-ROW(TablaNivelCUATRO[#Headers]))/(TablaNivelCUATRO[PJNivelCuatro]<>\"\"),ROWS($B$485:TablaNivelCUATRO[[#This Row],[AuxCuatro]]))),\"\")","v":""},{"$f":"IF(OR('Beneificiarios Finales'!H556=\"NIT\",'Beneificiarios Finales'!H556=\"Fideicomiso/Fondo\",'Beneificiarios Finales'!H556=\"PJ No Residente\"),'Beneificiarios Finales'!H556,\"\")","v":""},{"$f":"IF(OR('Beneificiarios Finales'!H556=\"NIT\",'Beneificiarios Finales'!H556=\"Fideicomiso/Fondo\",'Beneificiarios Finales'!H556=\"PJ No Residente\"),'Beneificiarios Finales'!B558,\"\")","v":""}]
[{"$f":"IF(OR('Beneificiarios Finales'!H587=\"NIT\",'Beneificiarios Finales'!H587=\"Fideicomiso/Fondo\",'Beneificiarios Finales'!H587=\"PJ No Residente\"),'Beneificiarios Finales'!B591,\"\")","v":""},{"$f":"IFERROR(INDEX(TablaNivelCUATRO[PJNivelCuatro],_xlfn.AGGREGATE(15,6,(ROW(TablaNivelCUATRO[PJNivelCuatro])-ROW(TablaNivelCUATRO[#Headers]))/(TablaNivelCUATRO[PJNivelCuatro]<>\"\"),ROWS($B$485:TablaNivelCUATRO[[#This Row],[AuxCuatro]]))),\"\")","v":""},{"$f":"IF(OR('Beneificiarios Finales'!H587=\"NIT\",'Beneificiarios Finales'!H587=\"Fideicomiso/Fondo\",'Beneificiarios Finales'!H587=\"PJ No Residente\"),'Beneificiarios Finales'!H587,\"\")","v":""},{"$f":"IF(OR('Beneificiarios Finales'!H587=\"NIT\",'Beneificiarios Finales'!H587=\"Fideicomiso/Fondo\",'Beneificiarios Finales'!H587=\"PJ No Residente\"),'Beneificiarios Finales'!B589,\"\")","v":""}]
[{"$f":"IF(OR('Beneificiarios Finales'!H618=\"NIT\",'Beneificiarios Finales'!H618=\"Fideicomiso/Fondo\",'Beneificiarios Finales'!H618=\"PJ No Residente\"),'Beneificiarios Finales'!B622,\"\")","v":""},{"$f":"IFERROR(INDEX(TablaNivelCUATRO[PJNivelCuatro],_xlfn.AGGREGATE(15,6,(ROW(TablaNivelCUATRO[PJNivelCuatro])-ROW(TablaNivelCUATRO[#Headers]))/(TablaNivelCUATRO[PJNivelCuatro]<>\"\"),ROWS($B$485:TablaNivelCUATRO[[#This Row],[AuxCuatro]]))),\"\")","v":""},{"$f":"IF(OR('Beneificiarios Finales'!H618=\"NIT\",'Beneificiarios Finales'!H618=\"Fideicomiso/Fondo\",'Beneificiarios Finales'!H618=\"PJ No Residente\"),'Beneificiarios Finales'!H618,\"\")","v":""},{"$f":"IF(OR('Beneificiarios Finales'!H618=\"NIT\",'Beneificiarios Finales'!H618=\"Fideicomiso/Fondo\",'Beneificiarios Finales'!H618=\"PJ No Residente\"),'Beneificiarios Finales'!B620,\"\")","v":""}]
[{"$f":"IF(OR('Beneificiarios Finales'!H649=\"NIT\",'Beneificiarios Finales'!H649=\"Fideicomiso/Fondo\",'Beneificiarios Finales'!H649=\"PJ No Residente\"),'Beneificiarios Finales'!B653,\"\")","v":""},{"$f":"IFERROR(INDEX(TablaNivelCUATRO[PJNivelCuatro],_xlfn.AGGREGATE(15,6,(ROW(TablaNivelCUATRO[PJNivelCuatro])-ROW(TablaNivelCUATRO[#Headers]))/(TablaNivelCUATRO[PJNivelCuatro]<>\"\"),ROWS($B$485:TablaNivelCUATRO[[#This Row],[AuxCuatro]]))),\"\")","v":""},{"$f":"IF(OR('Beneificiarios Finales'!H649=\"NIT\",'Beneificiarios Finales'!H649=\"Fideicomiso/Fondo\",'Beneificiarios Finales'!H649=\"PJ No Residente\"),'Beneificiarios Finales'!H649,\"\")","v":""},{"$f":"IF(OR('Beneificiarios Finales'!H649=\"NIT\",'Beneificiarios Finales'!H649=\"Fideicomiso/Fondo\",'Beneificiarios Finales'!H649=\"PJ No Residente\"),'Beneificiarios Finales'!B651,\"\")","v":""}]
[{"$f":"IF(OR('Beneificiarios Finales'!H680=\"NIT\",'Beneificiarios Finales'!H680=\"Fideicomiso/Fondo\",'Beneificiarios Finales'!H680=\"PJ No Residente\"),'Beneificiarios Finales'!B684,\"\")","v":""},{"$f":"IFERROR(INDEX(TablaNivelCUATRO[PJNivelCuatro],_xlfn.AGGREGATE(15,6,(ROW(TablaNivelCUATRO[PJNivelCuatro])-ROW(TablaNivelCUATRO[#Headers]))/(TablaNivelCUATRO[PJNivelCuatro]<>\"\"),ROWS($B$485:TablaNivelCUATRO[[#This Row],[AuxCuatro]]))),\"\")","v":""},{"$f":"IF(OR('Beneificiarios Finales'!H680=\"NIT\",'Beneificiarios Finales'!H680=\"Fideicomiso/Fondo\",'Beneificiarios Finales'!H680=\"PJ No Residente\"),'Beneificiarios Finales'!H680,\"\")","v":""},{"$f":"IF(OR('Beneificiarios Finales'!H680=\"NIT\",'Beneificiarios Finales'!H680=\"Fideicomiso/Fondo\",'Beneificiarios Finales'!H680=\"PJ No Residente\"),'Beneificiarios Finales'!B682,\"\")","v":""}]
[{"$f":"IF(OR('Beneificiarios Finales'!H711=\"NIT\",'Beneificiarios Finales'!H711=\"Fideicomiso/Fondo\",'Beneificiarios Finales'!H711=\"PJ No Residente\"),'Beneificiarios Finales'!B715,\"\")","v":""},{"$f":"IFERROR(INDEX(TablaNivelCUATRO[PJNivelCuatro],_xlfn.AGGREGATE(15,6,(ROW(TablaNivelCUATRO[PJNivelCuatro])-ROW(TablaNivelCUATRO[#Headers]))/(TablaNivelCUATRO[PJNivelCuatro]<>\"\"),ROWS($B$485:TablaNivelCUATRO[[#This Row],[AuxCuatro]]))),\"\")","v":""},{"$f":"IF(OR('Beneificiarios Finales'!H711=\"NIT\",'Beneificiarios Finales'!H711=\"Fideicomiso/Fondo\",'Beneificiarios Finales'!H711=\"PJ No Residente\"),'Beneificiarios Finales'!H711,\"\")","v":""},{"$f":"IF(OR('Beneificiarios Finales'!H711=\"NIT\",'Beneificiarios Finales'!H711=\"Fideicomiso/Fondo\",'Beneificiarios Finales'!H711=\"PJ No Residente\"),'Beneificiarios Finales'!B713,\"\")","v":""}]
[{"$f":"IF(OR('Beneificiarios Finales'!H742=\"NIT\",'Beneificiarios Finales'!H742=\"Fideicomiso/Fondo\",'Beneificiarios Finales'!H742=\"PJ No Residente\"),'Beneificiarios Finales'!B746,\"\")","v":""},{"$f":"IFERROR(INDEX(TablaNivelCUATRO[PJNivelCuatro],_xlfn.AGGREGATE(15,6,(ROW(TablaNivelCUATRO[PJNivelCuatro])-ROW(TablaNivelCUATRO[#Headers]))/(TablaNivelCUATRO[PJNivelCuatro]<>\"\"),ROWS($B$485:TablaNivelCUATRO[[#This Row],[AuxCuatro]]))),\"\")","v":""},{"$f":"IF(OR('Beneificiarios Finales'!H742=\"NIT\",'Beneificiarios Finales'!H742=\"Fideicomiso/Fondo\",'Beneificiarios Finales'!H742=\"PJ No Residente\"),'Beneificiarios Finales'!H742,\"\")","v":""},{"$f":"IF(OR('Beneificiarios Finales'!H742=\"NIT\",'Beneificiarios Finales'!H742=\"Fideicomiso/Fondo\",'Beneificiarios Finales'!H742=\"PJ No Residente\"),'Beneificiarios Finales'!B744,\"\")","v":""}]
[{"$f":"IF(OR('Beneificiarios Finales'!H773=\"NIT\",'Beneificiarios Finales'!H773=\"Fideicomiso/Fondo\",'Beneificiarios Finales'!H773=\"PJ No Residente\"),'Beneificiarios Finales'!B777,\"\")","v":""},{"$f":"IFERROR(INDEX(TablaNivelCUATRO[PJNivelCuatro],_xlfn.AGGREGATE(15,6,(ROW(TablaNivelCUATRO[PJNivelCuatro])-ROW(TablaNivelCUATRO[#Headers]))/(TablaNivelCUATRO[PJNivelCuatro]<>\"\"),ROWS($B$485:TablaNivelCUATRO[[#This Row],[AuxCuatro]]))),\"\")","v":""},{"$f":"IF(OR('Beneificiarios Finales'!H773=\"NIT\",'Beneificiarios Finales'!H773=\"Fideicomiso/Fondo\",'Beneificiarios Finales'!H773=\"PJ No Residente\"),'Beneificiarios Finales'!H773,\"\")","v":""},{"$f":"IF(OR('Beneificiarios Finales'!H773=\"NIT\",'Beneificiarios Finales'!H773=\"Fideicomiso/Fondo\",'Beneificiarios Finales'!H773=\"PJ No Residente\"),'Beneificiarios Finales'!B775,\"\")","v":""}]
[{"$f":"IF(OR('Beneificiarios Finales'!H804=\"NIT\",'Beneificiarios Finales'!H804=\"Fideicomiso/Fondo\",'Beneificiarios Finales'!H804=\"PJ No Residente\"),'Beneificiarios Finales'!B808,\"\")","v":""},{"$f":"IFERROR(INDEX(TablaNivelCUATRO[PJNivelCuatro],_xlfn.AGGREGATE(15,6,(ROW(TablaNivelCUATRO[PJNivelCuatro])-ROW(TablaNivelCUATRO[#Headers]))/(TablaNivelCUATRO[PJNivelCuatro]<>\"\"),ROWS($B$485:TablaNivelCUATRO[[#This Row],[AuxCuatro]]))),\"\")","v":""},{"$f":"IF(OR('Beneificiarios Finales'!H804=\"NIT\",'Beneificiarios Finales'!H804=\"Fideicomiso/Fondo\",'Beneificiarios Finales'!H804=\"PJ No Residente\"),'Beneificiarios Finales'!H804,\"\")","v":""},{"$f":"IF(OR('Beneificiarios Finales'!H804=\"NIT\",'Beneificiarios Finales'!H804=\"Fideicomiso/Fondo\",'Beneificiarios Finales'!H804=\"PJ No Residente\"),'Beneificiarios Finales'!B806,\"\")","v":""}]
[{"$f":"IF(OR('Beneificiarios Finales'!H835=\"NIT\",'Beneificiarios Finales'!H835=\"Fideicomiso/Fondo\",'Beneificiarios Finales'!H835=\"PJ No Residente\"),'Beneificiarios Finales'!B839,\"\")","v":""},{"$f":"IFERROR(INDEX(TablaNivelCUATRO[PJNivelCuatro],_xlfn.AGGREGATE(15,6,(ROW(TablaNivelCUATRO[PJNivelCuatro])-ROW(TablaNivelCUATRO[#Headers]))/(TablaNivelCUATRO[PJNivelCuatro]<>\"\"),ROWS($B$485:TablaNivelCUATRO[[#This Row],[AuxCuatro]]))),\"\")","v":""},{"$f":"IF(OR('Beneificiarios Finales'!H835=\"NIT\",'Beneificiarios Finales'!H835=\"Fideicomiso/Fondo\",'Beneificiarios Finales'!H835=\"PJ No Residente\"),'Beneificiarios Finales'!H835,\"\")","v":""},{"$f":"IF(OR('Beneificiarios Finales'!H835=\"NIT\",'Beneificiarios Finales'!H835=\"Fideicomiso/Fondo\",'Beneificiarios Finales'!H835=\"PJ No Residente\"),'Beneificiarios Finales'!B837,\"\")","v":""}]
[{"$f":"IF(OR('Beneificiarios Finales'!H866=\"NIT\",'Beneificiarios Finales'!H866=\"Fideicomiso/Fondo\",'Beneificiarios Finales'!H866=\"PJ No Residente\"),'Beneificiarios Finales'!B870,\"\")","v":""},{"$f":"IFERROR(INDEX(TablaNivelCUATRO[PJNivelCuatro],_xlfn.AGGREGATE(15,6,(ROW(TablaNivelCUATRO[PJNivelCuatro])-ROW(TablaNivelCUATRO[#Headers]))/(TablaNivelCUATRO[PJNivelCuatro]<>\"\"),ROWS($B$485:TablaNivelCUATRO[[#This Row],[AuxCuatro]]))),\"\")","v":""},{"$f":"IF(OR('Beneificiarios Finales'!H866=\"NIT\",'Beneificiarios Finales'!H866=\"Fideicomiso/Fondo\",'Beneificiarios Finales'!H866=\"PJ No Residente\"),'Beneificiarios Finales'!H866,\"\")","v":""},{"$f":"IF(OR('Beneificiarios Finales'!H866=\"NIT\",'Beneificiarios Finales'!H866=\"Fideicomiso/Fondo\",'Beneificiarios Finales'!H866=\"PJ No Residente\"),'Beneificiarios Finales'!B868,\"\")","v":""}]
[{"$f":"IF(OR('Beneificiarios Finales'!H897=\"NIT\",'Beneificiarios Finales'!H897=\"Fideicomiso/Fondo\",'Beneificiarios Finales'!H897=\"PJ No Residente\"),'Beneificiarios Finales'!B901,\"\")","v":""},{"$f":"IFERROR(INDEX(TablaNivelCUATRO[PJNivelCuatro],_xlfn.AGGREGATE(15,6,(ROW(TablaNivelCUATRO[PJNivelCuatro])-ROW(TablaNivelCUATRO[#Headers]))/(TablaNivelCUATRO[PJNivelCuatro]<>\"\"),ROWS($B$485:TablaNivelCUATRO[[#This Row],[AuxCuatro]]))),\"\")","v":""},{"$f":"IF(OR('Beneificiarios Finales'!H897=\"NIT\",'Beneificiarios Finales'!H897=\"Fideicomiso/Fondo\",'Beneificiarios Finales'!H897=\"PJ No Residente\"),'Beneificiarios Finales'!H897,\"\")","v":""},{"$f":"IF(OR('Beneificiarios Finales'!H897=\"NIT\",'Beneificiarios Finales'!H897=\"Fideicomiso/Fondo\",'Beneificiarios Finales'!H897=\"PJ No Residente\"),'Beneificiarios Finales'!B899,\"\")","v":""}]
[{"$f":"IF(OR('Beneificiarios Finales'!H928=\"NIT\",'Beneificiarios Finales'!H928=\"Fideicomiso/Fondo\",'Beneificiarios Finales'!H928=\"PJ No Residente\"),'Beneificiarios Finales'!B932,\"\")","v":""},{"$f":"IFERROR(INDEX(TablaNivelCUATRO[PJNivelCuatro],_xlfn.AGGREGATE(15,6,(ROW(TablaNivelCUATRO[PJNivelCuatro])-ROW(TablaNivelCUATRO[#Headers]))/(TablaNivelCUATRO[PJNivelCuatro]<>\"\"),ROWS($B$485:TablaNivelCUATRO[[#This Row],[AuxCuatro]]))),\"\")","v":""},{"$f":"IF(OR('Beneificiarios Finales'!H928=\"NIT\",'Beneificiarios Finales'!H928=\"Fideicomiso/Fondo\",'Beneificiarios Finales'!H928=\"PJ No Residente\"),'Beneificiarios Finales'!H928,\"\")","v":""},{"$f":"IF(OR('Beneificiarios Finales'!H928=\"NIT\",'Beneificiarios Finales'!H928=\"Fideicomiso/Fondo\",'Beneificiarios Finales'!H928=\"PJ No Residente\"),'Beneificiarios Finales'!B930,\"\")","v":""}]
[{"$f":"IF(OR('Beneificiarios Finales'!H959=\"NIT\",'Beneificiarios Finales'!H959=\"Fideicomiso/Fondo\",'Beneificiarios Finales'!H959=\"PJ No Residente\"),'Beneificiarios Finales'!B963,\"\")","v":""},{"$f":"IFERROR(INDEX(TablaNivelCUATRO[PJNivelCuatro],_xlfn.AGGREGATE(15,6,(ROW(TablaNivelCUATRO[PJNivelCuatro])-ROW(TablaNivelCUATRO[#Headers]))/(TablaNivelCUATRO[PJNivelCuatro]<>\"\"),ROWS($B$485:TablaNivelCUATRO[[#This Row],[AuxCuatro]]))),\"\")","v":""},{"$f":"IF(OR('Beneificiarios Finales'!H959=\"NIT\",'Beneificiarios Finales'!H959=\"Fideicomiso/Fondo\",'Beneificiarios Finales'!H959=\"PJ No Residente\"),'Beneificiarios Finales'!H959,\"\")","v":""},{"$f":"IF(OR('Beneificiarios Finales'!H959=\"NIT\",'Beneificiarios Finales'!H959=\"Fideicomiso/Fondo\",'Beneificiarios Finales'!H959=\"PJ No Residente\"),'Beneificiarios Finales'!B961,\"\")","v":""}]
[{"$f":"IF(OR('Beneificiarios Finales'!H990=\"NIT\",'Beneificiarios Finales'!H990=\"Fideicomiso/Fondo\",'Beneificiarios Finales'!H990=\"PJ No Residente\"),'Beneificiarios Finales'!B994,\"\")","v":""},{"$f":"IFERROR(INDEX(TablaNivelCUATRO[PJNivelCuatro],_xlfn.AGGREGATE(15,6,(ROW(TablaNivelCUATRO[PJNivelCuatro])-ROW(TablaNivelCUATRO[#Headers]))/(TablaNivelCUATRO[PJNivelCuatro]<>\"\"),ROWS($B$485:TablaNivelCUATRO[[#This Row],[AuxCuatro]]))),\"\")","v":""},{"$f":"IF(OR('Beneificiarios Finales'!H990=\"NIT\",'Beneificiarios Finales'!H990=\"Fideicomiso/Fondo\",'Beneificiarios Finales'!H990=\"PJ No Residente\"),'Beneificiarios Finales'!H990,\"\")","v":""},{"$f":"IF(OR('Beneificiarios Finales'!H990=\"NIT\",'Beneificiarios Finales'!H990=\"Fideicomiso/Fondo\",'Beneificiarios Finales'!H990=\"PJ No Residente\"),'Beneificiarios Finales'!B992,\"\")","v":""}]
[{"$f":"IF(OR('Beneificiarios Finales'!H1021=\"NIT\",'Beneificiarios Finales'!H1021=\"Fideicomiso/Fondo\",'Beneificiarios Finales'!H1021=\"PJ No Residente\"),'Beneificiarios Finales'!B1025,\"\")","v":""},{"$f":"IFERROR(INDEX(TablaNivelCUATRO[PJNivelCuatro],_xlfn.AGGREGATE(15,6,(ROW(TablaNivelCUATRO[PJNivelCuatro])-ROW(TablaNivelCUATRO[#Headers]))/(TablaNivelCUATRO[PJNivelCuatro]<>\"\"),ROWS($B$485:TablaNivelCUATRO[[#This Row],[AuxCuatro]]))),\"\")","v":""},{"$f":"IF(OR('Beneificiarios Finales'!H1021=\"NIT\",'Beneificiarios Finales'!H1021=\"Fideicomiso/Fondo\",'Beneificiarios Finales'!H1021=\"PJ No Residente\"),'Beneificiarios Finales'!H1021,\"\")","v":""},{"$f":"IF(OR('Beneificiarios Finales'!H1021=\"NIT\",'Beneificiarios Finales'!H1021=\"Fideicomiso/Fondo\",'Beneificiarios Finales'!H1021=\"PJ No Residente\"),'Beneificiarios Finales'!B1023,\"\")","v":""}]
[{"$f":"IF(OR('Beneificiarios Finales'!H1052=\"NIT\",'Beneificiarios Finales'!H1052=\"Fideicomiso/Fondo\",'Beneificiarios Finales'!H1052=\"PJ No Residente\"),'Beneificiarios Finales'!B1056,\"\")","v":""},{"$f":"IFERROR(INDEX(TablaNivelCUATRO[PJNivelCuatro],_xlfn.AGGREGATE(15,6,(ROW(TablaNivelCUATRO[PJNivelCuatro])-ROW(TablaNivelCUATRO[#Headers]))/(TablaNivelCUATRO[PJNivelCuatro]<>\"\"),ROWS($B$485:TablaNivelCUATRO[[#This Row],[AuxCuatro]]))),\"\")","v":""},{"$f":"IF(OR('Beneificiarios Finales'!H1052=\"NIT\",'Beneificiarios Finales'!H1052=\"Fideicomiso/Fondo\",'Beneificiarios Finales'!H1052=\"PJ No Residente\"),'Beneificiarios Finales'!H1052,\"\")","v":""},{"$f":"IF(OR('Beneificiarios Finales'!H1052=\"NIT\",'Beneificiarios Finales'!H1052=\"Fideicomiso/Fondo\",'Beneificiarios Finales'!H1052=\"PJ No Residente\"),'Beneificiarios Finales'!B1054,\"\")","v":""}]
[{"$f":"IF(OR('Beneificiarios Finales'!H1083=\"NIT\",'Beneificiarios Finales'!H1083=\"Fideicomiso/Fondo\",'Beneificiarios Finales'!H1083=\"PJ No Residente\"),'Beneificiarios Finales'!B1087,\"\")","v":""},{"$f":"IFERROR(INDEX(TablaNivelCUATRO[PJNivelCuatro],_xlfn.AGGREGATE(15,6,(ROW(TablaNivelCUATRO[PJNivelCuatro])-ROW(TablaNivelCUATRO[#Headers]))/(TablaNivelCUATRO[PJNivelCuatro]<>\"\"),ROWS($B$485:TablaNivelCUATRO[[#This Row],[AuxCuatro]]))),\"\")","v":""},{"$f":"IF(OR('Beneificiarios Finales'!H1083=\"NIT\",'Beneificiarios Finales'!H1083=\"Fideicomiso/Fondo\",'Beneificiarios Finales'!H1083=\"PJ No Residente\"),'Beneificiarios Finales'!H1083,\"\")","v":""},{"$f":"IF(OR('Beneificiarios Finales'!H1083=\"NIT\",'Beneificiarios Finales'!H1083=\"Fideicomiso/Fondo\",'Beneificiarios Finales'!H1083=\"PJ No Residente\"),'Beneificiarios Finales'!B1085,\"\")","v":""}]
[{"$f":"IF(OR('Beneificiarios Finales'!H1114=\"NIT\",'Beneificiarios Finales'!H1114=\"Fideicomiso/Fondo\",'Beneificiarios Finales'!H1114=\"PJ No Residente\"),'Beneificiarios Finales'!B1118,\"\")","v":""},{"$f":"IFERROR(INDEX(TablaNivelCUATRO[PJNivelCuatro],_xlfn.AGGREGATE(15,6,(ROW(TablaNivelCUATRO[PJNivelCuatro])-ROW(TablaNivelCUATRO[#Headers]))/(TablaNivelCUATRO[PJNivelCuatro]<>\"\"),ROWS($B$485:TablaNivelCUATRO[[#This Row],[AuxCuatro]]))),\"\")","v":""},{"$f":"IF(OR('Beneificiarios Finales'!H1114=\"NIT\",'Beneificiarios Finales'!H1114=\"Fideicomiso/Fondo\",'Beneificiarios Finales'!H1114=\"PJ No Residente\"),'Beneificiarios Finales'!H1114,\"\")","v":""},{"$f":"IF(OR('Beneificiarios Finales'!H1114=\"NIT\",'Beneificiarios Finales'!H1114=\"Fideicomiso/Fondo\",'Beneificiarios Finales'!H1114=\"PJ No Residente\"),'Beneificiarios Finales'!B1116,\"\")","v":""}]
[{"$f":"IF(OR('Beneificiarios Finales'!H1145=\"NIT\",'Beneificiarios Finales'!H1145=\"Fideicomiso/Fondo\",'Beneificiarios Finales'!H1145=\"PJ No Residente\"),'Beneificiarios Finales'!B1149,\"\")","v":""},{"$f":"IFERROR(INDEX(TablaNivelCUATRO[PJNivelCuatro],_xlfn.AGGREGATE(15,6,(ROW(TablaNivelCUATRO[PJNivelCuatro])-ROW(TablaNivelCUATRO[#Headers]))/(TablaNivelCUATRO[PJNivelCuatro]<>\"\"),ROWS($B$485:TablaNivelCUATRO[[#This Row],[AuxCuatro]]))),\"\")","v":""},{"$f":"IF(OR('Beneificiarios Finales'!H1145=\"NIT\",'Beneificiarios Finales'!H1145=\"Fideicomiso/Fondo\",'Beneificiarios Finales'!H1145=\"PJ No Residente\"),'Beneificiarios Finales'!H1145,\"\")","v":""},{"$f":"IF(OR('Beneificiarios Finales'!H1145=\"NIT\",'Beneificiarios Finales'!H1145=\"Fideicomiso/Fondo\",'Beneificiarios Finales'!H1145=\"PJ No Residente\"),'Beneificiarios Finales'!B1147,\"\")","v":""}]
[{"$f":"IF(OR('Beneificiarios Finales'!H1176=\"NIT\",'Beneificiarios Finales'!H1176=\"Fideicomiso/Fondo\",'Beneificiarios Finales'!H1176=\"PJ No Residente\"),'Beneificiarios Finales'!B1180,\"\")","v":""},{"$f":"IFERROR(INDEX(TablaNivelCUATRO[PJNivelCuatro],_xlfn.AGGREGATE(15,6,(ROW(TablaNivelCUATRO[PJNivelCuatro])-ROW(TablaNivelCUATRO[#Headers]))/(TablaNivelCUATRO[PJNivelCuatro]<>\"\"),ROWS($B$485:TablaNivelCUATRO[[#This Row],[AuxCuatro]]))),\"\")","v":""},{"$f":"IF(OR('Beneificiarios Finales'!H1176=\"NIT\",'Beneificiarios Finales'!H1176=\"Fideicomiso/Fondo\",'Beneificiarios Finales'!H1176=\"PJ No Residente\"),'Beneificiarios Finales'!H1176,\"\")","v":""},{"$f":"IF(OR('Beneificiarios Finales'!H1176=\"NIT\",'Beneificiarios Finales'!H1176=\"Fideicomiso/Fondo\",'Beneificiarios Finales'!H1176=\"PJ No Residente\"),'Beneificiarios Finales'!B1178,\"\")","v":""}]
[{"$f":"IF(OR('Beneificiarios Finales'!H1207=\"NIT\",'Beneificiarios Finales'!H1207=\"Fideicomiso/Fondo\",'Beneificiarios Finales'!H1207=\"PJ No Residente\"),'Beneificiarios Finales'!B1211,\"\")","v":""},{"$f":"IFERROR(INDEX(TablaNivelCUATRO[PJNivelCuatro],_xlfn.AGGREGATE(15,6,(ROW(TablaNivelCUATRO[PJNivelCuatro])-ROW(TablaNivelCUATRO[#Headers]))/(TablaNivelCUATRO[PJNivelCuatro]<>\"\"),ROWS($B$485:TablaNivelCUATRO[[#This Row],[AuxCuatro]]))),\"\")","v":""},{"$f":"IF(OR('Beneificiarios Finales'!H1207=\"NIT\",'Beneificiarios Finales'!H1207=\"Fideicomiso/Fondo\",'Beneificiarios Finales'!H1207=\"PJ No Residente\"),'Beneificiarios Finales'!H1207,\"\")","v":""},{"$f":"IF(OR('Beneificiarios Finales'!H1207=\"NIT\",'Beneificiarios Finales'!H1207=\"Fideicomiso/Fondo\",'Beneificiarios Finales'!H1207=\"PJ No Residente\"),'Beneificiarios Finales'!B1209,\"\")","v":""}]
[{"$f":"IF(OR('Beneificiarios Finales'!H1238=\"NIT\",'Beneificiarios Finales'!H1238=\"Fideicomiso/Fondo\",'Beneificiarios Finales'!H1238=\"PJ No Residente\"),'Beneificiarios Finales'!B1242,\"\")","v":""},{"$f":"IFERROR(INDEX(TablaNivelCUATRO[PJNivelCuatro],_xlfn.AGGREGATE(15,6,(ROW(TablaNivelCUATRO[PJNivelCuatro])-ROW(TablaNivelCUATRO[#Headers]))/(TablaNivelCUATRO[PJNivelCuatro]<>\"\"),ROWS($B$485:TablaNivelCUATRO[[#This Row],[AuxCuatro]]))),\"\")","v":""},{"$f":"IF(OR('Beneificiarios Finales'!H1238=\"NIT\",'Beneificiarios Finales'!H1238=\"Fideicomiso/Fondo\",'Beneificiarios Finales'!H1238=\"PJ No Residente\"),'Beneificiarios Finales'!H1238,\"\")","v":""},{"$f":"IF(OR('Beneificiarios Finales'!H1238=\"NIT\",'Beneificiarios Finales'!H1238=\"Fideicomiso/Fondo\",'Beneificiarios Finales'!H1238=\"PJ No Residente\"),'Beneificiarios Finales'!B1240,\"\")","v":""}]
[{"$f":"IF(OR('Beneificiarios Finales'!H1269=\"NIT\",'Beneificiarios Finales'!H1269=\"Fideicomiso/Fondo\",'Beneificiarios Finales'!H1269=\"PJ No Residente\"),'Beneificiarios Finales'!B1273,\"\")","v":""},{"$f":"IFERROR(INDEX(TablaNivelCUATRO[PJNivelCuatro],_xlfn.AGGREGATE(15,6,(ROW(TablaNivelCUATRO[PJNivelCuatro])-ROW(TablaNivelCUATRO[#Headers]))/(TablaNivelCUATRO[PJNivelCuatro]<>\"\"),ROWS($B$485:TablaNivelCUATRO[[#This Row],[AuxCuatro]]))),\"\")","v":""},{"$f":"IF(OR('Beneificiarios Finales'!H1269=\"NIT\",'Beneificiarios Finales'!H1269=\"Fideicomiso/Fondo\",'Beneificiarios Finales'!H1269=\"PJ No Residente\"),'Beneificiarios Finales'!H1269,\"\")","v":""},{"$f":"IF(OR('Beneificiarios Finales'!H1269=\"NIT\",'Beneificiarios Finales'!H1269=\"Fideicomiso/Fondo\",'Beneificiarios Finales'!H1269=\"PJ No Residente\"),'Beneificiarios Finales'!B1271,\"\")","v":""}]
[{"$f":"IF(OR('Beneificiarios Finales'!H1300=\"NIT\",'Beneificiarios Finales'!H1300=\"Fideicomiso/Fondo\",'Beneificiarios Finales'!H1300=\"PJ No Residente\"),'Beneificiarios Finales'!B1304,\"\")","v":""},{"$f":"IFERROR(INDEX(TablaNivelCUATRO[PJNivelCuatro],_xlfn.AGGREGATE(15,6,(ROW(TablaNivelCUATRO[PJNivelCuatro])-ROW(TablaNivelCUATRO[#Headers]))/(TablaNivelCUATRO[PJNivelCuatro]<>\"\"),ROWS($B$485:TablaNivelCUATRO[[#This Row],[AuxCuatro]]))),\"\")","v":""},{"$f":"IF(OR('Beneificiarios Finales'!H1300=\"NIT\",'Beneificiarios Finales'!H1300=\"Fideicomiso/Fondo\",'Beneificiarios Finales'!H1300=\"PJ No Residente\"),'Beneificiarios Finales'!H1300,\"\")","v":""},{"$f":"IF(OR('Beneificiarios Finales'!H1300=\"NIT\",'Beneificiarios Finales'!H1300=\"Fideicomiso/Fondo\",'Beneificiarios Finales'!H1300=\"PJ No Residente\"),'Beneificiarios Finales'!B1302,\"\")","v":""}]
[{"$f":"IF(OR('Beneificiarios Finales'!H1331=\"NIT\",'Beneificiarios Finales'!H1331=\"Fideicomiso/Fondo\",'Beneificiarios Finales'!H1331=\"PJ No Residente\"),'Beneificiarios Finales'!B1335,\"\")","v":""},{"$f":"IFERROR(INDEX(TablaNivelCUATRO[PJNivelCuatro],_xlfn.AGGREGATE(15,6,(ROW(TablaNivelCUATRO[PJNivelCuatro])-ROW(TablaNivelCUATRO[#Headers]))/(TablaNivelCUATRO[PJNivelCuatro]<>\"\"),ROWS($B$485:TablaNivelCUATRO[[#This Row],[AuxCuatro]]))),\"\")","v":""},{"$f":"IF(OR('Beneificiarios Finales'!H1331=\"NIT\",'Beneificiarios Finales'!H1331=\"Fideicomiso/Fondo\",'Beneificiarios Finales'!H1331=\"PJ No Residente\"),'Beneificiarios Finales'!H1331,\"\")","v":""},{"$f":"IF(OR('Beneificiarios Finales'!H1331=\"NIT\",'Beneificiarios Finales'!H1331=\"Fideicomiso/Fondo\",'Beneificiarios Finales'!H1331=\"PJ No Residente\"),'Beneificiarios Finales'!B1333,\"\")","v":""}]
[{"$f":"IF(OR('Beneificiarios Finales'!H1362=\"NIT\",'Beneificiarios Finales'!H1362=\"Fideicomiso/Fondo\",'Beneificiarios Finales'!H1362=\"PJ No Residente\"),'Beneificiarios Finales'!B1366,\"\")","v":""},{"$f":"IFERROR(INDEX(TablaNivelCUATRO[PJNivelCuatro],_xlfn.AGGREGATE(15,6,(ROW(TablaNivelCUATRO[PJNivelCuatro])-ROW(TablaNivelCUATRO[#Headers]))/(TablaNivelCUATRO[PJNivelCuatro]<>\"\"),ROWS($B$485:TablaNivelCUATRO[[#This Row],[AuxCuatro]]))),\"\")","v":""},{"$f":"IF(OR('Beneificiarios Finales'!H1362=\"NIT\",'Beneificiarios Finales'!H1362=\"Fideicomiso/Fondo\",'Beneificiarios Finales'!H1362=\"PJ No Residente\"),'Beneificiarios Finales'!H1362,\"\")","v":""},{"$f":"IF(OR('Beneificiarios Finales'!H1362=\"NIT\",'Beneificiarios Finales'!H1362=\"Fideicomiso/Fondo\",'Beneificiarios Finales'!H1362=\"PJ No Residente\"),'Beneificiarios Finales'!B1364,\"\")","v":""}]
[{"$f":"IF(OR('Beneificiarios Finales'!H1393=\"NIT\",'Beneificiarios Finales'!H1393=\"Fideicomiso/Fondo\",'Beneificiarios Finales'!H1393=\"PJ No Residente\"),'Beneificiarios Finales'!B1397,\"\")","v":""},{"$f":"IFERROR(INDEX(TablaNivelCUATRO[PJNivelCuatro],_xlfn.AGGREGATE(15,6,(ROW(TablaNivelCUATRO[PJNivelCuatro])-ROW(TablaNivelCUATRO[#Headers]))/(TablaNivelCUATRO[PJNivelCuatro]<>\"\"),ROWS($B$485:TablaNivelCUATRO[[#This Row],[AuxCuatro]]))),\"\")","v":""},{"$f":"IF(OR('Beneificiarios Finales'!H1393=\"NIT\",'Beneificiarios Finales'!H1393=\"Fideicomiso/Fondo\",'Beneificiarios Finales'!H1393=\"PJ No Residente\"),'Beneificiarios Finales'!H1393,\"\")","v":""},{"$f":"IF(OR('Beneificiarios Finales'!H1393=\"NIT\",'Beneificiarios Finales'!H1393=\"Fideicomiso/Fondo\",'Beneificiarios Finales'!H1393=\"PJ No Residente\"),'Beneificiarios Finales'!B1395,\"\")","v":""}]
[{"$f":"IF(OR('Beneificiarios Finales'!H1424=\"NIT\",'Beneificiarios Finales'!H1424=\"Fideicomiso/Fondo\",'Beneificiarios Finales'!H1424=\"PJ No Residente\"),'Beneificiarios Finales'!B1428,\"\")","v":""},{"$f":"IFERROR(INDEX(TablaNivelCUATRO[PJNivelCuatro],_xlfn.AGGREGATE(15,6,(ROW(TablaNivelCUATRO[PJNivelCuatro])-ROW(TablaNivelCUATRO[#Headers]))/(TablaNivelCUATRO[PJNivelCuatro]<>\"\"),ROWS($B$485:TablaNivelCUATRO[[#This Row],[AuxCuatro]]))),\"\")","v":""},{"$f":"IF(OR('Beneificiarios Finales'!H1424=\"NIT\",'Beneificiarios Finales'!H1424=\"Fideicomiso/Fondo\",'Beneificiarios Finales'!H1424=\"PJ No Residente\"),'Beneificiarios Finales'!H1424,\"\")","v":""},{"$f":"IF(OR('Beneificiarios Finales'!H1424=\"NIT\",'Beneificiarios Finales'!H1424=\"Fideicomiso/Fondo\",'Beneificiarios Finales'!H1424=\"PJ No Residente\"),'Beneificiarios Finales'!B1426,\"\")","v":""}]
[{"$f":"IF(OR('Beneificiarios Finales'!H1455=\"NIT\",'Beneificiarios Finales'!H1455=\"Fideicomiso/Fondo\",'Beneificiarios Finales'!H1455=\"PJ No Residente\"),'Beneificiarios Finales'!B1459,\"\")","v":""},{"$f":"IFERROR(INDEX(TablaNivelCUATRO[PJNivelCuatro],_xlfn.AGGREGATE(15,6,(ROW(TablaNivelCUATRO[PJNivelCuatro])-ROW(TablaNivelCUATRO[#Headers]))/(TablaNivelCUATRO[PJNivelCuatro]<>\"\"),ROWS($B$485:TablaNivelCUATRO[[#This Row],[AuxCuatro]]))),\"\")","v":""},{"$f":"IF(OR('Beneificiarios Finales'!H1455=\"NIT\",'Beneificiarios Finales'!H1455=\"Fideicomiso/Fondo\",'Beneificiarios Finales'!H1455=\"PJ No Residente\"),'Beneificiarios Finales'!H1455,\"\")","v":""},{"$f":"IF(OR('Beneificiarios Finales'!H1455=\"NIT\",'Beneificiarios Finales'!H1455=\"Fideicomiso/Fondo\",'Beneificiarios Finales'!H1455=\"PJ No Residente\"),'Beneificiarios Finales'!B1457,\"\")","v":""}]
[{"$f":"IF(OR('Beneificiarios Finales'!H1486=\"NIT\",'Beneificiarios Finales'!H1486=\"Fideicomiso/Fondo\",'Beneificiarios Finales'!H1486=\"PJ No Residente\"),'Beneificiarios Finales'!B1490,\"\")","v":""},{"$f":"IFERROR(INDEX(TablaNivelCUATRO[PJNivelCuatro],_xlfn.AGGREGATE(15,6,(ROW(TablaNivelCUATRO[PJNivelCuatro])-ROW(TablaNivelCUATRO[#Headers]))/(TablaNivelCUATRO[PJNivelCuatro]<>\"\"),ROWS($B$485:TablaNivelCUATRO[[#This Row],[AuxCuatro]]))),\"\")","v":""},{"$f":"IF(OR('Beneificiarios Finales'!H1486=\"NIT\",'Beneificiarios Finales'!H1486=\"Fideicomiso/Fondo\",'Beneificiarios Finales'!H1486=\"PJ No Residente\"),'Beneificiarios Finales'!H1486,\"\")","v":""},{"$f":"IF(OR('Beneificiarios Finales'!H1486=\"NIT\",'Beneificiarios Finales'!H1486=\"Fideicomiso/Fondo\",'Beneificiarios Finales'!H1486=\"PJ No Residente\"),'Beneificiarios Finales'!B1488,\"\")","v":""}]
[{"$f":"IF(OR('Beneificiarios Finales'!H1517=\"NIT\",'Beneificiarios Finales'!H1517=\"Fideicomiso/Fondo\",'Beneificiarios Finales'!H1517=\"PJ No Residente\"),'Beneificiarios Finales'!B1521,\"\")","v":""},{"$f":"IFERROR(INDEX(TablaNivelCUATRO[PJNivelCuatro],_xlfn.AGGREGATE(15,6,(ROW(TablaNivelCUATRO[PJNivelCuatro])-ROW(TablaNivelCUATRO[#Headers]))/(TablaNivelCUATRO[PJNivelCuatro]<>\"\"),ROWS($B$485:TablaNivelCUATRO[[#This Row],[AuxCuatro]]))),\"\")","v":""},{"$f":"IF(OR('Beneificiarios Finales'!H1517=\"NIT\",'Beneificiarios Finales'!H1517=\"Fideicomiso/Fondo\",'Beneificiarios Finales'!H1517=\"PJ No Residente\"),'Beneificiarios Finales'!H1517,\"\")","v":""},{"$f":"IF(OR('Beneificiarios Finales'!H1517=\"NIT\",'Beneificiarios Finales'!H1517=\"Fideicomiso/Fondo\",'Beneificiarios Finales'!H1517=\"PJ No Residente\"),'Beneificiarios Finales'!B1519,\"\")","v":""}]
[{"$f":"IF(OR('Beneificiarios Finales'!H1548=\"NIT\",'Beneificiarios Finales'!H1548=\"Fideicomiso/Fondo\",'Beneificiarios Finales'!H1548=\"PJ No Residente\"),'Beneificiarios Finales'!B1552,\"\")","v":""},{"$f":"IFERROR(INDEX(TablaNivelCUATRO[PJNivelCuatro],_xlfn.AGGREGATE(15,6,(ROW(TablaNivelCUATRO[PJNivelCuatro])-ROW(TablaNivelCUATRO[#Headers]))/(TablaNivelCUATRO[PJNivelCuatro]<>\"\"),ROWS($B$485:TablaNivelCUATRO[[#This Row],[AuxCuatro]]))),\"\")","v":""},{"$f":"IF(OR('Beneificiarios Finales'!H1548=\"NIT\",'Beneificiarios Finales'!H1548=\"Fideicomiso/Fondo\",'Beneificiarios Finales'!H1548=\"PJ No Residente\"),'Beneificiarios Finales'!H1548,\"\")","v":""},{"$f":"IF(OR('Beneificiarios Finales'!H1548=\"NIT\",'Beneificiarios Finales'!H1548=\"Fideicomiso/Fondo\",'Beneificiarios Finales'!H1548=\"PJ No Residente\"),'Beneificiarios Finales'!B1550,\"\")","v":""}]
[{"$f":"IF(OR('Beneificiarios Finales'!H1579=\"NIT\",'Beneificiarios Finales'!H1579=\"Fideicomiso/Fondo\",'Beneificiarios Finales'!H1579=\"PJ No Residente\"),'Beneificiarios Finales'!B1583,\"\")","v":""},{"$f":"IFERROR(INDEX(TablaNivelCUATRO[PJNivelCuatro],_xlfn.AGGREGATE(15,6,(ROW(TablaNivelCUATRO[PJNivelCuatro])-ROW(TablaNivelCUATRO[#Headers]))/(TablaNivelCUATRO[PJNivelCuatro]<>\"\"),ROWS($B$485:TablaNivelCUATRO[[#This Row],[AuxCuatro]]))),\"\")","v":""},{"$f":"IF(OR('Beneificiarios Finales'!H1579=\"NIT\",'Beneificiarios Finales'!H1579=\"Fideicomiso/Fondo\",'Beneificiarios Finales'!H1579=\"PJ No Residente\"),'Beneificiarios Finales'!H1579,\"\")","v":""},{"$f":"IF(OR('Beneificiarios Finales'!H1579=\"NIT\",'Beneificiarios Finales'!H1579=\"Fideicomiso/Fondo\",'Beneificiarios Finales'!H1579=\"PJ No Residente\"),'Beneificiarios Finales'!B1581,\"\")","v":""}]
[{"$f":"IF(OR('Beneificiarios Finales'!#REF!=\"NIT\",'Beneificiarios Finales'!#REF!=\"Fideicomiso/Fondo\",'Beneificiarios Finales'!#REF!=\"PJ No Residente\"),'Beneificiarios Finales'!#REF!,\"\")","v":{"$error":"#REF!"}},{"$f":"IFERROR(INDEX(TablaNivelCUATRO[PJNivelCuatro],_xlfn.AGGREGATE(15,6,(ROW(TablaNivelCUATRO[PJNivelCuatro])-ROW(TablaNivelCUATRO[#Headers]))/(TablaNivelCUATRO[PJNivelCuatro]<>\"\"),ROWS($B$485:TablaNivelCUATRO[[#This Row],[AuxCuatro]]))),\"\")","v":""},{"$f":"IF(OR('Beneificiarios Finales'!#REF!=\"NIT\",'Beneificiarios Finales'!#REF!=\"Fideicomiso/Fondo\",'Beneificiarios Finales'!#REF!=\"PJ No Residente\"),'Beneificiarios Finales'!#REF!,\"\")","v":{"$error":"#REF!"}},{"$f":"IF(OR('Beneificiarios Finales'!#REF!=\"NIT\",'Beneificiarios Finales'!#REF!=\"Fideicomiso/Fondo\",'Beneificiarios Finales'!#REF!=\"PJ No Residente\"),'Beneificiarios Finales'!#REF!,\"\")","v":{"$error":"#REF!"}}]
[{"$f":"IF(OR('Beneificiarios Finales'!H1620=\"NIT\",'Beneificiarios Finales'!H1620=\"Fideicomiso/Fondo\",'Beneificiarios Finales'!H1620=\"PJ No Residente\"),'Beneificiarios Finales'!B1624,\"\")","v":""},{"$f":"IFERROR(INDEX(TablaNivelCUATRO[PJNivelCuatro],_xlfn.AGGREGATE(15,6,(ROW(TablaNivelCUATRO[PJNivelCuatro])-ROW(TablaNivelCUATRO[#Headers]))/(TablaNivelCUATRO[PJNivelCuatro]<>\"\"),ROWS($B$485:TablaNivelCUATRO[[#This Row],[AuxCuatro]]))),\"\")","v":""},{"$f":"IF(OR('Beneificiarios Finales'!H1620=\"NIT\",'Beneificiarios Finales'!H1620=\"Fideicomiso/Fondo\",'Beneificiarios Finales'!H1620=\"PJ No Residente\"),'Beneificiarios Finales'!H1620,\"\")","v":""},{"$f":"IF(OR('Beneificiarios Finales'!H1620=\"NIT\",'Beneificiarios Finales'!H1620=\"Fideicomiso/Fondo\",'Beneificiarios Finales'!H1620=\"PJ No Residente\"),'Beneificiarios Finales'!B1622,\"\")","v":""}]
[{"$f":"IF(OR('Beneificiarios Finales'!H1668=\"NIT\",'Beneificiarios Finales'!H1668=\"Fideicomiso/Fondo\",'Beneificiarios Finales'!H1668=\"PJ No Residente\"),'Beneificiarios Finales'!B1672,\"\")","v":""},{"$f":"IFERROR(INDEX(TablaNivelCUATRO[PJNivelCuatro],_xlfn.AGGREGATE(15,6,(ROW(TablaNivelCUATRO[PJNivelCuatro])-ROW(TablaNivelCUATRO[#Headers]))/(TablaNivelCUATRO[PJNivelCuatro]<>\"\"),ROWS($B$485:TablaNivelCUATRO[[#This Row],[AuxCuatro]]))),\"\")","v":""},{"$f":"IF(OR('Beneificiarios Finales'!H1668=\"NIT\",'Beneificiarios Finales'!H1668=\"Fideicomiso/Fondo\",'Beneificiarios Finales'!H1668=\"PJ No Residente\"),'Beneificiarios Finales'!H1668,\"\")","v":""},{"$f":"IF(OR('Beneificiarios Finales'!H1668=\"NIT\",'Beneificiarios Finales'!H1668=\"Fideicomiso/Fondo\",'Beneificiarios Finales'!H1668=\"PJ No Residente\"),'Beneificiarios Finales'!B1670,\"\")","v":""}]
[{"$f":"IF(OR('Beneificiarios Finales'!H1702=\"NIT\",'Beneificiarios Finales'!H1702=\"Fideicomiso/Fondo\",'Beneificiarios Finales'!H1702=\"PJ No Residente\"),'Beneificiarios Finales'!B1706,\"\")","v":""},{"$f":"IFERROR(INDEX(TablaNivelCUATRO[PJNivelCuatro],_xlfn.AGGREGATE(15,6,(ROW(TablaNivelCUATRO[PJNivelCuatro])-ROW(TablaNivelCUATRO[#Headers]))/(TablaNivelCUATRO[PJNivelCuatro]<>\"\"),ROWS($B$485:TablaNivelCUATRO[[#This Row],[AuxCuatro]]))),\"\")","v":""},{"$f":"IF(OR('Beneificiarios Finales'!H1702=\"NIT\",'Beneificiarios Finales'!H1702=\"Fideicomiso/Fondo\",'Beneificiarios Finales'!H1702=\"PJ No Residente\"),'Beneificiarios Finales'!H1702,\"\")","v":""},{"$f":"IF(OR('Beneificiarios Finales'!H1702=\"NIT\",'Beneificiarios Finales'!H1702=\"Fideicomiso/Fondo\",'Beneificiarios Finales'!H1702=\"PJ No Residente\"),'Beneificiarios Finales'!B1704,\"\")","v":""}]
[{"$f":"IF(OR('Beneificiarios Finales'!H1736=\"NIT\",'Beneificiarios Finales'!H1736=\"Fideicomiso/Fondo\",'Beneificiarios Finales'!H1736=\"PJ No Residente\"),'Beneificiarios Finales'!B1740,\"\")","v":""},{"$f":"IFERROR(INDEX(TablaNivelCUATRO[PJNivelCuatro],_xlfn.AGGREGATE(15,6,(ROW(TablaNivelCUATRO[PJNivelCuatro])-ROW(TablaNivelCUATRO[#Headers]))/(TablaNivelCUATRO[PJNivelCuatro]<>\"\"),ROWS($B$485:TablaNivelCUATRO[[#This Row],[AuxCuatro]]))),\"\")","v":""},{"$f":"IF(OR('Beneificiarios Finales'!H1736=\"NIT\",'Beneificiarios Finales'!H1736=\"Fideicomiso/Fondo\",'Beneificiarios Finales'!H1736=\"PJ No Residente\"),'Beneificiarios Finales'!H1736,\"\")","v":""},{"$f":"IF(OR('Beneificiarios Finales'!H1736=\"NIT\",'Beneificiarios Finales'!H1736=\"Fideicomiso/Fondo\",'Beneificiarios Finales'!H1736=\"PJ No Residente\"),'Beneificiarios Finales'!B1738,\"\")","v":""}]
[{"$f":"IF(OR('Beneificiarios Finales'!H1770=\"NIT\",'Beneificiarios Finales'!H1770=\"Fideicomiso/Fondo\",'Beneificiarios Finales'!H1770=\"PJ No Residente\"),'Beneificiarios Finales'!B1774,\"\")","v":""},{"$f":"IFERROR(INDEX(TablaNivelCUATRO[PJNivelCuatro],_xlfn.AGGREGATE(15,6,(ROW(TablaNivelCUATRO[PJNivelCuatro])-ROW(TablaNivelCUATRO[#Headers]))/(TablaNivelCUATRO[PJNivelCuatro]<>\"\"),ROWS($B$485:TablaNivelCUATRO[[#This Row],[AuxCuatro]]))),\"\")","v":""},{"$f":"IF(OR('Beneificiarios Finales'!H1770=\"NIT\",'Beneificiarios Finales'!H1770=\"Fideicomiso/Fondo\",'Beneificiarios Finales'!H1770=\"PJ No Residente\"),'Beneificiarios Finales'!H1770,\"\")","v":""},{"$f":"IF(OR('Beneificiarios Finales'!H1770=\"NIT\",'Beneificiarios Finales'!H1770=\"Fideicomiso/Fondo\",'Beneificiarios Finales'!H1770=\"PJ No Residente\"),'Beneificiarios Finales'!B1772,\"\")","v":""}]
[{"$f":"IF(OR('Beneificiarios Finales'!H1804=\"NIT\",'Beneificiarios Finales'!H1804=\"Fideicomiso/Fondo\",'Beneificiarios Finales'!H1804=\"PJ No Residente\"),'Beneificiarios Finales'!B1808,\"\")","v":""},{"$f":"IFERROR(INDEX(TablaNivelCUATRO[PJNivelCuatro],_xlfn.AGGREGATE(15,6,(ROW(TablaNivelCUATRO[PJNivelCuatro])-ROW(TablaNivelCUATRO[#Headers]))/(TablaNivelCUATRO[PJNivelCuatro]<>\"\"),ROWS($B$485:TablaNivelCUATRO[[#This Row],[AuxCuatro]]))),\"\")","v":""},{"$f":"IF(OR('Beneificiarios Finales'!H1804=\"NIT\",'Beneificiarios Finales'!H1804=\"Fideicomiso/Fondo\",'Beneificiarios Finales'!H1804=\"PJ No Residente\"),'Beneificiarios Finales'!H1804,\"\")","v":""},{"$f":"IF(OR('Beneificiarios Finales'!HH1804=\"NIT\",'Beneificiarios Finales'!H1804=\"Fideicomiso/Fondo\",'Beneificiarios Finales'!H1804=\"PJ No Residente\"),'Beneificiarios Finales'!B1806,\"\")","v":""}]
[{"$f":"IF(OR('Beneificiarios Finales'!H1838=\"NIT\",'Beneificiarios Finales'!H1838=\"Fideicomiso/Fondo\",'Beneificiarios Finales'!H1838=\"PJ No Residente\"),'Beneificiarios Finales'!B1842,\"\")","v":""},{"$f":"IFERROR(INDEX(TablaNivelCUATRO[PJNivelCuatro],_xlfn.AGGREGATE(15,6,(ROW(TablaNivelCUATRO[PJNivelCuatro])-ROW(TablaNivelCUATRO[#Headers]))/(TablaNivelCUATRO[PJNivelCuatro]<>\"\"),ROWS($B$485:TablaNivelCUATRO[[#This Row],[AuxCuatro]]))),\"\")","v":""},{"$f":"IF(OR('Beneificiarios Finales'!H1838=\"NIT\",'Beneificiarios Finales'!H1838=\"Fideicomiso/Fondo\",'Beneificiarios Finales'!H1838=\"PJ No Residente\"),'Beneificiarios Finales'!H1838,\"\")","v":""},{"$f":"IF(OR('Beneificiarios Finales'!H1838=\"NIT\",'Beneificiarios Finales'!H1838=\"Fideicomiso/Fondo\",'Beneificiarios Finales'!H1838=\"PJ No Residente\"),'Beneificiarios Finales'!B1840,\"\")","v":""}]
[{"$f":"IF(OR('Beneificiarios Finales'!H1872=\"NIT\",'Beneificiarios Finales'!H1872=\"Fideicomiso/Fondo\",'Beneificiarios Finales'!H1872=\"PJ No Residente\"),'Beneificiarios Finales'!B1876,\"\")","v":""},{"$f":"IFERROR(INDEX(TablaNivelCUATRO[PJNivelCuatro],_xlfn.AGGREGATE(15,6,(ROW(TablaNivelCUATRO[PJNivelCuatro])-ROW(TablaNivelCUATRO[#Headers]))/(TablaNivelCUATRO[PJNivelCuatro]<>\"\"),ROWS($B$485:TablaNivelCUATRO[[#This Row],[AuxCuatro]]))),\"\")","v":""},{"$f":"IF(OR('Beneificiarios Finales'!H1872=\"NIT\",'Beneificiarios Finales'!H1872=\"Fideicomiso/Fondo\",'Beneificiarios Finales'!H1872=\"PJ No Residente\"),'Beneificiarios Finales'!H1872,\"\")","v":""},{"$f":"IF(OR('Beneificiarios Finales'!H1872=\"NIT\",'Beneificiarios Finales'!H1872=\"Fideicomiso/Fondo\",'Beneificiarios Finales'!H1872=\"PJ No Residente\"),'Beneificiarios Finales'!B1874,\"\")","v":""}]
[{"$f":"IF(OR('Beneificiarios Finales'!H1906=\"NIT\",'Beneificiarios Finales'!H1906=\"Fideicomiso/Fondo\",'Beneificiarios Finales'!H1906=\"PJ No Residente\"),'Beneificiarios Finales'!B1910,\"\")","v":""},{"$f":"IFERROR(INDEX(TablaNivelCUATRO[PJNivelCuatro],_xlfn.AGGREGATE(15,6,(ROW(TablaNivelCUATRO[PJNivelCuatro])-ROW(TablaNivelCUATRO[#Headers]))/(TablaNivelCUATRO[PJNivelCuatro]<>\"\"),ROWS($B$485:TablaNivelCUATRO[[#This Row],[AuxCuatro]]))),\"\")","v":""},{"$f":"IF(OR('Beneificiarios Finales'!H1906=\"NIT\",'Beneificiarios Finales'!H1906=\"Fideicomiso/Fondo\",'Beneificiarios Finales'!H1906=\"PJ No Residente\"),'Beneificiarios Finales'!H1906,\"\")","v":""},{"$f":"IF(OR('Beneificiarios Finales'!H1906=\"NIT\",'Beneificiarios Finales'!H1906=\"Fideicomiso/Fondo\",'Beneificiarios Finales'!H1906=\"PJ No Residente\"),'Beneificiarios Finales'!B1908,\"\")","v":""}]
[{"$f":"IF(OR('Beneificiarios Finales'!H1940=\"NIT\",'Beneificiarios Finales'!H1940=\"Fideicomiso/Fondo\",'Beneificiarios Finales'!H1940=\"PJ No Residente\"),'Beneificiarios Finales'!B1944,\"\")","v":""},{"$f":"IFERROR(INDEX(TablaNivelCUATRO[PJNivelCuatro],_xlfn.AGGREGATE(15,6,(ROW(TablaNivelCUATRO[PJNivelCuatro])-ROW(TablaNivelCUATRO[#Headers]))/(TablaNivelCUATRO[PJNivelCuatro]<>\"\"),ROWS($B$485:TablaNivelCUATRO[[#This Row],[AuxCuatro]]))),\"\")","v":""},{"$f":"IF(OR('Beneificiarios Finales'!H1940=\"NIT\",'Beneificiarios Finales'!H1940=\"Fideicomiso/Fondo\",'Beneificiarios Finales'!H1940=\"PJ No Residente\"),'Beneificiarios Finales'!H1940,\"\")","v":""},{"$f":"IF(OR('Beneificiarios Finales'!H1940=\"NIT\",'Beneificiarios Finales'!H1940=\"Fideicomiso/Fondo\",'Beneificiarios Finales'!H1940=\"PJ No Residente\"),'Beneificiarios Finales'!B1942,\"\")","v":""}]
[{"$f":"IF(OR('Beneificiarios Finales'!H1974=\"NIT\",'Beneificiarios Finales'!H1974=\"Fideicomiso/Fondo\",'Beneificiarios Finales'!H1974=\"PJ No Residente\"),'Beneificiarios Finales'!B1978,\"\")","v":""},{"$f":"IFERROR(INDEX(TablaNivelCUATRO[PJNivelCuatro],_xlfn.AGGREGATE(15,6,(ROW(TablaNivelCUATRO[PJNivelCuatro])-ROW(TablaNivelCUATRO[#Headers]))/(TablaNivelCUATRO[PJNivelCuatro]<>\"\"),ROWS($B$485:TablaNivelCUATRO[[#This Row],[AuxCuatro]]))),\"\")","v":""},{"$f":"IF(OR('Beneificiarios Finales'!H1974=\"NIT\",'Beneificiarios Finales'!H1974=\"Fideicomiso/Fondo\",'Beneificiarios Finales'!H1974=\"PJ No Residente\"),'Beneificiarios Finales'!H1974,\"\")","v":""},{"$f":"IF(OR('Beneificiarios Finales'!H1974=\"NIT\",'Beneificiarios Finales'!H1974=\"Fideicomiso/Fondo\",'Beneificiarios Finales'!H1974=\"PJ No Residente\"),'Beneificiarios Finales'!B1976,\"\")","v":""}]
[{"$f":"IF(OR('Beneificiarios Finales'!H2008=\"NIT\",'Beneificiarios Finales'!H2008=\"Fideicomiso/Fondo\",'Beneificiarios Finales'!H2008=\"PJ No Residente\"),'Beneificiarios Finales'!B2012,\"\")","v":""},{"$f":"IFERROR(INDEX(TablaNivelCUATRO[PJNivelCuatro],_xlfn.AGGREGATE(15,6,(ROW(TablaNivelCUATRO[PJNivelCuatro])-ROW(TablaNivelCUATRO[#Headers]))/(TablaNivelCUATRO[PJNivelCuatro]<>\"\"),ROWS($B$485:TablaNivelCUATRO[[#This Row],[AuxCuatro]]))),\"\")","v":""},{"$f":"IF(OR('Beneificiarios Finales'!H2008=\"NIT\",'Beneificiarios Finales'!H2008=\"Fideicomiso/Fondo\",'Beneificiarios Finales'!H2008=\"PJ No Residente\"),'Beneificiarios Finales'!H2008,\"\")","v":""},{"$f":"IF(OR('Beneificiarios Finales'!H2008=\"NIT\",'Beneificiarios Finales'!H2008=\"Fideicomiso/Fondo\",'Beneificiarios Finales'!H2008=\"PJ No Residente\"),'Beneificiarios Finales'!B2010,\"\")","v":""}]
[{"$f":"IF(OR('Beneificiarios Finales'!H2042=\"NIT\",'Beneificiarios Finales'!H2042=\"Fideicomiso/Fondo\",'Beneificiarios Finales'!H2042=\"PJ No Residente\"),'Beneificiarios Finales'!B2046,\"\")","v":""},{"$f":"IFERROR(INDEX(TablaNivelCUATRO[PJNivelCuatro],_xlfn.AGGREGATE(15,6,(ROW(TablaNivelCUATRO[PJNivelCuatro])-ROW(TablaNivelCUATRO[#Headers]))/(TablaNivelCUATRO[PJNivelCuatro]<>\"\"),ROWS($B$485:TablaNivelCUATRO[[#This Row],[AuxCuatro]]))),\"\")","v":""},{"$f":"IF(OR('Beneificiarios Finales'!H2042=\"NIT\",'Beneificiarios Finales'!H2042=\"Fideicomiso/Fondo\",'Beneificiarios Finales'!H2042=\"PJ No Residente\"),'Beneificiarios Finales'!H2042,\"\")","v":""},{"$f":"IF(OR('Beneificiarios Finales'!H2042=\"NIT\",'Beneificiarios Finales'!H2042=\"Fideicomiso/Fondo\",'Beneificiarios Finales'!H2042=\"PJ No Residente\"),'Beneificiarios Finales'!B2044,\"\")","v":""}]
[{"$f":"IF(OR('Beneificiarios Finales'!H2076=\"NIT\",'Beneificiarios Finales'!H2076=\"Fideicomiso/Fondo\",'Beneificiarios Finales'!H2076=\"PJ No Residente\"),'Beneificiarios Finales'!B2080,\"\")","v":""},{"$f":"IFERROR(INDEX(TablaNivelCUATRO[PJNivelCuatro],_xlfn.AGGREGATE(15,6,(ROW(TablaNivelCUATRO[PJNivelCuatro])-ROW(TablaNivelCUATRO[#Headers]))/(TablaNivelCUATRO[PJNivelCuatro]<>\"\"),ROWS($B$485:TablaNivelCUATRO[[#This Row],[AuxCuatro]]))),\"\")","v":""},{"$f":"IF(OR('Beneificiarios Finales'!H2076=\"NIT\",'Beneificiarios Finales'!H2076=\"Fideicomiso/Fondo\",'Beneificiarios Finales'!H2076=\"PJ No Residente\"),'Beneificiarios Finales'!H2076,\"\")","v":""},{"$f":"IF(OR('Beneificiarios Finales'!H2076=\"NIT\",'Beneificiarios Finales'!H2076=\"Fideicomiso/Fondo\",'Beneificiarios Finales'!H2076=\"PJ No Residente\"),'Beneificiarios Finales'!B2078,\"\")","v":""}]
[{"$f":"IF(OR('Beneificiarios Finales'!H2110=\"NIT\",'Beneificiarios Finales'!H2110=\"Fideicomiso/Fondo\",'Beneificiarios Finales'!H2110=\"PJ No Residente\"),'Beneificiarios Finales'!B2114,\"\")","v":""},{"$f":"IFERROR(INDEX(TablaNivelCUATRO[PJNivelCuatro],_xlfn.AGGREGATE(15,6,(ROW(TablaNivelCUATRO[PJNivelCuatro])-ROW(TablaNivelCUATRO[#Headers]))/(TablaNivelCUATRO[PJNivelCuatro]<>\"\"),ROWS($B$485:TablaNivelCUATRO[[#This Row],[AuxCuatro]]))),\"\")","v":""},{"$f":"IF(OR('Beneificiarios Finales'!H2110=\"NIT\",'Beneificiarios Finales'!H2110=\"Fideicomiso/Fondo\",'Beneificiarios Finales'!H2110=\"PJ No Residente\"),'Beneificiarios Finales'!H2110,\"\")","v":""},{"$f":"IF(OR('Beneificiarios Finales'!H2110=\"NIT\",'Beneificiarios Finales'!H2110=\"Fideicomiso/Fondo\",'Beneificiarios Finales'!H2110=\"PJ No Residente\"),'Beneificiarios Finales'!B2112,\"\")","v":""}]
[{"$f":"IF(OR('Beneificiarios Finales'!H2144=\"NIT\",'Beneificiarios Finales'!H2144=\"Fideicomiso/Fondo\",'Beneificiarios Finales'!H2144=\"PJ No Residente\"),'Beneificiarios Finales'!B2148,\"\")","v":""},{"$f":"IFERROR(INDEX(TablaNivelCUATRO[PJNivelCuatro],_xlfn.AGGREGATE(15,6,(ROW(TablaNivelCUATRO[PJNivelCuatro])-ROW(TablaNivelCUATRO[#Headers]))/(TablaNivelCUATRO[PJNivelCuatro]<>\"\"),ROWS($B$485:TablaNivelCUATRO[[#This Row],[AuxCuatro]]))),\"\")","v":""},{"$f":"IF(OR('Beneificiarios Finales'!H2144=\"NIT\",'Beneificiarios Finales'!H2144=\"Fideicomiso/Fondo\",'Beneificiarios Finales'!H2144=\"PJ No Residente\"),'Beneificiarios Finales'!H2144,\"\")","v":""},{"$f":"IF(OR('Beneificiarios Finales'!H2144=\"NIT\",'Beneificiarios Finales'!H2144=\"Fideicomiso/Fondo\",'Beneificiarios Finales'!H2144=\"PJ No Residente\"),'Beneificiarios Finales'!B2146,\"\")","v":""}]
[{"$f":"IF(OR('Beneificiarios Finales'!H2178=\"NIT\",'Beneificiarios Finales'!H2178=\"Fideicomiso/Fondo\",'Beneificiarios Finales'!H2178=\"PJ No Residente\"),'Beneificiarios Finales'!B2182,\"\")","v":""},{"$f":"IFERROR(INDEX(TablaNivelCUATRO[PJNivelCuatro],_xlfn.AGGREGATE(15,6,(ROW(TablaNivelCUATRO[PJNivelCuatro])-ROW(TablaNivelCUATRO[#Headers]))/(TablaNivelCUATRO[PJNivelCuatro]<>\"\"),ROWS($B$485:TablaNivelCUATRO[[#This Row],[AuxCuatro]]))),\"\")","v":""},{"$f":"IF(OR('Beneificiarios Finales'!H2178=\"NIT\",'Beneificiarios Finales'!H2178=\"Fideicomiso/Fondo\",'Beneificiarios Finales'!H2178=\"PJ No Residente\"),'Beneificiarios Finales'!H2178,\"\")","v":""},{"$f":"IF(OR('Beneificiarios Finales'!H2178=\"NIT\",'Beneificiarios Finales'!H2178=\"Fideicomiso/Fondo\",'Beneificiarios Finales'!H2178=\"PJ No Residente\"),'Beneificiarios Finales'!B2180,\"\")","v":""}]
[{"$f":"IF(OR('Beneificiarios Finales'!H2212=\"NIT\",'Beneificiarios Finales'!H2212=\"Fideicomiso/Fondo\",'Beneificiarios Finales'!H2212=\"PJ No Residente\"),'Beneificiarios Finales'!B2216,\"\")","v":""},{"$f":"IFERROR(INDEX(TablaNivelCUATRO[PJNivelCuatro],_xlfn.AGGREGATE(15,6,(ROW(TablaNivelCUATRO[PJNivelCuatro])-ROW(TablaNivelCUATRO[#Headers]))/(TablaNivelCUATRO[PJNivelCuatro]<>\"\"),ROWS($B$485:TablaNivelCUATRO[[#This Row],[AuxCuatro]]))),\"\")","v":""},{"$f":"IF(OR('Beneificiarios Finales'!H2212=\"NIT\",'Beneificiarios Finales'!H2212=\"Fideicomiso/Fondo\",'Beneificiarios Finales'!H2212=\"PJ No Residente\"),'Beneificiarios Finales'!H2212,\"\")","v":""},{"$f":"IF(OR('Beneificiarios Finales'!H2212=\"NIT\",'Beneificiarios Finales'!H2212=\"Fideicomiso/Fondo\",'Beneificiarios Finales'!H2212=\"PJ No Residente\"),'Beneificiarios Finales'!B2214,\"\")","v":""}]
[{"$f":"IF(OR('Beneificiarios Finales'!H2246=\"NIT\",'Beneificiarios Finales'!H2246=\"Fideicomiso/Fondo\",'Beneificiarios Finales'!H2246=\"PJ No Residente\"),'Beneificiarios Finales'!B2250,\"\")","v":""},{"$f":"IFERROR(INDEX(TablaNivelCUATRO[PJNivelCuatro],_xlfn.AGGREGATE(15,6,(ROW(TablaNivelCUATRO[PJNivelCuatro])-ROW(TablaNivelCUATRO[#Headers]))/(TablaNivelCUATRO[PJNivelCuatro]<>\"\"),ROWS($B$485:TablaNivelCUATRO[[#This Row],[AuxCuatro]]))),\"\")","v":""},{"$f":"IF(OR('Beneificiarios Finales'!H2246=\"NIT\",'Beneificiarios Finales'!H2246=\"Fideicomiso/Fondo\",'Beneificiarios Finales'!H2246=\"PJ No Residente\"),'Beneificiarios Finales'!H2246,\"\")","v":""},{"$f":"IF(OR('Beneificiarios Finales'!H2246=\"NIT\",'Beneificiarios Finales'!H2246=\"Fideicomiso/Fondo\",'Beneificiarios Finales'!H2246=\"PJ No Residente\"),'Beneificiarios Finales'!B2248,\"\")","v":""}]
[{"$f":"IF(OR('Beneificiarios Finales'!H2280=\"NIT\",'Beneificiarios Finales'!H2280=\"Fideicomiso/Fondo\",'Beneificiarios Finales'!H2280=\"PJ No Residente\"),'Beneificiarios Finales'!B2284,\"\")","v":""},{"$f":"IFERROR(INDEX(TablaNivelCUATRO[PJNivelCuatro],_xlfn.AGGREGATE(15,6,(ROW(TablaNivelCUATRO[PJNivelCuatro])-ROW(TablaNivelCUATRO[#Headers]))/(TablaNivelCUATRO[PJNivelCuatro]<>\"\"),ROWS($B$485:TablaNivelCUATRO[[#This Row],[AuxCuatro]]))),\"\")","v":""},{"$f":"IF(OR('Beneificiarios Finales'!H2280=\"NIT\",'Beneificiarios Finales'!H2280=\"Fideicomiso/Fondo\",'Beneificiarios Finales'!H2280=\"PJ No Residente\"),'Beneificiarios Finales'!H2280,\"\")","v":""},{"$f":"IF(OR('Beneificiarios Finales'!H2280=\"NIT\",'Beneificiarios Finales'!H2280=\"Fideicomiso/Fondo\",'Beneificiarios Finales'!H2280=\"PJ No Residente\"),'Beneificiarios Finales'!B2282,\"\")","v":""}]
[{"$f":"IF(OR('Beneificiarios Finales'!H2314=\"NIT\",'Beneificiarios Finales'!H2314=\"Fideicomiso/Fondo\",'Beneificiarios Finales'!H2314=\"PJ No Residente\"),'Beneificiarios Finales'!B2318,\"\")","v":""},{"$f":"IFERROR(INDEX(TablaNivelCUATRO[PJNivelCuatro],_xlfn.AGGREGATE(15,6,(ROW(TablaNivelCUATRO[PJNivelCuatro])-ROW(TablaNivelCUATRO[#Headers]))/(TablaNivelCUATRO[PJNivelCuatro]<>\"\"),ROWS($B$485:TablaNivelCUATRO[[#This Row],[AuxCuatro]]))),\"\")","v":""},{"$f":"IF(OR('Beneificiarios Finales'!H2314=\"NIT\",'Beneificiarios Finales'!H2314=\"Fideicomiso/Fondo\",'Beneificiarios Finales'!H2314=\"PJ No Residente\"),'Beneificiarios Finales'!H2314,\"\")","v":""},{"$f":"IF(OR('Beneificiarios Finales'!H2314=\"NIT\",'Beneificiarios Finales'!H2314=\"Fideicomiso/Fondo\",'Beneificiarios Finales'!H2314=\"PJ No Residente\"),'Beneificiarios Finales'!B2316,\"\")","v":""}]
[{"$f":"IF(OR('Beneificiarios Finales'!H2348=\"NIT\",'Beneificiarios Finales'!H2348=\"Fideicomiso/Fondo\",'Beneificiarios Finales'!H2348=\"PJ No Residente\"),'Beneificiarios Finales'!B2352,\"\")","v":""},{"$f":"IFERROR(INDEX(TablaNivelCUATRO[PJNivelCuatro],_xlfn.AGGREGATE(15,6,(ROW(TablaNivelCUATRO[PJNivelCuatro])-ROW(TablaNivelCUATRO[#Headers]))/(TablaNivelCUATRO[PJNivelCuatro]<>\"\"),ROWS($B$485:TablaNivelCUATRO[[#This Row],[AuxCuatro]]))),\"\")","v":""},{"$f":"IF(OR('Beneificiarios Finales'!H2348=\"NIT\",'Beneificiarios Finales'!H2348=\"Fideicomiso/Fondo\",'Beneificiarios Finales'!H2348=\"PJ No Residente\"),'Beneificiarios Finales'!H2348,\"\")","v":""},{"$f":"IF(OR('Beneificiarios Finales'!H2348=\"NIT\",'Beneificiarios Finales'!H2348=\"Fideicomiso/Fondo\",'Beneificiarios Finales'!H2348=\"PJ No Residente\"),'Beneificiarios Finales'!B2350,\"\")","v":""}]
[{"$f":"IF(OR('Beneificiarios Finales'!H2382=\"NIT\",'Beneificiarios Finales'!H2382=\"Fideicomiso/Fondo\",'Beneificiarios Finales'!H2382=\"PJ No Residente\"),'Beneificiarios Finales'!B2386,\"\")","v":""},{"$f":"IFERROR(INDEX(TablaNivelCUATRO[PJNivelCuatro],_xlfn.AGGREGATE(15,6,(ROW(TablaNivelCUATRO[PJNivelCuatro])-ROW(TablaNivelCUATRO[#Headers]))/(TablaNivelCUATRO[PJNivelCuatro]<>\"\"),ROWS($B$485:TablaNivelCUATRO[[#This Row],[AuxCuatro]]))),\"\")","v":""},{"$f":"IF(OR('Beneificiarios Finales'!H2382=\"NIT\",'Beneificiarios Finales'!H2382=\"Fideicomiso/Fondo\",'Beneificiarios Finales'!H2382=\"PJ No Residente\"),'Beneificiarios Finales'!H2382,\"\")","v":""},{"$f":"IF(OR('Beneificiarios Finales'!H2382=\"NIT\",'Beneificiarios Finales'!H2382=\"Fideicomiso/Fondo\",'Beneificiarios Finales'!H2382=\"PJ No Residente\"),'Beneificiarios Finales'!B2384,\"\")","v":""}]
[{"$f":"IF(OR('Beneificiarios Finales'!H2416=\"NIT\",'Beneificiarios Finales'!H2416=\"Fideicomiso/Fondo\",'Beneificiarios Finales'!H2416=\"PJ No Residente\"),'Beneificiarios Finales'!B2420,\"\")","v":""},{"$f":"IFERROR(INDEX(TablaNivelCUATRO[PJNivelCuatro],_xlfn.AGGREGATE(15,6,(ROW(TablaNivelCUATRO[PJNivelCuatro])-ROW(TablaNivelCUATRO[#Headers]))/(TablaNivelCUATRO[PJNivelCuatro]<>\"\"),ROWS($B$485:TablaNivelCUATRO[[#This Row],[AuxCuatro]]))),\"\")","v":""},{"$f":"IF(OR('Beneificiarios Finales'!H2416=\"NIT\",'Beneificiarios Finales'!H2416=\"Fideicomiso/Fondo\",'Beneificiarios Finales'!H2416=\"PJ No Residente\"),'Beneificiarios Finales'!H2416,\"\")","v":""},{"$f":"IF(OR('Beneificiarios Finales'!H2416=\"NIT\",'Beneificiarios Finales'!H2416=\"Fideicomiso/Fondo\",'Beneificiarios Finales'!H2416=\"PJ No Residente\"),'Beneificiarios Finales'!B2418,\"\")","v":""}]
[{"$f":"IF(OR('Beneificiarios Finales'!H2450=\"NIT\",'Beneificiarios Finales'!H2450=\"Fideicomiso/Fondo\",'Beneificiarios Finales'!H2450=\"PJ No Residente\"),'Beneificiarios Finales'!B2454,\"\")","v":""},{"$f":"IFERROR(INDEX(TablaNivelCUATRO[PJNivelCuatro],_xlfn.AGGREGATE(15,6,(ROW(TablaNivelCUATRO[PJNivelCuatro])-ROW(TablaNivelCUATRO[#Headers]))/(TablaNivelCUATRO[PJNivelCuatro]<>\"\"),ROWS($B$485:TablaNivelCUATRO[[#This Row],[AuxCuatro]]))),\"\")","v":""},{"$f":"IF(OR('Beneificiarios Finales'!H2450=\"NIT\",'Beneificiarios Finales'!H2450=\"Fideicomiso/Fondo\",'Beneificiarios Finales'!H2450=\"PJ No Residente\"),'Beneificiarios Finales'!H2450,\"\")","v":""},{"$f":"IF(OR('Beneificiarios Finales'!H2450=\"NIT\",'Beneificiarios Finales'!H2450=\"Fideicomiso/Fondo\",'Beneificiarios Finales'!H2450=\"PJ No Residente\"),'Beneificiarios Finales'!B2452,\"\")","v":""}]
[{"$f":"IF(OR('Beneificiarios Finales'!H2484=\"NIT\",'Beneificiarios Finales'!H2484=\"Fideicomiso/Fondo\",'Beneificiarios Finales'!H2484=\"PJ No Residente\"),'Beneificiarios Finales'!B2488,\"\")","v":""},{"$f":"IFERROR(INDEX(TablaNivelCUATRO[PJNivelCuatro],_xlfn.AGGREGATE(15,6,(ROW(TablaNivelCUATRO[PJNivelCuatro])-ROW(TablaNivelCUATRO[#Headers]))/(TablaNivelCUATRO[PJNivelCuatro]<>\"\"),ROWS($B$485:TablaNivelCUATRO[[#This Row],[AuxCuatro]]))),\"\")","v":""},{"$f":"IF(OR('Beneificiarios Finales'!H2484=\"NIT\",'Beneificiarios Finales'!H2484=\"Fideicomiso/Fondo\",'Beneificiarios Finales'!H2484=\"PJ No Residente\"),'Beneificiarios Finales'!H2484,\"\")","v":""},{"$f":"IF(OR('Beneificiarios Finales'!H2484=\"NIT\",'Beneificiarios Finales'!H2484=\"Fideicomiso/Fondo\",'Beneificiarios Finales'!H2484=\"PJ No Residente\"),'Beneificiarios Finales'!B2486,\"\")","v":""}]
[{"$f":"IF(OR('Beneificiarios Finales'!H2518=\"NIT\",'Beneificiarios Finales'!H2518=\"Fideicomiso/Fondo\",'Beneificiarios Finales'!H2518=\"PJ No Residente\"),'Beneificiarios Finales'!B2522,\"\")","v":""},{"$f":"IFERROR(INDEX(TablaNivelCUATRO[PJNivelCuatro],_xlfn.AGGREGATE(15,6,(ROW(TablaNivelCUATRO[PJNivelCuatro])-ROW(TablaNivelCUATRO[#Headers]))/(TablaNivelCUATRO[PJNivelCuatro]<>\"\"),ROWS($B$485:TablaNivelCUATRO[[#This Row],[AuxCuatro]]))),\"\")","v":""},{"$f":"IF(OR('Beneificiarios Finales'!H2518=\"NIT\",'Beneificiarios Finales'!H2518=\"Fideicomiso/Fondo\",'Beneificiarios Finales'!H2518=\"PJ No Residente\"),'Beneificiarios Finales'!H2518,\"\")","v":""},{"$f":"IF(OR('Beneificiarios Finales'!H2518=\"NIT\",'Beneificiarios Finales'!H2518=\"Fideicomiso/Fondo\",'Beneificiarios Finales'!H2518=\"PJ No Residente\"),'Beneificiarios Finales'!B2520,\"\")","v":""}]
[{"$f":"IF(OR('Beneificiarios Finales'!H2552=\"NIT\",'Beneificiarios Finales'!H2552=\"Fideicomiso/Fondo\",'Beneificiarios Finales'!H2552=\"PJ No Residente\"),'Beneificiarios Finales'!B2556,\"\")","v":""},{"$f":"IFERROR(INDEX(TablaNivelCUATRO[PJNivelCuatro],_xlfn.AGGREGATE(15,6,(ROW(TablaNivelCUATRO[PJNivelCuatro])-ROW(TablaNivelCUATRO[#Headers]))/(TablaNivelCUATRO[PJNivelCuatro]<>\"\"),ROWS($B$485:TablaNivelCUATRO[[#This Row],[AuxCuatro]]))),\"\")","v":""},{"$f":"IF(OR('Beneificiarios Finales'!H2552=\"NIT\",'Beneificiarios Finales'!H2552=\"Fideicomiso/Fondo\",'Beneificiarios Finales'!H2552=\"PJ No Residente\"),'Beneificiarios Finales'!H2552,\"\")","v":""},{"$f":"IF(OR('Beneificiarios Finales'!H2552=\"NIT\",'Beneificiarios Finales'!H2552=\"Fideicomiso/Fondo\",'Beneificiarios Finales'!H2552=\"PJ No Residente\"),'Beneificiarios Finales'!B2554,\"\")","v":""}]
[{"$f":"IF(OR('Beneificiarios Finales'!H2586=\"NIT\",'Beneificiarios Finales'!H2586=\"Fideicomiso/Fondo\",'Beneificiarios Finales'!H2586=\"PJ No Residente\"),'Beneificiarios Finales'!B2590,\"\")","v":""},{"$f":"IFERROR(INDEX(TablaNivelCUATRO[PJNivelCuatro],_xlfn.AGGREGATE(15,6,(ROW(TablaNivelCUATRO[PJNivelCuatro])-ROW(TablaNivelCUATRO[#Headers]))/(TablaNivelCUATRO[PJNivelCuatro]<>\"\"),ROWS($B$485:TablaNivelCUATRO[[#This Row],[AuxCuatro]]))),\"\")","v":""},{"$f":"IF(OR('Beneificiarios Finales'!H2586=\"NIT\",'Beneificiarios Finales'!H2586=\"Fideicomiso/Fondo\",'Beneificiarios Finales'!H2586=\"PJ No Residente\"),'Beneificiarios Finales'!H2586,\"\")","v":""},{"$f":"IF(OR('Beneificiarios Finales'!H2586=\"NIT\",'Beneificiarios Finales'!H2586=\"Fideicomiso/Fondo\",'Beneificiarios Finales'!H2586=\"PJ No Residente\"),'Beneificiarios Finales'!B2588,\"\")","v":""}]
[{"$f":"IF(OR('Beneificiarios Finales'!H2620=\"NIT\",'Beneificiarios Finales'!H2620=\"Fideicomiso/Fondo\",'Beneificiarios Finales'!H2620=\"PJ No Residente\"),'Beneificiarios Finales'!B2624,\"\")","v":""},{"$f":"IFERROR(INDEX(TablaNivelCUATRO[PJNivelCuatro],_xlfn.AGGREGATE(15,6,(ROW(TablaNivelCUATRO[PJNivelCuatro])-ROW(TablaNivelCUATRO[#Headers]))/(TablaNivelCUATRO[PJNivelCuatro]<>\"\"),ROWS($B$485:TablaNivelCUATRO[[#This Row],[AuxCuatro]]))),\"\")","v":""},{"$f":"IF(OR('Beneificiarios Finales'!H2620=\"NIT\",'Beneificiarios Finales'!H2620=\"Fideicomiso/Fondo\",'Beneificiarios Finales'!H2620=\"PJ No Residente\"),'Beneificiarios Finales'!H2620,\"\")","v":""},{"$f":"IF(OR('Beneificiarios Finales'!H2620=\"NIT\",'Beneificiarios Finales'!H2620=\"Fideicomiso/Fondo\",'Beneificiarios Finales'!H2620=\"PJ No Residente\"),'Beneificiarios Finales'!B2622,\"\")","v":""}]
[{"$f":"IF(OR('Beneificiarios Finales'!H2654=\"NIT\",'Beneificiarios Finales'!H2654=\"Fideicomiso/Fondo\",'Beneificiarios Finales'!H2654=\"PJ No Residente\"),'Beneificiarios Finales'!B2658,\"\")","v":""},{"$f":"IFERROR(INDEX(TablaNivelCUATRO[PJNivelCuatro],_xlfn.AGGREGATE(15,6,(ROW(TablaNivelCUATRO[PJNivelCuatro])-ROW(TablaNivelCUATRO[#Headers]))/(TablaNivelCUATRO[PJNivelCuatro]<>\"\"),ROWS($B$485:TablaNivelCUATRO[[#This Row],[AuxCuatro]]))),\"\")","v":""},{"$f":"IF(OR('Beneificiarios Finales'!H2654=\"NIT\",'Beneificiarios Finales'!H2654=\"Fideicomiso/Fondo\",'Beneificiarios Finales'!H2654=\"PJ No Residente\"),'Beneificiarios Finales'!H2654,\"\")","v":""},{"$f":"IF(OR('Beneificiarios Finales'!H2654=\"NIT\",'Beneificiarios Finales'!H2654=\"Fideicomiso/Fondo\",'Beneificiarios Finales'!H2654=\"PJ No Residente\"),'Beneificiarios Finales'!B2656,\"\")","v":""}]
[{"$f":"IF(OR('Beneificiarios Finales'!H2688=\"NIT\",'Beneificiarios Finales'!H2688=\"Fideicomiso/Fondo\",'Beneificiarios Finales'!H2688=\"PJ No Residente\"),'Beneificiarios Finales'!B2692,\"\")","v":""},{"$f":"IFERROR(INDEX(TablaNivelCUATRO[PJNivelCuatro],_xlfn.AGGREGATE(15,6,(ROW(TablaNivelCUATRO[PJNivelCuatro])-ROW(TablaNivelCUATRO[#Headers]))/(TablaNivelCUATRO[PJNivelCuatro]<>\"\"),ROWS($B$485:TablaNivelCUATRO[[#This Row],[AuxCuatro]]))),\"\")","v":""},{"$f":"IF(OR('Beneificiarios Finales'!H2688=\"NIT\",'Beneificiarios Finales'!H2688=\"Fideicomiso/Fondo\",'Beneificiarios Finales'!H2688=\"PJ No Residente\"),'Beneificiarios Finales'!H2688,\"\")","v":""},{"$f":"IF(OR('Beneificiarios Finales'!H2688=\"NIT\",'Beneificiarios Finales'!H2688=\"Fideicomiso/Fondo\",'Beneificiarios Finales'!H2688=\"PJ No Residente\"),'Beneificiarios Finales'!B2690,\"\")","v":""}]
[{"$f":"IF(OR('Beneificiarios Finales'!H2722=\"NIT\",'Beneificiarios Finales'!H2722=\"Fideicomiso/Fondo\",'Beneificiarios Finales'!H2722=\"PJ No Residente\"),'Beneificiarios Finales'!B2726,\"\")","v":""},{"$f":"IFERROR(INDEX(TablaNivelCUATRO[PJNivelCuatro],_xlfn.AGGREGATE(15,6,(ROW(TablaNivelCUATRO[PJNivelCuatro])-ROW(TablaNivelCUATRO[#Headers]))/(TablaNivelCUATRO[PJNivelCuatro]<>\"\"),ROWS($B$485:TablaNivelCUATRO[[#This Row],[AuxCuatro]]))),\"\")","v":""},{"$f":"IF(OR('Beneificiarios Finales'!H2722=\"NIT\",'Beneificiarios Finales'!H2722=\"Fideicomiso/Fondo\",'Beneificiarios Finales'!H2722=\"PJ No Residente\"),'Beneificiarios Finales'!H2722,\"\")","v":""},{"$f":"IF(OR('Beneificiarios Finales'!H2722=\"NIT\",'Beneificiarios Finales'!H2722=\"Fideicomiso/Fondo\",'Beneificiarios Finales'!H2722=\"PJ No Residente\"),'Beneificiarios Finales'!B2724,\"\")","v":""}]
[{"$f":"IF(OR('Beneificiarios Finales'!H2756=\"NIT\",'Beneificiarios Finales'!H2756=\"Fideicomiso/Fondo\",'Beneificiarios Finales'!H2756=\"PJ No Residente\"),'Beneificiarios Finales'!B2760,\"\")","v":""},{"$f":"IFERROR(INDEX(TablaNivelCUATRO[PJNivelCuatro],_xlfn.AGGREGATE(15,6,(ROW(TablaNivelCUATRO[PJNivelCuatro])-ROW(TablaNivelCUATRO[#Headers]))/(TablaNivelCUATRO[PJNivelCuatro]<>\"\"),ROWS($B$485:TablaNivelCUATRO[[#This Row],[AuxCuatro]]))),\"\")","v":""},{"$f":"IF(OR('Beneificiarios Finales'!H2756=\"NIT\",'Beneificiarios Finales'!H2756=\"Fideicomiso/Fondo\",'Beneificiarios Finales'!H2756=\"PJ No Residente\"),'Beneificiarios Finales'!H2756,\"\")","v":""},{"$f":"IF(OR('Beneificiarios Finales'!H2756=\"NIT\",'Beneificiarios Finales'!H2756=\"Fideicomiso/Fondo\",'Beneificiarios Finales'!H2756=\"PJ No Residente\"),'Beneificiarios Finales'!B2758,\"\")","v":""}]
[{"$f":"IF(OR('Beneificiarios Finales'!H2790=\"NIT\",'Beneificiarios Finales'!H2790=\"Fideicomiso/Fondo\",'Beneificiarios Finales'!H2790=\"PJ No Residente\"),'Beneificiarios Finales'!B2794,\"\")","v":""},{"$f":"IFERROR(INDEX(TablaNivelCUATRO[PJNivelCuatro],_xlfn.AGGREGATE(15,6,(ROW(TablaNivelCUATRO[PJNivelCuatro])-ROW(TablaNivelCUATRO[#Headers]))/(TablaNivelCUATRO[PJNivelCuatro]<>\"\"),ROWS($B$485:TablaNivelCUATRO[[#This Row],[AuxCuatro]]))),\"\")","v":""},{"$f":"IF(OR('Beneificiarios Finales'!H2790=\"NIT\",'Beneificiarios Finales'!H2790=\"Fideicomiso/Fondo\",'Beneificiarios Finales'!H2790=\"PJ No Residente\"),'Beneificiarios Finales'!H2790,\"\")","v":""},{"$f":"IF(OR('Beneificiarios Finales'!H2790=\"NIT\",'Beneificiarios Finales'!H2790=\"Fideicomiso/Fondo\",'Beneificiarios Finales'!H2790=\"PJ No Residente\"),'Beneificiarios Finales'!B2792,\"\")","v":""}]
[{"$f":"IF(OR('Beneificiarios Finales'!H2824=\"NIT\",'Beneificiarios Finales'!H2824=\"Fideicomiso/Fondo\",'Beneificiarios Finales'!H2824=\"PJ No Residente\"),'Beneificiarios Finales'!B2828,\"\")","v":""},{"$f":"IFERROR(INDEX(TablaNivelCUATRO[PJNivelCuatro],_xlfn.AGGREGATE(15,6,(ROW(TablaNivelCUATRO[PJNivelCuatro])-ROW(TablaNivelCUATRO[#Headers]))/(TablaNivelCUATRO[PJNivelCuatro]<>\"\"),ROWS($B$485:TablaNivelCUATRO[[#This Row],[AuxCuatro]]))),\"\")","v":""},{"$f":"IF(OR('Beneificiarios Finales'!H2824=\"NIT\",'Beneificiarios Finales'!H2824=\"Fideicomiso/Fondo\",'Beneificiarios Finales'!H2824=\"PJ No Residente\"),'Beneificiarios Finales'!H2824,\"\")","v":""},{"$f":"IF(OR('Beneificiarios Finales'!H2824=\"NIT\",'Beneificiarios Finales'!H2824=\"Fideicomiso/Fondo\",'Beneificiarios Finales'!H2824=\"PJ No Residente\"),'Beneificiarios Finales'!B2826,\"\")","v":""}]
[{"$f":"IF(OR('Beneificiarios Finales'!H2858=\"NIT\",'Beneificiarios Finales'!H2858=\"Fideicomiso/Fondo\",'Beneificiarios Finales'!H2858=\"PJ No Residente\"),'Beneificiarios Finales'!B2862,\"\")","v":""},{"$f":"IFERROR(INDEX(TablaNivelCUATRO[PJNivelCuatro],_xlfn.AGGREGATE(15,6,(ROW(TablaNivelCUATRO[PJNivelCuatro])-ROW(TablaNivelCUATRO[#Headers]))/(TablaNivelCUATRO[PJNivelCuatro]<>\"\"),ROWS($B$485:TablaNivelCUATRO[[#This Row],[AuxCuatro]]))),\"\")","v":""},{"$f":"IF(OR('Beneificiarios Finales'!H2858=\"NIT\",'Beneificiarios Finales'!H2858=\"Fideicomiso/Fondo\",'Beneificiarios Finales'!H2858=\"PJ No Residente\"),'Beneificiarios Finales'!H2858,\"\")","v":""},{"$f":"IF(OR('Beneificiarios Finales'!H2858=\"NIT\",'Beneificiarios Finales'!H2858=\"Fideicomiso/Fondo\",'Beneificiarios Finales'!H2858=\"PJ No Residente\"),'Beneificiarios Finales'!B2860,\"\")","v":""}]
[{"$f":"IF(OR('Beneificiarios Finales'!H2892=\"NIT\",'Beneificiarios Finales'!H2892=\"Fideicomiso/Fondo\",'Beneificiarios Finales'!H2892=\"PJ No Residente\"),'Beneificiarios Finales'!B2896,\"\")","v":""},{"$f":"IFERROR(INDEX(TablaNivelCUATRO[PJNivelCuatro],_xlfn.AGGREGATE(15,6,(ROW(TablaNivelCUATRO[PJNivelCuatro])-ROW(TablaNivelCUATRO[#Headers]))/(TablaNivelCUATRO[PJNivelCuatro]<>\"\"),ROWS($B$485:TablaNivelCUATRO[[#This Row],[AuxCuatro]]))),\"\")","v":""},{"$f":"IF(OR('Beneificiarios Finales'!H2892=\"NIT\",'Beneificiarios Finales'!H2892=\"Fideicomiso/Fondo\",'Beneificiarios Finales'!H2892=\"PJ No Residente\"),'Beneificiarios Finales'!H2892,\"\")","v":""},{"$f":"IF(OR('Beneificiarios Finales'!H2892=\"NIT\",'Beneificiarios Finales'!H2892=\"Fideicomiso/Fondo\",'Beneificiarios Finales'!H2892=\"PJ No Residente\"),'Beneificiarios Finales'!B2894,\"\")","v":""}]
[{"$f":"IF(OR('Beneificiarios Finales'!H2926=\"NIT\",'Beneificiarios Finales'!H2926=\"Fideicomiso/Fondo\",'Beneificiarios Finales'!H2926=\"PJ No Residente\"),'Beneificiarios Finales'!B2930,\"\")","v":""},{"$f":"IFERROR(INDEX(TablaNivelCUATRO[PJNivelCuatro],_xlfn.AGGREGATE(15,6,(ROW(TablaNivelCUATRO[PJNivelCuatro])-ROW(TablaNivelCUATRO[#Headers]))/(TablaNivelCUATRO[PJNivelCuatro]<>\"\"),ROWS($B$485:TablaNivelCUATRO[[#This Row],[AuxCuatro]]))),\"\")","v":""},{"$f":"IF(OR('Beneificiarios Finales'!H2926=\"NIT\",'Beneificiarios Finales'!H2926=\"Fideicomiso/Fondo\",'Beneificiarios Finales'!H2926=\"PJ No Residente\"),'Beneificiarios Finales'!H2926,\"\")","v":""},{"$f":"IF(OR('Beneificiarios Finales'!H2926=\"NIT\",'Beneificiarios Finales'!H2926=\"Fideicomiso/Fondo\",'Beneificiarios Finales'!H2926=\"PJ No Residente\"),'Beneificiarios Finales'!B2928,\"\")","v":""}]
[{"$f":"IF(OR('Beneificiarios Finales'!H2960=\"NIT\",'Beneificiarios Finales'!H2960=\"Fideicomiso/Fondo\",'Beneificiarios Finales'!H2960=\"PJ No Residente\"),'Beneificiarios Finales'!B2964,\"\")","v":""},{"$f":"IFERROR(INDEX(TablaNivelCUATRO[PJNivelCuatro],_xlfn.AGGREGATE(15,6,(ROW(TablaNivelCUATRO[PJNivelCuatro])-ROW(TablaNivelCUATRO[#Headers]))/(TablaNivelCUATRO[PJNivelCuatro]<>\"\"),ROWS($B$485:TablaNivelCUATRO[[#This Row],[AuxCuatro]]))),\"\")","v":""},{"$f":"IF(OR('Beneificiarios Finales'!H2960=\"NIT\",'Beneificiarios Finales'!H2960=\"Fideicomiso/Fondo\",'Beneificiarios Finales'!H2960=\"PJ No Residente\"),'Beneificiarios Finales'!H2960,\"\")","v":""},{"$f":"IF(OR('Beneificiarios Finales'!H2960=\"NIT\",'Beneificiarios Finales'!H2960=\"Fideicomiso/Fondo\",'Beneificiarios Finales'!H2960=\"PJ No Residente\"),'Beneificiarios Finales'!B2962,\"\")","v":""}]
[{"$f":"IF(OR('Beneificiarios Finales'!H2994=\"NIT\",'Beneificiarios Finales'!H2994=\"Fideicomiso/Fondo\",'Beneificiarios Finales'!H2994=\"PJ No Residente\"),'Beneificiarios Finales'!B2998,\"\")","v":""},{"$f":"IFERROR(INDEX(TablaNivelCUATRO[PJNivelCuatro],_xlfn.AGGREGATE(15,6,(ROW(TablaNivelCUATRO[PJNivelCuatro])-ROW(TablaNivelCUATRO[#Headers]))/(TablaNivelCUATRO[PJNivelCuatro]<>\"\"),ROWS($B$485:TablaNivelCUATRO[[#This Row],[AuxCuatro]]))),\"\")","v":""},{"$f":"IF(OR('Beneificiarios Finales'!H2994=\"NIT\",'Beneificiarios Finales'!H2994=\"Fideicomiso/Fondo\",'Beneificiarios Finales'!H2994=\"PJ No Residente\"),'Beneificiarios Finales'!H2994,\"\")","v":""},{"$f":"IF(OR('Beneificiarios Finales'!H2994=\"NIT\",'Beneificiarios Finales'!H2994=\"Fideicomiso/Fondo\",'Beneificiarios Finales'!H2994=\"PJ No Residente\"),'Beneificiarios Finales'!B2996,\"\")","v":""}]
[{"$f":"IF(OR('Beneificiarios Finales'!H3028=\"NIT\",'Beneificiarios Finales'!H3028=\"Fideicomiso/Fondo\",'Beneificiarios Finales'!H3028=\"PJ No Residente\"),'Beneificiarios Finales'!B3032,\"\")","v":""},{"$f":"IFERROR(INDEX(TablaNivelCUATRO[PJNivelCuatro],_xlfn.AGGREGATE(15,6,(ROW(TablaNivelCUATRO[PJNivelCuatro])-ROW(TablaNivelCUATRO[#Headers]))/(TablaNivelCUATRO[PJNivelCuatro]<>\"\"),ROWS($B$485:TablaNivelCUATRO[[#This Row],[AuxCuatro]]))),\"\")","v":""},{"$f":"IF(OR('Beneificiarios Finales'!H3028=\"NIT\",'Beneificiarios Finales'!H3028=\"Fideicomiso/Fondo\",'Beneificiarios Finales'!H3028=\"PJ No Residente\"),'Beneificiarios Finales'!H3028,\"\")","v":""},{"$f":"IF(OR('Beneificiarios Finales'!H3028=\"NIT\",'Beneificiarios Finales'!H3028=\"Fideicomiso/Fondo\",'Beneificiarios Finales'!H3028=\"PJ No Residente\"),'Beneificiarios Finales'!B3030,\"\")","v":""}]
[{"$f":"IF(OR('Beneificiarios Finales'!H3062=\"NIT\",'Beneificiarios Finales'!H3062=\"Fideicomiso/Fondo\",'Beneificiarios Finales'!H3062=\"PJ No Residente\"),'Beneificiarios Finales'!B3066,\"\")","v":""},{"$f":"IFERROR(INDEX(TablaNivelCUATRO[PJNivelCuatro],_xlfn.AGGREGATE(15,6,(ROW(TablaNivelCUATRO[PJNivelCuatro])-ROW(TablaNivelCUATRO[#Headers]))/(TablaNivelCUATRO[PJNivelCuatro]<>\"\"),ROWS($B$485:TablaNivelCUATRO[[#This Row],[AuxCuatro]]))),\"\")","v":""},{"$f":"IF(OR('Beneificiarios Finales'!H3062=\"NIT\",'Beneificiarios Finales'!H3062=\"Fideicomiso/Fondo\",'Beneificiarios Finales'!H3062=\"PJ No Residente\"),'Beneificiarios Finales'!H3062,\"\")","v":""},{"$f":"IF(OR('Beneificiarios Finales'!H3062=\"NIT\",'Beneificiarios Finales'!H3062=\"Fideicomiso/Fondo\",'Beneificiarios Finales'!H3062=\"PJ No Residente\"),'Beneificiarios Finales'!B3064,\"\")","v":""}]
[{"$f":"IF(OR('Beneificiarios Finales'!H3096=\"NIT\",'Beneificiarios Finales'!H3096=\"Fideicomiso/Fondo\",'Beneificiarios Finales'!H3096=\"PJ No Residente\"),'Beneificiarios Finales'!B3100,\"\")","v":""},{"$f":"IFERROR(INDEX(TablaNivelCUATRO[PJNivelCuatro],_xlfn.AGGREGATE(15,6,(ROW(TablaNivelCUATRO[PJNivelCuatro])-ROW(TablaNivelCUATRO[#Headers]))/(TablaNivelCUATRO[PJNivelCuatro]<>\"\"),ROWS($B$485:TablaNivelCUATRO[[#This Row],[AuxCuatro]]))),\"\")","v":""},{"$f":"IF(OR('Beneificiarios Finales'!H3096=\"NIT\",'Beneificiarios Finales'!H3096=\"Fideicomiso/Fondo\",'Beneificiarios Finales'!H3096=\"PJ No Residente\"),'Beneificiarios Finales'!H3096,\"\")","v":""},{"$f":"IF(OR('Beneificiarios Finales'!H3096=\"NIT\",'Beneificiarios Finales'!H3096=\"Fideicomiso/Fondo\",'Beneificiarios Finales'!H3096=\"PJ No Residente\"),'Beneificiarios Finales'!B3098,\"\")","v":""}]
[{"$f":"IF(OR('Beneificiarios Finales'!H3130=\"NIT\",'Beneificiarios Finales'!H3130=\"Fideicomiso/Fondo\",'Beneificiarios Finales'!H3130=\"PJ No Residente\"),'Beneificiarios Finales'!B3134,\"\")","v":""},{"$f":"IFERROR(INDEX(TablaNivelCUATRO[PJNivelCuatro],_xlfn.AGGREGATE(15,6,(ROW(TablaNivelCUATRO[PJNivelCuatro])-ROW(TablaNivelCUATRO[#Headers]))/(TablaNivelCUATRO[PJNivelCuatro]<>\"\"),ROWS($B$485:TablaNivelCUATRO[[#This Row],[AuxCuatro]]))),\"\")","v":""},{"$f":"IF(OR('Beneificiarios Finales'!H3130=\"NIT\",'Beneificiarios Finales'!H3130=\"Fideicomiso/Fondo\",'Beneificiarios Finales'!H3130=\"PJ No Residente\"),'Beneificiarios Finales'!H3130,\"\")","v":""},{"$f":"IF(OR('Beneificiarios Finales'!H3130=\"NIT\",'Beneificiarios Finales'!H3130=\"Fideicomiso/Fondo\",'Beneificiarios Finales'!H3130=\"PJ No Residente\"),'Beneificiarios Finales'!B3132,\"\")","v":""}]
[{"$f":"IF(OR('Beneificiarios Finales'!H3164=\"NIT\",'Beneificiarios Finales'!H3164=\"Fideicomiso/Fondo\",'Beneificiarios Finales'!H3164=\"PJ No Residente\"),'Beneificiarios Finales'!B3168,\"\")","v":""},{"$f":"IFERROR(INDEX(TablaNivelCUATRO[PJNivelCuatro],_xlfn.AGGREGATE(15,6,(ROW(TablaNivelCUATRO[PJNivelCuatro])-ROW(TablaNivelCUATRO[#Headers]))/(TablaNivelCUATRO[PJNivelCuatro]<>\"\"),ROWS($B$485:TablaNivelCUATRO[[#This Row],[AuxCuatro]]))),\"\")","v":""},{"$f":"IF(OR('Beneificiarios Finales'!H3164=\"NIT\",'Beneificiarios Finales'!H3164=\"Fideicomiso/Fondo\",'Beneificiarios Finales'!H3164=\"PJ No Residente\"),'Beneificiarios Finales'!H3164,\"\")","v":""},{"$f":"IF(OR('Beneificiarios Finales'!H3164=\"NIT\",'Beneificiarios Finales'!H3164=\"Fideicomiso/Fondo\",'Beneificiarios Finales'!H3164=\"PJ No Residente\"),'Beneificiarios Finales'!B3166,\"\")","v":""}]
[{"$f":"IF(OR('Beneificiarios Finales'!H3198=\"NIT\",'Beneificiarios Finales'!H3198=\"Fideicomiso/Fondo\",'Beneificiarios Finales'!H3198=\"PJ No Residente\"),'Beneificiarios Finales'!B3202,\"\")","v":""},{"$f":"IFERROR(INDEX(TablaNivelCUATRO[PJNivelCuatro],_xlfn.AGGREGATE(15,6,(ROW(TablaNivelCUATRO[PJNivelCuatro])-ROW(TablaNivelCUATRO[#Headers]))/(TablaNivelCUATRO[PJNivelCuatro]<>\"\"),ROWS($B$485:TablaNivelCUATRO[[#This Row],[AuxCuatro]]))),\"\")","v":""},{"$f":"IF(OR('Beneificiarios Finales'!H3198=\"NIT\",'Beneificiarios Finales'!H3198=\"Fideicomiso/Fondo\",'Beneificiarios Finales'!H3198=\"PJ No Residente\"),'Beneificiarios Finales'!H3198,\"\")","v":""},{"$f":"IF(OR('Beneificiarios Finales'!H3198=\"NIT\",'Beneificiarios Finales'!H3198=\"Fideicomiso/Fondo\",'Beneificiarios Finales'!H3198=\"PJ No Residente\"),'Beneificiarios Finales'!B3200,\"\")","v":""}]
[{"$f":"IF(OR('Beneificiarios Finales'!H3232=\"NIT\",'Beneificiarios Finales'!H3232=\"Fideicomiso/Fondo\",'Beneificiarios Finales'!H3232=\"PJ No Residente\"),'Beneificiarios Finales'!B3236,\"\")","v":""},{"$f":"IFERROR(INDEX(TablaNivelCUATRO[PJNivelCuatro],_xlfn.AGGREGATE(15,6,(ROW(TablaNivelCUATRO[PJNivelCuatro])-ROW(TablaNivelCUATRO[#Headers]))/(TablaNivelCUATRO[PJNivelCuatro]<>\"\"),ROWS($B$485:TablaNivelCUATRO[[#This Row],[AuxCuatro]]))),\"\")","v":""},{"$f":"IF(OR('Beneificiarios Finales'!H3232=\"NIT\",'Beneificiarios Finales'!H3232=\"Fideicomiso/Fondo\",'Beneificiarios Finales'!H3232=\"PJ No Residente\"),'Beneificiarios Finales'!H3232,\"\")","v":""},{"$f":"IF(OR('Beneificiarios Finales'!H3232=\"NIT\",'Beneificiarios Finales'!H3232=\"Fideicomiso/Fondo\",'Beneificiarios Finales'!H3232=\"PJ No Residente\"),'Beneificiarios Finales'!B3234,\"\")","v":""}]
[{"$f":"IF(OR('Beneificiarios Finales'!H3266=\"NIT\",'Beneificiarios Finales'!H3266=\"Fideicomiso/Fondo\",'Beneificiarios Finales'!H3266=\"PJ No Residente\"),'Beneificiarios Finales'!B3270,\"\")","v":""},{"$f":"IFERROR(INDEX(TablaNivelCUATRO[PJNivelCuatro],_xlfn.AGGREGATE(15,6,(ROW(TablaNivelCUATRO[PJNivelCuatro])-ROW(TablaNivelCUATRO[#Headers]))/(TablaNivelCUATRO[PJNivelCuatro]<>\"\"),ROWS($B$485:TablaNivelCUATRO[[#This Row],[AuxCuatro]]))),\"\")","v":""},{"$f":"IF(OR('Beneificiarios Finales'!H3266=\"NIT\",'Beneificiarios Finales'!H3266=\"Fideicomiso/Fondo\",'Beneificiarios Finales'!H3266=\"PJ No Residente\"),'Beneificiarios Finales'!H3266,\"\")","v":""},{"$f":"IF(OR('Beneificiarios Finales'!H3266=\"NIT\",'Beneificiarios Finales'!H3266=\"Fideicomiso/Fondo\",'Beneificiarios Finales'!H3266=\"PJ No Residente\"),'Beneificiarios Finales'!B3268,\"\")","v":""}]
[{"$f":"IF(OR('Beneificiarios Finales'!H3300=\"NIT\",'Beneificiarios Finales'!H3300=\"Fideicomiso/Fondo\",'Beneificiarios Finales'!H3300=\"PJ No Residente\"),'Beneificiarios Finales'!B3304,\"\")","v":""},{"$f":"IFERROR(INDEX(TablaNivelCUATRO[PJNivelCuatro],_xlfn.AGGREGATE(15,6,(ROW(TablaNivelCUATRO[PJNivelCuatro])-ROW(TablaNivelCUATRO[#Headers]))/(TablaNivelCUATRO[PJNivelCuatro]<>\"\"),ROWS($B$485:TablaNivelCUATRO[[#This Row],[AuxCuatro]]))),\"\")","v":""},{"$f":"IF(OR('Beneificiarios Finales'!H3300=\"NIT\",'Beneificiarios Finales'!H3300=\"Fideicomiso/Fondo\",'Beneificiarios Finales'!H3300=\"PJ No Residente\"),'Beneificiarios Finales'!H3300,\"\")","v":""},{"$f":"IF(OR('Beneificiarios Finales'!H3300=\"NIT\",'Beneificiarios Finales'!H3300=\"Fideicomiso/Fondo\",'Beneificiarios Finales'!H3300=\"PJ No Residente\"),'Beneificiarios Finales'!B3302,\"\")","v":""}]
[{"$f":"IF(OR('Beneificiarios Finales'!H3334=\"NIT\",'Beneificiarios Finales'!H3334=\"Fideicomiso/Fondo\",'Beneificiarios Finales'!H3334=\"PJ No Residente\"),'Beneificiarios Finales'!B3338,\"\")","v":""},{"$f":"IFERROR(INDEX(TablaNivelCUATRO[PJNivelCuatro],_xlfn.AGGREGATE(15,6,(ROW(TablaNivelCUATRO[PJNivelCuatro])-ROW(TablaNivelCUATRO[#Headers]))/(TablaNivelCUATRO[PJNivelCuatro]<>\"\"),ROWS($B$485:TablaNivelCUATRO[[#This Row],[AuxCuatro]]))),\"\")","v":""},{"$f":"IF(OR('Beneificiarios Finales'!H3334=\"NIT\",'Beneificiarios Finales'!H3334=\"Fideicomiso/Fondo\",'Beneificiarios Finales'!H3334=\"PJ No Residente\"),'Beneificiarios Finales'!H3334,\"\")","v":""},{"$f":"IF(OR('Beneificiarios Finales'!H3334=\"NIT\",'Beneificiarios Finales'!H3334=\"Fideicomiso/Fondo\",'Beneificiarios Finales'!H3334=\"PJ No Residente\"),'Beneificiarios Finales'!B3336,\"\")","v":""}]
[{"$f":"IF(OR('Beneificiarios Finales'!H3368=\"NIT\",'Beneificiarios Finales'!H3368=\"Fideicomiso/Fondo\",'Beneificiarios Finales'!H3368=\"PJ No Residente\"),'Beneificiarios Finales'!B3372,\"\")","v":""},{"$f":"IFERROR(INDEX(TablaNivelCUATRO[PJNivelCuatro],_xlfn.AGGREGATE(15,6,(ROW(TablaNivelCUATRO[PJNivelCuatro])-ROW(TablaNivelCUATRO[#Headers]))/(TablaNivelCUATRO[PJNivelCuatro]<>\"\"),ROWS($B$485:TablaNivelCUATRO[[#This Row],[AuxCuatro]]))),\"\")","v":""},{"$f":"IF(OR('Beneificiarios Finales'!H3368=\"NIT\",'Beneificiarios Finales'!H3368=\"Fideicomiso/Fondo\",'Beneificiarios Finales'!H3368=\"PJ No Residente\"),'Beneificiarios Finales'!H3368,\"\")","v":""},{"$f":"IF(OR('Beneificiarios Finales'!H3368=\"NIT\",'Beneificiarios Finales'!H3368=\"Fideicomiso/Fondo\",'Beneificiarios Finales'!H3368=\"PJ No Residente\"),'Beneificiarios Finales'!B3370,\"\")","v":""}]
[{"$f":"IF(OR('Beneificiarios Finales'!H3402=\"NIT\",'Beneificiarios Finales'!H3402=\"Fideicomiso/Fondo\",'Beneificiarios Finales'!H3402=\"PJ No Residente\"),'Beneificiarios Finales'!B3406,\"\")","v":""},{"$f":"IFERROR(INDEX(TablaNivelCUATRO[PJNivelCuatro],_xlfn.AGGREGATE(15,6,(ROW(TablaNivelCUATRO[PJNivelCuatro])-ROW(TablaNivelCUATRO[#Headers]))/(TablaNivelCUATRO[PJNivelCuatro]<>\"\"),ROWS($B$485:TablaNivelCUATRO[[#This Row],[AuxCuatro]]))),\"\")","v":""},{"$f":"IF(OR('Beneificiarios Finales'!H3402=\"NIT\",'Beneificiarios Finales'!H3402=\"Fideicomiso/Fondo\",'Beneificiarios Finales'!H3402=\"PJ No Residente\"),'Beneificiarios Finales'!H3402,\"\")","v":""},{"$f":"IF(OR('Beneificiarios Finales'!H3402=\"NIT\",'Beneificiarios Finales'!H3402=\"Fideicomiso/Fondo\",'Beneificiarios Finales'!H3402=\"PJ No Residente\"),'Beneificiarios Finales'!B3404,\"\")","v":""}]
[{"$f":"IF(OR('Beneificiarios Finales'!H3436=\"NIT\",'Beneificiarios Finales'!H3436=\"Fideicomiso/Fondo\",'Beneificiarios Finales'!H3436=\"PJ No Residente\"),'Beneificiarios Finales'!B3440,\"\")","v":""},{"$f":"IFERROR(INDEX(TablaNivelCUATRO[PJNivelCuatro],_xlfn.AGGREGATE(15,6,(ROW(TablaNivelCUATRO[PJNivelCuatro])-ROW(TablaNivelCUATRO[#Headers]))/(TablaNivelCUATRO[PJNivelCuatro]<>\"\"),ROWS($B$485:TablaNivelCUATRO[[#This Row],[AuxCuatro]]))),\"\")","v":""},{"$f":"IF(OR('Beneificiarios Finales'!H3436=\"NIT\",'Beneificiarios Finales'!H3436=\"Fideicomiso/Fondo\",'Beneificiarios Finales'!H3436=\"PJ No Residente\"),'Beneificiarios Finales'!H3436,\"\")","v":""},{"$f":"IF(OR('Beneificiarios Finales'!H3436=\"NIT\",'Beneificiarios Finales'!H3436=\"Fideicomiso/Fondo\",'Beneificiarios Finales'!H3436=\"PJ No Residente\"),'Beneificiarios Finales'!B3438,\"\")","v":""}]
[{"$f":"IF(OR('Beneificiarios Finales'!H3470=\"NIT\",'Beneificiarios Finales'!H3470=\"Fideicomiso/Fondo\",'Beneificiarios Finales'!H3470=\"PJ No Residente\"),'Beneificiarios Finales'!B3474,\"\")","v":""},{"$f":"IFERROR(INDEX(TablaNivelCUATRO[PJNivelCuatro],_xlfn.AGGREGATE(15,6,(ROW(TablaNivelCUATRO[PJNivelCuatro])-ROW(TablaNivelCUATRO[#Headers]))/(TablaNivelCUATRO[PJNivelCuatro]<>\"\"),ROWS($B$485:TablaNivelCUATRO[[#This Row],[AuxCuatro]]))),\"\")","v":""},{"$f":"IF(OR('Beneificiarios Finales'!H3470=\"NIT\",'Beneificiarios Finales'!H3470=\"Fideicomiso/Fondo\",'Beneificiarios Finales'!H3470=\"PJ No Residente\"),'Beneificiarios Finales'!H3470,\"\")","v":""},{"$f":"IF(OR('Beneificiarios Finales'!H3470=\"NIT\",'Beneificiarios Finales'!H3470=\"Fideicomiso/Fondo\",'Beneificiarios Finales'!H3470=\"PJ No Residente\"),'Beneificiarios Finales'!B3472,\"\")","v":""}]
[{"$f":"IF(OR('Beneificiarios Finales'!H3504=\"NIT\",'Beneificiarios Finales'!H3504=\"Fideicomiso/Fondo\",'Beneificiarios Finales'!H3504=\"PJ No Residente\"),'Beneificiarios Finales'!B3508,\"\")","v":""},{"$f":"IFERROR(INDEX(TablaNivelCUATRO[PJNivelCuatro],_xlfn.AGGREGATE(15,6,(ROW(TablaNivelCUATRO[PJNivelCuatro])-ROW(TablaNivelCUATRO[#Headers]))/(TablaNivelCUATRO[PJNivelCuatro]<>\"\"),ROWS($B$485:TablaNivelCUATRO[[#This Row],[AuxCuatro]]))),\"\")","v":""},{"$f":"IF(OR('Beneificiarios Finales'!H3504=\"NIT\",'Beneificiarios Finales'!H3504=\"Fideicomiso/Fondo\",'Beneificiarios Finales'!H3504=\"PJ No Residente\"),'Beneificiarios Finales'!H3504,\"\")","v":""},{"$f":"IF(OR('Beneificiarios Finales'!H3504=\"NIT\",'Beneificiarios Finales'!H3504=\"Fideicomiso/Fondo\",'Beneificiarios Finales'!H3504=\"PJ No Residente\"),'Beneificiarios Finales'!B3506,\"\")","v":""}]
[{"$f":"IF(OR('Beneificiarios Finales'!H3538=\"NIT\",'Beneificiarios Finales'!H3538=\"Fideicomiso/Fondo\",'Beneificiarios Finales'!H3538=\"PJ No Residente\"),'Beneificiarios Finales'!B3542,\"\")","v":""},{"$f":"IFERROR(INDEX(TablaNivelCUATRO[PJNivelCuatro],_xlfn.AGGREGATE(15,6,(ROW(TablaNivelCUATRO[PJNivelCuatro])-ROW(TablaNivelCUATRO[#Headers]))/(TablaNivelCUATRO[PJNivelCuatro]<>\"\"),ROWS($B$485:TablaNivelCUATRO[[#This Row],[AuxCuatro]]))),\"\")","v":""},{"$f":"IF(OR('Beneificiarios Finales'!H3538=\"NIT\",'Beneificiarios Finales'!H3538=\"Fideicomiso/Fondo\",'Beneificiarios Finales'!H3538=\"PJ No Residente\"),'Beneificiarios Finales'!H3538,\"\")","v":""},{"$f":"IF(OR('Beneificiarios Finales'!H3538=\"NIT\",'Beneificiarios Finales'!H3538=\"Fideicomiso/Fondo\",'Beneificiarios Finales'!H3538=\"PJ No Residente\"),'Beneificiarios Finales'!B3540,\"\")","v":""}]
[{"$f":"IF(OR('Beneificiarios Finales'!H3572=\"NIT\",'Beneificiarios Finales'!H3572=\"Fideicomiso/Fondo\",'Beneificiarios Finales'!H3572=\"PJ No Residente\"),'Beneificiarios Finales'!B3576,\"\")","v":""},{"$f":"IFERROR(INDEX(TablaNivelCUATRO[PJNivelCuatro],_xlfn.AGGREGATE(15,6,(ROW(TablaNivelCUATRO[PJNivelCuatro])-ROW(TablaNivelCUATRO[#Headers]))/(TablaNivelCUATRO[PJNivelCuatro]<>\"\"),ROWS($B$485:TablaNivelCUATRO[[#This Row],[AuxCuatro]]))),\"\")","v":""},{"$f":"IF(OR('Beneificiarios Finales'!H3572=\"NIT\",'Beneificiarios Finales'!H3572=\"Fideicomiso/Fondo\",'Beneificiarios Finales'!H3572=\"PJ No Residente\"),'Beneificiarios Finales'!H3572,\"\")","v":""},{"$f":"IF(OR('Beneificiarios Finales'!H3572=\"NIT\",'Beneificiarios Finales'!H3572=\"Fideicomiso/Fondo\",'Beneificiarios Finales'!H3572=\"PJ No Residente\"),'Beneificiarios Finales'!B3574,\"\")","v":""}]
[{"$f":"IF(OR('Beneificiarios Finales'!H3606=\"NIT\",'Beneificiarios Finales'!H3606=\"Fideicomiso/Fondo\",'Beneificiarios Finales'!H3606=\"PJ No Residente\"),'Beneificiarios Finales'!B3610,\"\")","v":""},{"$f":"IFERROR(INDEX(TablaNivelCUATRO[PJNivelCuatro],_xlfn.AGGREGATE(15,6,(ROW(TablaNivelCUATRO[PJNivelCuatro])-ROW(TablaNivelCUATRO[#Headers]))/(TablaNivelCUATRO[PJNivelCuatro]<>\"\"),ROWS($B$485:TablaNivelCUATRO[[#This Row],[AuxCuatro]]))),\"\")","v":""},{"$f":"IF(OR('Beneificiarios Finales'!H3606=\"NIT\",'Beneificiarios Finales'!H3606=\"Fideicomiso/Fondo\",'Beneificiarios Finales'!H3606=\"PJ No Residente\"),'Beneificiarios Finales'!H3606,\"\")","v":""},{"$f":"IF(OR('Beneificiarios Finales'!H3606=\"NIT\",'Beneificiarios Finales'!H3606=\"Fideicomiso/Fondo\",'Beneificiarios Finales'!H3606=\"PJ No Residente\"),'Beneificiarios Finales'!B3608,\"\")","v":""}]
[{"$f":"IF(OR('Beneificiarios Finales'!H3640=\"NIT\",'Beneificiarios Finales'!H3640=\"Fideicomiso/Fondo\",'Beneificiarios Finales'!H3640=\"PJ No Residente\"),'Beneificiarios Finales'!B3644,\"\")","v":""},{"$f":"IFERROR(INDEX(TablaNivelCUATRO[PJNivelCuatro],_xlfn.AGGREGATE(15,6,(ROW(TablaNivelCUATRO[PJNivelCuatro])-ROW(TablaNivelCUATRO[#Headers]))/(TablaNivelCUATRO[PJNivelCuatro]<>\"\"),ROWS($B$485:TablaNivelCUATRO[[#This Row],[AuxCuatro]]))),\"\")","v":""},{"$f":"IF(OR('Beneificiarios Finales'!H3640=\"NIT\",'Beneificiarios Finales'!H3640=\"Fideicomiso/Fondo\",'Beneificiarios Finales'!H3640=\"PJ No Residente\"),'Beneificiarios Finales'!H3640,\"\")","v":""},{"$f":"IF(OR('Beneificiarios Finales'!H3640=\"NIT\",'Beneificiarios Finales'!H3640=\"Fideicomiso/Fondo\",'Beneificiarios Finales'!H3640=\"PJ No Residente\"),'Beneificiarios Finales'!B3642,\"\")","v":""}]
[{"$f":"IF(OR('Beneificiarios Finales'!H3674=\"NIT\",'Beneificiarios Finales'!H3674=\"Fideicomiso/Fondo\",'Beneificiarios Finales'!H3674=\"PJ No Residente\"),'Beneificiarios Finales'!B3678,\"\")","v":""},{"$f":"IFERROR(INDEX(TablaNivelCUATRO[PJNivelCuatro],_xlfn.AGGREGATE(15,6,(ROW(TablaNivelCUATRO[PJNivelCuatro])-ROW(TablaNivelCUATRO[#Headers]))/(TablaNivelCUATRO[PJNivelCuatro]<>\"\"),ROWS($B$485:TablaNivelCUATRO[[#This Row],[AuxCuatro]]))),\"\")","v":""},{"$f":"IF(OR('Beneificiarios Finales'!H3674=\"NIT\",'Beneificiarios Finales'!H3674=\"Fideicomiso/Fondo\",'Beneificiarios Finales'!H3674=\"PJ No Residente\"),'Beneificiarios Finales'!H3674,\"\")","v":""},{"$f":"IF(OR('Beneificiarios Finales'!H3674=\"NIT\",'Beneificiarios Finales'!H3674=\"Fideicomiso/Fondo\",'Beneificiarios Finales'!H3674=\"PJ No Residente\"),'Beneificiarios Finales'!B3676,\"\")","v":""}]
[{"$f":"IF(OR('Beneificiarios Finales'!H3708=\"NIT\",'Beneificiarios Finales'!H3708=\"Fideicomiso/Fondo\",'Beneificiarios Finales'!H3708=\"PJ No Residente\"),'Beneificiarios Finales'!B3712,\"\")","v":""},{"$f":"IFERROR(INDEX(TablaNivelCUATRO[PJNivelCuatro],_xlfn.AGGREGATE(15,6,(ROW(TablaNivelCUATRO[PJNivelCuatro])-ROW(TablaNivelCUATRO[#Headers]))/(TablaNivelCUATRO[PJNivelCuatro]<>\"\"),ROWS($B$485:TablaNivelCUATRO[[#This Row],[AuxCuatro]]))),\"\")","v":""},{"$f":"IF(OR('Beneificiarios Finales'!H3708=\"NIT\",'Beneificiarios Finales'!H3708=\"Fideicomiso/Fondo\",'Beneificiarios Finales'!H3708=\"PJ No Residente\"),'Beneificiarios Finales'!H3708,\"\")","v":""},{"$f":"IF(OR('Beneificiarios Finales'!H3708=\"NIT\",'Beneificiarios Finales'!H3708=\"Fideicomiso/Fondo\",'Beneificiarios Finales'!H3708=\"PJ No Residente\"),'Beneificiarios Finales'!B3710,\"\")","v":""}]
[{"$f":"IF(OR('Beneificiarios Finales'!H3742=\"NIT\",'Beneificiarios Finales'!H3742=\"Fideicomiso/Fondo\",'Beneificiarios Finales'!H3742=\"PJ No Residente\"),'Beneificiarios Finales'!B3746,\"\")","v":""},{"$f":"IFERROR(INDEX(TablaNivelCUATRO[PJNivelCuatro],_xlfn.AGGREGATE(15,6,(ROW(TablaNivelCUATRO[PJNivelCuatro])-ROW(TablaNivelCUATRO[#Headers]))/(TablaNivelCUATRO[PJNivelCuatro]<>\"\"),ROWS($B$485:TablaNivelCUATRO[[#This Row],[AuxCuatro]]))),\"\")","v":""},{"$f":"IF(OR('Beneificiarios Finales'!H3742=\"NIT\",'Beneificiarios Finales'!H3742=\"Fideicomiso/Fondo\",'Beneificiarios Finales'!H3742=\"PJ No Residente\"),'Beneificiarios Finales'!H3742,\"\")","v":""},{"$f":"IF(OR('Beneificiarios Finales'!H3742=\"NIT\",'Beneificiarios Finales'!H3742=\"Fideicomiso/Fondo\",'Beneificiarios Finales'!H3742=\"PJ No Residente\"),'Beneificiarios Finales'!B3744,\"\")","v":""}]
[{"$f":"IF(OR('Beneificiarios Finales'!H3776=\"NIT\",'Beneificiarios Finales'!H3776=\"Fideicomiso/Fondo\",'Beneificiarios Finales'!H3776=\"PJ No Residente\"),'Beneificiarios Finales'!B3780,\"\")","v":""},{"$f":"IFERROR(INDEX(TablaNivelCUATRO[PJNivelCuatro],_xlfn.AGGREGATE(15,6,(ROW(TablaNivelCUATRO[PJNivelCuatro])-ROW(TablaNivelCUATRO[#Headers]))/(TablaNivelCUATRO[PJNivelCuatro]<>\"\"),ROWS($B$485:TablaNivelCUATRO[[#This Row],[AuxCuatro]]))),\"\")","v":""},{"$f":"IF(OR('Beneificiarios Finales'!H3776=\"NIT\",'Beneificiarios Finales'!H3776=\"Fideicomiso/Fondo\",'Beneificiarios Finales'!H3776=\"PJ No Residente\"),'Beneificiarios Finales'!H3776,\"\")","v":""},{"$f":"IF(OR('Beneificiarios Finales'!H3776=\"NIT\",'Beneificiarios Finales'!H3776=\"Fideicomiso/Fondo\",'Beneificiarios Finales'!H3776=\"PJ No Residente\"),'Beneificiarios Finales'!B3778,\"\")","v":""}]
[{"$f":"IF(OR('Beneificiarios Finales'!H3810=\"NIT\",'Beneificiarios Finales'!H3810=\"Fideicomiso/Fondo\",'Beneificiarios Finales'!H3810=\"PJ No Residente\"),'Beneificiarios Finales'!B3814,\"\")","v":""},{"$f":"IFERROR(INDEX(TablaNivelCUATRO[PJNivelCuatro],_xlfn.AGGREGATE(15,6,(ROW(TablaNivelCUATRO[PJNivelCuatro])-ROW(TablaNivelCUATRO[#Headers]))/(TablaNivelCUATRO[PJNivelCuatro]<>\"\"),ROWS($B$485:TablaNivelCUATRO[[#This Row],[AuxCuatro]]))),\"\")","v":""},{"$f":"IF(OR('Beneificiarios Finales'!H3810=\"NIT\",'Beneificiarios Finales'!H3810=\"Fideicomiso/Fondo\",'Beneificiarios Finales'!H3810=\"PJ No Residente\"),'Beneificiarios Finales'!H3810,\"\")","v":""},{"$f":"IF(OR('Beneificiarios Finales'!H3810=\"NIT\",'Beneificiarios Finales'!H3810=\"Fideicomiso/Fondo\",'Beneificiarios Finales'!H3810=\"PJ No Residente\"),'Beneificiarios Finales'!B3812,\"\")","v":""}]
[{"$f":"IF(OR('Beneificiarios Finales'!H3844=\"NIT\",'Beneificiarios Finales'!H3844=\"Fideicomiso/Fondo\",'Beneificiarios Finales'!H3844=\"PJ No Residente\"),'Beneificiarios Finales'!B3848,\"\")","v":""},{"$f":"IFERROR(INDEX(TablaNivelCUATRO[PJNivelCuatro],_xlfn.AGGREGATE(15,6,(ROW(TablaNivelCUATRO[PJNivelCuatro])-ROW(TablaNivelCUATRO[#Headers]))/(TablaNivelCUATRO[PJNivelCuatro]<>\"\"),ROWS($B$485:TablaNivelCUATRO[[#This Row],[AuxCuatro]]))),\"\")","v":""},{"$f":"IF(OR('Beneificiarios Finales'!H3844=\"NIT\",'Beneificiarios Finales'!H3844=\"Fideicomiso/Fondo\",'Beneificiarios Finales'!H3844=\"PJ No Residente\"),'Beneificiarios Finales'!H3844,\"\")","v":""},{"$f":"IF(OR('Beneificiarios Finales'!H3844=\"NIT\",'Beneificiarios Finales'!H3844=\"Fideicomiso/Fondo\",'Beneificiarios Finales'!H3844=\"PJ No Residente\"),'Beneificiarios Finales'!B3846,\"\")","v":""}]
[{"$f":"IF(OR('Beneificiarios Finales'!H3878=\"NIT\",'Beneificiarios Finales'!H3878=\"Fideicomiso/Fondo\",'Beneificiarios Finales'!H3878=\"PJ No Residente\"),'Beneificiarios Finales'!B3882,\"\")","v":""},{"$f":"IFERROR(INDEX(TablaNivelCUATRO[PJNivelCuatro],_xlfn.AGGREGATE(15,6,(ROW(TablaNivelCUATRO[PJNivelCuatro])-ROW(TablaNivelCUATRO[#Headers]))/(TablaNivelCUATRO[PJNivelCuatro]<>\"\"),ROWS($B$485:TablaNivelCUATRO[[#This Row],[AuxCuatro]]))),\"\")","v":""},{"$f":"IF(OR('Beneificiarios Finales'!H3878=\"NIT\",'Beneificiarios Finales'!H3878=\"Fideicomiso/Fondo\",'Beneificiarios Finales'!H3878=\"PJ No Residente\"),'Beneificiarios Finales'!H3878,\"\")","v":""},{"$f":"IF(OR('Beneificiarios Finales'!H3878=\"NIT\",'Beneificiarios Finales'!H3878=\"Fideicomiso/Fondo\",'Beneificiarios Finales'!H3878=\"PJ No Residente\"),'Beneificiarios Finales'!B3880,\"\")","v":""}]
[{"$f":"IF(OR('Beneificiarios Finales'!H3912=\"NIT\",'Beneificiarios Finales'!H3912=\"Fideicomiso/Fondo\",'Beneificiarios Finales'!H3912=\"PJ No Residente\"),'Beneificiarios Finales'!B3916,\"\")","v":""},{"$f":"IFERROR(INDEX(TablaNivelCUATRO[PJNivelCuatro],_xlfn.AGGREGATE(15,6,(ROW(TablaNivelCUATRO[PJNivelCuatro])-ROW(TablaNivelCUATRO[#Headers]))/(TablaNivelCUATRO[PJNivelCuatro]<>\"\"),ROWS($B$485:TablaNivelCUATRO[[#This Row],[AuxCuatro]]))),\"\")","v":""},{"$f":"IF(OR('Beneificiarios Finales'!H3912=\"NIT\",'Beneificiarios Finales'!H3912=\"Fideicomiso/Fondo\",'Beneificiarios Finales'!H3912=\"PJ No Residente\"),'Beneificiarios Finales'!H3912,\"\")","v":""},{"$f":"IF(OR('Beneificiarios Finales'!H3912=\"NIT\",'Beneificiarios Finales'!H3912=\"Fideicomiso/Fondo\",'Beneificiarios Finales'!H3912=\"PJ No Residente\"),'Beneificiarios Finales'!B3914,\"\")","v":""}]
[{"$f":"IF(OR('Beneificiarios Finales'!H3946=\"NIT\",'Beneificiarios Finales'!H3946=\"Fideicomiso/Fondo\",'Beneificiarios Finales'!H3946=\"PJ No Residente\"),'Beneificiarios Finales'!B3950,\"\")","v":""},{"$f":"IFERROR(INDEX(TablaNivelCUATRO[PJNivelCuatro],_xlfn.AGGREGATE(15,6,(ROW(TablaNivelCUATRO[PJNivelCuatro])-ROW(TablaNivelCUATRO[#Headers]))/(TablaNivelCUATRO[PJNivelCuatro]<>\"\"),ROWS($B$485:TablaNivelCUATRO[[#This Row],[AuxCuatro]]))),\"\")","v":""},{"$f":"IF(OR('Beneificiarios Finales'!H3946=\"NIT\",'Beneificiarios Finales'!H3946=\"Fideicomiso/Fondo\",'Beneificiarios Finales'!H3946=\"PJ No Residente\"),'Beneificiarios Finales'!H3946,\"\")","v":""},{"$f":"IF(OR('Beneificiarios Finales'!H3946=\"NIT\",'Beneificiarios Finales'!H3946=\"Fideicomiso/Fondo\",'Beneificiarios Finales'!H3946=\"PJ No Residente\"),'Beneificiarios Finales'!B3948,\"\")","v":""}]
[{"$f":"IF(OR('Beneificiarios Finales'!H3980=\"NIT\",'Beneificiarios Finales'!H3980=\"Fideicomiso/Fondo\",'Beneificiarios Finales'!H3980=\"PJ No Residente\"),'Beneificiarios Finales'!B3984,\"\")","v":""},{"$f":"IFERROR(INDEX(TablaNivelCUATRO[PJNivelCuatro],_xlfn.AGGREGATE(15,6,(ROW(TablaNivelCUATRO[PJNivelCuatro])-ROW(TablaNivelCUATRO[#Headers]))/(TablaNivelCUATRO[PJNivelCuatro]<>\"\"),ROWS($B$485:TablaNivelCUATRO[[#This Row],[AuxCuatro]]))),\"\")","v":""},{"$f":"IF(OR('Beneificiarios Finales'!H3980=\"NIT\",'Beneificiarios Finales'!H3980=\"Fideicomiso/Fondo\",'Beneificiarios Finales'!H3980=\"PJ No Residente\"),'Beneificiarios Finales'!H3980,\"\")","v":""},{"$f":"IF(OR('Beneificiarios Finales'!H3980=\"NIT\",'Beneificiarios Finales'!H3980=\"Fideicomiso/Fondo\",'Beneificiarios Finales'!H3980=\"PJ No Residente\"),'Beneificiarios Finales'!B3982,\"\")","v":""}]
[{"$f":"IF(OR('Beneificiarios Finales'!H4014=\"NIT\",'Beneificiarios Finales'!H4014=\"Fideicomiso/Fondo\",'Beneificiarios Finales'!H4014=\"PJ No Residente\"),'Beneificiarios Finales'!B4018,\"\")","v":""},{"$f":"IFERROR(INDEX(TablaNivelCUATRO[PJNivelCuatro],_xlfn.AGGREGATE(15,6,(ROW(TablaNivelCUATRO[PJNivelCuatro])-ROW(TablaNivelCUATRO[#Headers]))/(TablaNivelCUATRO[PJNivelCuatro]<>\"\"),ROWS($B$485:TablaNivelCUATRO[[#This Row],[AuxCuatro]]))),\"\")","v":""},{"$f":"IF(OR('Beneificiarios Finales'!H4014=\"NIT\",'Beneificiarios Finales'!H4014=\"Fideicomiso/Fondo\",'Beneificiarios Finales'!H4014=\"PJ No Residente\"),'Beneificiarios Finales'!H4014,\"\")","v":""},{"$f":"IF(OR('Beneificiarios Finales'!H4014=\"NIT\",'Beneificiarios Finales'!H4014=\"Fideicomiso/Fondo\",'Beneificiarios Finales'!H4014=\"PJ No Residente\"),'Beneificiarios Finales'!B4016,\"\")","v":""}]
[{"$f":"IF(OR('Beneificiarios Finales'!H4048=\"NIT\",'Beneificiarios Finales'!H4048=\"Fideicomiso/Fondo\",'Beneificiarios Finales'!H4048=\"PJ No Residente\"),'Beneificiarios Finales'!B4052,\"\")","v":""},{"$f":"IFERROR(INDEX(TablaNivelCUATRO[PJNivelCuatro],_xlfn.AGGREGATE(15,6,(ROW(TablaNivelCUATRO[PJNivelCuatro])-ROW(TablaNivelCUATRO[#Headers]))/(TablaNivelCUATRO[PJNivelCuatro]<>\"\"),ROWS($B$485:TablaNivelCUATRO[[#This Row],[AuxCuatro]]))),\"\")","v":""},{"$f":"IF(OR('Beneificiarios Finales'!H4048=\"NIT\",'Beneificiarios Finales'!H4048=\"Fideicomiso/Fondo\",'Beneificiarios Finales'!H4048=\"PJ No Residente\"),'Beneificiarios Finales'!H4048,\"\")","v":""},{"$f":"IF(OR('Beneificiarios Finales'!H4048=\"NIT\",'Beneificiarios Finales'!H4048=\"Fideicomiso/Fondo\",'Beneificiarios Finales'!H4048=\"PJ No Residente\"),'Beneificiarios Finales'!B4050,\"\")","v":""}]
[{"$f":"IF(OR('Beneificiarios Finales'!H4082=\"NIT\",'Beneificiarios Finales'!H4082=\"Fideicomiso/Fondo\",'Beneificiarios Finales'!H4082=\"PJ No Residente\"),'Beneificiarios Finales'!B4086,\"\")","v":""},{"$f":"IFERROR(INDEX(TablaNivelCUATRO[PJNivelCuatro],_xlfn.AGGREGATE(15,6,(ROW(TablaNivelCUATRO[PJNivelCuatro])-ROW(TablaNivelCUATRO[#Headers]))/(TablaNivelCUATRO[PJNivelCuatro]<>\"\"),ROWS($B$485:TablaNivelCUATRO[[#This Row],[AuxCuatro]]))),\"\")","v":""},{"$f":"IF(OR('Beneificiarios Finales'!H4082=\"NIT\",'Beneificiarios Finales'!H4082=\"Fideicomiso/Fondo\",'Beneificiarios Finales'!H4082=\"PJ No Residente\"),'Beneificiarios Finales'!H4082,\"\")","v":""},{"$f":"IF(OR('Beneificiarios Finales'!H4082=\"NIT\",'Beneificiarios Finales'!H4082=\"Fideicomiso/Fondo\",'Beneificiarios Finales'!H4082=\"PJ No Residente\"),'Beneificiarios Finales'!B4084,\"\")","v":""}]
[{"$f":"IF(OR('Beneificiarios Finales'!H4116=\"NIT\",'Beneificiarios Finales'!H4116=\"Fideicomiso/Fondo\",'Beneificiarios Finales'!H4116=\"PJ No Residente\"),'Beneificiarios Finales'!B4120,\"\")","v":""},{"$f":"IFERROR(INDEX(TablaNivelCUATRO[PJNivelCuatro],_xlfn.AGGREGATE(15,6,(ROW(TablaNivelCUATRO[PJNivelCuatro])-ROW(TablaNivelCUATRO[#Headers]))/(TablaNivelCUATRO[PJNivelCuatro]<>\"\"),ROWS($B$485:TablaNivelCUATRO[[#This Row],[AuxCuatro]]))),\"\")","v":""},{"$f":"IF(OR('Beneificiarios Finales'!H4116=\"NIT\",'Beneificiarios Finales'!H4116=\"Fideicomiso/Fondo\",'Beneificiarios Finales'!H4116=\"PJ No Residente\"),'Beneificiarios Finales'!H4116,\"\")","v":""},{"$f":"IF(OR('Beneificiarios Finales'!H4116=\"NIT\",'Beneificiarios Finales'!H4116=\"Fideicomiso/Fondo\",'Beneificiarios Finales'!H4116=\"PJ No Residente\"),'Beneificiarios Finales'!B4118,\"\")","v":""}]
[{"$f":"IF(OR('Beneificiarios Finales'!H4150=\"NIT\",'Beneificiarios Finales'!H4150=\"Fideicomiso/Fondo\",'Beneificiarios Finales'!H4150=\"PJ No Residente\"),'Beneificiarios Finales'!B4154,\"\")","v":""},{"$f":"IFERROR(INDEX(TablaNivelCUATRO[PJNivelCuatro],_xlfn.AGGREGATE(15,6,(ROW(TablaNivelCUATRO[PJNivelCuatro])-ROW(TablaNivelCUATRO[#Headers]))/(TablaNivelCUATRO[PJNivelCuatro]<>\"\"),ROWS($B$485:TablaNivelCUATRO[[#This Row],[AuxCuatro]]))),\"\")","v":""},{"$f":"IF(OR('Beneificiarios Finales'!H4150=\"NIT\",'Beneificiarios Finales'!H4150=\"Fideicomiso/Fondo\",'Beneificiarios Finales'!H4150=\"PJ No Residente\"),'Beneificiarios Finales'!H4150,\"\")","v":""},{"$f":"IF(OR('Beneificiarios Finales'!H4150=\"NIT\",'Beneificiarios Finales'!H4150=\"Fideicomiso/Fondo\",'Beneificiarios Finales'!H4150=\"PJ No Residente\"),'Beneificiarios Finales'!B4152,\"\")","v":""}]
[{"$f":"IF(OR('Beneificiarios Finales'!H4184=\"NIT\",'Beneificiarios Finales'!H4184=\"Fideicomiso/Fondo\",'Beneificiarios Finales'!H4184=\"PJ No Residente\"),'Beneificiarios Finales'!B4188,\"\")","v":""},{"$f":"IFERROR(INDEX(TablaNivelCUATRO[PJNivelCuatro],_xlfn.AGGREGATE(15,6,(ROW(TablaNivelCUATRO[PJNivelCuatro])-ROW(TablaNivelCUATRO[#Headers]))/(TablaNivelCUATRO[PJNivelCuatro]<>\"\"),ROWS($B$485:TablaNivelCUATRO[[#This Row],[AuxCuatro]]))),\"\")","v":""},{"$f":"IF(OR('Beneificiarios Finales'!H4184=\"NIT\",'Beneificiarios Finales'!H4184=\"Fideicomiso/Fondo\",'Beneificiarios Finales'!H4184=\"PJ No Residente\"),'Beneificiarios Finales'!H4184,\"\")","v":""},{"$f":"IF(OR('Beneificiarios Finales'!H4184=\"NIT\",'Beneificiarios Finales'!H4184=\"Fideicomiso/Fondo\",'Beneificiarios Finales'!H4184=\"PJ No Residente\"),'Beneificiarios Finales'!B4186,\"\")","v":""}]
[{"$f":"IF(OR('Beneificiarios Finales'!H4218=\"NIT\",'Beneificiarios Finales'!H4218=\"Fideicomiso/Fondo\",'Beneificiarios Finales'!H4218=\"PJ No Residente\"),'Beneificiarios Finales'!B4222,\"\")","v":""},{"$f":"IFERROR(INDEX(TablaNivelCUATRO[PJNivelCuatro],_xlfn.AGGREGATE(15,6,(ROW(TablaNivelCUATRO[PJNivelCuatro])-ROW(TablaNivelCUATRO[#Headers]))/(TablaNivelCUATRO[PJNivelCuatro]<>\"\"),ROWS($B$485:TablaNivelCUATRO[[#This Row],[AuxCuatro]]))),\"\")","v":""},{"$f":"IF(OR('Beneificiarios Finales'!H4218=\"NIT\",'Beneificiarios Finales'!H4218=\"Fideicomiso/Fondo\",'Beneificiarios Finales'!H4218=\"PJ No Residente\"),'Beneificiarios Finales'!H4218,\"\")","v":""},{"$f":"IF(OR('Beneificiarios Finales'!H4218=\"NIT\",'Beneificiarios Finales'!H4218=\"Fideicomiso/Fondo\",'Beneificiarios Finales'!H4218=\"PJ No Residente\"),'Beneificiarios Finales'!B4220,\"\")","v":""}]
[{"$f":"IF(OR('Beneificiarios Finales'!H4252=\"NIT\",'Beneificiarios Finales'!H4252=\"Fideicomiso/Fondo\",'Beneificiarios Finales'!H4252=\"PJ No Residente\"),'Beneificiarios Finales'!B4256,\"\")","v":""},{"$f":"IFERROR(INDEX(TablaNivelCUATRO[PJNivelCuatro],_xlfn.AGGREGATE(15,6,(ROW(TablaNivelCUATRO[PJNivelCuatro])-ROW(TablaNivelCUATRO[#Headers]))/(TablaNivelCUATRO[PJNivelCuatro]<>\"\"),ROWS($B$485:TablaNivelCUATRO[[#This Row],[AuxCuatro]]))),\"\")","v":""},{"$f":"IF(OR('Beneificiarios Finales'!H4252=\"NIT\",'Beneificiarios Finales'!H4252=\"Fideicomiso/Fondo\",'Beneificiarios Finales'!H4252=\"PJ No Residente\"),'Beneificiarios Finales'!H4252,\"\")","v":""},{"$f":"IF(OR('Beneificiarios Finales'!H4252=\"NIT\",'Beneificiarios Finales'!H4252=\"Fideicomiso/Fondo\",'Beneificiarios Finales'!H4252=\"PJ No Residente\"),'Beneificiarios Finales'!B4254,\"\")","v":""}]
[{"$f":"IF(OR('Beneificiarios Finales'!H4286=\"NIT\",'Beneificiarios Finales'!H4286=\"Fideicomiso/Fondo\",'Beneificiarios Finales'!H4286=\"PJ No Residente\"),'Beneificiarios Finales'!B4290,\"\")","v":""},{"$f":"IFERROR(INDEX(TablaNivelCUATRO[PJNivelCuatro],_xlfn.AGGREGATE(15,6,(ROW(TablaNivelCUATRO[PJNivelCuatro])-ROW(TablaNivelCUATRO[#Headers]))/(TablaNivelCUATRO[PJNivelCuatro]<>\"\"),ROWS($B$485:TablaNivelCUATRO[[#This Row],[AuxCuatro]]))),\"\")","v":""},{"$f":"IF(OR('Beneificiarios Finales'!H4286=\"NIT\",'Beneificiarios Finales'!H4286=\"Fideicomiso/Fondo\",'Beneificiarios Finales'!H4286=\"PJ No Residente\"),'Beneificiarios Finales'!H4286,\"\")","v":""},{"$f":"IF(OR('Beneificiarios Finales'!H4286=\"NIT\",'Beneificiarios Finales'!H4286=\"Fideicomiso/Fondo\",'Beneificiarios Finales'!H4286=\"PJ No Residente\"),'Beneificiarios Finales'!B4288,\"\")","v":""}]
[{"$f":"IF(OR('Beneificiarios Finales'!H4320=\"NIT\",'Beneificiarios Finales'!H4320=\"Fideicomiso/Fondo\",'Beneificiarios Finales'!H4320=\"PJ No Residente\"),'Beneificiarios Finales'!B4324,\"\")","v":""},{"$f":"IFERROR(INDEX(TablaNivelCUATRO[PJNivelCuatro],_xlfn.AGGREGATE(15,6,(ROW(TablaNivelCUATRO[PJNivelCuatro])-ROW(TablaNivelCUATRO[#Headers]))/(TablaNivelCUATRO[PJNivelCuatro]<>\"\"),ROWS($B$485:TablaNivelCUATRO[[#This Row],[AuxCuatro]]))),\"\")","v":""},{"$f":"IF(OR('Beneificiarios Finales'!H4320=\"NIT\",'Beneificiarios Finales'!H4320=\"Fideicomiso/Fondo\",'Beneificiarios Finales'!H4320=\"PJ No Residente\"),'Beneificiarios Finales'!H4320,\"\")","v":""},{"$f":"IF(OR('Beneificiarios Finales'!H4320=\"NIT\",'Beneificiarios Finales'!H4320=\"Fideicomiso/Fondo\",'Beneificiarios Finales'!H4320=\"PJ No Residente\"),'Beneificiarios Finales'!B4322,\"\")","v":""}]
[{"$f":"IF(OR('Beneificiarios Finales'!H4354=\"NIT\",'Beneificiarios Finales'!H4354=\"Fideicomiso/Fondo\",'Beneificiarios Finales'!H4354=\"PJ No Residente\"),'Beneificiarios Finales'!B4358,\"\")","v":""},{"$f":"IFERROR(INDEX(TablaNivelCUATRO[PJNivelCuatro],_xlfn.AGGREGATE(15,6,(ROW(TablaNivelCUATRO[PJNivelCuatro])-ROW(TablaNivelCUATRO[#Headers]))/(TablaNivelCUATRO[PJNivelCuatro]<>\"\"),ROWS($B$485:TablaNivelCUATRO[[#This Row],[AuxCuatro]]))),\"\")","v":""},{"$f":"IF(OR('Beneificiarios Finales'!H4354=\"NIT\",'Beneificiarios Finales'!H4354=\"Fideicomiso/Fondo\",'Beneificiarios Finales'!H4354=\"PJ No Residente\"),'Beneificiarios Finales'!H4354,\"\")","v":""},{"$f":"IF(OR('Beneificiarios Finales'!H4354=\"NIT\",'Beneificiarios Finales'!H4354=\"Fideicomiso/Fondo\",'Beneificiarios Finales'!H4354=\"PJ No Residente\"),'Beneificiarios Finales'!B4356,\"\")","v":""}]
[{"$f":"IF(OR('Beneificiarios Finales'!H4388=\"NIT\",'Beneificiarios Finales'!H4388=\"Fideicomiso/Fondo\",'Beneificiarios Finales'!H4388=\"PJ No Residente\"),'Beneificiarios Finales'!B4392,\"\")","v":""},{"$f":"IFERROR(INDEX(TablaNivelCUATRO[PJNivelCuatro],_xlfn.AGGREGATE(15,6,(ROW(TablaNivelCUATRO[PJNivelCuatro])-ROW(TablaNivelCUATRO[#Headers]))/(TablaNivelCUATRO[PJNivelCuatro]<>\"\"),ROWS($B$485:TablaNivelCUATRO[[#This Row],[AuxCuatro]]))),\"\")","v":""},{"$f":"IF(OR('Beneificiarios Finales'!H4388=\"NIT\",'Beneificiarios Finales'!H4388=\"Fideicomiso/Fondo\",'Beneificiarios Finales'!H4388=\"PJ No Residente\"),'Beneificiarios Finales'!H4388,\"\")","v":""},{"$f":"IF(OR('Beneificiarios Finales'!H4388=\"NIT\",'Beneificiarios Finales'!H4388=\"Fideicomiso/Fondo\",'Beneificiarios Finales'!H4388=\"PJ No Residente\"),'Beneificiarios Finales'!B4390,\"\")","v":""}]
[{"$f":"IF(OR('Beneificiarios Finales'!H4422=\"NIT\",'Beneificiarios Finales'!H4422=\"Fideicomiso/Fondo\",'Beneificiarios Finales'!H4422=\"PJ No Residente\"),'Beneificiarios Finales'!B4426,\"\")","v":""},{"$f":"IFERROR(INDEX(TablaNivelCUATRO[PJNivelCuatro],_xlfn.AGGREGATE(15,6,(ROW(TablaNivelCUATRO[PJNivelCuatro])-ROW(TablaNivelCUATRO[#Headers]))/(TablaNivelCUATRO[PJNivelCuatro]<>\"\"),ROWS($B$485:TablaNivelCUATRO[[#This Row],[AuxCuatro]]))),\"\")","v":""},{"$f":"IF(OR('Beneificiarios Finales'!H4422=\"NIT\",'Beneificiarios Finales'!H4422=\"Fideicomiso/Fondo\",'Beneificiarios Finales'!H4422=\"PJ No Residente\"),'Beneificiarios Finales'!H4422,\"\")","v":""},{"$f":"IF(OR('Beneificiarios Finales'!H4422=\"NIT\",'Beneificiarios Finales'!H4422=\"Fideicomiso/Fondo\",'Beneificiarios Finales'!H4422=\"PJ No Residente\"),'Beneificiarios Finales'!B4424,\"\")","v":""}]
[{"$f":"IF(OR('Beneificiarios Finales'!H4456=\"NIT\",'Beneificiarios Finales'!H4456=\"Fideicomiso/Fondo\",'Beneificiarios Finales'!H4456=\"PJ No Residente\"),'Beneificiarios Finales'!B4460,\"\")","v":""},{"$f":"IFERROR(INDEX(TablaNivelCUATRO[PJNivelCuatro],_xlfn.AGGREGATE(15,6,(ROW(TablaNivelCUATRO[PJNivelCuatro])-ROW(TablaNivelCUATRO[#Headers]))/(TablaNivelCUATRO[PJNivelCuatro]<>\"\"),ROWS($B$485:TablaNivelCUATRO[[#This Row],[AuxCuatro]]))),\"\")","v":""},{"$f":"IF(OR('Beneificiarios Finales'!H4456=\"NIT\",'Beneificiarios Finales'!H4456=\"Fideicomiso/Fondo\",'Beneificiarios Finales'!H4456=\"PJ No Residente\"),'Beneificiarios Finales'!H4456,\"\")","v":""},{"$f":"IF(OR('Beneificiarios Finales'!H4456=\"NIT\",'Beneificiarios Finales'!H4456=\"Fideicomiso/Fondo\",'Beneificiarios Finales'!H4456=\"PJ No Residente\"),'Beneificiarios Finales'!B4458,\"\")","v":""}]
[{"$f":"IF(OR('Beneificiarios Finales'!H4490=\"NIT\",'Beneificiarios Finales'!H4490=\"Fideicomiso/Fondo\",'Beneificiarios Finales'!H4490=\"PJ No Residente\"),'Beneificiarios Finales'!B4494,\"\")","v":""},{"$f":"IFERROR(INDEX(TablaNivelCUATRO[PJNivelCuatro],_xlfn.AGGREGATE(15,6,(ROW(TablaNivelCUATRO[PJNivelCuatro])-ROW(TablaNivelCUATRO[#Headers]))/(TablaNivelCUATRO[PJNivelCuatro]<>\"\"),ROWS($B$485:TablaNivelCUATRO[[#This Row],[AuxCuatro]]))),\"\")","v":""},{"$f":"IF(OR('Beneificiarios Finales'!H4490=\"NIT\",'Beneificiarios Finales'!H4490=\"Fideicomiso/Fondo\",'Beneificiarios Finales'!H4490=\"PJ No Residente\"),'Beneificiarios Finales'!H4490,\"\")","v":""},{"$f":"IF(OR('Beneificiarios Finales'!H4490=\"NIT\",'Beneificiarios Finales'!H4490=\"Fideicomiso/Fondo\",'Beneificiarios Finales'!H4490=\"PJ No Residente\"),'Beneificiarios Finales'!B4492,\"\")","v":""}]
[{"$f":"IF(OR('Beneificiarios Finales'!H4524=\"NIT\",'Beneificiarios Finales'!H4524=\"Fideicomiso/Fondo\",'Beneificiarios Finales'!H4524=\"PJ No Residente\"),'Beneificiarios Finales'!B4528,\"\")","v":""},{"$f":"IFERROR(INDEX(TablaNivelCUATRO[PJNivelCuatro],_xlfn.AGGREGATE(15,6,(ROW(TablaNivelCUATRO[PJNivelCuatro])-ROW(TablaNivelCUATRO[#Headers]))/(TablaNivelCUATRO[PJNivelCuatro]<>\"\"),ROWS($B$485:TablaNivelCUATRO[[#This Row],[AuxCuatro]]))),\"\")","v":""},{"$f":"IF(OR('Beneificiarios Finales'!H4524=\"NIT\",'Beneificiarios Finales'!H4524=\"Fideicomiso/Fondo\",'Beneificiarios Finales'!H4524=\"PJ No Residente\"),'Beneificiarios Finales'!H4524,\"\")","v":""},{"$f":"IF(OR('Beneificiarios Finales'!H4524=\"NIT\",'Beneificiarios Finales'!H4524=\"Fideicomiso/Fondo\",'Beneificiarios Finales'!H4524=\"PJ No Residente\"),'Beneificiarios Finales'!B4526,\"\")","v":""}]
[{"$f":"IF(OR('Beneificiarios Finales'!H4558=\"NIT\",'Beneificiarios Finales'!H4558=\"Fideicomiso/Fondo\",'Beneificiarios Finales'!H4558=\"PJ No Residente\"),'Beneificiarios Finales'!B4562,\"\")","v":""},{"$f":"IFERROR(INDEX(TablaNivelCUATRO[PJNivelCuatro],_xlfn.AGGREGATE(15,6,(ROW(TablaNivelCUATRO[PJNivelCuatro])-ROW(TablaNivelCUATRO[#Headers]))/(TablaNivelCUATRO[PJNivelCuatro]<>\"\"),ROWS($B$485:TablaNivelCUATRO[[#This Row],[AuxCuatro]]))),\"\")","v":""},{"$f":"IF(OR('Beneificiarios Finales'!H4558=\"NIT\",'Beneificiarios Finales'!H4558=\"Fideicomiso/Fondo\",'Beneificiarios Finales'!H4558=\"PJ No Residente\"),'Beneificiarios Finales'!H4558,\"\")","v":""},{"$f":"IF(OR('Beneificiarios Finales'!H4558=\"NIT\",'Beneificiarios Finales'!H4558=\"Fideicomiso/Fondo\",'Beneificiarios Finales'!H4558=\"PJ No Residente\"),'Beneificiarios Finales'!B4560,\"\")","v":""}]
[{"$f":"IF(OR('Beneificiarios Finales'!H4592=\"NIT\",'Beneificiarios Finales'!H4592=\"Fideicomiso/Fondo\",'Beneificiarios Finales'!H4592=\"PJ No Residente\"),'Beneificiarios Finales'!B4596,\"\")","v":""},{"$f":"IFERROR(INDEX(TablaNivelCUATRO[PJNivelCuatro],_xlfn.AGGREGATE(15,6,(ROW(TablaNivelCUATRO[PJNivelCuatro])-ROW(TablaNivelCUATRO[#Headers]))/(TablaNivelCUATRO[PJNivelCuatro]<>\"\"),ROWS($B$485:TablaNivelCUATRO[[#This Row],[AuxCuatro]]))),\"\")","v":""},{"$f":"IF(OR('Beneificiarios Finales'!H4592=\"NIT\",'Beneificiarios Finales'!H4592=\"Fideicomiso/Fondo\",'Beneificiarios Finales'!H4592=\"PJ No Residente\"),'Beneificiarios Finales'!H4592,\"\")","v":""},{"$f":"IF(OR('Beneificiarios Finales'!H4592=\"NIT\",'Beneificiarios Finales'!H4592=\"Fideicomiso/Fondo\",'Beneificiarios Finales'!H4592=\"PJ No Residente\"),'Beneificiarios Finales'!B4594,\"\")","v":""}]
[{"$f":"IF(OR('Beneificiarios Finales'!H4626=\"NIT\",'Beneificiarios Finales'!H4626=\"Fideicomiso/Fondo\",'Beneificiarios Finales'!H4626=\"PJ No Residente\"),'Beneificiarios Finales'!B4630,\"\")","v":""},{"$f":"IFERROR(INDEX(TablaNivelCUATRO[PJNivelCuatro],_xlfn.AGGREGATE(15,6,(ROW(TablaNivelCUATRO[PJNivelCuatro])-ROW(TablaNivelCUATRO[#Headers]))/(TablaNivelCUATRO[PJNivelCuatro]<>\"\"),ROWS($B$485:TablaNivelCUATRO[[#This Row],[AuxCuatro]]))),\"\")","v":""},{"$f":"IF(OR('Beneificiarios Finales'!H4626=\"NIT\",'Beneificiarios Finales'!H4626=\"Fideicomiso/Fondo\",'Beneificiarios Finales'!H4626=\"PJ No Residente\"),'Beneificiarios Finales'!H4626,\"\")","v":""},{"$f":"IF(OR('Beneificiarios Finales'!H4626=\"NIT\",'Beneificiarios Finales'!H4626=\"Fideicomiso/Fondo\",'Beneificiarios Finales'!H4626=\"PJ No Residente\"),'Beneificiarios Finales'!B4628,\"\")","v":""}]
[{"$f":"IF(OR('Beneificiarios Finales'!H4660=\"NIT\",'Beneificiarios Finales'!H4660=\"Fideicomiso/Fondo\",'Beneificiarios Finales'!H4660=\"PJ No Residente\"),'Beneificiarios Finales'!B4664,\"\")","v":""},{"$f":"IFERROR(INDEX(TablaNivelCUATRO[PJNivelCuatro],_xlfn.AGGREGATE(15,6,(ROW(TablaNivelCUATRO[PJNivelCuatro])-ROW(TablaNivelCUATRO[#Headers]))/(TablaNivelCUATRO[PJNivelCuatro]<>\"\"),ROWS($B$485:TablaNivelCUATRO[[#This Row],[AuxCuatro]]))),\"\")","v":""},{"$f":"IF(OR('Beneificiarios Finales'!H4660=\"NIT\",'Beneificiarios Finales'!H4660=\"Fideicomiso/Fondo\",'Beneificiarios Finales'!H4660=\"PJ No Residente\"),'Beneificiarios Finales'!H4660,\"\")","v":""},{"$f":"IF(OR('Beneificiarios Finales'!H4660=\"NIT\",'Beneificiarios Finales'!H4660=\"Fideicomiso/Fondo\",'Beneificiarios Finales'!H4660=\"PJ No Residente\"),'Beneificiarios Finales'!B4662,\"\")","v":""}]
[{"$f":"IF(OR('Beneificiarios Finales'!H4694=\"NIT\",'Beneificiarios Finales'!H4694=\"Fideicomiso/Fondo\",'Beneificiarios Finales'!H4694=\"PJ No Residente\"),'Beneificiarios Finales'!B4698,\"\")","v":""},{"$f":"IFERROR(INDEX(TablaNivelCUATRO[PJNivelCuatro],_xlfn.AGGREGATE(15,6,(ROW(TablaNivelCUATRO[PJNivelCuatro])-ROW(TablaNivelCUATRO[#Headers]))/(TablaNivelCUATRO[PJNivelCuatro]<>\"\"),ROWS($B$485:TablaNivelCUATRO[[#This Row],[AuxCuatro]]))),\"\")","v":""},{"$f":"IF(OR('Beneificiarios Finales'!H4694=\"NIT\",'Beneificiarios Finales'!H4694=\"Fideicomiso/Fondo\",'Beneificiarios Finales'!H4694=\"PJ No Residente\"),'Beneificiarios Finales'!H4694,\"\")","v":""},{"$f":"IF(OR('Beneificiarios Finales'!H4694=\"NIT\",'Beneificiarios Finales'!H4694=\"Fideicomiso/Fondo\",'Beneificiarios Finales'!H4694=\"PJ No Residente\"),'Beneificiarios Finales'!B4696,\"\")","v":""}]
[{"$f":"IF(OR('Beneificiarios Finales'!H4728=\"NIT\",'Beneificiarios Finales'!H4728=\"Fideicomiso/Fondo\",'Beneificiarios Finales'!H4728=\"PJ No Residente\"),'Beneificiarios Finales'!B4732,\"\")","v":""},{"$f":"IFERROR(INDEX(TablaNivelCUATRO[PJNivelCuatro],_xlfn.AGGREGATE(15,6,(ROW(TablaNivelCUATRO[PJNivelCuatro])-ROW(TablaNivelCUATRO[#Headers]))/(TablaNivelCUATRO[PJNivelCuatro]<>\"\"),ROWS($B$485:TablaNivelCUATRO[[#This Row],[AuxCuatro]]))),\"\")","v":""},{"$f":"IF(OR('Beneificiarios Finales'!H4728=\"NIT\",'Beneificiarios Finales'!H4728=\"Fideicomiso/Fondo\",'Beneificiarios Finales'!H4728=\"PJ No Residente\"),'Beneificiarios Finales'!H4728,\"\")","v":""},{"$f":"IF(OR('Beneificiarios Finales'!H4728=\"NIT\",'Beneificiarios Finales'!H4728=\"Fideicomiso/Fondo\",'Beneificiarios Finales'!H4728=\"PJ No Residente\"),'Beneificiarios Finales'!B4730,\"\")","v":""}]
[{"$f":"IF(OR('Beneificiarios Finales'!H4762=\"NIT\",'Beneificiarios Finales'!H4762=\"Fideicomiso/Fondo\",'Beneificiarios Finales'!H4762=\"PJ No Residente\"),'Beneificiarios Finales'!B4766,\"\")","v":""},{"$f":"IFERROR(INDEX(TablaNivelCUATRO[PJNivelCuatro],_xlfn.AGGREGATE(15,6,(ROW(TablaNivelCUATRO[PJNivelCuatro])-ROW(TablaNivelCUATRO[#Headers]))/(TablaNivelCUATRO[PJNivelCuatro]<>\"\"),ROWS($B$485:TablaNivelCUATRO[[#This Row],[AuxCuatro]]))),\"\")","v":""},{"$f":"IF(OR('Beneificiarios Finales'!H4762=\"NIT\",'Beneificiarios Finales'!H4762=\"Fideicomiso/Fondo\",'Beneificiarios Finales'!H4762=\"PJ No Residente\"),'Beneificiarios Finales'!H4762,\"\")","v":""},{"$f":"IF(OR('Beneificiarios Finales'!H4762=\"NIT\",'Beneificiarios Finales'!H4762=\"Fideicomiso/Fondo\",'Beneificiarios Finales'!H4762=\"PJ No Residente\"),'Beneificiarios Finales'!B4764,\"\")","v":""}]
[{"$f":"IF(OR('Beneificiarios Finales'!H4796=\"NIT\",'Beneificiarios Finales'!H4796=\"Fideicomiso/Fondo\",'Beneificiarios Finales'!H4796=\"PJ No Residente\"),'Beneificiarios Finales'!B4800,\"\")","v":""},{"$f":"IFERROR(INDEX(TablaNivelCUATRO[PJNivelCuatro],_xlfn.AGGREGATE(15,6,(ROW(TablaNivelCUATRO[PJNivelCuatro])-ROW(TablaNivelCUATRO[#Headers]))/(TablaNivelCUATRO[PJNivelCuatro]<>\"\"),ROWS($B$485:TablaNivelCUATRO[[#This Row],[AuxCuatro]]))),\"\")","v":""},{"$f":"IF(OR('Beneificiarios Finales'!H4796=\"NIT\",'Beneificiarios Finales'!H4796=\"Fideicomiso/Fondo\",'Beneificiarios Finales'!H4796=\"PJ No Residente\"),'Beneificiarios Finales'!H4796,\"\")","v":""},{"$f":"IF(OR('Beneificiarios Finales'!H4796=\"NIT\",'Beneificiarios Finales'!H4796=\"Fideicomiso/Fondo\",'Beneificiarios Finales'!H4796=\"PJ No Residente\"),'Beneificiarios Finales'!B4798,\"\")","v":""}]
[{"$f":"IF(OR('Beneificiarios Finales'!H4830=\"NIT\",'Beneificiarios Finales'!H4830=\"Fideicomiso/Fondo\",'Beneificiarios Finales'!H4830=\"PJ No Residente\"),'Beneificiarios Finales'!B4834,\"\")","v":""},{"$f":"IFERROR(INDEX(TablaNivelCUATRO[PJNivelCuatro],_xlfn.AGGREGATE(15,6,(ROW(TablaNivelCUATRO[PJNivelCuatro])-ROW(TablaNivelCUATRO[#Headers]))/(TablaNivelCUATRO[PJNivelCuatro]<>\"\"),ROWS($B$485:TablaNivelCUATRO[[#This Row],[AuxCuatro]]))),\"\")","v":""},{"$f":"IF(OR('Beneificiarios Finales'!H4830=\"NIT\",'Beneificiarios Finales'!H4830=\"Fideicomiso/Fondo\",'Beneificiarios Finales'!H4830=\"PJ No Residente\"),'Beneificiarios Finales'!H4830,\"\")","v":""},{"$f":"IF(OR('Beneificiarios Finales'!H4830=\"NIT\",'Beneificiarios Finales'!H4830=\"Fideicomiso/Fondo\",'Beneificiarios Finales'!H4830=\"PJ No Residente\"),'Beneificiarios Finales'!B4832,\"\")","v":""}]
[{"$f":"IF(OR('Beneificiarios Finales'!H4864=\"NIT\",'Beneificiarios Finales'!H4864=\"Fideicomiso/Fondo\",'Beneificiarios Finales'!H4864=\"PJ No Residente\"),'Beneificiarios Finales'!B4868,\"\")","v":""},{"$f":"IFERROR(INDEX(TablaNivelCUATRO[PJNivelCuatro],_xlfn.AGGREGATE(15,6,(ROW(TablaNivelCUATRO[PJNivelCuatro])-ROW(TablaNivelCUATRO[#Headers]))/(TablaNivelCUATRO[PJNivelCuatro]<>\"\"),ROWS($B$485:TablaNivelCUATRO[[#This Row],[AuxCuatro]]))),\"\")","v":""},{"$f":"IF(OR('Beneificiarios Finales'!H4864=\"NIT\",'Beneificiarios Finales'!H4864=\"Fideicomiso/Fondo\",'Beneificiarios Finales'!H4864=\"PJ No Residente\"),'Beneificiarios Finales'!H4864,\"\")","v":""},{"$f":"IF(OR('Beneificiarios Finales'!H4864=\"NIT\",'Beneificiarios Finales'!H4864=\"Fideicomiso/Fondo\",'Beneificiarios Finales'!H4864=\"PJ No Residente\"),'Beneificiarios Finales'!B4866,\"\")","v":""}]
[{"$f":"IF(OR('Beneificiarios Finales'!H4898=\"NIT\",'Beneificiarios Finales'!H4898=\"Fideicomiso/Fondo\",'Beneificiarios Finales'!H4898=\"PJ No Residente\"),'Beneificiarios Finales'!B4902,\"\")","v":""},{"$f":"IFERROR(INDEX(TablaNivelCUATRO[PJNivelCuatro],_xlfn.AGGREGATE(15,6,(ROW(TablaNivelCUATRO[PJNivelCuatro])-ROW(TablaNivelCUATRO[#Headers]))/(TablaNivelCUATRO[PJNivelCuatro]<>\"\"),ROWS($B$485:TablaNivelCUATRO[[#This Row],[AuxCuatro]]))),\"\")","v":""},{"$f":"IF(OR('Beneificiarios Finales'!H4898=\"NIT\",'Beneificiarios Finales'!H4898=\"Fideicomiso/Fondo\",'Beneificiarios Finales'!H4898=\"PJ No Residente\"),'Beneificiarios Finales'!H4898,\"\")","v":""},{"$f":"IF(OR('Beneificiarios Finales'!H4898=\"NIT\",'Beneificiarios Finales'!H4898=\"Fideicomiso/Fondo\",'Beneificiarios Finales'!H4898=\"PJ No Residente\"),'Beneificiarios Finales'!B4900,\"\")","v":""}]
[{"$f":"IF(OR('Beneificiarios Finales'!H4932=\"NIT\",'Beneificiarios Finales'!H4932=\"Fideicomiso/Fondo\",'Beneificiarios Finales'!H4932=\"PJ No Residente\"),'Beneificiarios Finales'!B4936,\"\")","v":""},{"$f":"IFERROR(INDEX(TablaNivelCUATRO[PJNivelCuatro],_xlfn.AGGREGATE(15,6,(ROW(TablaNivelCUATRO[PJNivelCuatro])-ROW(TablaNivelCUATRO[#Headers]))/(TablaNivelCUATRO[PJNivelCuatro]<>\"\"),ROWS($B$485:TablaNivelCUATRO[[#This Row],[AuxCuatro]]))),\"\")","v":""},{"$f":"IF(OR('Beneificiarios Finales'!H4932=\"NIT\",'Beneificiarios Finales'!H4932=\"Fideicomiso/Fondo\",'Beneificiarios Finales'!H4932=\"PJ No Residente\"),'Beneificiarios Finales'!H4932,\"\")","v":""},{"$f":"IF(OR('Beneificiarios Finales'!H4932=\"NIT\",'Beneificiarios Finales'!H4932=\"Fideicomiso/Fondo\",'Beneificiarios Finales'!H4932=\"PJ No Residente\"),'Beneificiarios Finales'!B4934,\"\")","v":""}]
[{"$f":"IF(OR('Beneificiarios Finales'!H4966=\"NIT\",'Beneificiarios Finales'!H4966=\"Fideicomiso/Fondo\",'Beneificiarios Finales'!H4966=\"PJ No Residente\"),'Beneificiarios Finales'!B4970,\"\")","v":""},{"$f":"IFERROR(INDEX(TablaNivelCUATRO[PJNivelCuatro],_xlfn.AGGREGATE(15,6,(ROW(TablaNivelCUATRO[PJNivelCuatro])-ROW(TablaNivelCUATRO[#Headers]))/(TablaNivelCUATRO[PJNivelCuatro]<>\"\"),ROWS($B$485:TablaNivelCUATRO[[#This Row],[AuxCuatro]]))),\"\")","v":""},{"$f":"IF(OR('Beneificiarios Finales'!H4966=\"NIT\",'Beneificiarios Finales'!H4966=\"Fideicomiso/Fondo\",'Beneificiarios Finales'!H4966=\"PJ No Residente\"),'Beneificiarios Finales'!H4966,\"\")","v":""},{"$f":"IF(OR('Beneificiarios Finales'!H4966=\"NIT\",'Beneificiarios Finales'!H4966=\"Fideicomiso/Fondo\",'Beneificiarios Finales'!H4966=\"PJ No Residente\"),'Beneificiarios Finales'!B4968,\"\")","v":""}]
[{"$f":"IF(OR('Beneificiarios Finales'!H5000=\"NIT\",'Beneificiarios Finales'!H5000=\"Fideicomiso/Fondo\",'Beneificiarios Finales'!H5000=\"PJ No Residente\"),'Beneificiarios Finales'!B5004,\"\")","v":""},{"$f":"IFERROR(INDEX(TablaNivelCUATRO[PJNivelCuatro],_xlfn.AGGREGATE(15,6,(ROW(TablaNivelCUATRO[PJNivelCuatro])-ROW(TablaNivelCUATRO[#Headers]))/(TablaNivelCUATRO[PJNivelCuatro]<>\"\"),ROWS($B$485:TablaNivelCUATRO[[#This Row],[AuxCuatro]]))),\"\")","v":""},{"$f":"IF(OR('Beneificiarios Finales'!H5000=\"NIT\",'Beneificiarios Finales'!H5000=\"Fideicomiso/Fondo\",'Beneificiarios Finales'!H5000=\"PJ No Residente\"),'Beneificiarios Finales'!H5000,\"\")","v":""},{"$f":"IF(OR('Beneificiarios Finales'!H5000=\"NIT\",'Beneificiarios Finales'!H5000=\"Fideicomiso/Fondo\",'Beneificiarios Finales'!H5000=\"PJ No Residente\"),'Beneificiarios Finales'!B5002,\"\")","v":""}]
[{"$f":"IF(OR('Beneificiarios Finales'!H5034=\"NIT\",'Beneificiarios Finales'!H5034=\"Fideicomiso/Fondo\",'Beneificiarios Finales'!H5034=\"PJ No Residente\"),'Beneificiarios Finales'!B5038,\"\")","v":""},{"$f":"IFERROR(INDEX(TablaNivelCUATRO[PJNivelCuatro],_xlfn.AGGREGATE(15,6,(ROW(TablaNivelCUATRO[PJNivelCuatro])-ROW(TablaNivelCUATRO[#Headers]))/(TablaNivelCUATRO[PJNivelCuatro]<>\"\"),ROWS($B$485:TablaNivelCUATRO[[#This Row],[AuxCuatro]]))),\"\")","v":""},{"$f":"IF(OR('Beneificiarios Finales'!H5034=\"NIT\",'Beneificiarios Finales'!H5034=\"Fideicomiso/Fondo\",'Beneificiarios Finales'!H5034=\"PJ No Residente\"),'Beneificiarios Finales'!H5034,\"\")","v":""},{"$f":"IF(OR('Beneificiarios Finales'!H5034=\"NIT\",'Beneificiarios Finales'!H5034=\"Fideicomiso/Fondo\",'Beneificiarios Finales'!H5034=\"PJ No Residente\"),'Beneificiarios Finales'!B5036,\"\")","v":""}]
[{"$f":"IF(OR('Beneificiarios Finales'!H5068=\"NIT\",'Beneificiarios Finales'!H5068=\"Fideicomiso/Fondo\",'Beneificiarios Finales'!H5068=\"PJ No Residente\"),'Beneificiarios Finales'!B5072,\"\")","v":""},{"$f":"IFERROR(INDEX(TablaNivelCUATRO[PJNivelCuatro],_xlfn.AGGREGATE(15,6,(ROW(TablaNivelCUATRO[PJNivelCuatro])-ROW(TablaNivelCUATRO[#Headers]))/(TablaNivelCUATRO[PJNivelCuatro]<>\"\"),ROWS($B$485:TablaNivelCUATRO[[#This Row],[AuxCuatro]]))),\"\")","v":""},{"$f":"IF(OR('Beneificiarios Finales'!H5068=\"NIT\",'Beneificiarios Finales'!H5068=\"Fideicomiso/Fondo\",'Beneificiarios Finales'!H5068=\"PJ No Residente\"),'Beneificiarios Finales'!H5068,\"\")","v":""},{"$f":"IF(OR('Beneificiarios Finales'!H5068=\"NIT\",'Beneificiarios Finales'!H5068=\"Fideicomiso/Fondo\",'Beneificiarios Finales'!H5068=\"PJ No Residente\"),'Beneificiarios Finales'!B5070,\"\")","v":""}]
[{"$f":"IF(OR('Beneificiarios Finales'!H5102=\"NIT\",'Beneificiarios Finales'!H5102=\"Fideicomiso/Fondo\",'Beneificiarios Finales'!H5102=\"PJ No Residente\"),'Beneificiarios Finales'!B5106,\"\")","v":""},{"$f":"IFERROR(INDEX(TablaNivelCUATRO[PJNivelCuatro],_xlfn.AGGREGATE(15,6,(ROW(TablaNivelCUATRO[PJNivelCuatro])-ROW(TablaNivelCUATRO[#Headers]))/(TablaNivelCUATRO[PJNivelCuatro]<>\"\"),ROWS($B$485:TablaNivelCUATRO[[#This Row],[AuxCuatro]]))),\"\")","v":""},{"$f":"IF(OR('Beneificiarios Finales'!H5102=\"NIT\",'Beneificiarios Finales'!H5102=\"Fideicomiso/Fondo\",'Beneificiarios Finales'!H5102=\"PJ No Residente\"),'Beneificiarios Finales'!H5102,\"\")","v":""},{"$f":"IF(OR('Beneificiarios Finales'!H5102=\"NIT\",'Beneificiarios Finales'!H5102=\"Fideicomiso/Fondo\",'Beneificiarios Finales'!H5102=\"PJ No Residente\"),'Beneificiarios Finales'!B5104,\"\")","v":""}]
[{"$f":"IF(OR('Beneificiarios Finales'!H5136=\"NIT\",'Beneificiarios Finales'!H5136=\"Fideicomiso/Fondo\",'Beneificiarios Finales'!H5136=\"PJ No Residente\"),'Beneificiarios Finales'!B5140,\"\")","v":""},{"$f":"IFERROR(INDEX(TablaNivelCUATRO[PJNivelCuatro],_xlfn.AGGREGATE(15,6,(ROW(TablaNivelCUATRO[PJNivelCuatro])-ROW(TablaNivelCUATRO[#Headers]))/(TablaNivelCUATRO[PJNivelCuatro]<>\"\"),ROWS($B$485:TablaNivelCUATRO[[#This Row],[AuxCuatro]]))),\"\")","v":""},{"$f":"IF(OR('Beneificiarios Finales'!H5136=\"NIT\",'Beneificiarios Finales'!H5136=\"Fideicomiso/Fondo\",'Beneificiarios Finales'!H5136=\"PJ No Residente\"),'Beneificiarios Finales'!H5136,\"\")","v":""},{"$f":"IF(OR('Beneificiarios Finales'!H5136=\"NIT\",'Beneificiarios Finales'!H5136=\"Fideicomiso/Fondo\",'Beneificiarios Finales'!H5136=\"PJ No Residente\"),'Beneificiarios Finales'!B5138,\"\")","v":""}]
[{"$f":"IF(OR('Beneificiarios Finales'!H5170=\"NIT\",'Beneificiarios Finales'!H5170=\"Fideicomiso/Fondo\",'Beneificiarios Finales'!H5170=\"PJ No Residente\"),'Beneificiarios Finales'!B5174,\"\")","v":""},{"$f":"IFERROR(INDEX(TablaNivelCUATRO[PJNivelCuatro],_xlfn.AGGREGATE(15,6,(ROW(TablaNivelCUATRO[PJNivelCuatro])-ROW(TablaNivelCUATRO[#Headers]))/(TablaNivelCUATRO[PJNivelCuatro]<>\"\"),ROWS($B$485:TablaNivelCUATRO[[#This Row],[AuxCuatro]]))),\"\")","v":""},{"$f":"IF(OR('Beneificiarios Finales'!H5170=\"NIT\",'Beneificiarios Finales'!H5170=\"Fideicomiso/Fondo\",'Beneificiarios Finales'!H5170=\"PJ No Residente\"),'Beneificiarios Finales'!H5170,\"\")","v":""},{"$f":"IF(OR('Beneificiarios Finales'!H5170=\"NIT\",'Beneificiarios Finales'!H5170=\"Fideicomiso/Fondo\",'Beneificiarios Finales'!H5170=\"PJ No Residente\"),'Beneificiarios Finales'!B5172,\"\")","v":""}]
[{"$f":"IF(OR('Beneificiarios Finales'!H5204=\"NIT\",'Beneificiarios Finales'!H5204=\"Fideicomiso/Fondo\",'Beneificiarios Finales'!H5204=\"PJ No Residente\"),'Beneificiarios Finales'!B5208,\"\")","v":""},{"$f":"IFERROR(INDEX(TablaNivelCUATRO[PJNivelCuatro],_xlfn.AGGREGATE(15,6,(ROW(TablaNivelCUATRO[PJNivelCuatro])-ROW(TablaNivelCUATRO[#Headers]))/(TablaNivelCUATRO[PJNivelCuatro]<>\"\"),ROWS($B$485:TablaNivelCUATRO[[#This Row],[AuxCuatro]]))),\"\")","v":""},{"$f":"IF(OR('Beneificiarios Finales'!H5204=\"NIT\",'Beneificiarios Finales'!H5204=\"Fideicomiso/Fondo\",'Beneificiarios Finales'!H5204=\"PJ No Residente\"),'Beneificiarios Finales'!H5204,\"\")","v":""},{"$f":"IF(OR('Beneificiarios Finales'!H5204=\"NIT\",'Beneificiarios Finales'!H5204=\"Fideicomiso/Fondo\",'Beneificiarios Finales'!H5204=\"PJ No Residente\"),'Beneificiarios Finales'!B5206,\"\")","v":""}]
[{"$f":"IF(OR('Beneificiarios Finales'!H5238=\"NIT\",'Beneificiarios Finales'!H5238=\"Fideicomiso/Fondo\",'Beneificiarios Finales'!H5238=\"PJ No Residente\"),'Beneificiarios Finales'!B5242,\"\")","v":""},{"$f":"IFERROR(INDEX(TablaNivelCUATRO[PJNivelCuatro],_xlfn.AGGREGATE(15,6,(ROW(TablaNivelCUATRO[PJNivelCuatro])-ROW(TablaNivelCUATRO[#Headers]))/(TablaNivelCUATRO[PJNivelCuatro]<>\"\"),ROWS($B$485:TablaNivelCUATRO[[#This Row],[AuxCuatro]]))),\"\")","v":""},{"$f":"IF(OR('Beneificiarios Finales'!H5238=\"NIT\",'Beneificiarios Finales'!H5238=\"Fideicomiso/Fondo\",'Beneificiarios Finales'!H5238=\"PJ No Residente\"),'Beneificiarios Finales'!H5238,\"\")","v":""},{"$f":"IF(OR('Beneificiarios Finales'!H5238=\"NIT\",'Beneificiarios Finales'!H5238=\"Fideicomiso/Fondo\",'Beneificiarios Finales'!H5238=\"PJ No Residente\"),'Beneificiarios Finales'!B5240,\"\")","v":""}]
[{"$f":"IF(OR('Beneificiarios Finales'!H5272=\"NIT\",'Beneificiarios Finales'!H5272=\"Fideicomiso/Fondo\",'Beneificiarios Finales'!H5272=\"PJ No Residente\"),'Beneificiarios Finales'!B5276,\"\")","v":""},{"$f":"IFERROR(INDEX(TablaNivelCUATRO[PJNivelCuatro],_xlfn.AGGREGATE(15,6,(ROW(TablaNivelCUATRO[PJNivelCuatro])-ROW(TablaNivelCUATRO[#Headers]))/(TablaNivelCUATRO[PJNivelCuatro]<>\"\"),ROWS($B$485:TablaNivelCUATRO[[#This Row],[AuxCuatro]]))),\"\")","v":""},{"$f":"IF(OR('Beneificiarios Finales'!H5272=\"NIT\",'Beneificiarios Finales'!H5272=\"Fideicomiso/Fondo\",'Beneificiarios Finales'!H5272=\"PJ No Residente\"),'Beneificiarios Finales'!H5272,\"\")","v":""},{"$f":"IF(OR('Beneificiarios Finales'!H5272=\"NIT\",'Beneificiarios Finales'!H5272=\"Fideicomiso/Fondo\",'Beneificiarios Finales'!H5272=\"PJ No Residente\"),'Beneificiarios Finales'!B5274,\"\")","v":""}]
[{"$f":"IF(OR('Beneificiarios Finales'!H5306=\"NIT\",'Beneificiarios Finales'!H5306=\"Fideicomiso/Fondo\",'Beneificiarios Finales'!H5306=\"PJ No Residente\"),'Beneificiarios Finales'!B5310,\"\")","v":""},{"$f":"IFERROR(INDEX(TablaNivelCUATRO[PJNivelCuatro],_xlfn.AGGREGATE(15,6,(ROW(TablaNivelCUATRO[PJNivelCuatro])-ROW(TablaNivelCUATRO[#Headers]))/(TablaNivelCUATRO[PJNivelCuatro]<>\"\"),ROWS($B$485:TablaNivelCUATRO[[#This Row],[AuxCuatro]]))),\"\")","v":""},{"$f":"IF(OR('Beneificiarios Finales'!H5306=\"NIT\",'Beneificiarios Finales'!H5306=\"Fideicomiso/Fondo\",'Beneificiarios Finales'!H5306=\"PJ No Residente\"),'Beneificiarios Finales'!H5306,\"\")","v":""},{"$f":"IF(OR('Beneificiarios Finales'!H5306=\"NIT\",'Beneificiarios Finales'!H5306=\"Fideicomiso/Fondo\",'Beneificiarios Finales'!H5306=\"PJ No Residente\"),'Beneificiarios Finales'!B5308,\"\")","v":""}]
[{"$f":"IF(OR('Beneificiarios Finales'!H5340=\"NIT\",'Beneificiarios Finales'!H5340=\"Fideicomiso/Fondo\",'Beneificiarios Finales'!H5340=\"PJ No Residente\"),'Beneificiarios Finales'!B5344,\"\")","v":""},{"$f":"IFERROR(INDEX(TablaNivelCUATRO[PJNivelCuatro],_xlfn.AGGREGATE(15,6,(ROW(TablaNivelCUATRO[PJNivelCuatro])-ROW(TablaNivelCUATRO[#Headers]))/(TablaNivelCUATRO[PJNivelCuatro]<>\"\"),ROWS($B$485:TablaNivelCUATRO[[#This Row],[AuxCuatro]]))),\"\")","v":""},{"$f":"IF(OR('Beneificiarios Finales'!H5340=\"NIT\",'Beneificiarios Finales'!H5340=\"Fideicomiso/Fondo\",'Beneificiarios Finales'!H5340=\"PJ No Residente\"),'Beneificiarios Finales'!H5340,\"\")","v":""},{"$f":"IF(OR('Beneificiarios Finales'!H5340=\"NIT\",'Beneificiarios Finales'!H5340=\"Fideicomiso/Fondo\",'Beneificiarios Finales'!H5340=\"PJ No Residente\"),'Beneificiarios Finales'!B5342,\"\")","v":""}]
[{"$f":"IF(OR('Beneificiarios Finales'!H5374=\"NIT\",'Beneificiarios Finales'!H5374=\"Fideicomiso/Fondo\",'Beneificiarios Finales'!H5374=\"PJ No Residente\"),'Beneificiarios Finales'!B5378,\"\")","v":""},{"$f":"IFERROR(INDEX(TablaNivelCUATRO[PJNivelCuatro],_xlfn.AGGREGATE(15,6,(ROW(TablaNivelCUATRO[PJNivelCuatro])-ROW(TablaNivelCUATRO[#Headers]))/(TablaNivelCUATRO[PJNivelCuatro]<>\"\"),ROWS($B$485:TablaNivelCUATRO[[#This Row],[AuxCuatro]]))),\"\")","v":""},{"$f":"IF(OR('Beneificiarios Finales'!H5374=\"NIT\",'Beneificiarios Finales'!H5374=\"Fideicomiso/Fondo\",'Beneificiarios Finales'!H5374=\"PJ No Residente\"),'Beneificiarios Finales'!H5374,\"\")","v":""},{"$f":"IF(OR('Beneificiarios Finales'!H5374=\"NIT\",'Beneificiarios Finales'!H5374=\"Fideicomiso/Fondo\",'Beneificiarios Finales'!H5374=\"PJ No Residente\"),'Beneificiarios Finales'!B5376,\"\")","v":""}]
[{"$f":"IF(OR('Beneificiarios Finales'!H5408=\"NIT\",'Beneificiarios Finales'!H5408=\"Fideicomiso/Fondo\",'Beneificiarios Finales'!H5408=\"PJ No Residente\"),'Beneificiarios Finales'!B5412,\"\")","v":""},{"$f":"IFERROR(INDEX(TablaNivelCUATRO[PJNivelCuatro],_xlfn.AGGREGATE(15,6,(ROW(TablaNivelCUATRO[PJNivelCuatro])-ROW(TablaNivelCUATRO[#Headers]))/(TablaNivelCUATRO[PJNivelCuatro]<>\"\"),ROWS($B$485:TablaNivelCUATRO[[#This Row],[AuxCuatro]]))),\"\")","v":""},{"$f":"IF(OR('Beneificiarios Finales'!H5408=\"NIT\",'Beneificiarios Finales'!H5408=\"Fideicomiso/Fondo\",'Beneificiarios Finales'!H5408=\"PJ No Residente\"),'Beneificiarios Finales'!H5408,\"\")","v":""},{"$f":"IF(OR('Beneificiarios Finales'!H5408=\"NIT\",'Beneificiarios Finales'!H5408=\"Fideicomiso/Fondo\",'Beneificiarios Finales'!H5408=\"PJ No Residente\"),'Beneificiarios Finales'!B5410,\"\")","v":""}]
[{"$f":"IF(OR('Beneificiarios Finales'!H5442=\"NIT\",'Beneificiarios Finales'!H5442=\"Fideicomiso/Fondo\",'Beneificiarios Finales'!H5442=\"PJ No Residente\"),'Beneificiarios Finales'!B5446,\"\")","v":""},{"$f":"IFERROR(INDEX(TablaNivelCUATRO[PJNivelCuatro],_xlfn.AGGREGATE(15,6,(ROW(TablaNivelCUATRO[PJNivelCuatro])-ROW(TablaNivelCUATRO[#Headers]))/(TablaNivelCUATRO[PJNivelCuatro]<>\"\"),ROWS($B$485:TablaNivelCUATRO[[#This Row],[AuxCuatro]]))),\"\")","v":""},{"$f":"IF(OR('Beneificiarios Finales'!H5442=\"NIT\",'Beneificiarios Finales'!H5442=\"Fideicomiso/Fondo\",'Beneificiarios Finales'!H5442=\"PJ No Residente\"),'Beneificiarios Finales'!H5442,\"\")","v":""},{"$f":"IF(OR('Beneificiarios Finales'!H5442=\"NIT\",'Beneificiarios Finales'!H5442=\"Fideicomiso/Fondo\",'Beneificiarios Finales'!H5442=\"PJ No Residente\"),'Beneificiarios Finales'!B5444,\"\")","v":""}]
[{"$f":"IF(OR('Beneificiarios Finales'!H5476=\"NIT\",'Beneificiarios Finales'!H5476=\"Fideicomiso/Fondo\",'Beneificiarios Finales'!H5476=\"PJ No Residente\"),'Beneificiarios Finales'!B5480,\"\")","v":""},{"$f":"IFERROR(INDEX(TablaNivelCUATRO[PJNivelCuatro],_xlfn.AGGREGATE(15,6,(ROW(TablaNivelCUATRO[PJNivelCuatro])-ROW(TablaNivelCUATRO[#Headers]))/(TablaNivelCUATRO[PJNivelCuatro]<>\"\"),ROWS($B$485:TablaNivelCUATRO[[#This Row],[AuxCuatro]]))),\"\")","v":""},{"$f":"IF(OR('Beneificiarios Finales'!H5476=\"NIT\",'Beneificiarios Finales'!H5476=\"Fideicomiso/Fondo\",'Beneificiarios Finales'!H5476=\"PJ No Residente\"),'Beneificiarios Finales'!H5476,\"\")","v":""},{"$f":"IF(OR('Beneificiarios Finales'!H5476=\"NIT\",'Beneificiarios Finales'!H5476=\"Fideicomiso/Fondo\",'Beneificiarios Finales'!H5476=\"PJ No Residente\"),'Beneificiarios Finales'!B5478,\"\")","v":""}]
[{"$f":"IF(OR('Beneificiarios Finales'!H5510=\"NIT\",'Beneificiarios Finales'!H5510=\"Fideicomiso/Fondo\",'Beneificiarios Finales'!H5510=\"PJ No Residente\"),'Beneificiarios Finales'!B5514,\"\")","v":""},{"$f":"IFERROR(INDEX(TablaNivelCUATRO[PJNivelCuatro],_xlfn.AGGREGATE(15,6,(ROW(TablaNivelCUATRO[PJNivelCuatro])-ROW(TablaNivelCUATRO[#Headers]))/(TablaNivelCUATRO[PJNivelCuatro]<>\"\"),ROWS($B$485:TablaNivelCUATRO[[#This Row],[AuxCuatro]]))),\"\")","v":""},{"$f":"IF(OR('Beneificiarios Finales'!H5510=\"NIT\",'Beneificiarios Finales'!H5510=\"Fideicomiso/Fondo\",'Beneificiarios Finales'!H5510=\"PJ No Residente\"),'Beneificiarios Finales'!H5510,\"\")","v":""},{"$f":"IF(OR('Beneificiarios Finales'!H5510=\"NIT\",'Beneificiarios Finales'!H5510=\"Fideicomiso/Fondo\",'Beneificiarios Finales'!H5510=\"PJ No Residente\"),'Beneificiarios Finales'!B5512,\"\")","v":""}]
[{"$f":"IF(OR('Beneificiarios Finales'!H5544=\"NIT\",'Beneificiarios Finales'!H5544=\"Fideicomiso/Fondo\",'Beneificiarios Finales'!H5544=\"PJ No Residente\"),'Beneificiarios Finales'!B5548,\"\")","v":""},{"$f":"IFERROR(INDEX(TablaNivelCUATRO[PJNivelCuatro],_xlfn.AGGREGATE(15,6,(ROW(TablaNivelCUATRO[PJNivelCuatro])-ROW(TablaNivelCUATRO[#Headers]))/(TablaNivelCUATRO[PJNivelCuatro]<>\"\"),ROWS($B$485:TablaNivelCUATRO[[#This Row],[AuxCuatro]]))),\"\")","v":""},{"$f":"IF(OR('Beneificiarios Finales'!H5544=\"NIT\",'Beneificiarios Finales'!H5544=\"Fideicomiso/Fondo\",'Beneificiarios Finales'!H5544=\"PJ No Residente\"),'Beneificiarios Finales'!H5544,\"\")","v":""},{"$f":"IF(OR('Beneificiarios Finales'!H5544=\"NIT\",'Beneificiarios Finales'!H5544=\"Fideicomiso/Fondo\",'Beneificiarios Finales'!H5544=\"PJ No Residente\"),'Beneificiarios Finales'!B5546,\"\")","v":""}]
[{"$f":"IF(OR('Beneificiarios Finales'!H5544=\"NIT\",'Beneificiarios Finales'!H5544=\"Fideicomiso/Fondo\",'Beneificiarios Finales'!H5544=\"PJ No Residente\"),'Beneificiarios Finales'!B5582,\"\")","v":""},{"$f":"IFERROR(INDEX(TablaNivelCUATRO[PJNivelCuatro],_xlfn.AGGREGATE(15,6,(ROW(TablaNivelCUATRO[PJNivelCuatro])-ROW(TablaNivelCUATRO[#Headers]))/(TablaNivelCUATRO[PJNivelCuatro]<>\"\"),ROWS($B$485:TablaNivelCUATRO[[#This Row],[AuxCuatro]]))),\"\")","v":""},{"$f":"IF(OR('Beneificiarios Finales'!H5544=\"NIT\",'Beneificiarios Finales'!H5544=\"Fideicomiso/Fondo\",'Beneificiarios Finales'!H5544=\"PJ No Residente\"),'Beneificiarios Finales'!H5578,\"\")","v":""},{"$f":"IF(OR('Beneificiarios Finales'!H5544=\"NIT\",'Beneificiarios Finales'!H5544=\"Fideicomiso/Fondo\",'Beneificiarios Finales'!H5544=\"PJ No Residente\"),'Beneificiarios Finales'!B5580,\"\")","v":""}]
[{"$f":"IF(OR('Beneificiarios Finales'!H5612=\"NIT\",'Beneificiarios Finales'!H5612=\"Fideicomiso/Fondo\",'Beneificiarios Finales'!H5612=\"PJ No Residente\"),'Beneificiarios Finales'!B5616,\"\")","v":""},{"$f":"IFERROR(INDEX(TablaNivelCUATRO[PJNivelCuatro],_xlfn.AGGREGATE(15,6,(ROW(TablaNivelCUATRO[PJNivelCuatro])-ROW(TablaNivelCUATRO[#Headers]))/(TablaNivelCUATRO[PJNivelCuatro]<>\"\"),ROWS($B$485:TablaNivelCUATRO[[#This Row],[AuxCuatro]]))),\"\")","v":""},{"$f":"IF(OR('Beneificiarios Finales'!H5612=\"NIT\",'Beneificiarios Finales'!H5612=\"Fideicomiso/Fondo\",'Beneificiarios Finales'!H5612=\"PJ No Residente\"),'Beneificiarios Finales'!H5612,\"\")","v":""},{"$f":"IF(OR('Beneificiarios Finales'!H5612=\"NIT\",'Beneificiarios Finales'!H5612=\"Fideicomiso/Fondo\",'Beneificiarios Finales'!H5612=\"PJ No Residente\"),'Beneificiarios Finales'!B5614,\"\")","v":""}]
[{"$f":"IF(OR('Beneificiarios Finales'!H5646=\"NIT\",'Beneificiarios Finales'!H5646=\"Fideicomiso/Fondo\",'Beneificiarios Finales'!H5646=\"PJ No Residente\"),'Beneificiarios Finales'!B5650,\"\")","v":""},{"$f":"IFERROR(INDEX(TablaNivelCUATRO[PJNivelCuatro],_xlfn.AGGREGATE(15,6,(ROW(TablaNivelCUATRO[PJNivelCuatro])-ROW(TablaNivelCUATRO[#Headers]))/(TablaNivelCUATRO[PJNivelCuatro]<>\"\"),ROWS($B$485:TablaNivelCUATRO[[#This Row],[AuxCuatro]]))),\"\")","v":""},{"$f":"IF(OR('Beneificiarios Finales'!H5646=\"NIT\",'Beneificiarios Finales'!H5646=\"Fideicomiso/Fondo\",'Beneificiarios Finales'!H5646=\"PJ No Residente\"),'Beneificiarios Finales'!H5646,\"\")","v":""},{"$f":"IF(OR('Beneificiarios Finales'!H5646=\"NIT\",'Beneificiarios Finales'!H5646=\"Fideicomiso/Fondo\",'Beneificiarios Finales'!H5646=\"PJ No Residente\"),'Beneificiarios Finales'!B5648,\"\")","v":""}]
[{"$f":"IF(OR('Beneificiarios Finales'!H5680=\"NIT\",'Beneificiarios Finales'!H5680=\"Fideicomiso/Fondo\",'Beneificiarios Finales'!H5680=\"PJ No Residente\"),'Beneificiarios Finales'!B5684,\"\")","v":""},{"$f":"IFERROR(INDEX(TablaNivelCUATRO[PJNivelCuatro],_xlfn.AGGREGATE(15,6,(ROW(TablaNivelCUATRO[PJNivelCuatro])-ROW(TablaNivelCUATRO[#Headers]))/(TablaNivelCUATRO[PJNivelCuatro]<>\"\"),ROWS($B$485:TablaNivelCUATRO[[#This Row],[AuxCuatro]]))),\"\")","v":""},{"$f":"IF(OR('Beneificiarios Finales'!H5680=\"NIT\",'Beneificiarios Finales'!H5680=\"Fideicomiso/Fondo\",'Beneificiarios Finales'!H5680=\"PJ No Residente\"),'Beneificiarios Finales'!H5680,\"\")","v":""},{"$f":"IF(OR('Beneificiarios Finales'!H5680=\"NIT\",'Beneificiarios Finales'!H5680=\"Fideicomiso/Fondo\",'Beneificiarios Finales'!H5680=\"PJ No Residente\"),'Beneificiarios Finales'!B5682,\"\")","v":""}]
[{"$f":"IF(OR('Beneificiarios Finales'!H5714=\"NIT\",'Beneificiarios Finales'!H5714=\"Fideicomiso/Fondo\",'Beneificiarios Finales'!H5714=\"PJ No Residente\"),'Beneificiarios Finales'!B5718,\"\")","v":""},{"$f":"IFERROR(INDEX(TablaNivelCUATRO[PJNivelCuatro],_xlfn.AGGREGATE(15,6,(ROW(TablaNivelCUATRO[PJNivelCuatro])-ROW(TablaNivelCUATRO[#Headers]))/(TablaNivelCUATRO[PJNivelCuatro]<>\"\"),ROWS($B$485:TablaNivelCUATRO[[#This Row],[AuxCuatro]]))),\"\")","v":""},{"$f":"IF(OR('Beneificiarios Finales'!H5714=\"NIT\",'Beneificiarios Finales'!H5714=\"Fideicomiso/Fondo\",'Beneificiarios Finales'!H5714=\"PJ No Residente\"),'Beneificiarios Finales'!H5714,\"\")","v":""},{"$f":"IF(OR('Beneificiarios Finales'!H5714=\"NIT\",'Beneificiarios Finales'!H5714=\"Fideicomiso/Fondo\",'Beneificiarios Finales'!H5714=\"PJ No Residente\"),'Beneificiarios Finales'!B5716,\"\")","v":""}]
[{"$f":"IF(OR('Beneificiarios Finales'!H5714=\"NIT\",'Beneificiarios Finales'!H5714=\"Fideicomiso/Fondo\",'Beneificiarios Finales'!H5714=\"PJ No Residente\"),'Beneificiarios Finales'!B5752,\"\")","v":""},{"$f":"IFERROR(INDEX(TablaNivelCUATRO[PJNivelCuatro],_xlfn.AGGREGATE(15,6,(ROW(TablaNivelCUATRO[PJNivelCuatro])-ROW(TablaNivelCUATRO[#Headers]))/(TablaNivelCUATRO[PJNivelCuatro]<>\"\"),ROWS($B$485:TablaNivelCUATRO[[#This Row],[AuxCuatro]]))),\"\")","v":""},{"$f":"IF(OR('Beneificiarios Finales'!H5714=\"NIT\",'Beneificiarios Finales'!H5714=\"Fideicomiso/Fondo\",'Beneificiarios Finales'!H5714=\"PJ No Residente\"),'Beneificiarios Finales'!H5748,\"\")","v":""},{"$f":"IF(OR('Beneificiarios Finales'!H5714=\"NIT\",'Beneificiarios Finales'!H5714=\"Fideicomiso/Fondo\",'Beneificiarios Finales'!H5714=\"PJ No Residente\"),'Beneificiarios Finales'!B5750,\"\")","v":""}]
[{"$f":"IF(OR('Beneificiarios Finales'!H5782=\"NIT\",'Beneificiarios Finales'!H5782=\"Fideicomiso/Fondo\",'Beneificiarios Finales'!H5782=\"PJ No Residente\"),'Beneificiarios Finales'!B5786,\"\")","v":""},{"$f":"IFERROR(INDEX(TablaNivelCUATRO[PJNivelCuatro],_xlfn.AGGREGATE(15,6,(ROW(TablaNivelCUATRO[PJNivelCuatro])-ROW(TablaNivelCUATRO[#Headers]))/(TablaNivelCUATRO[PJNivelCuatro]<>\"\"),ROWS($B$485:TablaNivelCUATRO[[#This Row],[AuxCuatro]]))),\"\")","v":""},{"$f":"IF(OR('Beneificiarios Finales'!H5782=\"NIT\",'Beneificiarios Finales'!H5782=\"Fideicomiso/Fondo\",'Beneificiarios Finales'!H5782=\"PJ No Residente\"),'Beneificiarios Finales'!H5782,\"\")","v":""},{"$f":"IF(OR('Beneificiarios Finales'!H5782=\"NIT\",'Beneificiarios Finales'!H5782=\"Fideicomiso/Fondo\",'Beneificiarios Finales'!H5782=\"PJ No Residente\"),'Beneificiarios Finales'!B5784,\"\")","v":""}]
[{"$f":"IF(OR('Beneificiarios Finales'!H5816=\"NIT\",'Beneificiarios Finales'!H5816=\"Fideicomiso/Fondo\",'Beneificiarios Finales'!H5816=\"PJ No Residente\"),'Beneificiarios Finales'!B5820,\"\")","v":""},{"$f":"IFERROR(INDEX(TablaNivelCUATRO[PJNivelCuatro],_xlfn.AGGREGATE(15,6,(ROW(TablaNivelCUATRO[PJNivelCuatro])-ROW(TablaNivelCUATRO[#Headers]))/(TablaNivelCUATRO[PJNivelCuatro]<>\"\"),ROWS($B$485:TablaNivelCUATRO[[#This Row],[AuxCuatro]]))),\"\")","v":""},{"$f":"IF(OR('Beneificiarios Finales'!H5816=\"NIT\",'Beneificiarios Finales'!H5816=\"Fideicomiso/Fondo\",'Beneificiarios Finales'!H5816=\"PJ No Residente\"),'Beneificiarios Finales'!H5816,\"\")","v":""},{"$f":"IF(OR('Beneificiarios Finales'!H5816=\"NIT\",'Beneificiarios Finales'!H5816=\"Fideicomiso/Fondo\",'Beneificiarios Finales'!H5816=\"PJ No Residente\"),'Beneificiarios Finales'!B5818,\"\")","v":""}]
[{"$f":"IF(OR('Beneificiarios Finales'!H5850=\"NIT\",'Beneificiarios Finales'!H5850=\"Fideicomiso/Fondo\",'Beneificiarios Finales'!H5850=\"PJ No Residente\"),'Beneificiarios Finales'!B5854,\"\")","v":""},{"$f":"IFERROR(INDEX(TablaNivelCUATRO[PJNivelCuatro],_xlfn.AGGREGATE(15,6,(ROW(TablaNivelCUATRO[PJNivelCuatro])-ROW(TablaNivelCUATRO[#Headers]))/(TablaNivelCUATRO[PJNivelCuatro]<>\"\"),ROWS($B$485:TablaNivelCUATRO[[#This Row],[AuxCuatro]]))),\"\")","v":""},{"$f":"IF(OR('Beneificiarios Finales'!H5850=\"NIT\",'Beneificiarios Finales'!H5850=\"Fideicomiso/Fondo\",'Beneificiarios Finales'!H5850=\"PJ No Residente\"),'Beneificiarios Finales'!H5850,\"\")","v":""},{"$f":"IF(OR('Beneificiarios Finales'!H5850=\"NIT\",'Beneificiarios Finales'!H5850=\"Fideicomiso/Fondo\",'Beneificiarios Finales'!H5850=\"PJ No Residente\"),'Beneificiarios Finales'!B5852,\"\")","v":""}]
[{"$f":"IF(OR('Beneificiarios Finales'!H5884=\"NIT\",'Beneificiarios Finales'!H5884=\"Fideicomiso/Fondo\",'Beneificiarios Finales'!H5884=\"PJ No Residente\"),'Beneificiarios Finales'!B5888,\"\")","v":""},{"$f":"IFERROR(INDEX(TablaNivelCUATRO[PJNivelCuatro],_xlfn.AGGREGATE(15,6,(ROW(TablaNivelCUATRO[PJNivelCuatro])-ROW(TablaNivelCUATRO[#Headers]))/(TablaNivelCUATRO[PJNivelCuatro]<>\"\"),ROWS($B$485:TablaNivelCUATRO[[#This Row],[AuxCuatro]]))),\"\")","v":""},{"$f":"IF(OR('Beneificiarios Finales'!H5884=\"NIT\",'Beneificiarios Finales'!H5884=\"Fideicomiso/Fondo\",'Beneificiarios Finales'!H5884=\"PJ No Residente\"),'Beneificiarios Finales'!H5884,\"\")","v":""},{"$f":"IF(OR('Beneificiarios Finales'!H5884=\"NIT\",'Beneificiarios Finales'!H5884=\"Fideicomiso/Fondo\",'Beneificiarios Finales'!H5884=\"PJ No Residente\"),'Beneificiarios Finales'!B5886,\"\")","v":""}]
[{"$f":"IF(OR('Beneificiarios Finales'!H5918=\"NIT\",'Beneificiarios Finales'!H5918=\"Fideicomiso/Fondo\",'Beneificiarios Finales'!H5918=\"PJ No Residente\"),'Beneificiarios Finales'!B5922,\"\")","v":""},{"$f":"IFERROR(INDEX(TablaNivelCUATRO[PJNivelCuatro],_xlfn.AGGREGATE(15,6,(ROW(TablaNivelCUATRO[PJNivelCuatro])-ROW(TablaNivelCUATRO[#Headers]))/(TablaNivelCUATRO[PJNivelCuatro]<>\"\"),ROWS($B$485:TablaNivelCUATRO[[#This Row],[AuxCuatro]]))),\"\")","v":""},{"$f":"IF(OR('Beneificiarios Finales'!H5918=\"NIT\",'Beneificiarios Finales'!H5918=\"Fideicomiso/Fondo\",'Beneificiarios Finales'!H5918=\"PJ No Residente\"),'Beneificiarios Finales'!H5918,\"\")","v":""},{"$f":"IF(OR('Beneificiarios Finales'!H5918=\"NIT\",'Beneificiarios Finales'!H5918=\"Fideicomiso/Fondo\",'Beneificiarios Finales'!H5918=\"PJ No Residente\"),'Beneificiarios Finales'!B5920,\"\")","v":""}]
[{"$f":"IF(OR('Beneificiarios Finales'!H5952=\"NIT\",'Beneificiarios Finales'!H5952=\"Fideicomiso/Fondo\",'Beneificiarios Finales'!H5952=\"PJ No Residente\"),'Beneificiarios Finales'!B5956,\"\")","v":""},{"$f":"IFERROR(INDEX(TablaNivelCUATRO[PJNivelCuatro],_xlfn.AGGREGATE(15,6,(ROW(TablaNivelCUATRO[PJNivelCuatro])-ROW(TablaNivelCUATRO[#Headers]))/(TablaNivelCUATRO[PJNivelCuatro]<>\"\"),ROWS($B$485:TablaNivelCUATRO[[#This Row],[AuxCuatro]]))),\"\")","v":""},{"$f":"IF(OR('Beneificiarios Finales'!H5952=\"NIT\",'Beneificiarios Finales'!H5952=\"Fideicomiso/Fondo\",'Beneificiarios Finales'!H5952=\"PJ No Residente\"),'Beneificiarios Finales'!H5952,\"\")","v":""},{"$f":"IF(OR('Beneificiarios Finales'!H5952=\"NIT\",'Beneificiarios Finales'!H5952=\"Fideicomiso/Fondo\",'Beneificiarios Finales'!H5952=\"PJ No Residente\"),'Beneificiarios Finales'!B5954,\"\")","v":""}]
[{"$f":"IF(OR('Beneificiarios Finales'!H5986=\"NIT\",'Beneificiarios Finales'!H5986=\"Fideicomiso/Fondo\",'Beneificiarios Finales'!H5986=\"PJ No Residente\"),'Beneificiarios Finales'!B5990,\"\")","v":""},{"$f":"IFERROR(INDEX(TablaNivelCUATRO[PJNivelCuatro],_xlfn.AGGREGATE(15,6,(ROW(TablaNivelCUATRO[PJNivelCuatro])-ROW(TablaNivelCUATRO[#Headers]))/(TablaNivelCUATRO[PJNivelCuatro]<>\"\"),ROWS($B$485:TablaNivelCUATRO[[#This Row],[AuxCuatro]]))),\"\")","v":""},{"$f":"IF(OR('Beneificiarios Finales'!H5986=\"NIT\",'Beneificiarios Finales'!H5986=\"Fideicomiso/Fondo\",'Beneificiarios Finales'!H5986=\"PJ No Residente\"),'Beneificiarios Finales'!H5986,\"\")","v":""},{"$f":"IF(OR('Beneificiarios Finales'!H5986=\"NIT\",'Beneificiarios Finales'!H5986=\"Fideicomiso/Fondo\",'Beneificiarios Finales'!H5986=\"PJ No Residente\"),'Beneificiarios Finales'!B5988,\"\")","v":""}]
[{"$f":"IF(OR('Beneificiarios Finales'!H6020=\"NIT\",'Beneificiarios Finales'!H6020=\"Fideicomiso/Fondo\",'Beneificiarios Finales'!H6020=\"PJ No Residente\"),'Beneificiarios Finales'!B6024,\"\")","v":""},{"$f":"IFERROR(INDEX(TablaNivelCUATRO[PJNivelCuatro],_xlfn.AGGREGATE(15,6,(ROW(TablaNivelCUATRO[PJNivelCuatro])-ROW(TablaNivelCUATRO[#Headers]))/(TablaNivelCUATRO[PJNivelCuatro]<>\"\"),ROWS($B$485:TablaNivelCUATRO[[#This Row],[AuxCuatro]]))),\"\")","v":""},{"$f":"IF(OR('Beneificiarios Finales'!H6020=\"NIT\",'Beneificiarios Finales'!H6020=\"Fideicomiso/Fondo\",'Beneificiarios Finales'!H6020=\"PJ No Residente\"),'Beneificiarios Finales'!H6020,\"\")","v":""},{"$f":"IF(OR('Beneificiarios Finales'!H6020=\"NIT\",'Beneificiarios Finales'!H6020=\"Fideicomiso/Fondo\",'Beneificiarios Finales'!H6020=\"PJ No Residente\"),'Beneificiarios Finales'!B6022,\"\")","v":""}]
[{"$f":"IF(OR('Beneificiarios Finales'!H6054=\"NIT\",'Beneificiarios Finales'!H6054=\"Fideicomiso/Fondo\",'Beneificiarios Finales'!H6054=\"PJ No Residente\"),'Beneificiarios Finales'!B6058,\"\")","v":""},{"$f":"IFERROR(INDEX(TablaNivelCUATRO[PJNivelCuatro],_xlfn.AGGREGATE(15,6,(ROW(TablaNivelCUATRO[PJNivelCuatro])-ROW(TablaNivelCUATRO[#Headers]))/(TablaNivelCUATRO[PJNivelCuatro]<>\"\"),ROWS($B$485:TablaNivelCUATRO[[#This Row],[AuxCuatro]]))),\"\")","v":""},{"$f":"IF(OR('Beneificiarios Finales'!H6054=\"NIT\",'Beneificiarios Finales'!H6054=\"Fideicomiso/Fondo\",'Beneificiarios Finales'!H6054=\"PJ No Residente\"),'Beneificiarios Finales'!H6054,\"\")","v":""},{"$f":"IF(OR('Beneificiarios Finales'!H6054=\"NIT\",'Beneificiarios Finales'!H6054=\"Fideicomiso/Fondo\",'Beneificiarios Finales'!H6054=\"PJ No Residente\"),'Beneificiarios Finales'!B6056,\"\")","v":""}]
[{"$f":"IF(OR('Beneificiarios Finales'!H6088=\"NIT\",'Beneificiarios Finales'!H6088=\"Fideicomiso/Fondo\",'Beneificiarios Finales'!H6088=\"PJ No Residente\"),'Beneificiarios Finales'!B6092,\"\")","v":""},{"$f":"IFERROR(INDEX(TablaNivelCUATRO[PJNivelCuatro],_xlfn.AGGREGATE(15,6,(ROW(TablaNivelCUATRO[PJNivelCuatro])-ROW(TablaNivelCUATRO[#Headers]))/(TablaNivelCUATRO[PJNivelCuatro]<>\"\"),ROWS($B$485:TablaNivelCUATRO[[#This Row],[AuxCuatro]]))),\"\")","v":""},{"$f":"IF(OR('Beneificiarios Finales'!H6088=\"NIT\",'Beneificiarios Finales'!H6088=\"Fideicomiso/Fondo\",'Beneificiarios Finales'!H6088=\"PJ No Residente\"),'Beneificiarios Finales'!H6088,\"\")","v":""},{"$f":"IF(OR('Beneificiarios Finales'!H6088=\"NIT\",'Beneificiarios Finales'!H6088=\"Fideicomiso/Fondo\",'Beneificiarios Finales'!H6088=\"PJ No Residente\"),'Beneificiarios Finales'!B6090,\"\")","v":""}]
[{"$f":"IF(OR('Beneificiarios Finales'!H6122=\"NIT\",'Beneificiarios Finales'!H6122=\"Fideicomiso/Fondo\",'Beneificiarios Finales'!H6122=\"PJ No Residente\"),'Beneificiarios Finales'!B6126,\"\")","v":""},{"$f":"IFERROR(INDEX(TablaNivelCUATRO[PJNivelCuatro],_xlfn.AGGREGATE(15,6,(ROW(TablaNivelCUATRO[PJNivelCuatro])-ROW(TablaNivelCUATRO[#Headers]))/(TablaNivelCUATRO[PJNivelCuatro]<>\"\"),ROWS($B$485:TablaNivelCUATRO[[#This Row],[AuxCuatro]]))),\"\")","v":""},{"$f":"IF(OR('Beneificiarios Finales'!H6122=\"NIT\",'Beneificiarios Finales'!H6122=\"Fideicomiso/Fondo\",'Beneificiarios Finales'!H6122=\"PJ No Residente\"),'Beneificiarios Finales'!H6122,\"\")","v":""},{"$f":"IF(OR('Beneificiarios Finales'!H6122=\"NIT\",'Beneificiarios Finales'!H6122=\"Fideicomiso/Fondo\",'Beneificiarios Finales'!H6122=\"PJ No Residente\"),'Beneificiarios Finales'!B6124,\"\")","v":""}]
[{"$f":"IF(OR('Beneificiarios Finales'!H6156=\"NIT\",'Beneificiarios Finales'!H6156=\"Fideicomiso/Fondo\",'Beneificiarios Finales'!H6156=\"PJ No Residente\"),'Beneificiarios Finales'!B6160,\"\")","v":""},{"$f":"IFERROR(INDEX(TablaNivelCUATRO[PJNivelCuatro],_xlfn.AGGREGATE(15,6,(ROW(TablaNivelCUATRO[PJNivelCuatro])-ROW(TablaNivelCUATRO[#Headers]))/(TablaNivelCUATRO[PJNivelCuatro]<>\"\"),ROWS($B$485:TablaNivelCUATRO[[#This Row],[AuxCuatro]]))),\"\")","v":""},{"$f":"IF(OR('Beneificiarios Finales'!H6156=\"NIT\",'Beneificiarios Finales'!H6156=\"Fideicomiso/Fondo\",'Beneificiarios Finales'!H6156=\"PJ No Residente\"),'Beneificiarios Finales'!H6156,\"\")","v":""},{"$f":"IF(OR('Beneificiarios Finales'!H6156=\"NIT\",'Beneificiarios Finales'!H6156=\"Fideicomiso/Fondo\",'Beneificiarios Finales'!H6156=\"PJ No Residente\"),'Beneificiarios Finales'!B6158,\"\")","v":""}]
[{"$f":"IF(OR('Beneificiarios Finales'!H6190=\"NIT\",'Beneificiarios Finales'!H6190=\"Fideicomiso/Fondo\",'Beneificiarios Finales'!H6190=\"PJ No Residente\"),'Beneificiarios Finales'!B6194,\"\")","v":""},{"$f":"IFERROR(INDEX(TablaNivelCUATRO[PJNivelCuatro],_xlfn.AGGREGATE(15,6,(ROW(TablaNivelCUATRO[PJNivelCuatro])-ROW(TablaNivelCUATRO[#Headers]))/(TablaNivelCUATRO[PJNivelCuatro]<>\"\"),ROWS($B$485:TablaNivelCUATRO[[#This Row],[AuxCuatro]]))),\"\")","v":""},{"$f":"IF(OR('Beneificiarios Finales'!H6190=\"NIT\",'Beneificiarios Finales'!H6190=\"Fideicomiso/Fondo\",'Beneificiarios Finales'!H6190=\"PJ No Residente\"),'Beneificiarios Finales'!H6190,\"\")","v":""},{"$f":"IF(OR('Beneificiarios Finales'!H6190=\"NIT\",'Beneificiarios Finales'!H6190=\"Fideicomiso/Fondo\",'Beneificiarios Finales'!H6190=\"PJ No Residente\"),'Beneificiarios Finales'!B6192,\"\")","v":""}]
[{"$f":"IF(OR('Beneificiarios Finales'!H6224=\"NIT\",'Beneificiarios Finales'!H6224=\"Fideicomiso/Fondo\",'Beneificiarios Finales'!H6224=\"PJ No Residente\"),'Beneificiarios Finales'!B6228,\"\")","v":""},{"$f":"IFERROR(INDEX(TablaNivelCUATRO[PJNivelCuatro],_xlfn.AGGREGATE(15,6,(ROW(TablaNivelCUATRO[PJNivelCuatro])-ROW(TablaNivelCUATRO[#Headers]))/(TablaNivelCUATRO[PJNivelCuatro]<>\"\"),ROWS($B$485:TablaNivelCUATRO[[#This Row],[AuxCuatro]]))),\"\")","v":""},{"$f":"IF(OR('Beneificiarios Finales'!H6224=\"NIT\",'Beneificiarios Finales'!H6224=\"Fideicomiso/Fondo\",'Beneificiarios Finales'!H6224=\"PJ No Residente\"),'Beneificiarios Finales'!H6224,\"\")","v":""},{"$f":"IF(OR('Beneificiarios Finales'!H6224=\"NIT\",'Beneificiarios Finales'!H6224=\"Fideicomiso/Fondo\",'Beneificiarios Finales'!H6224=\"PJ No Residente\"),'Beneificiarios Finales'!B6226,\"\")","v":""}]
[{"$f":"IF(OR('Beneificiarios Finales'!H6258=\"NIT\",'Beneificiarios Finales'!H6258=\"Fideicomiso/Fondo\",'Beneificiarios Finales'!H6258=\"PJ No Residente\"),'Beneificiarios Finales'!B6262,\"\")","v":""},{"$f":"IFERROR(INDEX(TablaNivelCUATRO[PJNivelCuatro],_xlfn.AGGREGATE(15,6,(ROW(TablaNivelCUATRO[PJNivelCuatro])-ROW(TablaNivelCUATRO[#Headers]))/(TablaNivelCUATRO[PJNivelCuatro]<>\"\"),ROWS($B$485:TablaNivelCUATRO[[#This Row],[AuxCuatro]]))),\"\")","v":""},{"$f":"IF(OR('Beneificiarios Finales'!H6258=\"NIT\",'Beneificiarios Finales'!H6258=\"Fideicomiso/Fondo\",'Beneificiarios Finales'!H6258=\"PJ No Residente\"),'Beneificiarios Finales'!H6258,\"\")","v":""},{"$f":"IF(OR('Beneificiarios Finales'!H6258=\"NIT\",'Beneificiarios Finales'!H6258=\"Fideicomiso/Fondo\",'Beneificiarios Finales'!H6258=\"PJ No Residente\"),'Beneificiarios Finales'!B6260,\"\")","v":""}]
[{"$f":"IF(OR('Beneificiarios Finales'!H6292=\"NIT\",'Beneificiarios Finales'!H6292=\"Fideicomiso/Fondo\",'Beneificiarios Finales'!H6292=\"PJ No Residente\"),'Beneificiarios Finales'!B6296,\"\")","v":""},{"$f":"IFERROR(INDEX(TablaNivelCUATRO[PJNivelCuatro],_xlfn.AGGREGATE(15,6,(ROW(TablaNivelCUATRO[PJNivelCuatro])-ROW(TablaNivelCUATRO[#Headers]))/(TablaNivelCUATRO[PJNivelCuatro]<>\"\"),ROWS($B$485:TablaNivelCUATRO[[#This Row],[AuxCuatro]]))),\"\")","v":""},{"$f":"IF(OR('Beneificiarios Finales'!H6292=\"NIT\",'Beneificiarios Finales'!H6292=\"Fideicomiso/Fondo\",'Beneificiarios Finales'!H6292=\"PJ No Residente\"),'Beneificiarios Finales'!H6292,\"\")","v":""},{"$f":"IF(OR('Beneificiarios Finales'!H6292=\"NIT\",'Beneificiarios Finales'!H6292=\"Fideicomiso/Fondo\",'Beneificiarios Finales'!H6292=\"PJ No Residente\"),'Beneificiarios Finales'!B6294,\"\")","v":""}]
[{"$f":"IF(OR('Beneificiarios Finales'!H6326=\"NIT\",'Beneificiarios Finales'!H6326=\"Fideicomiso/Fondo\",'Beneificiarios Finales'!H6326=\"PJ No Residente\"),'Beneificiarios Finales'!B6330,\"\")","v":""},{"$f":"IFERROR(INDEX(TablaNivelCUATRO[PJNivelCuatro],_xlfn.AGGREGATE(15,6,(ROW(TablaNivelCUATRO[PJNivelCuatro])-ROW(TablaNivelCUATRO[#Headers]))/(TablaNivelCUATRO[PJNivelCuatro]<>\"\"),ROWS($B$485:TablaNivelCUATRO[[#This Row],[AuxCuatro]]))),\"\")","v":""},{"$f":"IF(OR('Beneificiarios Finales'!H6326=\"NIT\",'Beneificiarios Finales'!H6326=\"Fideicomiso/Fondo\",'Beneificiarios Finales'!H6326=\"PJ No Residente\"),'Beneificiarios Finales'!H6326,\"\")","v":""},{"$f":"IF(OR('Beneificiarios Finales'!H6326=\"NIT\",'Beneificiarios Finales'!H6326=\"Fideicomiso/Fondo\",'Beneificiarios Finales'!H6326=\"PJ No Residente\"),'Beneificiarios Finales'!B6328,\"\")","v":""}]
[{"$f":"IF(OR('Beneificiarios Finales'!H6360=\"NIT\",'Beneificiarios Finales'!H6360=\"Fideicomiso/Fondo\",'Beneificiarios Finales'!H6360=\"PJ No Residente\"),'Beneificiarios Finales'!B6364,\"\")","v":""},{"$f":"IFERROR(INDEX(TablaNivelCUATRO[PJNivelCuatro],_xlfn.AGGREGATE(15,6,(ROW(TablaNivelCUATRO[PJNivelCuatro])-ROW(TablaNivelCUATRO[#Headers]))/(TablaNivelCUATRO[PJNivelCuatro]<>\"\"),ROWS($B$485:TablaNivelCUATRO[[#This Row],[AuxCuatro]]))),\"\")","v":""},{"$f":"IF(OR('Beneificiarios Finales'!H6360=\"NIT\",'Beneificiarios Finales'!H6360=\"Fideicomiso/Fondo\",'Beneificiarios Finales'!H6360=\"PJ No Residente\"),'Beneificiarios Finales'!H6360,\"\")","v":""},{"$f":"IF(OR('Beneificiarios Finales'!H6360=\"NIT\",'Beneificiarios Finales'!H6360=\"Fideicomiso/Fondo\",'Beneificiarios Finales'!H6360=\"PJ No Residente\"),'Beneificiarios Finales'!B6362,\"\")","v":""}]
[{"$f":"IF(OR('Beneificiarios Finales'!H6394=\"NIT\",'Beneificiarios Finales'!H6394=\"Fideicomiso/Fondo\",'Beneificiarios Finales'!H6394=\"PJ No Residente\"),'Beneificiarios Finales'!B6398,\"\")","v":""},{"$f":"IFERROR(INDEX(TablaNivelCUATRO[PJNivelCuatro],_xlfn.AGGREGATE(15,6,(ROW(TablaNivelCUATRO[PJNivelCuatro])-ROW(TablaNivelCUATRO[#Headers]))/(TablaNivelCUATRO[PJNivelCuatro]<>\"\"),ROWS($B$485:TablaNivelCUATRO[[#This Row],[AuxCuatro]]))),\"\")","v":""},{"$f":"IF(OR('Beneificiarios Finales'!H6394=\"NIT\",'Beneificiarios Finales'!H6394=\"Fideicomiso/Fondo\",'Beneificiarios Finales'!H6394=\"PJ No Residente\"),'Beneificiarios Finales'!H6394,\"\")","v":""},{"$f":"IF(OR('Beneificiarios Finales'!H6394=\"NIT\",'Beneificiarios Finales'!H6394=\"Fideicomiso/Fondo\",'Beneificiarios Finales'!H6394=\"PJ No Residente\"),'Beneificiarios Finales'!B6396,\"\")","v":""}]
[{"$f":"IF(OR('Beneificiarios Finales'!H6428=\"NIT\",'Beneificiarios Finales'!H6428=\"Fideicomiso/Fondo\",'Beneificiarios Finales'!H6428=\"PJ No Residente\"),'Beneificiarios Finales'!B6432,\"\")","v":""},{"$f":"IFERROR(INDEX(TablaNivelCUATRO[PJNivelCuatro],_xlfn.AGGREGATE(15,6,(ROW(TablaNivelCUATRO[PJNivelCuatro])-ROW(TablaNivelCUATRO[#Headers]))/(TablaNivelCUATRO[PJNivelCuatro]<>\"\"),ROWS($B$485:TablaNivelCUATRO[[#This Row],[AuxCuatro]]))),\"\")","v":""},{"$f":"IF(OR('Beneificiarios Finales'!H6428=\"NIT\",'Beneificiarios Finales'!H6428=\"Fideicomiso/Fondo\",'Beneificiarios Finales'!H6428=\"PJ No Residente\"),'Beneificiarios Finales'!H6428,\"\")","v":""},{"$f":"IF(OR('Beneificiarios Finales'!H6428=\"NIT\",'Beneificiarios Finales'!H6428=\"Fideicomiso/Fondo\",'Beneificiarios Finales'!H6428=\"PJ No Residente\"),'Beneificiarios Finales'!B6430,\"\")","v":""}]
[{"$f":"IF(OR('Beneificiarios Finales'!H6462=\"NIT\",'Beneificiarios Finales'!H6462=\"Fideicomiso/Fondo\",'Beneificiarios Finales'!H6462=\"PJ No Residente\"),'Beneificiarios Finales'!B6466,\"\")","v":""},{"$f":"IFERROR(INDEX(TablaNivelCUATRO[PJNivelCuatro],_xlfn.AGGREGATE(15,6,(ROW(TablaNivelCUATRO[PJNivelCuatro])-ROW(TablaNivelCUATRO[#Headers]))/(TablaNivelCUATRO[PJNivelCuatro]<>\"\"),ROWS($B$485:TablaNivelCUATRO[[#This Row],[AuxCuatro]]))),\"\")","v":""},{"$f":"IF(OR('Beneificiarios Finales'!H6462=\"NIT\",'Beneificiarios Finales'!H6462=\"Fideicomiso/Fondo\",'Beneificiarios Finales'!H6462=\"PJ No Residente\"),'Beneificiarios Finales'!H6462,\"\")","v":""},{"$f":"IF(OR('Beneificiarios Finales'!H6462=\"NIT\",'Beneificiarios Finales'!H6462=\"Fideicomiso/Fondo\",'Beneificiarios Finales'!H6462=\"PJ No Residente\"),'Beneificiarios Finales'!B6464,\"\")","v":""}]
[{"$f":"IF(OR('Beneificiarios Finales'!H6496=\"NIT\",'Beneificiarios Finales'!H6496=\"Fideicomiso/Fondo\",'Beneificiarios Finales'!H6496=\"PJ No Residente\"),'Beneificiarios Finales'!B6500,\"\")","v":""},{"$f":"IFERROR(INDEX(TablaNivelCUATRO[PJNivelCuatro],_xlfn.AGGREGATE(15,6,(ROW(TablaNivelCUATRO[PJNivelCuatro])-ROW(TablaNivelCUATRO[#Headers]))/(TablaNivelCUATRO[PJNivelCuatro]<>\"\"),ROWS($B$485:TablaNivelCUATRO[[#This Row],[AuxCuatro]]))),\"\")","v":""},{"$f":"IF(OR('Beneificiarios Finales'!H6496=\"NIT\",'Beneificiarios Finales'!H6496=\"Fideicomiso/Fondo\",'Beneificiarios Finales'!H6496=\"PJ No Residente\"),'Beneificiarios Finales'!H6496,\"\")","v":""},{"$f":"IF(OR('Beneificiarios Finales'!H6496=\"NIT\",'Beneificiarios Finales'!H6496=\"Fideicomiso/Fondo\",'Beneificiarios Finales'!H6496=\"PJ No Residente\"),'Beneificiarios Finales'!B6498,\"\")","v":""}]
[{"$f":"IF(OR('Beneificiarios Finales'!H6530=\"NIT\",'Beneificiarios Finales'!H6530=\"Fideicomiso/Fondo\",'Beneificiarios Finales'!H6530=\"PJ No Residente\"),'Beneificiarios Finales'!B6534,\"\")","v":""},{"$f":"IFERROR(INDEX(TablaNivelCUATRO[PJNivelCuatro],_xlfn.AGGREGATE(15,6,(ROW(TablaNivelCUATRO[PJNivelCuatro])-ROW(TablaNivelCUATRO[#Headers]))/(TablaNivelCUATRO[PJNivelCuatro]<>\"\"),ROWS($B$485:TablaNivelCUATRO[[#This Row],[AuxCuatro]]))),\"\")","v":""},{"$f":"IF(OR('Beneificiarios Finales'!H6530=\"NIT\",'Beneificiarios Finales'!H6530=\"Fideicomiso/Fondo\",'Beneificiarios Finales'!H6530=\"PJ No Residente\"),'Beneificiarios Finales'!H6530,\"\")","v":""},{"$f":"IF(OR('Beneificiarios Finales'!H6530=\"NIT\",'Beneificiarios Finales'!H6530=\"Fideicomiso/Fondo\",'Beneificiarios Finales'!H6530=\"PJ No Residente\"),'Beneificiarios Finales'!B6532,\"\")","v":""}]
[{"$f":"IF(OR('Beneificiarios Finales'!H6564=\"NIT\",'Beneificiarios Finales'!H6564=\"Fideicomiso/Fondo\",'Beneificiarios Finales'!H6564=\"PJ No Residente\"),'Beneificiarios Finales'!B6568,\"\")","v":""},{"$f":"IFERROR(INDEX(TablaNivelCUATRO[PJNivelCuatro],_xlfn.AGGREGATE(15,6,(ROW(TablaNivelCUATRO[PJNivelCuatro])-ROW(TablaNivelCUATRO[#Headers]))/(TablaNivelCUATRO[PJNivelCuatro]<>\"\"),ROWS($B$485:TablaNivelCUATRO[[#This Row],[AuxCuatro]]))),\"\")","v":""},{"$f":"IF(OR('Beneificiarios Finales'!H6564=\"NIT\",'Beneificiarios Finales'!H6564=\"Fideicomiso/Fondo\",'Beneificiarios Finales'!H6564=\"PJ No Residente\"),'Beneificiarios Finales'!H6564,\"\")","v":""},{"$f":"IF(OR('Beneificiarios Finales'!H6564=\"NIT\",'Beneificiarios Finales'!H6564=\"Fideicomiso/Fondo\",'Beneificiarios Finales'!H6564=\"PJ No Residente\"),'Beneificiarios Finales'!B6566,\"\")","v":""}]
[{"$f":"IF(OR('Beneificiarios Finales'!H6598=\"NIT\",'Beneificiarios Finales'!H6598=\"Fideicomiso/Fondo\",'Beneificiarios Finales'!H6598=\"PJ No Residente\"),'Beneificiarios Finales'!B6602,\"\")","v":""},{"$f":"IFERROR(INDEX(TablaNivelCUATRO[PJNivelCuatro],_xlfn.AGGREGATE(15,6,(ROW(TablaNivelCUATRO[PJNivelCuatro])-ROW(TablaNivelCUATRO[#Headers]))/(TablaNivelCUATRO[PJNivelCuatro]<>\"\"),ROWS($B$485:TablaNivelCUATRO[[#This Row],[AuxCuatro]]))),\"\")","v":""},{"$f":"IF(OR('Beneificiarios Finales'!H6598=\"NIT\",'Beneificiarios Finales'!H6598=\"Fideicomiso/Fondo\",'Beneificiarios Finales'!H6598=\"PJ No Residente\"),'Beneificiarios Finales'!H6598,\"\")","v":""},{"$f":"IF(OR('Beneificiarios Finales'!H6598=\"NIT\",'Beneificiarios Finales'!H6598=\"Fideicomiso/Fondo\",'Beneificiarios Finales'!H6598=\"PJ No Residente\"),'Beneificiarios Finales'!B6600,\"\")","v":""}]
[{"$f":"IF(OR('Beneificiarios Finales'!H6632=\"NIT\",'Beneificiarios Finales'!H6632=\"Fideicomiso/Fondo\",'Beneificiarios Finales'!H6632=\"PJ No Residente\"),'Beneificiarios Finales'!B6636,\"\")","v":""},{"$f":"IFERROR(INDEX(TablaNivelCUATRO[PJNivelCuatro],_xlfn.AGGREGATE(15,6,(ROW(TablaNivelCUATRO[PJNivelCuatro])-ROW(TablaNivelCUATRO[#Headers]))/(TablaNivelCUATRO[PJNivelCuatro]<>\"\"),ROWS($B$485:TablaNivelCUATRO[[#This Row],[AuxCuatro]]))),\"\")","v":""},{"$f":"IF(OR('Beneificiarios Finales'!H6632=\"NIT\",'Beneificiarios Finales'!H6632=\"Fideicomiso/Fondo\",'Beneificiarios Finales'!H6632=\"PJ No Residente\"),'Beneificiarios Finales'!H6632,\"\")","v":""},{"$f":"IF(OR('Beneificiarios Finales'!H6632=\"NIT\",'Beneificiarios Finales'!H6632=\"Fideicomiso/Fondo\",'Beneificiarios Finales'!H6632=\"PJ No Residente\"),'Beneificiarios Finales'!B6634,\"\")","v":""}]
[{"$f":"IF(OR('Beneificiarios Finales'!H6666=\"NIT\",'Beneificiarios Finales'!H6666=\"Fideicomiso/Fondo\",'Beneificiarios Finales'!H6666=\"PJ No Residente\"),'Beneificiarios Finales'!B6670,\"\")","v":""},{"$f":"IFERROR(INDEX(TablaNivelCUATRO[PJNivelCuatro],_xlfn.AGGREGATE(15,6,(ROW(TablaNivelCUATRO[PJNivelCuatro])-ROW(TablaNivelCUATRO[#Headers]))/(TablaNivelCUATRO[PJNivelCuatro]<>\"\"),ROWS($B$485:TablaNivelCUATRO[[#This Row],[AuxCuatro]]))),\"\")","v":""},{"$f":"IF(OR('Beneificiarios Finales'!H6666=\"NIT\",'Beneificiarios Finales'!H6666=\"Fideicomiso/Fondo\",'Beneificiarios Finales'!H6666=\"PJ No Residente\"),'Beneificiarios Finales'!H6666,\"\")","v":""},{"$f":"IF(OR('Beneificiarios Finales'!H6666=\"NIT\",'Beneificiarios Finales'!H6666=\"Fideicomiso/Fondo\",'Beneificiarios Finales'!H6666=\"PJ No Residente\"),'Beneificiarios Finales'!B6668,\"\")","v":""}]
[{"$f":"IF(OR('Beneificiarios Finales'!H6700=\"NIT\",'Beneificiarios Finales'!H6700=\"Fideicomiso/Fondo\",'Beneificiarios Finales'!H6700=\"PJ No Residente\"),'Beneificiarios Finales'!B6704,\"\")","v":""},{"$f":"IFERROR(INDEX(TablaNivelCUATRO[PJNivelCuatro],_xlfn.AGGREGATE(15,6,(ROW(TablaNivelCUATRO[PJNivelCuatro])-ROW(TablaNivelCUATRO[#Headers]))/(TablaNivelCUATRO[PJNivelCuatro]<>\"\"),ROWS($B$485:TablaNivelCUATRO[[#This Row],[AuxCuatro]]))),\"\")","v":""},{"$f":"IF(OR('Beneificiarios Finales'!H6700=\"NIT\",'Beneificiarios Finales'!H6700=\"Fideicomiso/Fondo\",'Beneificiarios Finales'!H6700=\"PJ No Residente\"),'Beneificiarios Finales'!H6700,\"\")","v":""},{"$f":"IF(OR('Beneificiarios Finales'!H6700=\"NIT\",'Beneificiarios Finales'!H6700=\"Fideicomiso/Fondo\",'Beneificiarios Finales'!H6700=\"PJ No Residente\"),'Beneificiarios Finales'!B6702,\"\")","v":""}]
[{"$f":"IF(OR('Beneificiarios Finales'!H6734=\"NIT\",'Beneificiarios Finales'!H6734=\"Fideicomiso/Fondo\",'Beneificiarios Finales'!H6734=\"PJ No Residente\"),'Beneificiarios Finales'!B6738,\"\")","v":""},{"$f":"IFERROR(INDEX(TablaNivelCUATRO[PJNivelCuatro],_xlfn.AGGREGATE(15,6,(ROW(TablaNivelCUATRO[PJNivelCuatro])-ROW(TablaNivelCUATRO[#Headers]))/(TablaNivelCUATRO[PJNivelCuatro]<>\"\"),ROWS($B$485:TablaNivelCUATRO[[#This Row],[AuxCuatro]]))),\"\")","v":""},{"$f":"IF(OR('Beneificiarios Finales'!H6734=\"NIT\",'Beneificiarios Finales'!H6734=\"Fideicomiso/Fondo\",'Beneificiarios Finales'!H6734=\"PJ No Residente\"),'Beneificiarios Finales'!H6734,\"\")","v":""},{"$f":"IF(OR('Beneificiarios Finales'!H6734=\"NIT\",'Beneificiarios Finales'!H6734=\"Fideicomiso/Fondo\",'Beneificiarios Finales'!H6734=\"PJ No Residente\"),'Beneificiarios Finales'!B6736,\"\")","v":""}]
[{"$f":"IF(OR('Beneificiarios Finales'!H6768=\"NIT\",'Beneificiarios Finales'!H6768=\"Fideicomiso/Fondo\",'Beneificiarios Finales'!H6768=\"PJ No Residente\"),'Beneificiarios Finales'!B6772,\"\")","v":""},{"$f":"IFERROR(INDEX(TablaNivelCUATRO[PJNivelCuatro],_xlfn.AGGREGATE(15,6,(ROW(TablaNivelCUATRO[PJNivelCuatro])-ROW(TablaNivelCUATRO[#Headers]))/(TablaNivelCUATRO[PJNivelCuatro]<>\"\"),ROWS($B$485:TablaNivelCUATRO[[#This Row],[AuxCuatro]]))),\"\")","v":""},{"$f":"IF(OR('Beneificiarios Finales'!H6768=\"NIT\",'Beneificiarios Finales'!H6768=\"Fideicomiso/Fondo\",'Beneificiarios Finales'!H6768=\"PJ No Residente\"),'Beneificiarios Finales'!H6768,\"\")","v":""},{"$f":"IF(OR('Beneificiarios Finales'!H6768=\"NIT\",'Beneificiarios Finales'!H6768=\"Fideicomiso/Fondo\",'Beneificiarios Finales'!H6768=\"PJ No Residente\"),'Beneificiarios Finales'!B6770,\"\")","v":""}]
[{"$f":"IF(OR('Beneificiarios Finales'!H6802=\"NIT\",'Beneificiarios Finales'!H6802=\"Fideicomiso/Fondo\",'Beneificiarios Finales'!H6802=\"PJ No Residente\"),'Beneificiarios Finales'!B6806,\"\")","v":""},{"$f":"IFERROR(INDEX(TablaNivelCUATRO[PJNivelCuatro],_xlfn.AGGREGATE(15,6,(ROW(TablaNivelCUATRO[PJNivelCuatro])-ROW(TablaNivelCUATRO[#Headers]))/(TablaNivelCUATRO[PJNivelCuatro]<>\"\"),ROWS($B$485:TablaNivelCUATRO[[#This Row],[AuxCuatro]]))),\"\")","v":""},{"$f":"IF(OR('Beneificiarios Finales'!H6802=\"NIT\",'Beneificiarios Finales'!H6802=\"Fideicomiso/Fondo\",'Beneificiarios Finales'!H6802=\"PJ No Residente\"),'Beneificiarios Finales'!H6802,\"\")","v":""},{"$f":"IF(OR('Beneificiarios Finales'!H6802=\"NIT\",'Beneificiarios Finales'!H6802=\"Fideicomiso/Fondo\",'Beneificiarios Finales'!H6802=\"PJ No Residente\"),'Beneificiarios Finales'!B6804,\"\")","v":""}]
[{"$f":"IF(OR('Beneificiarios Finales'!H6836=\"NIT\",'Beneificiarios Finales'!H6836=\"Fideicomiso/Fondo\",'Beneificiarios Finales'!H6836=\"PJ No Residente\"),'Beneificiarios Finales'!B6840,\"\")","v":""},{"$f":"IFERROR(INDEX(TablaNivelCUATRO[PJNivelCuatro],_xlfn.AGGREGATE(15,6,(ROW(TablaNivelCUATRO[PJNivelCuatro])-ROW(TablaNivelCUATRO[#Headers]))/(TablaNivelCUATRO[PJNivelCuatro]<>\"\"),ROWS($B$485:TablaNivelCUATRO[[#This Row],[AuxCuatro]]))),\"\")","v":""},{"$f":"IF(OR('Beneificiarios Finales'!H6836=\"NIT\",'Beneificiarios Finales'!H6836=\"Fideicomiso/Fondo\",'Beneificiarios Finales'!H6836=\"PJ No Residente\"),'Beneificiarios Finales'!H6836,\"\")","v":""},{"$f":"IF(OR('Beneificiarios Finales'!H6836=\"NIT\",'Beneificiarios Finales'!H6836=\"Fideicomiso/Fondo\",'Beneificiarios Finales'!H6836=\"PJ No Residente\"),'Beneificiarios Finales'!B6838,\"\")","v":""}]
[{"$f":"IF(OR('Beneificiarios Finales'!H6870=\"NIT\",'Beneificiarios Finales'!H6870=\"Fideicomiso/Fondo\",'Beneificiarios Finales'!H6870=\"PJ No Residente\"),'Beneificiarios Finales'!B6874,\"\")","v":""},{"$f":"IFERROR(INDEX(TablaNivelCUATRO[PJNivelCuatro],_xlfn.AGGREGATE(15,6,(ROW(TablaNivelCUATRO[PJNivelCuatro])-ROW(TablaNivelCUATRO[#Headers]))/(TablaNivelCUATRO[PJNivelCuatro]<>\"\"),ROWS($B$485:TablaNivelCUATRO[[#This Row],[AuxCuatro]]))),\"\")","v":""},{"$f":"IF(OR('Beneificiarios Finales'!H6870=\"NIT\",'Beneificiarios Finales'!H6870=\"Fideicomiso/Fondo\",'Beneificiarios Finales'!H6870=\"PJ No Residente\"),'Beneificiarios Finales'!H6870,\"\")","v":""},{"$f":"IF(OR('Beneificiarios Finales'!H6870=\"NIT\",'Beneificiarios Finales'!H6870=\"Fideicomiso/Fondo\",'Beneificiarios Finales'!H6870=\"PJ No Residente\"),'Beneificiarios Finales'!B6872,\"\")","v":""}]
[{"$f":"IF(OR('Beneificiarios Finales'!H6904=\"NIT\",'Beneificiarios Finales'!H6904=\"Fideicomiso/Fondo\",'Beneificiarios Finales'!H6904=\"PJ No Residente\"),'Beneificiarios Finales'!B6908,\"\")","v":""},{"$f":"IFERROR(INDEX(TablaNivelCUATRO[PJNivelCuatro],_xlfn.AGGREGATE(15,6,(ROW(TablaNivelCUATRO[PJNivelCuatro])-ROW(TablaNivelCUATRO[#Headers]))/(TablaNivelCUATRO[PJNivelCuatro]<>\"\"),ROWS($B$485:TablaNivelCUATRO[[#This Row],[AuxCuatro]]))),\"\")","v":""},{"$f":"IF(OR('Beneificiarios Finales'!H6904=\"NIT\",'Beneificiarios Finales'!H6904=\"Fideicomiso/Fondo\",'Beneificiarios Finales'!H6904=\"PJ No Residente\"),'Beneificiarios Finales'!H6904,\"\")","v":""},{"$f":"IF(OR('Beneificiarios Finales'!H6904=\"NIT\",'Beneificiarios Finales'!H6904=\"Fideicomiso/Fondo\",'Beneificiarios Finales'!H6904=\"PJ No Residente\"),'Beneificiarios Finales'!B6906,\"\")","v":""}]
[{"$f":"IF(OR('Beneificiarios Finales'!H6938=\"NIT\",'Beneificiarios Finales'!H6938=\"Fideicomiso/Fondo\",'Beneificiarios Finales'!H6938=\"PJ No Residente\"),'Beneificiarios Finales'!B6942,\"\")","v":""},{"$f":"IFERROR(INDEX(TablaNivelCUATRO[PJNivelCuatro],_xlfn.AGGREGATE(15,6,(ROW(TablaNivelCUATRO[PJNivelCuatro])-ROW(TablaNivelCUATRO[#Headers]))/(TablaNivelCUATRO[PJNivelCuatro]<>\"\"),ROWS($B$485:TablaNivelCUATRO[[#This Row],[AuxCuatro]]))),\"\")","v":""},{"$f":"IF(OR('Beneificiarios Finales'!H6938=\"NIT\",'Beneificiarios Finales'!H6938=\"Fideicomiso/Fondo\",'Beneificiarios Finales'!H6938=\"PJ No Residente\"),'Beneificiarios Finales'!H6938,\"\")","v":""},{"$f":"IF(OR('Beneificiarios Finales'!H6938=\"NIT\",'Beneificiarios Finales'!H6938=\"Fideicomiso/Fondo\",'Beneificiarios Finales'!H6938=\"PJ No Residente\"),'Beneificiarios Finales'!B6940,\"\")","v":""}]
[{"$f":"IF(OR('Beneificiarios Finales'!H6972=\"NIT\",'Beneificiarios Finales'!H6972=\"Fideicomiso/Fondo\",'Beneificiarios Finales'!H6972=\"PJ No Residente\"),'Beneificiarios Finales'!B6976,\"\")","v":""},{"$f":"IFERROR(INDEX(TablaNivelCUATRO[PJNivelCuatro],_xlfn.AGGREGATE(15,6,(ROW(TablaNivelCUATRO[PJNivelCuatro])-ROW(TablaNivelCUATRO[#Headers]))/(TablaNivelCUATRO[PJNivelCuatro]<>\"\"),ROWS($B$485:TablaNivelCUATRO[[#This Row],[AuxCuatro]]))),\"\")","v":""},{"$f":"IF(OR('Beneificiarios Finales'!H6972=\"NIT\",'Beneificiarios Finales'!H6972=\"Fideicomiso/Fondo\",'Beneificiarios Finales'!H6972=\"PJ No Residente\"),'Beneificiarios Finales'!H6972,\"\")","v":""},{"$f":"IF(OR('Beneificiarios Finales'!H6972=\"NIT\",'Beneificiarios Finales'!H6972=\"Fideicomiso/Fondo\",'Beneificiarios Finales'!H6972=\"PJ No Residente\"),'Beneificiarios Finales'!B6974,\"\")","v":""}]
[{"$f":"IF(OR('Beneificiarios Finales'!H7006=\"NIT\",'Beneificiarios Finales'!H7006=\"Fideicomiso/Fondo\",'Beneificiarios Finales'!H7006=\"PJ No Residente\"),'Beneificiarios Finales'!B7010,\"\")","v":""},{"$f":"IFERROR(INDEX(TablaNivelCUATRO[PJNivelCuatro],_xlfn.AGGREGATE(15,6,(ROW(TablaNivelCUATRO[PJNivelCuatro])-ROW(TablaNivelCUATRO[#Headers]))/(TablaNivelCUATRO[PJNivelCuatro]<>\"\"),ROWS($B$485:TablaNivelCUATRO[[#This Row],[AuxCuatro]]))),\"\")","v":""},{"$f":"IF(OR('Beneificiarios Finales'!H7006=\"NIT\",'Beneificiarios Finales'!H7006=\"Fideicomiso/Fondo\",'Beneificiarios Finales'!H7006=\"PJ No Residente\"),'Beneificiarios Finales'!H7006,\"\")","v":""},{"$f":"IF(OR('Beneificiarios Finales'!H7006=\"NIT\",'Beneificiarios Finales'!H7006=\"Fideicomiso/Fondo\",'Beneificiarios Finales'!H7006=\"PJ No Residente\"),'Beneificiarios Finales'!B7008,\"\")","v":""}]
[{"$f":"IF(OR('Beneificiarios Finales'!H7040=\"NIT\",'Beneificiarios Finales'!H7040=\"Fideicomiso/Fondo\",'Beneificiarios Finales'!H7040=\"PJ No Residente\"),'Beneificiarios Finales'!B7044,\"\")","v":""},{"$f":"IFERROR(INDEX(TablaNivelCUATRO[PJNivelCuatro],_xlfn.AGGREGATE(15,6,(ROW(TablaNivelCUATRO[PJNivelCuatro])-ROW(TablaNivelCUATRO[#Headers]))/(TablaNivelCUATRO[PJNivelCuatro]<>\"\"),ROWS($B$485:TablaNivelCUATRO[[#This Row],[AuxCuatro]]))),\"\")","v":""},{"$f":"IF(OR('Beneificiarios Finales'!H7040=\"NIT\",'Beneificiarios Finales'!H7040=\"Fideicomiso/Fondo\",'Beneificiarios Finales'!H7040=\"PJ No Residente\"),'Beneificiarios Finales'!H7040,\"\")","v":""},{"$f":"IF(OR('Beneificiarios Finales'!H7040=\"NIT\",'Beneificiarios Finales'!H7040=\"Fideicomiso/Fondo\",'Beneificiarios Finales'!H7040=\"PJ No Residente\"),'Beneificiarios Finales'!B7042,\"\")","v":""}]
[{"$f":"IF(OR('Beneificiarios Finales'!H7074=\"NIT\",'Beneificiarios Finales'!H7074=\"Fideicomiso/Fondo\",'Beneificiarios Finales'!H7074=\"PJ No Residente\"),'Beneificiarios Finales'!B7078,\"\")","v":""},{"$f":"IFERROR(INDEX(TablaNivelCUATRO[PJNivelCuatro],_xlfn.AGGREGATE(15,6,(ROW(TablaNivelCUATRO[PJNivelCuatro])-ROW(TablaNivelCUATRO[#Headers]))/(TablaNivelCUATRO[PJNivelCuatro]<>\"\"),ROWS($B$485:TablaNivelCUATRO[[#This Row],[AuxCuatro]]))),\"\")","v":""},{"$f":"IF(OR('Beneificiarios Finales'!H7074=\"NIT\",'Beneificiarios Finales'!H7074=\"Fideicomiso/Fondo\",'Beneificiarios Finales'!H7074=\"PJ No Residente\"),'Beneificiarios Finales'!H7074,\"\")","v":""},{"$f":"IF(OR('Beneificiarios Finales'!H7074=\"NIT\",'Beneificiarios Finales'!H7074=\"Fideicomiso/Fondo\",'Beneificiarios Finales'!H7074=\"PJ No Residente\"),'Beneificiarios Finales'!B7076,\"\")","v":""}]
[{"$f":"IF(OR('Beneificiarios Finales'!H7108=\"NIT\",'Beneificiarios Finales'!H7108=\"Fideicomiso/Fondo\",'Beneificiarios Finales'!H7108=\"PJ No Residente\"),'Beneificiarios Finales'!B7112,\"\")","v":""},{"$f":"IFERROR(INDEX(TablaNivelCUATRO[PJNivelCuatro],_xlfn.AGGREGATE(15,6,(ROW(TablaNivelCUATRO[PJNivelCuatro])-ROW(TablaNivelCUATRO[#Headers]))/(TablaNivelCUATRO[PJNivelCuatro]<>\"\"),ROWS($B$485:TablaNivelCUATRO[[#This Row],[AuxCuatro]]))),\"\")","v":""},{"$f":"IF(OR('Beneificiarios Finales'!H7108=\"NIT\",'Beneificiarios Finales'!H7108=\"Fideicomiso/Fondo\",'Beneificiarios Finales'!H7108=\"PJ No Residente\"),'Beneificiarios Finales'!H7108,\"\")","v":""},{"$f":"IF(OR('Beneificiarios Finales'!H7108=\"NIT\",'Beneificiarios Finales'!H7108=\"Fideicomiso/Fondo\",'Beneificiarios Finales'!H7108=\"PJ No Residente\"),'Beneificiarios Finales'!B7110,\"\")","v":""}]
[{"$f":"IF(OR('Beneificiarios Finales'!H7142=\"NIT\",'Beneificiarios Finales'!H7142=\"Fideicomiso/Fondo\",'Beneificiarios Finales'!H7142=\"PJ No Residente\"),'Beneificiarios Finales'!B7146,\"\")","v":""},{"$f":"IFERROR(INDEX(TablaNivelCUATRO[PJNivelCuatro],_xlfn.AGGREGATE(15,6,(ROW(TablaNivelCUATRO[PJNivelCuatro])-ROW(TablaNivelCUATRO[#Headers]))/(TablaNivelCUATRO[PJNivelCuatro]<>\"\"),ROWS($B$485:TablaNivelCUATRO[[#This Row],[AuxCuatro]]))),\"\")","v":""},{"$f":"IF(OR('Beneificiarios Finales'!H7142=\"NIT\",'Beneificiarios Finales'!H7142=\"Fideicomiso/Fondo\",'Beneificiarios Finales'!H7142=\"PJ No Residente\"),'Beneificiarios Finales'!H7142,\"\")","v":""},{"$f":"IF(OR('Beneificiarios Finales'!H7142=\"NIT\",'Beneificiarios Finales'!H7142=\"Fideicomiso/Fondo\",'Beneificiarios Finales'!H7142=\"PJ No Residente\"),'Beneificiarios Finales'!B7144,\"\")","v":""}]
[{"$f":"IF(OR('Beneificiarios Finales'!H7176=\"NIT\",'Beneificiarios Finales'!H7176=\"Fideicomiso/Fondo\",'Beneificiarios Finales'!H7176=\"PJ No Residente\"),'Beneificiarios Finales'!B7180,\"\")","v":""},{"$f":"IFERROR(INDEX(TablaNivelCUATRO[PJNivelCuatro],_xlfn.AGGREGATE(15,6,(ROW(TablaNivelCUATRO[PJNivelCuatro])-ROW(TablaNivelCUATRO[#Headers]))/(TablaNivelCUATRO[PJNivelCuatro]<>\"\"),ROWS($B$485:TablaNivelCUATRO[[#This Row],[AuxCuatro]]))),\"\")","v":""},{"$f":"IF(OR('Beneificiarios Finales'!H7176=\"NIT\",'Beneificiarios Finales'!H7176=\"Fideicomiso/Fondo\",'Beneificiarios Finales'!H7176=\"PJ No Residente\"),'Beneificiarios Finales'!H7176,\"\")","v":""},{"$f":"IF(OR('Beneificiarios Finales'!H7176=\"NIT\",'Beneificiarios Finales'!H7176=\"Fideicomiso/Fondo\",'Beneificiarios Finales'!H7176=\"PJ No Residente\"),'Beneificiarios Finales'!B7178,\"\")","v":""}]
[{"$f":"IF(OR('Beneificiarios Finales'!H7210=\"NIT\",'Beneificiarios Finales'!H7210=\"Fideicomiso/Fondo\",'Beneificiarios Finales'!H7210=\"PJ No Residente\"),'Beneificiarios Finales'!B7214,\"\")","v":""},{"$f":"IFERROR(INDEX(TablaNivelCUATRO[PJNivelCuatro],_xlfn.AGGREGATE(15,6,(ROW(TablaNivelCUATRO[PJNivelCuatro])-ROW(TablaNivelCUATRO[#Headers]))/(TablaNivelCUATRO[PJNivelCuatro]<>\"\"),ROWS($B$485:TablaNivelCUATRO[[#This Row],[AuxCuatro]]))),\"\")","v":""},{"$f":"IF(OR('Beneificiarios Finales'!H7210=\"NIT\",'Beneificiarios Finales'!H7210=\"Fideicomiso/Fondo\",'Beneificiarios Finales'!H7210=\"PJ No Residente\"),'Beneificiarios Finales'!H7210,\"\")","v":""},{"$f":"IF(OR('Beneificiarios Finales'!H7210=\"NIT\",'Beneificiarios Finales'!H7210=\"Fideicomiso/Fondo\",'Beneificiarios Finales'!H7210=\"PJ No Residente\"),'Beneificiarios Finales'!B7212,\"\")","v":""}]
[{"$f":"IF(OR('Beneificiarios Finales'!H7244=\"NIT\",'Beneificiarios Finales'!H7244=\"Fideicomiso/Fondo\",'Beneificiarios Finales'!H7244=\"PJ No Residente\"),'Beneificiarios Finales'!B7248,\"\")","v":""},{"$f":"IFERROR(INDEX(TablaNivelCUATRO[PJNivelCuatro],_xlfn.AGGREGATE(15,6,(ROW(TablaNivelCUATRO[PJNivelCuatro])-ROW(TablaNivelCUATRO[#Headers]))/(TablaNivelCUATRO[PJNivelCuatro]<>\"\"),ROWS($B$485:TablaNivelCUATRO[[#This Row],[AuxCuatro]]))),\"\")","v":""},{"$f":"IF(OR('Beneificiarios Finales'!H7244=\"NIT\",'Beneificiarios Finales'!H7244=\"Fideicomiso/Fondo\",'Beneificiarios Finales'!H7244=\"PJ No Residente\"),'Beneificiarios Finales'!H7244,\"\")","v":""},{"$f":"IF(OR('Beneificiarios Finales'!H7244=\"NIT\",'Beneificiarios Finales'!H7244=\"Fideicomiso/Fondo\",'Beneificiarios Finales'!H7244=\"PJ No Residente\"),'Beneificiarios Finales'!B7246,\"\")","v":""}]
[{"$f":"IF(OR('Beneificiarios Finales'!H7278=\"NIT\",'Beneificiarios Finales'!H7278=\"Fideicomiso/Fondo\",'Beneificiarios Finales'!H7278=\"PJ No Residente\"),'Beneificiarios Finales'!B7282,\"\")","v":""},{"$f":"IFERROR(INDEX(TablaNivelCUATRO[PJNivelCuatro],_xlfn.AGGREGATE(15,6,(ROW(TablaNivelCUATRO[PJNivelCuatro])-ROW(TablaNivelCUATRO[#Headers]))/(TablaNivelCUATRO[PJNivelCuatro]<>\"\"),ROWS($B$485:TablaNivelCUATRO[[#This Row],[AuxCuatro]]))),\"\")","v":""},{"$f":"IF(OR('Beneificiarios Finales'!H7278=\"NIT\",'Beneificiarios Finales'!H7278=\"Fideicomiso/Fondo\",'Beneificiarios Finales'!H7278=\"PJ No Residente\"),'Beneificiarios Finales'!H7278,\"\")","v":""},{"$f":"IF(OR('Beneificiarios Finales'!H7278=\"NIT\",'Beneificiarios Finales'!H7278=\"Fideicomiso/Fondo\",'Beneificiarios Finales'!H7278=\"PJ No Residente\"),'Beneificiarios Finales'!B7280,\"\")","v":""}]
[{"$f":"IF(OR('Beneificiarios Finales'!H7312=\"NIT\",'Beneificiarios Finales'!H7312=\"Fideicomiso/Fondo\",'Beneificiarios Finales'!H7312=\"PJ No Residente\"),'Beneificiarios Finales'!B7316,\"\")","v":""},{"$f":"IFERROR(INDEX(TablaNivelCUATRO[PJNivelCuatro],_xlfn.AGGREGATE(15,6,(ROW(TablaNivelCUATRO[PJNivelCuatro])-ROW(TablaNivelCUATRO[#Headers]))/(TablaNivelCUATRO[PJNivelCuatro]<>\"\"),ROWS($B$485:TablaNivelCUATRO[[#This Row],[AuxCuatro]]))),\"\")","v":""},{"$f":"IF(OR('Beneificiarios Finales'!H7312=\"NIT\",'Beneificiarios Finales'!H7312=\"Fideicomiso/Fondo\",'Beneificiarios Finales'!H7312=\"PJ No Residente\"),'Beneificiarios Finales'!H7312,\"\")","v":""},{"$f":"IF(OR('Beneificiarios Finales'!H7312=\"NIT\",'Beneificiarios Finales'!H7312=\"Fideicomiso/Fondo\",'Beneificiarios Finales'!H7312=\"PJ No Residente\"),'Beneificiarios Finales'!B7314,\"\")","v":""}]
[{"$f":"IF(OR('Beneificiarios Finales'!H7346=\"NIT\",'Beneificiarios Finales'!H7346=\"Fideicomiso/Fondo\",'Beneificiarios Finales'!H7346=\"PJ No Residente\"),'Beneificiarios Finales'!B7350,\"\")","v":""},{"$f":"IFERROR(INDEX(TablaNivelCUATRO[PJNivelCuatro],_xlfn.AGGREGATE(15,6,(ROW(TablaNivelCUATRO[PJNivelCuatro])-ROW(TablaNivelCUATRO[#Headers]))/(TablaNivelCUATRO[PJNivelCuatro]<>\"\"),ROWS($B$485:TablaNivelCUATRO[[#This Row],[AuxCuatro]]))),\"\")","v":""},{"$f":"IF(OR('Beneificiarios Finales'!H7346=\"NIT\",'Beneificiarios Finales'!H7346=\"Fideicomiso/Fondo\",'Beneificiarios Finales'!H7346=\"PJ No Residente\"),'Beneificiarios Finales'!H7346,\"\")","v":""},{"$f":"IF(OR('Beneificiarios Finales'!H7346=\"NIT\",'Beneificiarios Finales'!H7346=\"Fideicomiso/Fondo\",'Beneificiarios Finales'!H7346=\"PJ No Residente\"),'Beneificiarios Finales'!B7348,\"\")","v":""}]
[{"$f":"IF(OR('Beneificiarios Finales'!H7380=\"NIT\",'Beneificiarios Finales'!H7380=\"Fideicomiso/Fondo\",'Beneificiarios Finales'!H7380=\"PJ No Residente\"),'Beneificiarios Finales'!B7384,\"\")","v":""},{"$f":"IFERROR(INDEX(TablaNivelCUATRO[PJNivelCuatro],_xlfn.AGGREGATE(15,6,(ROW(TablaNivelCUATRO[PJNivelCuatro])-ROW(TablaNivelCUATRO[#Headers]))/(TablaNivelCUATRO[PJNivelCuatro]<>\"\"),ROWS($B$485:TablaNivelCUATRO[[#This Row],[AuxCuatro]]))),\"\")","v":""},{"$f":"IF(OR('Beneificiarios Finales'!H7380=\"NIT\",'Beneificiarios Finales'!H7380=\"Fideicomiso/Fondo\",'Beneificiarios Finales'!H7380=\"PJ No Residente\"),'Beneificiarios Finales'!H7380,\"\")","v":""},{"$f":"IF(OR('Beneificiarios Finales'!H7380=\"NIT\",'Beneificiarios Finales'!H7380=\"Fideicomiso/Fondo\",'Beneificiarios Finales'!H7380=\"PJ No Residente\"),'Beneificiarios Finales'!B7382,\"\")","v":""}]
[{"$f":"IF(OR('Beneificiarios Finales'!H7414=\"NIT\",'Beneificiarios Finales'!H7414=\"Fideicomiso/Fondo\",'Beneificiarios Finales'!H7414=\"PJ No Residente\"),'Beneificiarios Finales'!B7418,\"\")","v":""},{"$f":"IFERROR(INDEX(TablaNivelCUATRO[PJNivelCuatro],_xlfn.AGGREGATE(15,6,(ROW(TablaNivelCUATRO[PJNivelCuatro])-ROW(TablaNivelCUATRO[#Headers]))/(TablaNivelCUATRO[PJNivelCuatro]<>\"\"),ROWS($B$485:TablaNivelCUATRO[[#This Row],[AuxCuatro]]))),\"\")","v":""},{"$f":"IF(OR('Beneificiarios Finales'!H7414=\"NIT\",'Beneificiarios Finales'!H7414=\"Fideicomiso/Fondo\",'Beneificiarios Finales'!H7414=\"PJ No Residente\"),'Beneificiarios Finales'!H7414,\"\")","v":""},{"$f":"IF(OR('Beneificiarios Finales'!H7414=\"NIT\",'Beneificiarios Finales'!H7414=\"Fideicomiso/Fondo\",'Beneificiarios Finales'!H7414=\"PJ No Residente\"),'Beneificiarios Finales'!B7416,\"\")","v":""}]
[{"$f":"IF(OR('Beneificiarios Finales'!H7448=\"NIT\",'Beneificiarios Finales'!H7448=\"Fideicomiso/Fondo\",'Beneificiarios Finales'!H7448=\"PJ No Residente\"),'Beneificiarios Finales'!B7452,\"\")","v":""},{"$f":"IFERROR(INDEX(TablaNivelCUATRO[PJNivelCuatro],_xlfn.AGGREGATE(15,6,(ROW(TablaNivelCUATRO[PJNivelCuatro])-ROW(TablaNivelCUATRO[#Headers]))/(TablaNivelCUATRO[PJNivelCuatro]<>\"\"),ROWS($B$485:TablaNivelCUATRO[[#This Row],[AuxCuatro]]))),\"\")","v":""},{"$f":"IF(OR('Beneificiarios Finales'!H7448=\"NIT\",'Beneificiarios Finales'!H7448=\"Fideicomiso/Fondo\",'Beneificiarios Finales'!H7448=\"PJ No Residente\"),'Beneificiarios Finales'!H7448,\"\")","v":""},{"$f":"IF(OR('Beneificiarios Finales'!H7448=\"NIT\",'Beneificiarios Finales'!H7448=\"Fideicomiso/Fondo\",'Beneificiarios Finales'!H7448=\"PJ No Residente\"),'Beneificiarios Finales'!B7450,\"\")","v":""}]
[{"$f":"IF(OR('Beneificiarios Finales'!H7482=\"NIT\",'Beneificiarios Finales'!H7482=\"Fideicomiso/Fondo\",'Beneificiarios Finales'!H7482=\"PJ No Residente\"),'Beneificiarios Finales'!B7486,\"\")","v":""},{"$f":"IFERROR(INDEX(TablaNivelCUATRO[PJNivelCuatro],_xlfn.AGGREGATE(15,6,(ROW(TablaNivelCUATRO[PJNivelCuatro])-ROW(TablaNivelCUATRO[#Headers]))/(TablaNivelCUATRO[PJNivelCuatro]<>\"\"),ROWS($B$485:TablaNivelCUATRO[[#This Row],[AuxCuatro]]))),\"\")","v":""},{"$f":"IF(OR('Beneificiarios Finales'!H7482=\"NIT\",'Beneificiarios Finales'!H7482=\"Fideicomiso/Fondo\",'Beneificiarios Finales'!H7482=\"PJ No Residente\"),'Beneificiarios Finales'!H7482,\"\")","v":""},{"$f":"IF(OR('Beneificiarios Finales'!H7482=\"NIT\",'Beneificiarios Finales'!H7482=\"Fideicomiso/Fondo\",'Beneificiarios Finales'!H7482=\"PJ No Residente\"),'Beneificiarios Finales'!B7484,\"\")","v":""}]
[{"$f":"IF(OR('Beneificiarios Finales'!H7516=\"NIT\",'Beneificiarios Finales'!H7516=\"Fideicomiso/Fondo\",'Beneificiarios Finales'!H7516=\"PJ No Residente\"),'Beneificiarios Finales'!B7520,\"\")","v":""},{"$f":"IFERROR(INDEX(TablaNivelCUATRO[PJNivelCuatro],_xlfn.AGGREGATE(15,6,(ROW(TablaNivelCUATRO[PJNivelCuatro])-ROW(TablaNivelCUATRO[#Headers]))/(TablaNivelCUATRO[PJNivelCuatro]<>\"\"),ROWS($B$485:TablaNivelCUATRO[[#This Row],[AuxCuatro]]))),\"\")","v":""},{"$f":"IF(OR('Beneificiarios Finales'!H7516=\"NIT\",'Beneificiarios Finales'!H7516=\"Fideicomiso/Fondo\",'Beneificiarios Finales'!H7516=\"PJ No Residente\"),'Beneificiarios Finales'!H7516,\"\")","v":""},{"$f":"IF(OR('Beneificiarios Finales'!H7516=\"NIT\",'Beneificiarios Finales'!H7516=\"Fideicomiso/Fondo\",'Beneificiarios Finales'!H7516=\"PJ No Residente\"),'Beneificiarios Finales'!B7518,\"\")","v":""}]